{"text_format":"1","workbook":"xlsx","n_sheets":2,"sheets":["Nettoyage","Lune"],"not_rendered":{"charts":0,"images":5,"macros":1,"external_links":0,"defined_names":2,"comments":0,"pivot_tables":0},"unopened":[],"bounds":{"document_bytes":16777216,"sheet_cells":100000,"rows_first":2000,"rows_last":500,"rows_between":2000,"halvings":0,"cell_chars":16384,"cell_head_chars":4096},"cells_cut":0,"cells_raw":0,"read":"whole","date_system":"1900"}

{"sheet":"Nettoyage","index":0,"n_rows":46,"n_cols":6,"rows_kept":46,"cut":false,"hidden":false,"merged":[[11,5,11,6],[38,2,38,4],[39,2,40,4],[41,2,41,4],[42,2,42,4],[13,0,14,7],[25,2,29,4],[31,2,31,4],[32,2,32,4],[33,2,33,4],[35,2,35,4],[23,0,24,1],[23,3,24,3],[2,1,8,1],[23,4,24,4],[10,1,10,4],[16,2,17,4],[20,2,21,4]]}
[]
[null,"Instructions:",null,"Mois choisi :"]
[null,"Les choix se font en utilisant les cellules JAUNES, Colonne E.\nCliquer sur la cellule, puis sélectionnez dans chaque liste :\nu le MOIS du nettoyage.\nv le JOUR DE LA SEMAINE.\nw le JOUR EXACT du nettoyage.\n\nUne fois fait, vous pourrez imprimer votre Planning de nettoyage (Bouton \"Imprimer\").\nBouton \"RàZ\" pour remettre, à zéro.",null,"Pleine(s) Lune(s) :",{"$f":"IF(ISNA(HLOOKUP(E$2,Lune!$B$1:$BI$3,2,FALSE)),\"\",HLOOKUP(E$2,Lune!$B$1:$BI$3,2,FALSE))","v":""}]
[null,null,null,null,{"$f":"IF(ISNA(HLOOKUP(E$2,Lune!$B$1:$BI$3,3,FALSE)),\"\",HLOOKUP(E$2,Lune!$B$1:$BI$3,3,FALSE))","v":""}]
[null,null,null,"Nouvelle(s) Lune(s) :",{"$f":"IF(ISNA(HLOOKUP(E$2,Lune!$B$1:$BI$5,4,FALSE)),\"\",HLOOKUP(E$2,Lune!$B$1:$BI$5,4,FALSE))","v":""}]
[null,null,null,null,{"$f":"IF(ISNA(HLOOKUP(E$2,Lune!$B$1:$BI$5,5,FALSE)),\"\",HLOOKUP(E$2,Lune!$B$1:$BI$5,5,FALSE))","v":""}]
[null,null,null,"Jour de \nla semaine :"]
[]
[null,null,null,"Jour exact \ndu nettoyage :"]
[]
[null,"Eviter de faire le nettoyage le jour de pleine lune, préférer la nouvelle lune.\nC'est en lune décroissante qu'il est conseillé d'évacuer les toxines, donc entre la pleine lune et la nouvelle lune, plus près de la nouvelle lune."]
[null,"Les doses indiquées seront calculées en fonction de votre poids.\n",null,"Votre Poids : ",80,"Kg"]
[]
["Planning à imprimer :"]
[]
["Date de début du nettoyage des intestins",null,null,"-->",{"$f":"IF(E9<>\"\",E9-27,\"\")","v":""}]
[null,"Avant le premier nettoyage du foie, pendant 3 semaines, prendre chaque matin à jeun un verre d’eau chaude avec une cuillère à café de sulfate de magnésium (pas plus que rase). Attendre 20 minutes avant de prendre le petit déjeuner","Notes personnelles :"]
[null,"NB: cette préparation de 3 semaines n'est à faire qu'une seule fois. Pour les autres nettoyages du foie on passe directement à la semaine de préparation."]
[]
["Semaine de Préparation ",null,null,"-->",{"$f":"IF(E9<>\"\",E9-5,\"\")","v":""}]
[null,"Pendant 6 jours, boire chaque jour 0,5 à 1 cuillère à café d'acide malique dilué dans 1 litre d'eau.\nBoire lentement au cours de la journée, entre les repas  (jamais pendant, jamais ½ heure avant, jamais pendant les deux heures après le repas et le soir). ","Notes personnelles :"]
[null,"NB: Le 6ème jour (jour de la potion d'huile), comme on ne doit boire que de l'eau à partir de 14h00, on peut se contenter de ne prendre qu'un demi-litre le matin"]
[]
["6ème jour de préparation (jour du nettoyage)",null,null,"-->",{"$f":"IF(E9<>\"\",E9,\"\")","v":""}]
[]
[null,"Eviter de prendre des médicaments, des vitamines ou des suppléments, non nécessaires.","Notes personnelles :"]
[null,"Ne pas manger d’aliments contenant des protéines ou des graisses , éviter le sucre, les épices, le lait, beurre, fromage, jambon, pâtisseries, etc…(reste donc fruits + légumes)."]
[null,"Petit déjeuner léger genre flocons d’avoine avec de l’eau, ou bien simplement des fruits."]
[null,"A midi légumes nature + riz Basmati, ou bien soupe ou purée faite avec seulement des légumes ( pas de beurre surtout )."]
[null,"Ne rien manger après 14h00, ne boire que de l’eau (chaude ou tempérée)."]
[]
["18:00:00",{"$f":"CONCATENATE(\"Boire \",Lune!$F$40,\"ml d’eau avec \",Lune!$F$36,\" cuillère à soupe de sulfate de magnésium.\")","v":"Boire 180ml d’eau avec 1 cuillère à soupe de sulfate de magnésium."}]
["20:00:00",{"$f":"B32","v":"Boire 180ml d’eau avec 1 cuillère à soupe de sulfate de magnésium."}]
["21:45:00",{"$f":"CONCATENATE(\"Préparer \",Lune!$F$23,\"ml de jus de pamplemousse (sans la pulpe) + \",Lune!$F$26,\"ml d’huile d’olive + \",Lune!$F$29,\"gr d’Ornithine + \",Lune!$F$32,\" gouttes de brou de noix noires.\")","v":"Préparer 180ml de jus de pamplemousse (sans la pulpe) + 120ml d’huile d’olive + 2,5gr d’Ornithine + 20 gouttes de brou de noix noires."}]
[null,"Mélanger le tout dans un bocal d’un demi-litre jusqu’à obtention d’un mélange homogène\nAller aux toilettes une dernière fois mais sans décaler de plus de 5 minutes l’horaire de 22h00."]
["22:00:00","Boire le mélange d’huile debout à côté du lit. Se coucher tout de suite sur le dos, tête surélevée (tête plus haute que l’abdomen). Rester allongé parfaitement immobile au moins 20mn, ne pas parler. Dormir si possible. Ne rien boire avant 2 heures du matin. Si besoin d’aller à la selle la nuit y aller."]
[]
["7ème Jour (jour de l'évacuation)",null,null,"-->",{"$f":"IF(E9<>\"\",E9+1,\"\")","v":""}]
["06:00:00",{"$f":"B32","v":"Boire 180ml d’eau avec 1 cuillère à soupe de sulfate de magnésium."},"Notes personnelles : "]
["08:00:00",{"$f":"B32","v":"Boire 180ml d’eau avec 1 cuillère à soupe de sulfate de magnésium."}]
[null,"Si on a soif, boire de l’eau mais pas juste après avoir bu le sulfate de magnésium (attendre au moins 20 mn)."]
["10:00:00","On peut boire du jus de fruits. Une demi-heure plus tard on peut manger un peu de fruits"]
["12:00:00","Repas normal, mais léger."]
[]
[null,"Les jours suivants il est préférable de continuer à manger léger."]
[null,"Continuer le nettoyage des intestins pendant 2-3 jours pour bien évacuer tous les amas de gras."]

{"sheet":"Lune","index":1,"n_rows":3695,"n_cols":61,"rows_kept":3695,"cut":false,"hidden":false,"merged":[[37,4,37,5],[33,4,33,5],[26,4,26,5],[29,4,29,5],[7,1,7,2],[20,4,20,5],[19,4,19,5],[23,4,23,5]]}
[null,"2024-01-01","2024-02-01","2024-03-01","2024-04-01","2024-05-01","2024-06-01","2024-07-01","2024-08-01","2024-09-01","2024-10-01","2024-11-01","2024-12-01","2025-01-01","2025-02-01","2025-03-01","2025-04-01","2025-05-01","2025-06-01","2025-07-01","2025-08-01","2025-09-01","2025-10-01","2025-11-01","2025-12-01","2026-01-01","2026-02-01","2026-03-01","2026-04-01","2026-05-01","2026-06-01","2026-07-01","2026-08-01","2026-09-01","2026-10-01","2026-11-01","2026-12-01","2027-01-01","2027-02-01","2027-03-01","2027-04-01","2027-05-01","2027-06-01","2027-07-01","2027-08-01","2027-09-01","2027-10-01","2027-11-01","2027-12-01","2028-01-01","2028-02-01","2028-03-01","2028-04-01","2028-05-01","2028-06-01","2028-07-01","2028-08-01","2028-09-01","2028-10-01","2028-11-01","2028-12-01"]
["Pleine Lune","2024-01-25","2024-02-24","2024-03-25","2024-04-23","2024-05-23","2024-06-22","2024-07-21","2024-08-19","2024-09-18","2024-10-17","2024-11-15","2024-12-15","2025-01-13","2025-02-12","2025-03-14","2025-04-13","2025-05-12","2025-06-11","2025-07-10","2025-08-09","2025-09-07","2025-10-07","2025-11-05","2025-12-04","2026-01-03","2026-02-01","2026-03-03","2026-04-02","2026-05-01","2026-06-30","2026-07-29","2026-08-28","2026-09-26","2026-10-26","2026-11-24","2026-12-24","2027-01-22","2027-02-21","2027-03-22","2027-04-21","2027-05-20","2027-06-19","2027-07-18","2027-08-17","2027-09-16","2027-10-15","2027-10-14","2027-12-13","2028-01-12","2028-02-10","2028-03-11","2028-04-09","2028-05-08","2028-06-07","2028-07-06","2028-08-05","2028-09-04","2028-10-03","2028-11-02","2028-12-02"]
[null,{"$error":"#N/A"},{"$error":"#N/A"},{"$error":"#N/A"},{"$error":"#N/A"},{"$error":"#N/A"},{"$error":"#N/A"},{"$error":"#N/A"},{"$error":"#N/A"},{"$error":"#N/A"},{"$error":"#N/A"},{"$error":"#N/A"},{"$error":"#N/A"},{"$error":"#N/A"},{"$error":"#N/A"},{"$error":"#N/A"},{"$error":"#N/A"},{"$error":"#N/A"},{"$error":"#N/A"},{"$error":"#N/A"},{"$error":"#N/A"},{"$error":"#N/A"},{"$error":"#N/A"},{"$error":"#N/A"},{"$error":"#N/A"},{"$error":"#N/A"},{"$error":"#N/A"},{"$error":"#N/A"},{"$error":"#N/A"},"2026-05-31",{"$error":"#N/A"},{"$error":"#N/A"},{"$error":"#N/A"},{"$error":"#N/A"},{"$error":"#N/A"},{"$error":"#N/A"},{"$error":"#N/A"},{"$error":"#N/A"},{"$error":"#N/A"},{"$error":"#N/A"},{"$error":"#N/A"},{"$error":"#N/A"},{"$error":"#N/A"},{"$error":"#N/A"},{"$error":"#N/A"},{"$error":"#N/A"},{"$error":"#N/A"},{"$error":"#N/A"},{"$error":"#N/A"},{"$error":"#N/A"},{"$error":"#N/A"},{"$error":"#N/A"},{"$error":"#N/A"},{"$error":"#N/A"},{"$error":"#N/A"},{"$error":"#N/A"},{"$error":"#N/A"},{"$error":"#N/A"},{"$error":"#N/A"},{"$error":"#N/A"},"2028-12-31"]
["Nouv. Lune","2024-01-11","2024-02-09","2024-03-10","2024-04-08","2024-05-08","2024-06-06","2024-07-05","2024-08-04","2024-09-03","2024-10-02","2024-11-01","2024-12-01","2025-01-29","2025-02-28","2025-03-29","2025-04-27","2025-05-27","2025-06-25","2025-07-24","2025-08-23","2025-09-21","2025-10-21","2025-11-20","2025-12-20","2026-01-18","2026-02-17","2026-03-19","2026-04-17","2026-05-16","2026-06-15","2026-07-14","2026-08-12","2026-09-11","2026-10-10","2026-11-09","2026-12-09","2027-01-07","2027-02-06","2027-03-08","2027-04-07","2027-05-06","2027-06-04","2027-07-04","2027-08-02","2027-09-30","2027-10-29","2027-10-28","2027-12-27","2028-01-26","2028-02-25","2028-03-26","2028-04-24","2028-05-24","2028-06-22","2028-07-22","2028-08-20","2028-09-18","2028-10-18","2028-11-16","2028-12-16"]
[null,{"$error":"#N/A"},{"$error":"#N/A"},{"$error":"#N/A"},{"$error":"#N/A"},{"$error":"#N/A"},{"$error":"#N/A"},{"$error":"#N/A"},{"$error":"#N/A"},{"$error":"#N/A"},{"$error":"#N/A"},{"$error":"#N/A"},"2024-12-30",{"$error":"#N/A"},{"$error":"#N/A"},{"$error":"#N/A"},{"$error":"#N/A"},{"$error":"#N/A"},{"$error":"#N/A"},{"$error":"#N/A"},{"$error":"#N/A"},{"$error":"#N/A"},{"$error":"#N/A"},{"$error":"#N/A"},{"$error":"#N/A"},{"$error":"#N/A"},{"$error":"#N/A"},{"$error":"#N/A"},{"$error":"#N/A"},{"$error":"#N/A"},{"$error":"#N/A"},{"$error":"#N/A"},{"$error":"#N/A"},{"$error":"#N/A"},{"$error":"#N/A"},{"$error":"#N/A"},{"$error":"#N/A"},{"$error":"#N/A"},{"$error":"#N/A"},{"$error":"#N/A"},{"$error":"#N/A"},{"$error":"#N/A"},{"$error":"#N/A"},{"$error":"#N/A"},"2027-08-31",{"$error":"#N/A"},{"$error":"#N/A"},{"$error":"#N/A"},{"$error":"#N/A"},{"$error":"#N/A"},{"$error":"#N/A"},{"$error":"#N/A"},{"$error":"#N/A"},{"$error":"#N/A"},{"$error":"#N/A"},{"$error":"#N/A"},{"$error":"#N/A"},{"$error":"#N/A"},{"$error":"#N/A"},{"$error":"#N/A"},{"$error":"#N/A"}]
[]
[null,null,null,null,null,null,null,null,null,null,null,null,null,"Ornithine","Brou","Sulfate","eau sulfate",null,"Dates","Jour","Mois","Année","Code","Compte","Code recherche","Dates"]
["Année choisie","Table des jours",null,null,"Dates possibles",null,null,null,null,null,null,null,null,2.5,20,null,null,null,"2024-10-06",{"$f":"WEEKDAY(S8)","v":1},{"$f":"MONTH(S8)","v":10},{"$f":"YEAR(S8)","v":2024},{"$f":"T8&U8","v":"110"},1,{"$f":"V8&U8&T8&X8","v":"20241011"},{"$f":"S8","v":"2024-10-06"}]
[{"$f":"YEAR(Nettoyage!E2)","v":1900},"Lundi",2,null,1,{"$f":"IFERROR(VLOOKUP($A$9&$A$11&$A$13&E9,$Y$8:$Z$1987,2,FALSE),\"\")","v":""},{"$f":"IF(F9<>\"\",MONTH(F9),\"\")","v":""},{"$f":"IF(G9=$A$11,F9,IF(G10=$A$11,F10,IF(G11=$A$11,F11,\"\")))","v":""},null,null,null,null,35,1,10,"1/2",150,null,"2024-10-13",{"$f":"WEEKDAY(S9)","v":1},{"$f":"MONTH(S9)","v":10},{"$f":"YEAR(S9)","v":2024},{"$f":"T9&U9","v":"110"},{"$f":"IF(V9&W9=V8&W8,X8+1,1)","v":2},{"$f":"V9&U9&T9&X9","v":"20241012"},{"$f":"S9","v":"2024-10-13"}]
["Mois Choisi","Mardi",3,null,2,{"$f":"IFERROR(VLOOKUP($A$9&$A$11&$A$13&E10,$Y$8:$Z$1987,2,FALSE),\"\")","v":""},{"$f":"IF(F10<>\"\",MONTH(F10),\"\")","v":""},{"$f":"IF(G10=$A$11,IF(F10<>H9,F10,IF(G11=$A$11,F11,\"\")),\"\")","v":""},null,null,null,null,36,1,10,"1/2",150,null,"2024-10-20",{"$f":"WEEKDAY(S10)","v":1},{"$f":"MONTH(S10)","v":10},{"$f":"YEAR(S10)","v":2024},{"$f":"T10&U10","v":"110"},{"$f":"IF(V10&W10=V9&W9,X9+1,1)","v":3},{"$f":"V10&U10&T10&X10","v":"20241013"},{"$f":"S10","v":"2024-10-20"}]
[{"$f":"MONTH(Nettoyage!E2)","v":1},"Mercredi",4,null,3,{"$f":"IFERROR(VLOOKUP($A$9&$A$11&$A$13&E11,$Y$8:$Z$1987,2,FALSE),\"\")","v":""},"",{"$f":"IF(G11=$A$11,IF(F11<>H9,IF(F11<>H10,F11,\"\"),\"\"),\"\")","v":""},null,null,null,null,37,1.5,10,"1/2",150,null,"2024-10-27",{"$f":"WEEKDAY(S11)","v":1},{"$f":"MONTH(S11)","v":10},{"$f":"YEAR(S11)","v":2024},{"$f":"T11&U11","v":"110"},{"$f":"IF(V11&W11=V10&W10,X10+1,1)","v":4},{"$f":"V11&U11&T11&X11","v":"20241014"},{"$f":"S11","v":"2024-10-27"}]
["Jour choisi","Jeudi",5,null,4,{"$f":"IFERROR(VLOOKUP($A$9&$A$11&$A$13&E12,$Y$8:$Z$1987,2,FALSE),\"\")","v":""},{"$f":"IF(F12<>\"\",MONTH(F12),\"\")","v":""},{"$f":"IF(G12=$A$11,IF(F12<>H10,IF(F12<>H11,F12,\"\"),\"\"),\"\")","v":""},null,null,null,null,38,1.5,10,"1/2",150,null,"2024-10-07",{"$f":"WEEKDAY(S12)","v":2},{"$f":"MONTH(S12)","v":10},{"$f":"YEAR(S12)","v":2024},{"$f":"T12&U12","v":"210"},{"$f":"IF(V12&W12=V11&W11,X11+1,1)","v":1},{"$f":"V12&U12&T12&X12","v":"20241021"},{"$f":"S12","v":"2024-10-07"}]
[{"$f":"VLOOKUP(Nettoyage!$E$7,Lune!$B$9:$C$15,2,FALSE)","v":{"$error":"#N/A"}},"Vendredi",6,null,5,{"$f":"IFERROR(VLOOKUP($A$9&$A$11&$A$13&E13,$Y$8:$Z$1987,2,FALSE),\"\")","v":""},"","",null,null,null,null,39,1.5,10,"1/2",150,null,"2024-10-14",{"$f":"WEEKDAY(S13)","v":2},{"$f":"MONTH(S13)","v":10},{"$f":"YEAR(S13)","v":2024},{"$f":"T13&U13","v":"210"},{"$f":"IF(V13&W13=V12&W12,X12+1,1)","v":2},{"$f":"V13&U13&T13&X13","v":"20241022"},{"$f":"S13","v":"2024-10-14"}]
[null,"Samedi",7,null,null,null,null,null,null,null,null,null,40,1.5,15,"1/2",150,null,"2024-10-21",{"$f":"WEEKDAY(S14)","v":2},{"$f":"MONTH(S14)","v":10},{"$f":"YEAR(S14)","v":2024},{"$f":"T14&U14","v":"210"},{"$f":"IF(V14&W14=V13&W13,X13+1,1)","v":3},{"$f":"V14&U14&T14&X14","v":"20241023"},{"$f":"S14","v":"2024-10-21"}]
[null,"Dimanche",1,null,null,null,null,null,null,null,null,null,41,1.5,15,"1/2",150,null,"2024-10-28",{"$f":"WEEKDAY(S15)","v":2},{"$f":"MONTH(S15)","v":10},{"$f":"YEAR(S15)","v":2024},{"$f":"T15&U15","v":"210"},{"$f":"IF(V15&W15=V14&W14,X14+1,1)","v":4},{"$f":"V15&U15&T15&X15","v":"20241024"},{"$f":"S15","v":"2024-10-28"}]
[null,null,null,null,null,null,null,null,null,null,null,null,42,1.5,15,"1/2",150,null,"2024-10-01",{"$f":"WEEKDAY(S16)","v":3},{"$f":"MONTH(S16)","v":10},{"$f":"YEAR(S16)","v":2024},{"$f":"T16&U16","v":"310"},{"$f":"IF(V16&W16=V15&W15,X15+1,1)","v":1},{"$f":"V16&U16&T16&X16","v":"20241031"},{"$f":"S16","v":"2024-10-01"}]
["Logiquement rien ne doit être modifié dans cette page, sauf pour mise à jour :",null,null,null,null,null,null,null,null,null,null,null,43,1.5,15,"1/2",150,null,"2024-10-08",{"$f":"WEEKDAY(S17)","v":3},{"$f":"MONTH(S17)","v":10},{"$f":"YEAR(S17)","v":2024},{"$f":"T17&U17","v":"310"},{"$f":"IF(V17&W17=V16&W16,X16+1,1)","v":2},{"$f":"V17&U17&T17&X17","v":"20241032"},{"$f":"S17","v":"2024-10-08"}]
["Les dates de Pleine Lune et de Nouvelle Lune en modifiant les valeurs de la plage ORANGE",null,null,null,null,null,null,null,null,null,null,null,44,1.5,15,"1/2",150,null,"2024-10-15",{"$f":"WEEKDAY(S18)","v":3},{"$f":"MONTH(S18)","v":10},{"$f":"YEAR(S18)","v":2024},{"$f":"T18&U18","v":"310"},{"$f":"IF(V18&W18=V17&W17,X17+1,1)","v":3},{"$f":"V18&U18&T18&X18","v":"20241033"},{"$f":"S18","v":"2024-10-15"}]
["Les dates des jours de l'année, plage BLEUE",null,null,null,null,null,null,null,null,null,null,null,45,2,15,1,180,null,"2024-10-22",{"$f":"WEEKDAY(S19)","v":3},{"$f":"MONTH(S19)","v":10},{"$f":"YEAR(S19)","v":2024},{"$f":"T19&U19","v":"310"},{"$f":"IF(V19&W19=V18&W18,X18+1,1)","v":4},{"$f":"V19&U19&T19&X19","v":"20241034"},{"$f":"S19","v":"2024-10-22"}]
[null,null,null,null,"Conversion Poids / dosages",null,null,null,null,null,null,null,46,2,15,1,180,null,"2024-10-29",{"$f":"WEEKDAY(S20)","v":3},{"$f":"MONTH(S20)","v":10},{"$f":"YEAR(S20)","v":2024},{"$f":"T20&U20","v":"310"},{"$f":"IF(V20&W20=V19&W19,X19+1,1)","v":5},{"$f":"V20&U20&T20&X20","v":"20241035"},{"$f":"S20","v":"2024-10-29"}]
[null,null,null,null,"Eau pour le pamplemousse",null,null,null,null,null,null,null,47,2,15,1,180,null,"2024-10-02",{"$f":"WEEKDAY(S21)","v":4},{"$f":"MONTH(S21)","v":10},{"$f":"YEAR(S21)","v":2024},{"$f":"T21&U21","v":"410"},{"$f":"IF(V21&W21=V20&W20,X20+1,1)","v":1},{"$f":"V21&U21&T21&X21","v":"20241041"},{"$f":"S21","v":"2024-10-02"}]
[null,null,null,null,80,180,null,null,null,null,null,null,48,2,15,1,180,null,"2024-10-09",{"$f":"WEEKDAY(S22)","v":4},{"$f":"MONTH(S22)","v":10},{"$f":"YEAR(S22)","v":2024},{"$f":"T22&U22","v":"410"},{"$f":"IF(V22&W22=V21&W21,X21+1,1)","v":2},{"$f":"V22&U22&T22&X22","v":"20241042"},{"$f":"S22","v":"2024-10-09"}]
[null,null,null,null,{"$f":"IF(Nettoyage!$E$12=0,80,IF(Nettoyage!$E$12>80,80,IF(Nettoyage!$E$12<36,36,Nettoyage!$E$12)))","v":80},{"$f":"IF(E23=E22,F22,(TRUNC(((E23/E22)*F22)/10)+1)*10)","v":180},null,null,null,null,null,null,49,2,15,1,180,null,"2024-10-16",{"$f":"WEEKDAY(S23)","v":4},{"$f":"MONTH(S23)","v":10},{"$f":"YEAR(S23)","v":2024},{"$f":"T23&U23","v":"410"},{"$f":"IF(V23&W23=V22&W22,X22+1,1)","v":3},{"$f":"V23&U23&T23&X23","v":"20241043"},{"$f":"S23","v":"2024-10-16"}]
[null,null,null,null,"Huile d'Olive",null,null,null,null,null,null,null,50,2,20,1,180,null,"2024-10-23",{"$f":"WEEKDAY(S24)","v":4},{"$f":"MONTH(S24)","v":10},{"$f":"YEAR(S24)","v":2024},{"$f":"T24&U24","v":"410"},{"$f":"IF(V24&W24=V23&W23,X23+1,1)","v":4},{"$f":"V24&U24&T24&X24","v":"20241044"},{"$f":"S24","v":"2024-10-23"}]
[null,{"$f":"VLOOKUP(E23,E25:F34,5,FALSE)","v":{"$error":"#REF!"}},null,null,80,120,null,null,null,null,null,null,51,2,20,1,180,null,"2024-10-30",{"$f":"WEEKDAY(S25)","v":4},{"$f":"MONTH(S25)","v":10},{"$f":"YEAR(S25)","v":2024},{"$f":"T25&U25","v":"410"},{"$f":"IF(V25&W25=V24&W24,X24+1,1)","v":5},{"$f":"V25&U25&T25&X25","v":"20241045"},{"$f":"S25","v":"2024-10-30"}]
[null,null,null,null,{"$f":"E23","v":80},{"$f":"IF(E26=E25,F25,(TRUNC(((E26/E25)*F25)/10)+1)*10)","v":120},null,null,null,null,null,null,52,2,20,1,180,null,"2024-10-03",{"$f":"WEEKDAY(S26)","v":5},{"$f":"MONTH(S26)","v":10},{"$f":"YEAR(S26)","v":2024},{"$f":"T26&U26","v":"510"},{"$f":"IF(V26&W26=V25&W25,X25+1,1)","v":1},{"$f":"V26&U26&T26&X26","v":"20241051"},{"$f":"S26","v":"2024-10-03"}]
[null,null,null,null,"Ornithine",null,null,null,null,null,null,null,53,2,20,1,180,null,"2024-10-10",{"$f":"WEEKDAY(S27)","v":5},{"$f":"MONTH(S27)","v":10},{"$f":"YEAR(S27)","v":2024},{"$f":"T27&U27","v":"510"},{"$f":"IF(V27&W27=V26&W26,X26+1,1)","v":2},{"$f":"V27&U27&T27&X27","v":"20241052"},{"$f":"S27","v":"2024-10-10"}]
[null,null,null,null,80,2.5,null,null,null,null,null,null,54,2,20,1,180,null,"2024-10-17",{"$f":"WEEKDAY(S28)","v":5},{"$f":"MONTH(S28)","v":10},{"$f":"YEAR(S28)","v":2024},{"$f":"T28&U28","v":"510"},{"$f":"IF(V28&W28=V27&W27,X27+1,1)","v":3},{"$f":"V28&U28&T28&X28","v":"20241053"},{"$f":"S28","v":"2024-10-17"}]
[null,null,null,null,{"$f":"E23","v":80},{"$f":"VLOOKUP(E29,M9:N54,2)","v":2.5},null,null,null,null,null,null,55,2.5,20,1,180,null,"2024-10-24",{"$f":"WEEKDAY(S29)","v":5},{"$f":"MONTH(S29)","v":10},{"$f":"YEAR(S29)","v":2024},{"$f":"T29&U29","v":"510"},{"$f":"IF(V29&W29=V28&W28,X28+1,1)","v":4},{"$f":"V29&U29&T29&X29","v":"20241054"},{"$f":"S29","v":"2024-10-24"}]
[null,null,null,null,"Brou de noix noires",null,null,null,null,null,null,null,56,2.5,20,1,180,null,"2024-10-31",{"$f":"WEEKDAY(S30)","v":5},{"$f":"MONTH(S30)","v":10},{"$f":"YEAR(S30)","v":2024},{"$f":"T30&U30","v":"510"},{"$f":"IF(V30&W30=V29&W29,X29+1,1)","v":5},{"$f":"V30&U30&T30&X30","v":"20241055"},{"$f":"S30","v":"2024-10-31"}]
[null,null,null,null,80,20,null,null,null,null,null,null,57,2.5,20,1,180,null,"2024-10-04",{"$f":"WEEKDAY(S31)","v":6},{"$f":"MONTH(S31)","v":10},{"$f":"YEAR(S31)","v":2024},{"$f":"T31&U31","v":"610"},{"$f":"IF(V31&W31=V30&W30,X30+1,1)","v":1},{"$f":"V31&U31&T31&X31","v":"20241061"},{"$f":"S31","v":"2024-10-04"}]
[null,null,null,null,{"$f":"E23","v":80},{"$f":"VLOOKUP(E32,M9:O54,3)","v":20},null,null,null,null,null,null,58,2.5,20,1,180,null,"2024-10-11",{"$f":"WEEKDAY(S32)","v":6},{"$f":"MONTH(S32)","v":10},{"$f":"YEAR(S32)","v":2024},{"$f":"T32&U32","v":"610"},{"$f":"IF(V32&W32=V31&W31,X31+1,1)","v":2},{"$f":"V32&U32&T32&X32","v":"20241062"},{"$f":"S32","v":"2024-10-11"}]
[null,null,null,null,null,null,null,null,null,null,null,null,59,2.5,20,1,180,null,"2024-10-18",{"$f":"WEEKDAY(S33)","v":6},{"$f":"MONTH(S33)","v":10},{"$f":"YEAR(S33)","v":2024},{"$f":"T33&U33","v":"610"},{"$f":"IF(V33&W33=V32&W32,X32+1,1)","v":3},{"$f":"V33&U33&T33&X33","v":"20241063"},{"$f":"S33","v":"2024-10-18"}]
[null,null,null,null,"Sulfate",null,null,null,null,null,null,null,60,2.5,20,1,180,null,"2024-10-25",{"$f":"WEEKDAY(S34)","v":6},{"$f":"MONTH(S34)","v":10},{"$f":"YEAR(S34)","v":2024},{"$f":"T34&U34","v":"610"},{"$f":"IF(V34&W34=V33&W33,X33+1,1)","v":4},{"$f":"V34&U34&T34&X34","v":"20241064"},{"$f":"S34","v":"2024-10-25"}]
[null,null,null,null,80,null,null,null,null,null,null,null,61,2.5,20,1,180,null,"2024-10-05",{"$f":"WEEKDAY(S35)","v":7},{"$f":"MONTH(S35)","v":10},{"$f":"YEAR(S35)","v":2024},{"$f":"T35&U35","v":"710"},{"$f":"IF(V35&W35=V34&W34,X34+1,1)","v":1},{"$f":"V35&U35&T35&X35","v":"20241071"},{"$f":"S35","v":"2024-10-05"}]
[null,null,null,null,{"$f":"E23","v":80},{"$f":"VLOOKUP(E36,M9:P54,4)","v":1},null,null,null,null,null,null,62,2.5,20,1,180,null,"2024-10-12",{"$f":"WEEKDAY(S36)","v":7},{"$f":"MONTH(S36)","v":10},{"$f":"YEAR(S36)","v":2024},{"$f":"T36&U36","v":"710"},{"$f":"IF(V36&W36=V35&W35,X35+1,1)","v":2},{"$f":"V36&U36&T36&X36","v":"20241072"},{"$f":"S36","v":"2024-10-12"}]
[null,null,null,null,null,null,null,null,null,null,null,null,63,2.5,20,1,180,null,"2024-10-19",{"$f":"WEEKDAY(S37)","v":7},{"$f":"MONTH(S37)","v":10},{"$f":"YEAR(S37)","v":2024},{"$f":"T37&U37","v":"710"},{"$f":"IF(V37&W37=V36&W36,X36+1,1)","v":3},{"$f":"V37&U37&T37&X37","v":"20241073"},{"$f":"S37","v":"2024-10-19"}]
[null,null,null,null,"Eau pour le sulfate",null,null,null,null,null,null,null,64,2.5,20,1,180,null,"2024-10-26",{"$f":"WEEKDAY(S38)","v":7},{"$f":"MONTH(S38)","v":10},{"$f":"YEAR(S38)","v":2024},{"$f":"T38&U38","v":"710"},{"$f":"IF(V38&W38=V37&W37,X37+1,1)","v":4},{"$f":"V38&U38&T38&X38","v":"20241074"},{"$f":"S38","v":"2024-10-26"}]
[null,null,null,null,80,null,null,null,null,null,null,null,65,2.5,20,1,180,null,"2024-01-07",{"$f":"WEEKDAY(S39)","v":1},{"$f":"MONTH(S39)","v":1},{"$f":"YEAR(S39)","v":2024},{"$f":"T39&U39","v":"11"},{"$f":"IF(V39&W39=V38&W38,X38+1,1)","v":1},{"$f":"V39&U39&T39&X39","v":"2024111"},{"$f":"S39","v":"2024-01-07"}]
[null,null,null,null,{"$f":"E23","v":80},{"$f":"VLOOKUP(E40,M9:Q54,5)","v":180},null,null,null,null,null,null,66,2.5,20,1,180,null,"2024-11-03",{"$f":"WEEKDAY(S40)","v":1},{"$f":"MONTH(S40)","v":11},{"$f":"YEAR(S40)","v":2024},{"$f":"T40&U40","v":"111"},{"$f":"IF(V40&W40=V39&W39,X39+1,1)","v":1},{"$f":"V40&U40&T40&X40","v":"20241111"},{"$f":"S40","v":"2024-11-03"}]
[null,null,null,null,null,null,null,null,null,null,null,null,67,2.5,20,1,180,null,"2024-11-10",{"$f":"WEEKDAY(S41)","v":1},{"$f":"MONTH(S41)","v":11},{"$f":"YEAR(S41)","v":2024},{"$f":"T41&U41","v":"111"},{"$f":"IF(V41&W41=V40&W40,X40+1,1)","v":2},{"$f":"V41&U41&T41&X41","v":"20241112"},{"$f":"S41","v":"2024-11-10"}]
[null,null,null,null,null,null,null,null,null,null,null,null,68,2.5,20,1,180,null,"2024-11-17",{"$f":"WEEKDAY(S42)","v":1},{"$f":"MONTH(S42)","v":11},{"$f":"YEAR(S42)","v":2024},{"$f":"T42&U42","v":"111"},{"$f":"IF(V42&W42=V41&W41,X41+1,1)","v":3},{"$f":"V42&U42&T42&X42","v":"20241113"},{"$f":"S42","v":"2024-11-17"}]
[null,null,null,null,null,null,null,null,null,null,null,null,69,2.5,20,1,180,null,"2024-11-24",{"$f":"WEEKDAY(S43)","v":1},{"$f":"MONTH(S43)","v":11},{"$f":"YEAR(S43)","v":2024},{"$f":"T43&U43","v":"111"},{"$f":"IF(V43&W43=V42&W42,X42+1,1)","v":4},{"$f":"V43&U43&T43&X43","v":"20241114"},{"$f":"S43","v":"2024-11-24"}]
[{"$f":"CONCATENATE(\"Préparer \",F23,\"ml de jus de pamplemousse (sans la pulpe) + \",F26,\"ml d’huile d’olive + \",F29,\"gr d’Ornithine + \",F32,\"gouttesdebroudenoixnoires.\")","v":"Préparer 180ml de jus de pamplemousse (sans la pulpe) + 120ml d’huile d’olive + 2,5gr d’Ornithine + 20gouttesdebroudenoixnoires."},null,null,null,null,null,null,null,null,null,null,null,70,2.5,20,1,180,null,"2024-01-14",{"$f":"WEEKDAY(S44)","v":1},{"$f":"MONTH(S44)","v":1},{"$f":"YEAR(S44)","v":2024},{"$f":"T44&U44","v":"11"},{"$f":"IF(V44&W44=V43&W43,X43+1,1)","v":1},{"$f":"V44&U44&T44&X44","v":"2024111"},{"$f":"S44","v":"2024-01-14"}]
[null,null,null,null,null,null,null,null,null,null,null,null,71,2.5,20,1,180,null,"2024-11-04",{"$f":"WEEKDAY(S45)","v":2},{"$f":"MONTH(S45)","v":11},{"$f":"YEAR(S45)","v":2024},{"$f":"T45&U45","v":"211"},{"$f":"IF(V45&W45=V44&W44,X44+1,1)","v":1},{"$f":"V45&U45&T45&X45","v":"20241121"},{"$f":"S45","v":"2024-11-04"}]
[null,null,null,null,null,null,null,null,null,null,null,null,72,2.5,20,1,180,null,"2024-11-11",{"$f":"WEEKDAY(S46)","v":2},{"$f":"MONTH(S46)","v":11},{"$f":"YEAR(S46)","v":2024},{"$f":"T46&U46","v":"211"},{"$f":"IF(V46&W46=V45&W45,X45+1,1)","v":2},{"$f":"V46&U46&T46&X46","v":"20241122"},{"$f":"S46","v":"2024-11-11"}]
[null,null,null,null,null,null,null,null,null,null,null,null,73,2.5,20,1,180,null,"2024-11-18",{"$f":"WEEKDAY(S47)","v":2},{"$f":"MONTH(S47)","v":11},{"$f":"YEAR(S47)","v":2024},{"$f":"T47&U47","v":"211"},{"$f":"IF(V47&W47=V46&W46,X46+1,1)","v":3},{"$f":"V47&U47&T47&X47","v":"20241123"},{"$f":"S47","v":"2024-11-18"}]
[null,null,null,null,null,null,null,null,null,null,null,null,74,2.5,20,1,180,null,"2024-11-25",{"$f":"WEEKDAY(S48)","v":2},{"$f":"MONTH(S48)","v":11},{"$f":"YEAR(S48)","v":2024},{"$f":"T48&U48","v":"211"},{"$f":"IF(V48&W48=V47&W47,X47+1,1)","v":4},{"$f":"V48&U48&T48&X48","v":"20241124"},{"$f":"S48","v":"2024-11-25"}]
[null,null,null,null,null,null,null,null,null,null,null,null,75,2.5,20,1,180,null,"2024-01-21",{"$f":"WEEKDAY(S49)","v":1},{"$f":"MONTH(S49)","v":1},{"$f":"YEAR(S49)","v":2024},{"$f":"T49&U49","v":"11"},{"$f":"IF(V49&W49=V48&W48,X48+1,1)","v":1},{"$f":"V49&U49&T49&X49","v":"2024111"},{"$f":"S49","v":"2024-01-21"}]
[null,null,null,null,null,null,null,null,null,null,null,null,76,2.5,20,1,180,null,"2024-11-05",{"$f":"WEEKDAY(S50)","v":3},{"$f":"MONTH(S50)","v":11},{"$f":"YEAR(S50)","v":2024},{"$f":"T50&U50","v":"311"},{"$f":"IF(V50&W50=V49&W49,X49+1,1)","v":1},{"$f":"V50&U50&T50&X50","v":"20241131"},{"$f":"S50","v":"2024-11-05"}]
[null,null,null,null,null,null,null,null,null,null,null,null,77,2.5,20,1,180,null,"2024-11-12",{"$f":"WEEKDAY(S51)","v":3},{"$f":"MONTH(S51)","v":11},{"$f":"YEAR(S51)","v":2024},{"$f":"T51&U51","v":"311"},{"$f":"IF(V51&W51=V50&W50,X50+1,1)","v":2},{"$f":"V51&U51&T51&X51","v":"20241132"},{"$f":"S51","v":"2024-11-12"}]
[null,null,null,null,null,null,null,null,null,null,null,null,78,2.5,20,1,180,null,"2024-11-19",{"$f":"WEEKDAY(S52)","v":3},{"$f":"MONTH(S52)","v":11},{"$f":"YEAR(S52)","v":2024},{"$f":"T52&U52","v":"311"},{"$f":"IF(V52&W52=V51&W51,X51+1,1)","v":3},{"$f":"V52&U52&T52&X52","v":"20241133"},{"$f":"S52","v":"2024-11-19"}]
[null,null,null,null,null,null,null,null,null,null,null,null,79,2.5,20,1,180,null,"2024-11-26",{"$f":"WEEKDAY(S53)","v":3},{"$f":"MONTH(S53)","v":11},{"$f":"YEAR(S53)","v":2024},{"$f":"T53&U53","v":"311"},{"$f":"IF(V53&W53=V52&W52,X52+1,1)","v":4},{"$f":"V53&U53&T53&X53","v":"20241134"},{"$f":"S53","v":"2024-11-26"}]
[null,null,null,null,null,null,null,null,null,null,null,null,80,{"$f":"$N$8*M54/80","v":2.5},20,1,180,null,"2024-01-28",{"$f":"WEEKDAY(S54)","v":1},{"$f":"MONTH(S54)","v":1},{"$f":"YEAR(S54)","v":2024},{"$f":"T54&U54","v":"11"},{"$f":"IF(V54&W54=V53&W53,X53+1,1)","v":1},{"$f":"V54&U54&T54&X54","v":"2024111"},{"$f":"S54","v":"2024-01-28"}]
[null,null,null,null,null,null,null,null,null,null,null,null,null,null,null,null,null,null,"2024-11-06",{"$f":"WEEKDAY(S55)","v":4},{"$f":"MONTH(S55)","v":11},{"$f":"YEAR(S55)","v":2024},{"$f":"T55&U55","v":"411"},{"$f":"IF(V55&W55=V54&W54,X54+1,1)","v":1},{"$f":"V55&U55&T55&X55","v":"20241141"},{"$f":"S55","v":"2024-11-06"}]
[null,null,null,null,null,null,null,null,null,null,null,null,null,null,null,null,null,null,"2024-11-13",{"$f":"WEEKDAY(S56)","v":4},{"$f":"MONTH(S56)","v":11},{"$f":"YEAR(S56)","v":2024},{"$f":"T56&U56","v":"411"},{"$f":"IF(V56&W56=V55&W55,X55+1,1)","v":2},{"$f":"V56&U56&T56&X56","v":"20241142"},{"$f":"S56","v":"2024-11-13"}]
[null,null,null,null,null,null,null,null,null,null,null,null,null,null,null,null,null,null,"2024-11-20",{"$f":"WEEKDAY(S57)","v":4},{"$f":"MONTH(S57)","v":11},{"$f":"YEAR(S57)","v":2024},{"$f":"T57&U57","v":"411"},{"$f":"IF(V57&W57=V56&W56,X56+1,1)","v":3},{"$f":"V57&U57&T57&X57","v":"20241143"},{"$f":"S57","v":"2024-11-20"}]
[null,null,null,null,null,null,null,null,null,null,null,null,null,null,null,null,null,null,"2024-11-27",{"$f":"WEEKDAY(S58)","v":4},{"$f":"MONTH(S58)","v":11},{"$f":"YEAR(S58)","v":2024},{"$f":"T58&U58","v":"411"},{"$f":"IF(V58&W58=V57&W57,X57+1,1)","v":4},{"$f":"V58&U58&T58&X58","v":"20241144"},{"$f":"S58","v":"2024-11-27"}]
[null,null,null,null,null,null,null,null,null,null,null,null,null,null,null,null,null,null,"2024-11-07",{"$f":"WEEKDAY(S59)","v":5},{"$f":"MONTH(S59)","v":11},{"$f":"YEAR(S59)","v":2024},{"$f":"T59&U59","v":"511"},{"$f":"IF(V59&W59=V58&W58,X58+1,1)","v":1},{"$f":"V59&U59&T59&X59","v":"20241151"},{"$f":"S59","v":"2024-11-07"}]
[null,null,null,null,null,null,null,null,null,null,null,null,null,null,null,null,null,null,"2024-11-14",{"$f":"WEEKDAY(S60)","v":5},{"$f":"MONTH(S60)","v":11},{"$f":"YEAR(S60)","v":2024},{"$f":"T60&U60","v":"511"},{"$f":"IF(V60&W60=V59&W59,X59+1,1)","v":2},{"$f":"V60&U60&T60&X60","v":"20241152"},{"$f":"S60","v":"2024-11-14"}]
[null,null,null,null,null,null,null,null,null,null,null,null,null,null,null,null,null,null,"2024-11-21",{"$f":"WEEKDAY(S61)","v":5},{"$f":"MONTH(S61)","v":11},{"$f":"YEAR(S61)","v":2024},{"$f":"T61&U61","v":"511"},{"$f":"IF(V61&W61=V60&W60,X60+1,1)","v":3},{"$f":"V61&U61&T61&X61","v":"20241153"},{"$f":"S61","v":"2024-11-21"}]
[null,null,null,null,null,null,null,null,null,null,null,null,null,null,null,null,null,null,"2024-11-28",{"$f":"WEEKDAY(S62)","v":5},{"$f":"MONTH(S62)","v":11},{"$f":"YEAR(S62)","v":2024},{"$f":"T62&U62","v":"511"},{"$f":"IF(V62&W62=V61&W61,X61+1,1)","v":4},{"$f":"V62&U62&T62&X62","v":"20241154"},{"$f":"S62","v":"2024-11-28"}]
[null,null,null,null,null,null,null,null,null,null,null,null,null,null,null,null,null,null,"2024-11-01",{"$f":"WEEKDAY(S63)","v":6},{"$f":"MONTH(S63)","v":11},{"$f":"YEAR(S63)","v":2024},{"$f":"T63&U63","v":"611"},{"$f":"IF(V63&W63=V62&W62,X62+1,1)","v":1},{"$f":"V63&U63&T63&X63","v":"20241161"},{"$f":"S63","v":"2024-11-01"}]
[null,null,null,null,null,null,null,null,null,null,null,null,null,null,null,null,null,null,"2024-11-08",{"$f":"WEEKDAY(S64)","v":6},{"$f":"MONTH(S64)","v":11},{"$f":"YEAR(S64)","v":2024},{"$f":"T64&U64","v":"611"},{"$f":"IF(V64&W64=V63&W63,X63+1,1)","v":2},{"$f":"V64&U64&T64&X64","v":"20241162"},{"$f":"S64","v":"2024-11-08"}]
[null,null,null,null,null,null,null,null,null,null,null,null,null,null,null,null,null,null,"2024-11-15",{"$f":"WEEKDAY(S65)","v":6},{"$f":"MONTH(S65)","v":11},{"$f":"YEAR(S65)","v":2024},{"$f":"T65&U65","v":"611"},{"$f":"IF(V65&W65=V64&W64,X64+1,1)","v":3},{"$f":"V65&U65&T65&X65","v":"20241163"},{"$f":"S65","v":"2024-11-15"}]
[null,null,null,null,null,null,null,null,null,null,null,null,null,null,null,null,null,null,"2024-11-22",{"$f":"WEEKDAY(S66)","v":6},{"$f":"MONTH(S66)","v":11},{"$f":"YEAR(S66)","v":2024},{"$f":"T66&U66","v":"611"},{"$f":"IF(V66&W66=V65&W65,X65+1,1)","v":4},{"$f":"V66&U66&T66&X66","v":"20241164"},{"$f":"S66","v":"2024-11-22"}]
[null,null,null,null,null,null,null,null,null,null,null,null,null,null,null,null,null,null,"2024-11-29",{"$f":"WEEKDAY(S67)","v":6},{"$f":"MONTH(S67)","v":11},{"$f":"YEAR(S67)","v":2024},{"$f":"T67&U67","v":"611"},{"$f":"IF(V67&W67=V66&W66,X66+1,1)","v":5},{"$f":"V67&U67&T67&X67","v":"20241165"},{"$f":"S67","v":"2024-11-29"}]
[null,null,null,null,null,null,null,null,null,null,null,null,null,null,null,null,null,null,"2024-11-02",{"$f":"WEEKDAY(S68)","v":7},{"$f":"MONTH(S68)","v":11},{"$f":"YEAR(S68)","v":2024},{"$f":"T68&U68","v":"711"},{"$f":"IF(V68&W68=V67&W67,X67+1,1)","v":1},{"$f":"V68&U68&T68&X68","v":"20241171"},{"$f":"S68","v":"2024-11-02"}]
[null,null,null,null,null,null,null,null,null,null,null,null,null,null,null,null,null,null,"2024-11-09",{"$f":"WEEKDAY(S69)","v":7},{"$f":"MONTH(S69)","v":11},{"$f":"YEAR(S69)","v":2024},{"$f":"T69&U69","v":"711"},{"$f":"IF(V69&W69=V68&W68,X68+1,1)","v":2},{"$f":"V69&U69&T69&X69","v":"20241172"},{"$f":"S69","v":"2024-11-09"}]
[null,null,null,null,null,null,null,null,null,null,null,null,null,null,null,null,null,null,"2024-11-16",{"$f":"WEEKDAY(S70)","v":7},{"$f":"MONTH(S70)","v":11},{"$f":"YEAR(S70)","v":2024},{"$f":"T70&U70","v":"711"},{"$f":"IF(V70&W70=V69&W69,X69+1,1)","v":3},{"$f":"V70&U70&T70&X70","v":"20241173"},{"$f":"S70","v":"2024-11-16"}]
[null,null,null,null,null,null,null,null,null,null,null,null,null,null,null,null,null,null,"2024-11-23",{"$f":"WEEKDAY(S71)","v":7},{"$f":"MONTH(S71)","v":11},{"$f":"YEAR(S71)","v":2024},{"$f":"T71&U71","v":"711"},{"$f":"IF(V71&W71=V70&W70,X70+1,1)","v":4},{"$f":"V71&U71&T71&X71","v":"20241174"},{"$f":"S71","v":"2024-11-23"}]
[null,null,null,null,null,null,null,null,null,null,null,null,null,null,null,null,null,null,"2024-11-30",{"$f":"WEEKDAY(S72)","v":7},{"$f":"MONTH(S72)","v":11},{"$f":"YEAR(S72)","v":2024},{"$f":"T72&U72","v":"711"},{"$f":"IF(V72&W72=V71&W71,X71+1,1)","v":5},{"$f":"V72&U72&T72&X72","v":"20241175"},{"$f":"S72","v":"2024-11-30"}]
[null,null,null,null,null,null,null,null,null,null,null,null,null,null,null,null,null,null,"2024-01-01",{"$f":"WEEKDAY(S73)","v":2},{"$f":"MONTH(S73)","v":1},{"$f":"YEAR(S73)","v":2024},{"$f":"T73&U73","v":"21"},{"$f":"IF(V73&W73=V72&W72,X72+1,1)","v":1},{"$f":"V73&U73&T73&X73","v":"2024121"},{"$f":"S73","v":"2024-01-01"}]
[null,null,null,null,null,null,null,null,null,null,null,null,null,null,null,null,null,null,"2024-12-01",{"$f":"WEEKDAY(S74)","v":1},{"$f":"MONTH(S74)","v":12},{"$f":"YEAR(S74)","v":2024},{"$f":"T74&U74","v":"112"},{"$f":"IF(V74&W74=V73&W73,X73+1,1)","v":1},{"$f":"V74&U74&T74&X74","v":"20241211"},{"$f":"S74","v":"2024-12-01"}]
[null,null,null,null,null,null,null,null,null,null,null,null,null,null,null,null,null,null,"2024-12-08",{"$f":"WEEKDAY(S75)","v":1},{"$f":"MONTH(S75)","v":12},{"$f":"YEAR(S75)","v":2024},{"$f":"T75&U75","v":"112"},{"$f":"IF(V75&W75=V74&W74,X74+1,1)","v":2},{"$f":"V75&U75&T75&X75","v":"20241212"},{"$f":"S75","v":"2024-12-08"}]
[null,null,null,null,null,null,null,null,null,null,null,null,null,null,null,null,null,null,"2024-12-15",{"$f":"WEEKDAY(S76)","v":1},{"$f":"MONTH(S76)","v":12},{"$f":"YEAR(S76)","v":2024},{"$f":"T76&U76","v":"112"},{"$f":"IF(V76&W76=V75&W75,X75+1,1)","v":3},{"$f":"V76&U76&T76&X76","v":"20241213"},{"$f":"S76","v":"2024-12-15"}]
[null,null,null,null,null,null,null,null,null,null,null,null,null,null,null,null,null,null,"2024-12-22",{"$f":"WEEKDAY(S77)","v":1},{"$f":"MONTH(S77)","v":12},{"$f":"YEAR(S77)","v":2024},{"$f":"T77&U77","v":"112"},{"$f":"IF(V77&W77=V76&W76,X76+1,1)","v":4},{"$f":"V77&U77&T77&X77","v":"20241214"},{"$f":"S77","v":"2024-12-22"}]
[null,null,null,null,null,null,null,null,null,null,null,null,null,null,null,null,null,null,"2024-12-29",{"$f":"WEEKDAY(S78)","v":1},{"$f":"MONTH(S78)","v":12},{"$f":"YEAR(S78)","v":2024},{"$f":"T78&U78","v":"112"},{"$f":"IF(V78&W78=V77&W77,X77+1,1)","v":5},{"$f":"V78&U78&T78&X78","v":"20241215"},{"$f":"S78","v":"2024-12-29"}]
[null,null,null,null,null,null,null,null,null,null,null,null,null,null,null,null,null,null,"2024-01-08",{"$f":"WEEKDAY(S79)","v":2},{"$f":"MONTH(S79)","v":1},{"$f":"YEAR(S79)","v":2024},{"$f":"T79&U79","v":"21"},{"$f":"IF(V79&W79=V78&W78,X78+1,1)","v":1},{"$f":"V79&U79&T79&X79","v":"2024121"},{"$f":"S79","v":"2024-01-08"}]
[null,null,null,null,null,null,null,null,null,null,null,null,null,null,null,null,null,null,"2024-12-02",{"$f":"WEEKDAY(S80)","v":2},{"$f":"MONTH(S80)","v":12},{"$f":"YEAR(S80)","v":2024},{"$f":"T80&U80","v":"212"},{"$f":"IF(V80&W80=V79&W79,X79+1,1)","v":1},{"$f":"V80&U80&T80&X80","v":"20241221"},{"$f":"S80","v":"2024-12-02"}]
[null,null,null,null,null,null,null,null,null,null,null,null,null,null,null,null,null,null,"2024-12-09",{"$f":"WEEKDAY(S81)","v":2},{"$f":"MONTH(S81)","v":12},{"$f":"YEAR(S81)","v":2024},{"$f":"T81&U81","v":"212"},{"$f":"IF(V81&W81=V80&W80,X80+1,1)","v":2},{"$f":"V81&U81&T81&X81","v":"20241222"},{"$f":"S81","v":"2024-12-09"}]
[null,null,null,null,null,null,null,null,null,null,null,null,null,null,null,null,null,null,"2024-12-16",{"$f":"WEEKDAY(S82)","v":2},{"$f":"MONTH(S82)","v":12},{"$f":"YEAR(S82)","v":2024},{"$f":"T82&U82","v":"212"},{"$f":"IF(V82&W82=V81&W81,X81+1,1)","v":3},{"$f":"V82&U82&T82&X82","v":"20241223"},{"$f":"S82","v":"2024-12-16"}]
[null,null,null,null,null,null,null,null,null,null,null,null,null,null,null,null,null,null,"2024-12-23",{"$f":"WEEKDAY(S83)","v":2},{"$f":"MONTH(S83)","v":12},{"$f":"YEAR(S83)","v":2024},{"$f":"T83&U83","v":"212"},{"$f":"IF(V83&W83=V82&W82,X82+1,1)","v":4},{"$f":"V83&U83&T83&X83","v":"20241224"},{"$f":"S83","v":"2024-12-23"}]
[null,null,null,null,null,null,null,null,null,null,null,null,null,null,null,null,null,null,"2024-12-30",{"$f":"WEEKDAY(S84)","v":2},{"$f":"MONTH(S84)","v":12},{"$f":"YEAR(S84)","v":2024},{"$f":"T84&U84","v":"212"},{"$f":"IF(V84&W84=V83&W83,X83+1,1)","v":5},{"$f":"V84&U84&T84&X84","v":"20241225"},{"$f":"S84","v":"2024-12-30"}]
[null,null,null,null,null,null,null,null,null,null,null,null,null,null,null,null,null,null,"2024-01-15",{"$f":"WEEKDAY(S85)","v":2},{"$f":"MONTH(S85)","v":1},{"$f":"YEAR(S85)","v":2024},{"$f":"T85&U85","v":"21"},{"$f":"IF(V85&W85=V84&W84,X84+1,1)","v":1},{"$f":"V85&U85&T85&X85","v":"2024121"},{"$f":"S85","v":"2024-01-15"}]
[null,null,null,null,null,null,null,null,null,null,null,null,null,null,null,null,null,null,"2024-12-03",{"$f":"WEEKDAY(S86)","v":3},{"$f":"MONTH(S86)","v":12},{"$f":"YEAR(S86)","v":2024},{"$f":"T86&U86","v":"312"},{"$f":"IF(V86&W86=V85&W85,X85+1,1)","v":1},{"$f":"V86&U86&T86&X86","v":"20241231"},{"$f":"S86","v":"2024-12-03"}]
[null,null,null,null,null,null,null,null,null,null,null,null,null,null,null,null,null,null,"2024-12-10",{"$f":"WEEKDAY(S87)","v":3},{"$f":"MONTH(S87)","v":12},{"$f":"YEAR(S87)","v":2024},{"$f":"T87&U87","v":"312"},{"$f":"IF(V87&W87=V86&W86,X86+1,1)","v":2},{"$f":"V87&U87&T87&X87","v":"20241232"},{"$f":"S87","v":"2024-12-10"}]
[null,null,null,null,null,null,null,null,null,null,null,null,null,null,null,null,null,null,"2024-12-17",{"$f":"WEEKDAY(S88)","v":3},{"$f":"MONTH(S88)","v":12},{"$f":"YEAR(S88)","v":2024},{"$f":"T88&U88","v":"312"},{"$f":"IF(V88&W88=V87&W87,X87+1,1)","v":3},{"$f":"V88&U88&T88&X88","v":"20241233"},{"$f":"S88","v":"2024-12-17"}]
[null,null,null,null,null,null,null,null,null,null,null,null,null,null,null,null,null,null,"2024-12-24",{"$f":"WEEKDAY(S89)","v":3},{"$f":"MONTH(S89)","v":12},{"$f":"YEAR(S89)","v":2024},{"$f":"T89&U89","v":"312"},{"$f":"IF(V89&W89=V88&W88,X88+1,1)","v":4},{"$f":"V89&U89&T89&X89","v":"20241234"},{"$f":"S89","v":"2024-12-24"}]
[null,null,null,null,null,null,null,null,null,null,null,null,null,null,null,null,null,null,"2024-12-31",{"$f":"WEEKDAY(S90)","v":3},{"$f":"MONTH(S90)","v":12},{"$f":"YEAR(S90)","v":2024},{"$f":"T90&U90","v":"312"},{"$f":"IF(V90&W90=V89&W89,X89+1,1)","v":5},{"$f":"V90&U90&T90&X90","v":"20241235"},{"$f":"S90","v":"2024-12-31"}]
[null,null,null,null,null,null,null,null,null,null,null,null,null,null,null,null,null,null,"2024-01-22",{"$f":"WEEKDAY(S91)","v":2},{"$f":"MONTH(S91)","v":1},{"$f":"YEAR(S91)","v":2024},{"$f":"T91&U91","v":"21"},{"$f":"IF(V91&W91=V90&W90,X90+1,1)","v":1},{"$f":"V91&U91&T91&X91","v":"2024121"},{"$f":"S91","v":"2024-01-22"}]
[null,null,null,null,null,null,null,null,null,null,null,null,null,null,null,null,null,null,"2024-12-04",{"$f":"WEEKDAY(S92)","v":4},{"$f":"MONTH(S92)","v":12},{"$f":"YEAR(S92)","v":2024},{"$f":"T92&U92","v":"412"},{"$f":"IF(V92&W92=V91&W91,X91+1,1)","v":1},{"$f":"V92&U92&T92&X92","v":"20241241"},{"$f":"S92","v":"2024-12-04"}]
[null,null,null,null,null,null,null,null,null,null,null,null,null,null,null,null,null,null,"2024-12-11",{"$f":"WEEKDAY(S93)","v":4},{"$f":"MONTH(S93)","v":12},{"$f":"YEAR(S93)","v":2024},{"$f":"T93&U93","v":"412"},{"$f":"IF(V93&W93=V92&W92,X92+1,1)","v":2},{"$f":"V93&U93&T93&X93","v":"20241242"},{"$f":"S93","v":"2024-12-11"}]
[null,null,null,null,null,null,null,null,null,null,null,null,null,null,null,null,null,null,"2024-12-18",{"$f":"WEEKDAY(S94)","v":4},{"$f":"MONTH(S94)","v":12},{"$f":"YEAR(S94)","v":2024},{"$f":"T94&U94","v":"412"},{"$f":"IF(V94&W94=V93&W93,X93+1,1)","v":3},{"$f":"V94&U94&T94&X94","v":"20241243"},{"$f":"S94","v":"2024-12-18"}]
[null,null,null,null,null,null,null,null,null,null,null,null,null,null,null,null,null,null,"2024-12-25",{"$f":"WEEKDAY(S95)","v":4},{"$f":"MONTH(S95)","v":12},{"$f":"YEAR(S95)","v":2024},{"$f":"T95&U95","v":"412"},{"$f":"IF(V95&W95=V94&W94,X94+1,1)","v":4},{"$f":"V95&U95&T95&X95","v":"20241244"},{"$f":"S95","v":"2024-12-25"}]
[null,null,null,null,null,null,null,null,null,null,null,null,null,null,null,null,null,null,"2024-01-29",{"$f":"WEEKDAY(S96)","v":2},{"$f":"MONTH(S96)","v":1},{"$f":"YEAR(S96)","v":2024},{"$f":"T96&U96","v":"21"},{"$f":"IF(V96&W96=V95&W95,X95+1,1)","v":1},{"$f":"V96&U96&T96&X96","v":"2024121"},{"$f":"S96","v":"2024-01-29"}]
[null,null,null,null,null,null,null,null,null,null,null,null,null,null,null,null,null,null,"2024-12-05",{"$f":"WEEKDAY(S97)","v":5},{"$f":"MONTH(S97)","v":12},{"$f":"YEAR(S97)","v":2024},{"$f":"T97&U97","v":"512"},{"$f":"IF(V97&W97=V96&W96,X96+1,1)","v":1},{"$f":"V97&U97&T97&X97","v":"20241251"},{"$f":"S97","v":"2024-12-05"}]
[null,null,null,null,null,null,null,null,null,null,null,null,null,null,null,null,null,null,"2024-12-12",{"$f":"WEEKDAY(S98)","v":5},{"$f":"MONTH(S98)","v":12},{"$f":"YEAR(S98)","v":2024},{"$f":"T98&U98","v":"512"},{"$f":"IF(V98&W98=V97&W97,X97+1,1)","v":2},{"$f":"V98&U98&T98&X98","v":"20241252"},{"$f":"S98","v":"2024-12-12"}]
[null,null,null,null,null,null,null,null,null,null,null,null,null,null,null,null,null,null,"2024-12-19",{"$f":"WEEKDAY(S99)","v":5},{"$f":"MONTH(S99)","v":12},{"$f":"YEAR(S99)","v":2024},{"$f":"T99&U99","v":"512"},{"$f":"IF(V99&W99=V98&W98,X98+1,1)","v":3},{"$f":"V99&U99&T99&X99","v":"20241253"},{"$f":"S99","v":"2024-12-19"}]
[null,null,null,null,null,null,null,null,null,null,null,null,null,null,null,null,null,null,"2024-12-26",{"$f":"WEEKDAY(S100)","v":5},{"$f":"MONTH(S100)","v":12},{"$f":"YEAR(S100)","v":2024},{"$f":"T100&U100","v":"512"},{"$f":"IF(V100&W100=V99&W99,X99+1,1)","v":4},{"$f":"V100&U100&T100&X100","v":"20241254"},{"$f":"S100","v":"2024-12-26"}]
[null,null,null,null,null,null,null,null,null,null,null,null,null,null,null,null,null,null,"2024-12-06",{"$f":"WEEKDAY(S101)","v":6},{"$f":"MONTH(S101)","v":12},{"$f":"YEAR(S101)","v":2024},{"$f":"T101&U101","v":"612"},{"$f":"IF(V101&W101=V100&W100,X100+1,1)","v":1},{"$f":"V101&U101&T101&X101","v":"20241261"},{"$f":"S101","v":"2024-12-06"}]
[null,null,null,null,null,null,null,null,null,null,null,null,null,null,null,null,null,null,"2024-12-13",{"$f":"WEEKDAY(S102)","v":6},{"$f":"MONTH(S102)","v":12},{"$f":"YEAR(S102)","v":2024},{"$f":"T102&U102","v":"612"},{"$f":"IF(V102&W102=V101&W101,X101+1,1)","v":2},{"$f":"V102&U102&T102&X102","v":"20241262"},{"$f":"S102","v":"2024-12-13"}]
[null,null,null,null,null,null,null,null,null,null,null,null,null,null,null,null,null,null,"2024-12-20",{"$f":"WEEKDAY(S103)","v":6},{"$f":"MONTH(S103)","v":12},{"$f":"YEAR(S103)","v":2024},{"$f":"T103&U103","v":"612"},{"$f":"IF(V103&W103=V102&W102,X102+1,1)","v":3},{"$f":"V103&U103&T103&X103","v":"20241263"},{"$f":"S103","v":"2024-12-20"}]
[null,null,null,null,null,null,null,null,null,null,null,null,null,null,null,null,null,null,"2024-12-27",{"$f":"WEEKDAY(S104)","v":6},{"$f":"MONTH(S104)","v":12},{"$f":"YEAR(S104)","v":2024},{"$f":"T104&U104","v":"612"},{"$f":"IF(V104&W104=V103&W103,X103+1,1)","v":4},{"$f":"V104&U104&T104&X104","v":"20241264"},{"$f":"S104","v":"2024-12-27"}]
[null,null,null,null,null,null,null,null,null,null,null,null,null,null,null,null,null,null,"2024-12-07",{"$f":"WEEKDAY(S105)","v":7},{"$f":"MONTH(S105)","v":12},{"$f":"YEAR(S105)","v":2024},{"$f":"T105&U105","v":"712"},{"$f":"IF(V105&W105=V104&W104,X104+1,1)","v":1},{"$f":"V105&U105&T105&X105","v":"20241271"},{"$f":"S105","v":"2024-12-07"}]
[null,null,null,null,null,null,null,null,null,null,null,null,null,null,null,null,null,null,"2024-12-14",{"$f":"WEEKDAY(S106)","v":7},{"$f":"MONTH(S106)","v":12},{"$f":"YEAR(S106)","v":2024},{"$f":"T106&U106","v":"712"},{"$f":"IF(V106&W106=V105&W105,X105+1,1)","v":2},{"$f":"V106&U106&T106&X106","v":"20241272"},{"$f":"S106","v":"2024-12-14"}]
[null,null,null,null,null,null,null,null,null,null,null,null,null,null,null,null,null,null,"2024-12-21",{"$f":"WEEKDAY(S107)","v":7},{"$f":"MONTH(S107)","v":12},{"$f":"YEAR(S107)","v":2024},{"$f":"T107&U107","v":"712"},{"$f":"IF(V107&W107=V106&W106,X106+1,1)","v":3},{"$f":"V107&U107&T107&X107","v":"20241273"},{"$f":"S107","v":"2024-12-21"}]
[null,null,null,null,null,null,null,null,null,null,null,null,null,null,null,null,null,null,"2024-12-28",{"$f":"WEEKDAY(S108)","v":7},{"$f":"MONTH(S108)","v":12},{"$f":"YEAR(S108)","v":2024},{"$f":"T108&U108","v":"712"},{"$f":"IF(V108&W108=V107&W107,X107+1,1)","v":4},{"$f":"V108&U108&T108&X108","v":"20241274"},{"$f":"S108","v":"2024-12-28"}]
[null,null,null,null,null,null,null,null,null,null,null,null,null,null,null,null,null,null,"2024-01-02",{"$f":"WEEKDAY(S109)","v":3},{"$f":"MONTH(S109)","v":1},{"$f":"YEAR(S109)","v":2024},{"$f":"T109&U109","v":"31"},{"$f":"IF(V109&W109=V108&W108,X108+1,1)","v":1},{"$f":"V109&U109&T109&X109","v":"2024131"},{"$f":"S109","v":"2024-01-02"}]
[null,null,null,null,null,null,null,null,null,null,null,null,null,null,null,null,null,null,"2024-01-09",{"$f":"WEEKDAY(S110)","v":3},{"$f":"MONTH(S110)","v":1},{"$f":"YEAR(S110)","v":2024},{"$f":"T110&U110","v":"31"},{"$f":"IF(V110&W110=V109&W109,X109+1,1)","v":2},{"$f":"V110&U110&T110&X110","v":"2024132"},{"$f":"S110","v":"2024-01-09"}]
[null,null,null,null,null,null,null,null,null,null,null,null,null,null,null,null,null,null,"2024-01-16",{"$f":"WEEKDAY(S111)","v":3},{"$f":"MONTH(S111)","v":1},{"$f":"YEAR(S111)","v":2024},{"$f":"T111&U111","v":"31"},{"$f":"IF(V111&W111=V110&W110,X110+1,1)","v":3},{"$f":"V111&U111&T111&X111","v":"2024133"},{"$f":"S111","v":"2024-01-16"}]
[null,null,null,null,null,null,null,null,null,null,null,null,null,null,null,null,null,null,"2024-01-23",{"$f":"WEEKDAY(S112)","v":3},{"$f":"MONTH(S112)","v":1},{"$f":"YEAR(S112)","v":2024},{"$f":"T112&U112","v":"31"},{"$f":"IF(V112&W112=V111&W111,X111+1,1)","v":4},{"$f":"V112&U112&T112&X112","v":"2024134"},{"$f":"S112","v":"2024-01-23"}]
[null,null,null,null,null,null,null,null,null,null,null,null,null,null,null,null,null,null,"2024-01-30",{"$f":"WEEKDAY(S113)","v":3},{"$f":"MONTH(S113)","v":1},{"$f":"YEAR(S113)","v":2024},{"$f":"T113&U113","v":"31"},{"$f":"IF(V113&W113=V112&W112,X112+1,1)","v":5},{"$f":"V113&U113&T113&X113","v":"2024135"},{"$f":"S113","v":"2024-01-30"}]
[null,null,null,null,null,null,null,null,null,null,null,null,null,null,null,null,null,null,"2024-01-03",{"$f":"WEEKDAY(S114)","v":4},{"$f":"MONTH(S114)","v":1},{"$f":"YEAR(S114)","v":2024},{"$f":"T114&U114","v":"41"},{"$f":"IF(V114&W114=V113&W113,X113+1,1)","v":1},{"$f":"V114&U114&T114&X114","v":"2024141"},{"$f":"S114","v":"2024-01-03"}]
[null,null,null,null,null,null,null,null,null,null,null,null,null,null,null,null,null,null,"2024-01-10",{"$f":"WEEKDAY(S115)","v":4},{"$f":"MONTH(S115)","v":1},{"$f":"YEAR(S115)","v":2024},{"$f":"T115&U115","v":"41"},{"$f":"IF(V115&W115=V114&W114,X114+1,1)","v":2},{"$f":"V115&U115&T115&X106","v":"2024142"},{"$f":"S115","v":"2024-01-10"}]
[null,null,null,null,null,null,null,null,null,null,null,null,null,null,null,null,null,null,"2024-01-17",{"$f":"WEEKDAY(S116)","v":4},{"$f":"MONTH(S116)","v":1},{"$f":"YEAR(S116)","v":2024},{"$f":"T116&U116","v":"41"},{"$f":"IF(V116&W116=V115&W115,X115+1,1)","v":3},{"$f":"V116&U116&T116&X116","v":"2024143"},{"$f":"S116","v":"2024-01-17"}]
[null,null,null,null,null,null,null,null,null,null,null,null,null,null,null,null,null,null,"2024-01-24",{"$f":"WEEKDAY(S117)","v":4},{"$f":"MONTH(S117)","v":1},{"$f":"YEAR(S117)","v":2024},{"$f":"T117&U117","v":"41"},{"$f":"IF(V117&W117=V116&W116,X116+1,1)","v":4},{"$f":"V117&U117&T117&X117","v":"2024144"},{"$f":"S117","v":"2024-01-24"}]
[null,null,null,null,null,null,null,null,null,null,null,null,null,null,null,null,null,null,"2024-01-31",{"$f":"WEEKDAY(S118)","v":4},{"$f":"MONTH(S118)","v":1},{"$f":"YEAR(S118)","v":2024},{"$f":"T118&U118","v":"41"},{"$f":"IF(V118&W118=V117&W117,X117+1,1)","v":5},{"$f":"V118&U118&T118&X118","v":"2024145"},{"$f":"S118","v":"2024-01-31"}]
[null,null,null,null,null,null,null,null,null,null,null,null,null,null,null,null,null,null,"2024-01-04",{"$f":"WEEKDAY(S119)","v":5},{"$f":"MONTH(S119)","v":1},{"$f":"YEAR(S119)","v":2024},{"$f":"T119&U119","v":"51"},{"$f":"IF(V119&W119=V118&W118,X118+1,1)","v":1},{"$f":"V119&U119&T119&X119","v":"2024151"},{"$f":"S119","v":"2024-01-04"}]
[null,null,null,null,null,null,null,null,null,null,null,null,null,null,null,null,null,null,"2024-01-11",{"$f":"WEEKDAY(S120)","v":5},{"$f":"MONTH(S120)","v":1},{"$f":"YEAR(S120)","v":2024},{"$f":"T120&U120","v":"51"},{"$f":"IF(V120&W120=V119&W119,X119+1,1)","v":2},{"$f":"V120&U120&T120&X120","v":"2024152"},{"$f":"S120","v":"2024-01-11"}]
[null,null,null,null,null,null,null,null,null,null,null,null,null,null,null,null,null,null,"2024-01-18",{"$f":"WEEKDAY(S121)","v":5},{"$f":"MONTH(S121)","v":1},{"$f":"YEAR(S121)","v":2024},{"$f":"T121&U121","v":"51"},{"$f":"IF(V121&W121=V120&W120,X120+1,1)","v":3},{"$f":"V121&U121&T121&X121","v":"2024153"},{"$f":"S121","v":"2024-01-18"}]
[null,null,null,null,null,null,null,null,null,null,null,null,null,null,null,null,null,null,"2024-01-25",{"$f":"WEEKDAY(S122)","v":5},{"$f":"MONTH(S122)","v":1},{"$f":"YEAR(S122)","v":2024},{"$f":"T122&U122","v":"51"},{"$f":"IF(V122&W122=V121&W121,X121+1,1)","v":4},{"$f":"V122&U122&T122&X122","v":"2024154"},{"$f":"S122","v":"2024-01-25"}]
[null,null,null,null,null,null,null,null,null,null,null,null,null,null,null,null,null,null,"2024-01-05",{"$f":"WEEKDAY(S123)","v":6},{"$f":"MONTH(S123)","v":1},{"$f":"YEAR(S123)","v":2024},{"$f":"T123&U123","v":"61"},{"$f":"IF(V123&W123=V122&W122,X122+1,1)","v":1},{"$f":"V123&U123&T123&X123","v":"2024161"},{"$f":"S123","v":"2024-01-05"}]
[null,null,null,null,null,null,null,null,null,null,null,null,null,null,null,null,null,null,"2024-01-12",{"$f":"WEEKDAY(S124)","v":6},{"$f":"MONTH(S124)","v":1},{"$f":"YEAR(S124)","v":2024},{"$f":"T124&U124","v":"61"},{"$f":"IF(V124&W124=V123&W123,X123+1,1)","v":2},{"$f":"V124&U124&T124&X124","v":"2024162"},{"$f":"S124","v":"2024-01-12"}]
[null,null,null,null,null,null,null,null,null,null,null,null,null,null,null,null,null,null,"2024-01-19",{"$f":"WEEKDAY(S125)","v":6},{"$f":"MONTH(S125)","v":1},{"$f":"YEAR(S125)","v":2024},{"$f":"T125&U125","v":"61"},{"$f":"IF(V125&W125=V124&W124,X124+1,1)","v":3},{"$f":"V125&U125&T125&X125","v":"2024163"},{"$f":"S125","v":"2024-01-19"}]
[null,null,null,null,null,null,null,null,null,null,null,null,null,null,null,null,null,null,"2024-01-26",{"$f":"WEEKDAY(S126)","v":6},{"$f":"MONTH(S126)","v":1},{"$f":"YEAR(S126)","v":2024},{"$f":"T126&U126","v":"61"},{"$f":"IF(V126&W126=V125&W125,X125+1,1)","v":4},{"$f":"V126&U126&T126&X126","v":"2024164"},{"$f":"S126","v":"2024-01-26"}]
[null,null,null,null,null,null,null,null,null,null,null,null,null,null,null,null,null,null,"2024-01-06",{"$f":"WEEKDAY(S127)","v":7},{"$f":"MONTH(S127)","v":1},{"$f":"YEAR(S127)","v":2024},{"$f":"T127&U127","v":"71"},{"$f":"IF(V127&W127=V126&W126,X126+1,1)","v":1},{"$f":"V127&U127&T127&X127","v":"2024171"},{"$f":"S127","v":"2024-01-06"}]
[null,null,null,null,null,null,null,null,null,null,null,null,null,null,null,null,null,null,"2024-01-13",{"$f":"WEEKDAY(S128)","v":7},{"$f":"MONTH(S128)","v":1},{"$f":"YEAR(S128)","v":2024},{"$f":"T128&U128","v":"71"},{"$f":"IF(V128&W128=V127&W127,X127+1,1)","v":2},{"$f":"V128&U128&T128&X128","v":"2024172"},{"$f":"S128","v":"2024-01-13"}]
[null,null,null,null,null,null,null,null,null,null,null,null,null,null,null,null,null,null,"2024-01-20",{"$f":"WEEKDAY(S129)","v":7},{"$f":"MONTH(S129)","v":1},{"$f":"YEAR(S129)","v":2024},{"$f":"T129&U129","v":"71"},{"$f":"IF(V129&W129=V128&W128,X128+1,1)","v":3},{"$f":"V129&U129&T129&X129","v":"2024173"},{"$f":"S129","v":"2024-01-20"}]
[null,null,null,null,null,null,null,null,null,null,null,null,null,null,null,null,null,null,"2024-01-27",{"$f":"WEEKDAY(S130)","v":7},{"$f":"MONTH(S130)","v":1},{"$f":"YEAR(S130)","v":2024},{"$f":"T130&U130","v":"71"},{"$f":"IF(V130&W130=V129&W129,X129+1,1)","v":4},{"$f":"V130&U130&T130&X130","v":"2024174"},{"$f":"S130","v":"2024-01-27"}]
[null,null,null,null,null,null,null,null,null,null,null,null,null,null,null,null,null,null,"2024-02-04",{"$f":"WEEKDAY(S131)","v":1},{"$f":"MONTH(S131)","v":2},{"$f":"YEAR(S131)","v":2024},{"$f":"T131&U131","v":"12"},{"$f":"IF(V131&W131=V130&W130,X130+1,1)","v":1},{"$f":"V131&U131&T131&X131","v":"2024211"},{"$f":"S131","v":"2024-02-04"}]
[null,null,null,null,null,null,null,null,null,null,null,null,null,null,null,null,null,null,"2024-02-11",{"$f":"WEEKDAY(S132)","v":1},{"$f":"MONTH(S132)","v":2},{"$f":"YEAR(S132)","v":2024},{"$f":"T132&U132","v":"12"},{"$f":"IF(V132&W132=V131&W131,X131+1,1)","v":2},{"$f":"V132&U132&T132&X132","v":"2024212"},{"$f":"S132","v":"2024-02-11"}]
[null,null,null,null,null,null,null,null,null,null,null,null,null,null,null,null,null,null,"2024-02-18",{"$f":"WEEKDAY(S133)","v":1},{"$f":"MONTH(S133)","v":2},{"$f":"YEAR(S133)","v":2024},{"$f":"T133&U133","v":"12"},{"$f":"IF(V133&W133=V132&W132,X132+1,1)","v":3},{"$f":"V133&U133&T133&X133","v":"2024213"},{"$f":"S133","v":"2024-02-18"}]
[null,null,null,null,null,null,null,null,null,null,null,null,null,null,null,null,null,null,"2024-02-25",{"$f":"WEEKDAY(S134)","v":1},{"$f":"MONTH(S134)","v":2},{"$f":"YEAR(S134)","v":2024},{"$f":"T134&U134","v":"12"},{"$f":"IF(V134&W134=V133&W133,X133+1,1)","v":4},{"$f":"V134&U134&T134&X134","v":"2024214"},{"$f":"S134","v":"2024-02-25"}]
[null,null,null,null,null,null,null,null,null,null,null,null,null,null,null,null,null,null,"2024-02-05",{"$f":"WEEKDAY(S135)","v":2},{"$f":"MONTH(S135)","v":2},{"$f":"YEAR(S135)","v":2024},{"$f":"T135&U135","v":"22"},{"$f":"IF(V135&W135=V134&W134,X134+1,1)","v":1},{"$f":"V135&U135&T135&X135","v":"2024221"},{"$f":"S135","v":"2024-02-05"}]
[null,null,null,null,null,null,null,null,null,null,null,null,null,null,null,null,null,null,"2024-02-12",{"$f":"WEEKDAY(S136)","v":2},{"$f":"MONTH(S136)","v":2},{"$f":"YEAR(S136)","v":2024},{"$f":"T136&U136","v":"22"},{"$f":"IF(V136&W136=V135&W135,X135+1,1)","v":2},{"$f":"V136&U136&T136&X136","v":"2024222"},{"$f":"S136","v":"2024-02-12"}]
[null,null,null,null,null,null,null,null,null,null,null,null,null,null,null,null,null,null,"2024-02-19",{"$f":"WEEKDAY(S137)","v":2},{"$f":"MONTH(S137)","v":2},{"$f":"YEAR(S137)","v":2024},{"$f":"T137&U137","v":"22"},{"$f":"IF(V137&W137=V136&W136,X136+1,1)","v":3},{"$f":"V137&U137&T137&X137","v":"2024223"},{"$f":"S137","v":"2024-02-19"}]
[null,null,null,null,null,null,null,null,null,null,null,null,null,null,null,null,null,null,"2024-02-26",{"$f":"WEEKDAY(S138)","v":2},{"$f":"MONTH(S138)","v":2},{"$f":"YEAR(S138)","v":2024},{"$f":"T138&U138","v":"22"},{"$f":"IF(V138&W138=V137&W137,X137+1,1)","v":4},{"$f":"V138&U138&T138&X138","v":"2024224"},{"$f":"S138","v":"2024-02-26"}]
[null,null,null,null,null,null,null,null,null,null,null,null,null,null,null,null,null,null,"2024-02-06",{"$f":"WEEKDAY(S139)","v":3},{"$f":"MONTH(S139)","v":2},{"$f":"YEAR(S139)","v":2024},{"$f":"T139&U139","v":"32"},{"$f":"IF(V139&W139=V138&W138,X138+1,1)","v":1},{"$f":"V139&U139&T139&X139","v":"2024231"},{"$f":"S139","v":"2024-02-06"}]
[null,null,null,null,null,null,null,null,null,null,null,null,null,null,null,null,null,null,"2024-02-13",{"$f":"WEEKDAY(S140)","v":3},{"$f":"MONTH(S140)","v":2},{"$f":"YEAR(S140)","v":2024},{"$f":"T140&U140","v":"32"},{"$f":"IF(V140&W140=V139&W139,X139+1,1)","v":2},{"$f":"V140&U140&T140&X140","v":"2024232"},{"$f":"S140","v":"2024-02-13"}]
[null,null,null,null,null,null,null,null,null,null,null,null,null,null,null,null,null,null,"2024-02-20",{"$f":"WEEKDAY(S141)","v":3},{"$f":"MONTH(S141)","v":2},{"$f":"YEAR(S141)","v":2024},{"$f":"T141&U141","v":"32"},{"$f":"IF(V141&W141=V140&W140,X140+1,1)","v":3},{"$f":"V141&U141&T141&X141","v":"2024233"},{"$f":"S141","v":"2024-02-20"}]
[null,null,null,null,null,null,null,null,null,null,null,null,null,null,null,null,null,null,"2024-02-27",{"$f":"WEEKDAY(S142)","v":3},{"$f":"MONTH(S142)","v":2},{"$f":"YEAR(S142)","v":2024},{"$f":"T142&U142","v":"32"},{"$f":"IF(V142&W142=V141&W141,X141+1,1)","v":4},{"$f":"V142&U142&T142&X142","v":"2024234"},{"$f":"S142","v":"2024-02-27"}]
[null,null,null,null,null,null,null,null,null,null,null,null,null,null,null,null,null,null,"2024-02-07",{"$f":"WEEKDAY(S143)","v":4},{"$f":"MONTH(S143)","v":2},{"$f":"YEAR(S143)","v":2024},{"$f":"T143&U143","v":"42"},{"$f":"IF(V143&W143=V142&W142,X142+1,1)","v":1},{"$f":"V143&U143&T143&X143","v":"2024241"},{"$f":"S143","v":"2024-02-07"}]
[null,null,null,null,null,null,null,null,null,null,null,null,null,null,null,null,null,null,"2024-02-14",{"$f":"WEEKDAY(S144)","v":4},{"$f":"MONTH(S144)","v":2},{"$f":"YEAR(S144)","v":2024},{"$f":"T144&U144","v":"42"},{"$f":"IF(V144&W144=V143&W143,X143+1,1)","v":2},{"$f":"V144&U144&T144&X144","v":"2024242"},{"$f":"S144","v":"2024-02-14"}]
[null,null,null,null,null,null,null,null,null,null,null,null,null,null,null,null,null,null,"2024-02-21",{"$f":"WEEKDAY(S145)","v":4},{"$f":"MONTH(S145)","v":2},{"$f":"YEAR(S145)","v":2024},{"$f":"T145&U145","v":"42"},{"$f":"IF(V145&W145=V144&W144,X144+1,1)","v":3},{"$f":"V145&U145&T145&X145","v":"2024243"},{"$f":"S145","v":"2024-02-21"}]
[null,null,null,null,null,null,null,null,null,null,null,null,null,null,null,null,null,null,"2024-02-28",{"$f":"WEEKDAY(S146)","v":4},{"$f":"MONTH(S146)","v":2},{"$f":"YEAR(S146)","v":2024},{"$f":"T146&U146","v":"42"},{"$f":"IF(V146&W146=V145&W145,X145+1,1)","v":4},{"$f":"V146&U146&T146&X146","v":"2024244"},{"$f":"S146","v":"2024-02-28"}]
[null,null,null,null,null,null,null,null,null,null,null,null,null,null,null,null,null,null,"2024-02-01",{"$f":"WEEKDAY(S147)","v":5},{"$f":"MONTH(S147)","v":2},{"$f":"YEAR(S147)","v":2024},{"$f":"T147&U147","v":"52"},{"$f":"IF(V147&W147=V146&W146,X146+1,1)","v":1},{"$f":"V147&U147&T147&X147","v":"2024251"},{"$f":"S147","v":"2024-02-01"}]
[null,null,null,null,null,null,null,null,null,null,null,null,null,null,null,null,null,null,"2024-02-08",{"$f":"WEEKDAY(S148)","v":5},{"$f":"MONTH(S148)","v":2},{"$f":"YEAR(S148)","v":2024},{"$f":"T148&U148","v":"52"},{"$f":"IF(V148&W148=V147&W147,X147+1,1)","v":2},{"$f":"V148&U148&T148&X148","v":"2024252"},{"$f":"S148","v":"2024-02-08"}]
[null,null,null,null,null,null,null,null,null,null,null,null,null,null,null,null,null,null,"2024-02-15",{"$f":"WEEKDAY(S149)","v":5},{"$f":"MONTH(S149)","v":2},{"$f":"YEAR(S149)","v":2024},{"$f":"T149&U149","v":"52"},{"$f":"IF(V149&W149=V148&W148,X148+1,1)","v":3},{"$f":"V149&U149&T149&X149","v":"2024253"},{"$f":"S149","v":"2024-02-15"}]
[null,null,null,null,null,null,null,null,null,null,null,null,null,null,null,null,null,null,"2024-02-22",{"$f":"WEEKDAY(S150)","v":5},{"$f":"MONTH(S150)","v":2},{"$f":"YEAR(S150)","v":2024},{"$f":"T150&U150","v":"52"},{"$f":"IF(V150&W150=V149&W149,X149+1,1)","v":4},{"$f":"V150&U150&T150&X150","v":"2024254"},{"$f":"S150","v":"2024-02-22"}]
[null,null,null,null,null,null,null,null,null,null,null,null,null,null,null,null,null,null,"2024-02-29",{"$f":"WEEKDAY(S151)","v":5},{"$f":"MONTH(S151)","v":2},{"$f":"YEAR(S151)","v":2024},{"$f":"T151&U151","v":"52"},{"$f":"IF(V151&W151=V150&W150,X150+1,1)","v":5},{"$f":"V151&U151&T151&X151","v":"2024255"},{"$f":"S151","v":"2024-02-29"}]
[null,null,null,null,null,null,null,null,null,null,null,null,null,null,null,null,null,null,"2024-02-02",{"$f":"WEEKDAY(S152)","v":6},{"$f":"MONTH(S152)","v":2},{"$f":"YEAR(S152)","v":2024},{"$f":"T152&U152","v":"62"},{"$f":"IF(V152&W152=V151&W151,X151+1,1)","v":1},{"$f":"V152&U152&T152&X152","v":"2024261"},{"$f":"S152","v":"2024-02-02"}]
[null,null,null,null,null,null,null,null,null,null,null,null,null,null,null,null,null,null,"2024-02-09",{"$f":"WEEKDAY(S153)","v":6},{"$f":"MONTH(S153)","v":2},{"$f":"YEAR(S153)","v":2024},{"$f":"T153&U153","v":"62"},{"$f":"IF(V153&W153=V152&W152,X152+1,1)","v":2},{"$f":"V153&U153&T153&X153","v":"2024262"},{"$f":"S153","v":"2024-02-09"}]
[null,null,null,null,null,null,null,null,null,null,null,null,null,null,null,null,null,null,"2024-02-16",{"$f":"WEEKDAY(S154)","v":6},{"$f":"MONTH(S154)","v":2},{"$f":"YEAR(S154)","v":2024},{"$f":"T154&U154","v":"62"},{"$f":"IF(V154&W154=V153&W153,X153+1,1)","v":3},{"$f":"V154&U154&T154&X154","v":"2024263"},{"$f":"S154","v":"2024-02-16"}]
[null,null,null,null,null,null,null,null,null,null,null,null,null,null,null,null,null,null,"2024-02-23",{"$f":"WEEKDAY(S155)","v":6},{"$f":"MONTH(S155)","v":2},{"$f":"YEAR(S155)","v":2024},{"$f":"T155&U155","v":"62"},{"$f":"IF(V155&W155=V154&W154,X154+1,1)","v":4},{"$f":"V155&U155&T155&X155","v":"2024264"},{"$f":"S155","v":"2024-02-23"}]
[null,null,null,null,null,null,null,null,null,null,null,null,null,null,null,null,null,null,"2024-02-03",{"$f":"WEEKDAY(S156)","v":7},{"$f":"MONTH(S156)","v":2},{"$f":"YEAR(S156)","v":2024},{"$f":"T156&U156","v":"72"},{"$f":"IF(V156&W156=V155&W155,X155+1,1)","v":1},{"$f":"V156&U156&T156&X156","v":"2024271"},{"$f":"S156","v":"2024-02-03"}]
[null,null,null,null,null,null,null,null,null,null,null,null,null,null,null,null,null,null,"2024-02-10",{"$f":"WEEKDAY(S157)","v":7},{"$f":"MONTH(S157)","v":2},{"$f":"YEAR(S157)","v":2024},{"$f":"T157&U157","v":"72"},{"$f":"IF(V157&W157=V156&W156,X156+1,1)","v":2},{"$f":"V157&U157&T157&X157","v":"2024272"},{"$f":"S157","v":"2024-02-10"}]
[null,null,null,null,null,null,null,null,null,null,null,null,null,null,null,null,null,null,"2024-02-17",{"$f":"WEEKDAY(S158)","v":7},{"$f":"MONTH(S158)","v":2},{"$f":"YEAR(S158)","v":2024},{"$f":"T158&U158","v":"72"},{"$f":"IF(V158&W158=V157&W157,X157+1,1)","v":3},{"$f":"V158&U158&T158&X158","v":"2024273"},{"$f":"S158","v":"2024-02-17"}]
[null,null,null,null,null,null,null,null,null,null,null,null,null,null,null,null,null,null,"2024-02-24",{"$f":"WEEKDAY(S159)","v":7},{"$f":"MONTH(S159)","v":2},{"$f":"YEAR(S159)","v":2024},{"$f":"T159&U159","v":"72"},{"$f":"IF(V159&W159=V158&W158,X158+1,1)","v":4},{"$f":"V159&U159&T159&X159","v":"2024274"},{"$f":"S159","v":"2024-02-24"}]
[null,null,null,null,null,null,null,null,null,null,null,null,null,null,null,null,null,null,"2024-03-03",{"$f":"WEEKDAY(S160)","v":1},{"$f":"MONTH(S160)","v":3},{"$f":"YEAR(S160)","v":2024},{"$f":"T160&U160","v":"13"},{"$f":"IF(V160&W160=V159&W159,X159+1,1)","v":1},{"$f":"V160&U160&T160&X160","v":"2024311"},{"$f":"S160","v":"2024-03-03"}]
[null,null,null,null,null,null,null,null,null,null,null,null,null,null,null,null,null,null,"2024-03-10",{"$f":"WEEKDAY(S161)","v":1},{"$f":"MONTH(S161)","v":3},{"$f":"YEAR(S161)","v":2024},{"$f":"T161&U161","v":"13"},{"$f":"IF(V161&W161=V160&W160,X160+1,1)","v":2},{"$f":"V161&U161&T161&X161","v":"2024312"},{"$f":"S161","v":"2024-03-10"}]
[null,null,null,null,null,null,null,null,null,null,null,null,null,null,null,null,null,null,"2024-03-17",{"$f":"WEEKDAY(S162)","v":1},{"$f":"MONTH(S162)","v":3},{"$f":"YEAR(S162)","v":2024},{"$f":"T162&U162","v":"13"},{"$f":"IF(V162&W162=V161&W161,X161+1,1)","v":3},{"$f":"V162&U162&T162&X162","v":"2024313"},{"$f":"S162","v":"2024-03-17"}]
[null,null,null,null,null,null,null,null,null,null,null,null,null,null,null,null,null,null,"2024-03-24",{"$f":"WEEKDAY(S163)","v":1},{"$f":"MONTH(S163)","v":3},{"$f":"YEAR(S163)","v":2024},{"$f":"T163&U163","v":"13"},{"$f":"IF(V163&W163=V162&W162,X162+1,1)","v":4},{"$f":"V163&U163&T163&X163","v":"2024314"},{"$f":"S163","v":"2024-03-24"}]
[null,null,null,null,null,null,null,null,null,null,null,null,null,null,null,null,null,null,"2024-03-31",{"$f":"WEEKDAY(S164)","v":1},{"$f":"MONTH(S164)","v":3},{"$f":"YEAR(S164)","v":2024},{"$f":"T164&U164","v":"13"},{"$f":"IF(V164&W164=V163&W163,X163+1,1)","v":5},{"$f":"V164&U164&T164&X164","v":"2024315"},{"$f":"S164","v":"2024-03-31"}]
[null,null,null,null,null,null,null,null,null,null,null,null,null,null,null,null,null,null,"2024-03-04",{"$f":"WEEKDAY(S165)","v":2},{"$f":"MONTH(S165)","v":3},{"$f":"YEAR(S165)","v":2024},{"$f":"T165&U165","v":"23"},{"$f":"IF(V165&W165=V164&W164,X164+1,1)","v":1},{"$f":"V165&U165&T165&X165","v":"2024321"},{"$f":"S165","v":"2024-03-04"}]
[null,null,null,null,null,null,null,null,null,null,null,null,null,null,null,null,null,null,"2024-03-11",{"$f":"WEEKDAY(S166)","v":2},{"$f":"MONTH(S166)","v":3},{"$f":"YEAR(S166)","v":2024},{"$f":"T166&U166","v":"23"},{"$f":"IF(V166&W166=V165&W165,X165+1,1)","v":2},{"$f":"V166&U166&T166&X166","v":"2024322"},{"$f":"S166","v":"2024-03-11"}]
[null,null,null,null,null,null,null,null,null,null,null,null,null,null,null,null,null,null,"2024-03-18",{"$f":"WEEKDAY(S167)","v":2},{"$f":"MONTH(S167)","v":3},{"$f":"YEAR(S167)","v":2024},{"$f":"T167&U167","v":"23"},{"$f":"IF(V167&W167=V166&W166,X166+1,1)","v":3},{"$f":"V167&U167&T167&X167","v":"2024323"},{"$f":"S167","v":"2024-03-18"}]
[null,null,null,null,null,null,null,null,null,null,null,null,null,null,null,null,null,null,"2024-03-25",{"$f":"WEEKDAY(S168)","v":2},{"$f":"MONTH(S168)","v":3},{"$f":"YEAR(S168)","v":2024},{"$f":"T168&U168","v":"23"},{"$f":"IF(V168&W168=V167&W167,X167+1,1)","v":4},{"$f":"V168&U168&T168&X168","v":"2024324"},{"$f":"S168","v":"2024-03-25"}]
[null,null,null,null,null,null,null,null,null,null,null,null,null,null,null,null,null,null,"2024-03-05",{"$f":"WEEKDAY(S169)","v":3},{"$f":"MONTH(S169)","v":3},{"$f":"YEAR(S169)","v":2024},{"$f":"T169&U169","v":"33"},{"$f":"IF(V169&W169=V168&W168,X168+1,1)","v":1},{"$f":"V169&U169&T169&X169","v":"2024331"},{"$f":"S169","v":"2024-03-05"}]
[null,null,null,null,null,null,null,null,null,null,null,null,null,null,null,null,null,null,"2024-03-12",{"$f":"WEEKDAY(S170)","v":3},{"$f":"MONTH(S170)","v":3},{"$f":"YEAR(S170)","v":2024},{"$f":"T170&U170","v":"33"},{"$f":"IF(V170&W170=V169&W169,X169+1,1)","v":2},{"$f":"V170&U170&T170&X170","v":"2024332"},{"$f":"S170","v":"2024-03-12"}]
[null,null,null,null,null,null,null,null,null,null,null,null,null,null,null,null,null,null,"2024-03-19",{"$f":"WEEKDAY(S171)","v":3},{"$f":"MONTH(S171)","v":3},{"$f":"YEAR(S171)","v":2024},{"$f":"T171&U171","v":"33"},{"$f":"IF(V171&W171=V170&W170,X170+1,1)","v":3},{"$f":"V171&U171&T171&X171","v":"2024333"},{"$f":"S171","v":"2024-03-19"}]
[null,null,null,null,null,null,null,null,null,null,null,null,null,null,null,null,null,null,"2024-03-26",{"$f":"WEEKDAY(S172)","v":3},{"$f":"MONTH(S172)","v":3},{"$f":"YEAR(S172)","v":2024},{"$f":"T172&U172","v":"33"},{"$f":"IF(V172&W172=V171&W171,X171+1,1)","v":4},{"$f":"V172&U172&T172&X172","v":"2024334"},{"$f":"S172","v":"2024-03-26"}]
[null,null,null,null,null,null,null,null,null,null,null,null,null,null,null,null,null,null,"2024-03-06",{"$f":"WEEKDAY(S173)","v":4},{"$f":"MONTH(S173)","v":3},{"$f":"YEAR(S173)","v":2024},{"$f":"T173&U173","v":"43"},{"$f":"IF(V173&W173=V172&W172,X172+1,1)","v":1},{"$f":"V173&U173&T173&X173","v":"2024341"},{"$f":"S173","v":"2024-03-06"}]
[null,null,null,null,null,null,null,null,null,null,null,null,null,null,null,null,null,null,"2024-03-13",{"$f":"WEEKDAY(S174)","v":4},{"$f":"MONTH(S174)","v":3},{"$f":"YEAR(S174)","v":2024},{"$f":"T174&U174","v":"43"},{"$f":"IF(V174&W174=V173&W173,X173+1,1)","v":2},{"$f":"V174&U174&T174&X174","v":"2024342"},{"$f":"S174","v":"2024-03-13"}]
[null,null,null,null,null,null,null,null,null,null,null,null,null,null,null,null,null,null,"2024-03-20",{"$f":"WEEKDAY(S175)","v":4},{"$f":"MONTH(S175)","v":3},{"$f":"YEAR(S175)","v":2024},{"$f":"T175&U175","v":"43"},{"$f":"IF(V175&W175=V174&W174,X174+1,1)","v":3},{"$f":"V175&U175&T175&X175","v":"2024343"},{"$f":"S175","v":"2024-03-20"}]
[null,null,null,null,null,null,null,null,null,null,null,null,null,null,null,null,null,null,"2024-03-27",{"$f":"WEEKDAY(S176)","v":4},{"$f":"MONTH(S176)","v":3},{"$f":"YEAR(S176)","v":2024},{"$f":"T176&U176","v":"43"},{"$f":"IF(V176&W176=V175&W175,X175+1,1)","v":4},{"$f":"V176&U176&T176&X176","v":"2024344"},{"$f":"S176","v":"2024-03-27"}]
[null,null,null,null,null,null,null,null,null,null,null,null,null,null,null,null,null,null,"2024-03-07",{"$f":"WEEKDAY(S177)","v":5},{"$f":"MONTH(S177)","v":3},{"$f":"YEAR(S177)","v":2024},{"$f":"T177&U177","v":"53"},{"$f":"IF(V177&W177=V176&W176,X176+1,1)","v":1},{"$f":"V177&U177&T177&X177","v":"2024351"},{"$f":"S177","v":"2024-03-07"}]
[null,null,null,null,null,null,null,null,null,null,null,null,null,null,null,null,null,null,"2024-03-14",{"$f":"WEEKDAY(S178)","v":5},{"$f":"MONTH(S178)","v":3},{"$f":"YEAR(S178)","v":2024},{"$f":"T178&U178","v":"53"},{"$f":"IF(V178&W178=V177&W177,X177+1,1)","v":2},{"$f":"V178&U178&T178&X178","v":"2024352"},{"$f":"S178","v":"2024-03-14"}]
[null,null,null,null,null,null,null,null,null,null,null,null,null,null,null,null,null,null,"2024-03-21",{"$f":"WEEKDAY(S179)","v":5},{"$f":"MONTH(S179)","v":3},{"$f":"YEAR(S179)","v":2024},{"$f":"T179&U179","v":"53"},{"$f":"IF(V179&W179=V178&W178,X178+1,1)","v":3},{"$f":"V179&U179&T179&X179","v":"2024353"},{"$f":"S179","v":"2024-03-21"}]
[null,null,null,null,null,null,null,null,null,null,null,null,null,null,null,null,null,null,"2024-03-28",{"$f":"WEEKDAY(S180)","v":5},{"$f":"MONTH(S180)","v":3},{"$f":"YEAR(S180)","v":2024},{"$f":"T180&U180","v":"53"},{"$f":"IF(V180&W180=V179&W179,X179+1,1)","v":4},{"$f":"V180&U180&T180&X180","v":"2024354"},{"$f":"S180","v":"2024-03-28"}]
[null,null,null,null,null,null,null,null,null,null,null,null,null,null,null,null,null,null,"2024-03-01",{"$f":"WEEKDAY(S181)","v":6},{"$f":"MONTH(S181)","v":3},{"$f":"YEAR(S181)","v":2024},{"$f":"T181&U181","v":"63"},{"$f":"IF(V181&W181=V180&W180,X180+1,1)","v":1},{"$f":"V181&U181&T181&X181","v":"2024361"},{"$f":"S181","v":"2024-03-01"}]
[null,null,null,null,null,null,null,null,null,null,null,null,null,null,null,null,null,null,"2024-03-08",{"$f":"WEEKDAY(S182)","v":6},{"$f":"MONTH(S182)","v":3},{"$f":"YEAR(S182)","v":2024},{"$f":"T182&U182","v":"63"},{"$f":"IF(V182&W182=V181&W181,X181+1,1)","v":2},{"$f":"V182&U182&T182&X182","v":"2024362"},{"$f":"S182","v":"2024-03-08"}]
[null,null,null,null,null,null,null,null,null,null,null,null,null,null,null,null,null,null,"2024-03-15",{"$f":"WEEKDAY(S183)","v":6},{"$f":"MONTH(S183)","v":3},{"$f":"YEAR(S183)","v":2024},{"$f":"T183&U183","v":"63"},{"$f":"IF(V183&W183=V182&W182,X182+1,1)","v":3},{"$f":"V183&U183&T183&X183","v":"2024363"},{"$f":"S183","v":"2024-03-15"}]
[null,null,null,null,null,null,null,null,null,null,null,null,null,null,null,null,null,null,"2024-03-22",{"$f":"WEEKDAY(S184)","v":6},{"$f":"MONTH(S184)","v":3},{"$f":"YEAR(S184)","v":2024},{"$f":"T184&U184","v":"63"},{"$f":"IF(V184&W184=V183&W183,X183+1,1)","v":4},{"$f":"V184&U184&T184&X184","v":"2024364"},{"$f":"S184","v":"2024-03-22"}]
[null,null,null,null,null,null,null,null,null,null,null,null,null,null,null,null,null,null,"2024-03-29",{"$f":"WEEKDAY(S185)","v":6},{"$f":"MONTH(S185)","v":3},{"$f":"YEAR(S185)","v":2024},{"$f":"T185&U185","v":"63"},{"$f":"IF(V185&W185=V184&W184,X184+1,1)","v":5},{"$f":"V185&U185&T185&X185","v":"2024365"},{"$f":"S185","v":"2024-03-29"}]
[null,null,null,null,null,null,null,null,null,null,null,null,null,null,null,null,null,null,"2024-03-02",{"$f":"WEEKDAY(S186)","v":7},{"$f":"MONTH(S186)","v":3},{"$f":"YEAR(S186)","v":2024},{"$f":"T186&U186","v":"73"},{"$f":"IF(V186&W186=V185&W185,X185+1,1)","v":1},{"$f":"V186&U186&T186&X186","v":"2024371"},{"$f":"S186","v":"2024-03-02"}]
[null,null,null,null,null,null,null,null,null,null,null,null,null,null,null,null,null,null,"2024-03-09",{"$f":"WEEKDAY(S187)","v":7},{"$f":"MONTH(S187)","v":3},{"$f":"YEAR(S187)","v":2024},{"$f":"T187&U187","v":"73"},{"$f":"IF(V187&W187=V186&W186,X186+1,1)","v":2},{"$f":"V187&U187&T187&X187","v":"2024372"},{"$f":"S187","v":"2024-03-09"}]
[null,null,null,null,null,null,null,null,null,null,null,null,null,null,null,null,null,null,"2024-03-16",{"$f":"WEEKDAY(S188)","v":7},{"$f":"MONTH(S188)","v":3},{"$f":"YEAR(S188)","v":2024},{"$f":"T188&U188","v":"73"},{"$f":"IF(V188&W188=V187&W187,X187+1,1)","v":3},{"$f":"V188&U188&T188&X188","v":"2024373"},{"$f":"S188","v":"2024-03-16"}]
[null,null,null,null,null,null,null,null,null,null,null,null,null,null,null,null,null,null,"2024-03-23",{"$f":"WEEKDAY(S189)","v":7},{"$f":"MONTH(S189)","v":3},{"$f":"YEAR(S189)","v":2024},{"$f":"T189&U189","v":"73"},{"$f":"IF(V189&W189=V188&W188,X188+1,1)","v":4},{"$f":"V189&U189&T189&X189","v":"2024374"},{"$f":"S189","v":"2024-03-23"}]
[null,null,null,null,null,null,null,null,null,null,null,null,null,null,null,null,null,null,"2024-03-30",{"$f":"WEEKDAY(S190)","v":7},{"$f":"MONTH(S190)","v":3},{"$f":"YEAR(S190)","v":2024},{"$f":"T190&U190","v":"73"},{"$f":"IF(V190&W190=V189&W189,X189+1,1)","v":5},{"$f":"V190&U190&T190&X190","v":"2024375"},{"$f":"S190","v":"2024-03-30"}]
[null,null,null,null,null,null,null,null,null,null,null,null,null,null,null,null,null,null,"2024-04-07",{"$f":"WEEKDAY(S191)","v":1},{"$f":"MONTH(S191)","v":4},{"$f":"YEAR(S191)","v":2024},{"$f":"T191&U191","v":"14"},{"$f":"IF(V191&W191=V190&W190,X190+1,1)","v":1},{"$f":"V191&U191&T191&X191","v":"2024411"},{"$f":"S191","v":"2024-04-07"}]
[null,null,null,null,null,null,null,null,null,null,null,null,null,null,null,null,null,null,"2024-04-14",{"$f":"WEEKDAY(S192)","v":1},{"$f":"MONTH(S192)","v":4},{"$f":"YEAR(S192)","v":2024},{"$f":"T192&U192","v":"14"},{"$f":"IF(V192&W192=V191&W191,X191+1,1)","v":2},{"$f":"V192&U192&T192&X192","v":"2024412"},{"$f":"S192","v":"2024-04-14"}]
[null,null,null,null,null,null,null,null,null,null,null,null,null,null,null,null,null,null,"2024-04-21",{"$f":"WEEKDAY(S193)","v":1},{"$f":"MONTH(S193)","v":4},{"$f":"YEAR(S193)","v":2024},{"$f":"T193&U193","v":"14"},{"$f":"IF(V193&W193=V192&W192,X192+1,1)","v":3},{"$f":"V193&U193&T193&X193","v":"2024413"},{"$f":"S193","v":"2024-04-21"}]
[null,null,null,null,null,null,null,null,null,null,null,null,null,null,null,null,null,null,"2024-04-28",{"$f":"WEEKDAY(S194)","v":1},{"$f":"MONTH(S194)","v":4},{"$f":"YEAR(S194)","v":2024},{"$f":"T194&U194","v":"14"},{"$f":"IF(V194&W194=V193&W193,X193+1,1)","v":4},{"$f":"V194&U194&T194&X194","v":"2024414"},{"$f":"S194","v":"2024-04-28"}]
[null,null,null,null,null,null,null,null,null,null,null,null,null,null,null,null,null,null,"2024-04-01",{"$f":"WEEKDAY(S195)","v":2},{"$f":"MONTH(S195)","v":4},{"$f":"YEAR(S195)","v":2024},{"$f":"T195&U195","v":"24"},{"$f":"IF(V195&W195=V194&W194,X194+1,1)","v":1},{"$f":"V195&U195&T195&X195","v":"2024421"},{"$f":"S195","v":"2024-04-01"}]
[null,null,null,null,null,null,null,null,null,null,null,null,null,null,null,null,null,null,"2024-04-08",{"$f":"WEEKDAY(S196)","v":2},{"$f":"MONTH(S196)","v":4},{"$f":"YEAR(S196)","v":2024},{"$f":"T196&U196","v":"24"},{"$f":"IF(V196&W196=V195&W195,X195+1,1)","v":2},{"$f":"V196&U196&T196&X196","v":"2024422"},{"$f":"S196","v":"2024-04-08"}]
[null,null,null,null,null,null,null,null,null,null,null,null,null,null,null,null,null,null,"2024-04-15",{"$f":"WEEKDAY(S197)","v":2},{"$f":"MONTH(S197)","v":4},{"$f":"YEAR(S197)","v":2024},{"$f":"T197&U197","v":"24"},{"$f":"IF(V197&W197=V196&W196,X196+1,1)","v":3},{"$f":"V197&U197&T197&X197","v":"2024423"},{"$f":"S197","v":"2024-04-15"}]
[null,null,null,null,null,null,null,null,null,null,null,null,null,null,null,null,null,null,"2024-04-22",{"$f":"WEEKDAY(S198)","v":2},{"$f":"MONTH(S198)","v":4},{"$f":"YEAR(S198)","v":2024},{"$f":"T198&U198","v":"24"},{"$f":"IF(V198&W198=V197&W197,X197+1,1)","v":4},{"$f":"V198&U198&T198&X198","v":"2024424"},{"$f":"S198","v":"2024-04-22"}]
[null,null,null,null,null,null,null,null,null,null,null,null,null,null,null,null,null,null,"2024-04-29",{"$f":"WEEKDAY(S199)","v":2},{"$f":"MONTH(S199)","v":4},{"$f":"YEAR(S199)","v":2024},{"$f":"T199&U199","v":"24"},{"$f":"IF(V199&W199=V198&W198,X198+1,1)","v":5},{"$f":"V199&U199&T199&X199","v":"2024425"},{"$f":"S199","v":"2024-04-29"}]
[null,null,null,null,null,null,null,null,null,null,null,null,null,null,null,null,null,null,"2024-04-02",{"$f":"WEEKDAY(S200)","v":3},{"$f":"MONTH(S200)","v":4},{"$f":"YEAR(S200)","v":2024},{"$f":"T200&U200","v":"34"},{"$f":"IF(V200&W200=V199&W199,X199+1,1)","v":1},{"$f":"V200&U200&T200&X200","v":"2024431"},{"$f":"S200","v":"2024-04-02"}]
[null,null,null,null,null,null,null,null,null,null,null,null,null,null,null,null,null,null,"2024-04-09",{"$f":"WEEKDAY(S201)","v":3},{"$f":"MONTH(S201)","v":4},{"$f":"YEAR(S201)","v":2024},{"$f":"T201&U201","v":"34"},{"$f":"IF(V201&W201=V200&W200,X200+1,1)","v":2},{"$f":"V201&U201&T201&X201","v":"2024432"},{"$f":"S201","v":"2024-04-09"}]
[null,null,null,null,null,null,null,null,null,null,null,null,null,null,null,null,null,null,"2024-04-16",{"$f":"WEEKDAY(S202)","v":3},{"$f":"MONTH(S202)","v":4},{"$f":"YEAR(S202)","v":2024},{"$f":"T202&U202","v":"34"},{"$f":"IF(V202&W202=V201&W201,X201+1,1)","v":3},{"$f":"V202&U202&T202&X202","v":"2024433"},{"$f":"S202","v":"2024-04-16"}]
[null,null,null,null,null,null,null,null,null,null,null,null,null,null,null,null,null,null,"2024-04-23",{"$f":"WEEKDAY(S203)","v":3},{"$f":"MONTH(S203)","v":4},{"$f":"YEAR(S203)","v":2024},{"$f":"T203&U203","v":"34"},{"$f":"IF(V203&W203=V202&W202,X202+1,1)","v":4},{"$f":"V203&U203&T203&X203","v":"2024434"},{"$f":"S203","v":"2024-04-23"}]
[null,null,null,null,null,null,null,null,null,null,null,null,null,null,null,null,null,null,"2024-04-30",{"$f":"WEEKDAY(S204)","v":3},{"$f":"MONTH(S204)","v":4},{"$f":"YEAR(S204)","v":2024},{"$f":"T204&U204","v":"34"},{"$f":"IF(V204&W204=V203&W203,X203+1,1)","v":5},{"$f":"V204&U204&T204&X204","v":"2024435"},{"$f":"S204","v":"2024-04-30"}]
[null,null,null,null,null,null,null,null,null,null,null,null,null,null,null,null,null,null,"2024-04-03",{"$f":"WEEKDAY(S205)","v":4},{"$f":"MONTH(S205)","v":4},{"$f":"YEAR(S205)","v":2024},{"$f":"T205&U205","v":"44"},{"$f":"IF(V205&W205=V204&W204,X204+1,1)","v":1},{"$f":"V205&U205&T205&X205","v":"2024441"},{"$f":"S205","v":"2024-04-03"}]
[null,null,null,null,null,null,null,null,null,null,null,null,null,null,null,null,null,null,"2024-04-10",{"$f":"WEEKDAY(S206)","v":4},{"$f":"MONTH(S206)","v":4},{"$f":"YEAR(S206)","v":2024},{"$f":"T206&U206","v":"44"},{"$f":"IF(V206&W206=V205&W205,X205+1,1)","v":2},{"$f":"V206&U206&T206&X206","v":"2024442"},{"$f":"S206","v":"2024-04-10"}]
[null,null,null,null,null,null,null,null,null,null,null,null,null,null,null,null,null,null,"2024-04-17",{"$f":"WEEKDAY(S207)","v":4},{"$f":"MONTH(S207)","v":4},{"$f":"YEAR(S207)","v":2024},{"$f":"T207&U207","v":"44"},{"$f":"IF(V207&W207=V206&W206,X206+1,1)","v":3},{"$f":"V207&U207&T207&X207","v":"2024443"},{"$f":"S207","v":"2024-04-17"}]
[null,null,null,null,null,null,null,null,null,null,null,null,null,null,null,null,null,null,"2024-04-24",{"$f":"WEEKDAY(S208)","v":4},{"$f":"MONTH(S208)","v":4},{"$f":"YEAR(S208)","v":2024},{"$f":"T208&U208","v":"44"},{"$f":"IF(V208&W208=V207&W207,X207+1,1)","v":4},{"$f":"V208&U208&T208&X208","v":"2024444"},{"$f":"S208","v":"2024-04-24"}]
[null,null,null,null,null,null,null,null,null,null,null,null,null,null,null,null,null,null,"2024-04-04",{"$f":"WEEKDAY(S209)","v":5},{"$f":"MONTH(S209)","v":4},{"$f":"YEAR(S209)","v":2024},{"$f":"T209&U209","v":"54"},{"$f":"IF(V209&W209=V208&W208,X208+1,1)","v":1},{"$f":"V209&U209&T209&X209","v":"2024451"},{"$f":"S209","v":"2024-04-04"}]
[null,null,null,null,null,null,null,null,null,null,null,null,null,null,null,null,null,null,"2024-04-11",{"$f":"WEEKDAY(S210)","v":5},{"$f":"MONTH(S210)","v":4},{"$f":"YEAR(S210)","v":2024},{"$f":"T210&U210","v":"54"},{"$f":"IF(V210&W210=V209&W209,X209+1,1)","v":2},{"$f":"V210&U210&T210&X210","v":"2024452"},{"$f":"S210","v":"2024-04-11"}]
[null,null,null,null,null,null,null,null,null,null,null,null,null,null,null,null,null,null,"2024-04-18",{"$f":"WEEKDAY(S211)","v":5},{"$f":"MONTH(S211)","v":4},{"$f":"YEAR(S211)","v":2024},{"$f":"T211&U211","v":"54"},{"$f":"IF(V211&W211=V210&W210,X210+1,1)","v":3},{"$f":"V211&U211&T211&X211","v":"2024453"},{"$f":"S211","v":"2024-04-18"}]
[null,null,null,null,null,null,null,null,null,null,null,null,null,null,null,null,null,null,"2024-04-25",{"$f":"WEEKDAY(S212)","v":5},{"$f":"MONTH(S212)","v":4},{"$f":"YEAR(S212)","v":2024},{"$f":"T212&U212","v":"54"},{"$f":"IF(V212&W212=V211&W211,X211+1,1)","v":4},{"$f":"V212&U212&T212&X212","v":"2024454"},{"$f":"S212","v":"2024-04-25"}]
[null,null,null,null,null,null,null,null,null,null,null,null,null,null,null,null,null,null,"2024-04-05",{"$f":"WEEKDAY(S213)","v":6},{"$f":"MONTH(S213)","v":4},{"$f":"YEAR(S213)","v":2024},{"$f":"T213&U213","v":"64"},{"$f":"IF(V213&W213=V212&W212,X212+1,1)","v":1},{"$f":"V213&U213&T213&X213","v":"2024461"},{"$f":"S213","v":"2024-04-05"}]
[null,null,null,null,null,null,null,null,null,null,null,null,null,null,null,null,null,null,"2024-04-12",{"$f":"WEEKDAY(S214)","v":6},{"$f":"MONTH(S214)","v":4},{"$f":"YEAR(S214)","v":2024},{"$f":"T214&U214","v":"64"},{"$f":"IF(V214&W214=V213&W213,X213+1,1)","v":2},{"$f":"V214&U214&T214&X214","v":"2024462"},{"$f":"S214","v":"2024-04-12"}]
[null,null,null,null,null,null,null,null,null,null,null,null,null,null,null,null,null,null,"2024-04-19",{"$f":"WEEKDAY(S215)","v":6},{"$f":"MONTH(S215)","v":4},{"$f":"YEAR(S215)","v":2024},{"$f":"T215&U215","v":"64"},{"$f":"IF(V215&W215=V214&W214,X214+1,1)","v":3},{"$f":"V215&U215&T215&X215","v":"2024463"},{"$f":"S215","v":"2024-04-19"}]
[null,null,null,null,null,null,null,null,null,null,null,null,null,null,null,null,null,null,"2024-04-26",{"$f":"WEEKDAY(S216)","v":6},{"$f":"MONTH(S216)","v":4},{"$f":"YEAR(S216)","v":2024},{"$f":"T216&U216","v":"64"},{"$f":"IF(V216&W216=V215&W215,X215+1,1)","v":4},{"$f":"V216&U216&T216&X216","v":"2024464"},{"$f":"S216","v":"2024-04-26"}]
[null,null,null,null,null,null,null,null,null,null,null,null,null,null,null,null,null,null,"2024-04-06",{"$f":"WEEKDAY(S217)","v":7},{"$f":"MONTH(S217)","v":4},{"$f":"YEAR(S217)","v":2024},{"$f":"T217&U217","v":"74"},{"$f":"IF(V217&W217=V216&W216,X216+1,1)","v":1},{"$f":"V217&U217&T217&X217","v":"2024471"},{"$f":"S217","v":"2024-04-06"}]
[null,null,null,null,null,null,null,null,null,null,null,null,null,null,null,null,null,null,"2024-04-13",{"$f":"WEEKDAY(S218)","v":7},{"$f":"MONTH(S218)","v":4},{"$f":"YEAR(S218)","v":2024},{"$f":"T218&U218","v":"74"},{"$f":"IF(V218&W218=V217&W217,X217+1,1)","v":2},{"$f":"V218&U218&T218&X218","v":"2024472"},{"$f":"S218","v":"2024-04-13"}]
[null,null,null,null,null,null,null,null,null,null,null,null,null,null,null,null,null,null,"2024-04-20",{"$f":"WEEKDAY(S219)","v":7},{"$f":"MONTH(S219)","v":4},{"$f":"YEAR(S219)","v":2024},{"$f":"T219&U219","v":"74"},{"$f":"IF(V219&W219=V218&W218,X218+1,1)","v":3},{"$f":"V219&U219&T219&X219","v":"2024473"},{"$f":"S219","v":"2024-04-20"}]
[null,null,null,null,null,null,null,null,null,null,null,null,null,null,null,null,null,null,"2024-04-27",{"$f":"WEEKDAY(S220)","v":7},{"$f":"MONTH(S220)","v":4},{"$f":"YEAR(S220)","v":2024},{"$f":"T220&U220","v":"74"},{"$f":"IF(V220&W220=V219&W219,X219+1,1)","v":4},{"$f":"V220&U220&T220&X220","v":"2024474"},{"$f":"S220","v":"2024-04-27"}]
[null,null,null,null,null,null,null,null,null,null,null,null,null,null,null,null,null,null,"2024-05-05",{"$f":"WEEKDAY(S221)","v":1},{"$f":"MONTH(S221)","v":5},{"$f":"YEAR(S221)","v":2024},{"$f":"T221&U221","v":"15"},{"$f":"IF(V221&W221=V220&W220,X220+1,1)","v":1},{"$f":"V221&U221&T221&X221","v":"2024511"},{"$f":"S221","v":"2024-05-05"}]
[null,null,null,null,null,null,null,null,null,null,null,null,null,null,null,null,null,null,"2024-05-12",{"$f":"WEEKDAY(S222)","v":1},{"$f":"MONTH(S222)","v":5},{"$f":"YEAR(S222)","v":2024},{"$f":"T222&U222","v":"15"},{"$f":"IF(V222&W222=V221&W221,X221+1,1)","v":2},{"$f":"V222&U222&T222&X222","v":"2024512"},{"$f":"S222","v":"2024-05-12"}]
[null,null,null,null,null,null,null,null,null,null,null,null,null,null,null,null,null,null,"2024-05-19",{"$f":"WEEKDAY(S223)","v":1},{"$f":"MONTH(S223)","v":5},{"$f":"YEAR(S223)","v":2024},{"$f":"T223&U223","v":"15"},{"$f":"IF(V223&W223=V222&W222,X222+1,1)","v":3},{"$f":"V223&U223&T223&X223","v":"2024513"},{"$f":"S223","v":"2024-05-19"}]
[null,null,null,null,null,null,null,null,null,null,null,null,null,null,null,null,null,null,"2024-05-26",{"$f":"WEEKDAY(S224)","v":1},{"$f":"MONTH(S224)","v":5},{"$f":"YEAR(S224)","v":2024},{"$f":"T224&U224","v":"15"},{"$f":"IF(V224&W224=V223&W223,X223+1,1)","v":4},{"$f":"V224&U224&T224&X224","v":"2024514"},{"$f":"S224","v":"2024-05-26"}]
[null,null,null,null,null,null,null,null,null,null,null,null,null,null,null,null,null,null,"2024-05-06",{"$f":"WEEKDAY(S225)","v":2},{"$f":"MONTH(S225)","v":5},{"$f":"YEAR(S225)","v":2024},{"$f":"T225&U225","v":"25"},{"$f":"IF(V225&W225=V224&W224,X224+1,1)","v":1},{"$f":"V225&U225&T225&X225","v":"2024521"},{"$f":"S225","v":"2024-05-06"}]
[null,null,null,null,null,null,null,null,null,null,null,null,null,null,null,null,null,null,"2024-05-13",{"$f":"WEEKDAY(S226)","v":2},{"$f":"MONTH(S226)","v":5},{"$f":"YEAR(S226)","v":2024},{"$f":"T226&U226","v":"25"},{"$f":"IF(V226&W226=V225&W225,X225+1,1)","v":2},{"$f":"V226&U226&T226&X226","v":"2024522"},{"$f":"S226","v":"2024-05-13"}]
[null,null,null,null,null,null,null,null,null,null,null,null,null,null,null,null,null,null,"2024-05-20",{"$f":"WEEKDAY(S227)","v":2},{"$f":"MONTH(S227)","v":5},{"$f":"YEAR(S227)","v":2024},{"$f":"T227&U227","v":"25"},{"$f":"IF(V227&W227=V226&W226,X226+1,1)","v":3},{"$f":"V227&U227&T227&X227","v":"2024523"},{"$f":"S227","v":"2024-05-20"}]
[null,null,null,null,null,null,null,null,null,null,null,null,null,null,null,null,null,null,"2024-05-27",{"$f":"WEEKDAY(S228)","v":2},{"$f":"MONTH(S228)","v":5},{"$f":"YEAR(S228)","v":2024},{"$f":"T228&U228","v":"25"},{"$f":"IF(V228&W228=V227&W227,X227+1,1)","v":4},{"$f":"V228&U228&T228&X228","v":"2024524"},{"$f":"S228","v":"2024-05-27"}]
[null,null,null,null,null,null,null,null,null,null,null,null,null,null,null,null,null,null,"2024-05-07",{"$f":"WEEKDAY(S229)","v":3},{"$f":"MONTH(S229)","v":5},{"$f":"YEAR(S229)","v":2024},{"$f":"T229&U229","v":"35"},{"$f":"IF(V229&W229=V228&W228,X228+1,1)","v":1},{"$f":"V229&U229&T229&X229","v":"2024531"},{"$f":"S229","v":"2024-05-07"}]
[null,null,null,null,null,null,null,null,null,null,null,null,null,null,null,null,null,null,"2024-05-14",{"$f":"WEEKDAY(S230)","v":3},{"$f":"MONTH(S230)","v":5},{"$f":"YEAR(S230)","v":2024},{"$f":"T230&U230","v":"35"},{"$f":"IF(V230&W230=V229&W229,X229+1,1)","v":2},{"$f":"V230&U230&T230&X230","v":"2024532"},{"$f":"S230","v":"2024-05-14"}]
[null,null,null,null,null,null,null,null,null,null,null,null,null,null,null,null,null,null,"2024-05-21",{"$f":"WEEKDAY(S231)","v":3},{"$f":"MONTH(S231)","v":5},{"$f":"YEAR(S231)","v":2024},{"$f":"T231&U231","v":"35"},{"$f":"IF(V231&W231=V230&W230,X230+1,1)","v":3},{"$f":"V231&U231&T231&X231","v":"2024533"},{"$f":"S231","v":"2024-05-21"}]
[null,null,null,null,null,null,null,null,null,null,null,null,null,null,null,null,null,null,"2024-05-28",{"$f":"WEEKDAY(S232)","v":3},{"$f":"MONTH(S232)","v":5},{"$f":"YEAR(S232)","v":2024},{"$f":"T232&U232","v":"35"},{"$f":"IF(V232&W232=V231&W231,X231+1,1)","v":4},{"$f":"V232&U232&T232&X232","v":"2024534"},{"$f":"S232","v":"2024-05-28"}]
[null,null,null,null,null,null,null,null,null,null,null,null,null,null,null,null,null,null,"2024-05-01",{"$f":"WEEKDAY(S233)","v":4},{"$f":"MONTH(S233)","v":5},{"$f":"YEAR(S233)","v":2024},{"$f":"T233&U233","v":"45"},{"$f":"IF(V233&W233=V232&W232,X232+1,1)","v":1},{"$f":"V233&U233&T233&X233","v":"2024541"},{"$f":"S233","v":"2024-05-01"}]
[null,null,null,null,null,null,null,null,null,null,null,null,null,null,null,null,null,null,"2024-05-08",{"$f":"WEEKDAY(S234)","v":4},{"$f":"MONTH(S234)","v":5},{"$f":"YEAR(S234)","v":2024},{"$f":"T234&U234","v":"45"},{"$f":"IF(V234&W234=V233&W233,X233+1,1)","v":2},{"$f":"V234&U234&T234&X234","v":"2024542"},{"$f":"S234","v":"2024-05-08"}]
[null,null,null,null,null,null,null,null,null,null,null,null,null,null,null,null,null,null,"2024-05-15",{"$f":"WEEKDAY(S235)","v":4},{"$f":"MONTH(S235)","v":5},{"$f":"YEAR(S235)","v":2024},{"$f":"T235&U235","v":"45"},{"$f":"IF(V235&W235=V234&W234,X234+1,1)","v":3},{"$f":"V235&U235&T235&X235","v":"2024543"},{"$f":"S235","v":"2024-05-15"}]
[null,null,null,null,null,null,null,null,null,null,null,null,null,null,null,null,null,null,"2024-05-22",{"$f":"WEEKDAY(S236)","v":4},{"$f":"MONTH(S236)","v":5},{"$f":"YEAR(S236)","v":2024},{"$f":"T236&U236","v":"45"},{"$f":"IF(V236&W236=V235&W235,X235+1,1)","v":4},{"$f":"V236&U236&T236&X236","v":"2024544"},{"$f":"S236","v":"2024-05-22"}]
[null,null,null,null,null,null,null,null,null,null,null,null,null,null,null,null,null,null,"2024-05-29",{"$f":"WEEKDAY(S237)","v":4},{"$f":"MONTH(S237)","v":5},{"$f":"YEAR(S237)","v":2024},{"$f":"T237&U237","v":"45"},{"$f":"IF(V237&W237=V236&W236,X236+1,1)","v":5},{"$f":"V237&U237&T237&X237","v":"2024545"},{"$f":"S237","v":"2024-05-29"}]
[null,null,null,null,null,null,null,null,null,null,null,null,null,null,null,null,null,null,"2024-05-02",{"$f":"WEEKDAY(S238)","v":5},{"$f":"MONTH(S238)","v":5},{"$f":"YEAR(S238)","v":2024},{"$f":"T238&U238","v":"55"},{"$f":"IF(V238&W238=V237&W237,X237+1,1)","v":1},{"$f":"V238&U238&T238&X238","v":"2024551"},{"$f":"S238","v":"2024-05-02"}]
[null,null,null,null,null,null,null,null,null,null,null,null,null,null,null,null,null,null,"2024-05-09",{"$f":"WEEKDAY(S239)","v":5},{"$f":"MONTH(S239)","v":5},{"$f":"YEAR(S239)","v":2024},{"$f":"T239&U239","v":"55"},{"$f":"IF(V239&W239=V238&W238,X238+1,1)","v":2},{"$f":"V239&U239&T239&X239","v":"2024552"},{"$f":"S239","v":"2024-05-09"}]
[null,null,null,null,null,null,null,null,null,null,null,null,null,null,null,null,null,null,"2024-05-16",{"$f":"WEEKDAY(S240)","v":5},{"$f":"MONTH(S240)","v":5},{"$f":"YEAR(S240)","v":2024},{"$f":"T240&U240","v":"55"},{"$f":"IF(V240&W240=V239&W239,X239+1,1)","v":3},{"$f":"V240&U240&T240&X240","v":"2024553"},{"$f":"S240","v":"2024-05-16"}]
[null,null,null,null,null,null,null,null,null,null,null,null,null,null,null,null,null,null,"2024-05-23",{"$f":"WEEKDAY(S241)","v":5},{"$f":"MONTH(S241)","v":5},{"$f":"YEAR(S241)","v":2024},{"$f":"T241&U241","v":"55"},{"$f":"IF(V241&W241=V240&W240,X240+1,1)","v":4},{"$f":"V241&U241&T241&X241","v":"2024554"},{"$f":"S241","v":"2024-05-23"}]
[null,null,null,null,null,null,null,null,null,null,null,null,null,null,null,null,null,null,"2024-05-30",{"$f":"WEEKDAY(S242)","v":5},{"$f":"MONTH(S242)","v":5},{"$f":"YEAR(S242)","v":2024},{"$f":"T242&U242","v":"55"},{"$f":"IF(V242&W242=V241&W241,X241+1,1)","v":5},{"$f":"V242&U242&T242&X242","v":"2024555"},{"$f":"S242","v":"2024-05-30"}]
[null,null,null,null,null,null,null,null,null,null,null,null,null,null,null,null,null,null,"2024-05-03",{"$f":"WEEKDAY(S243)","v":6},{"$f":"MONTH(S243)","v":5},{"$f":"YEAR(S243)","v":2024},{"$f":"T243&U243","v":"65"},{"$f":"IF(V243&W243=V242&W242,X242+1,1)","v":1},{"$f":"V243&U243&T243&X243","v":"2024561"},{"$f":"S243","v":"2024-05-03"}]
[null,null,null,null,null,null,null,null,null,null,null,null,null,null,null,null,null,null,"2024-05-10",{"$f":"WEEKDAY(S244)","v":6},{"$f":"MONTH(S244)","v":5},{"$f":"YEAR(S244)","v":2024},{"$f":"T244&U244","v":"65"},{"$f":"IF(V244&W244=V243&W243,X243+1,1)","v":2},{"$f":"V244&U244&T244&X244","v":"2024562"},{"$f":"S244","v":"2024-05-10"}]
[null,null,null,null,null,null,null,null,null,null,null,null,null,null,null,null,null,null,"2024-05-17",{"$f":"WEEKDAY(S245)","v":6},{"$f":"MONTH(S245)","v":5},{"$f":"YEAR(S245)","v":2024},{"$f":"T245&U245","v":"65"},{"$f":"IF(V245&W245=V244&W244,X244+1,1)","v":3},{"$f":"V245&U245&T245&X245","v":"2024563"},{"$f":"S245","v":"2024-05-17"}]
[null,null,null,null,null,null,null,null,null,null,null,null,null,null,null,null,null,null,"2024-05-24",{"$f":"WEEKDAY(S246)","v":6},{"$f":"MONTH(S246)","v":5},{"$f":"YEAR(S246)","v":2024},{"$f":"T246&U246","v":"65"},{"$f":"IF(V246&W246=V245&W245,X245+1,1)","v":4},{"$f":"V246&U246&T246&X246","v":"2024564"},{"$f":"S246","v":"2024-05-24"}]
[null,null,null,null,null,null,null,null,null,null,null,null,null,null,null,null,null,null,"2024-05-31",{"$f":"WEEKDAY(S247)","v":6},{"$f":"MONTH(S247)","v":5},{"$f":"YEAR(S247)","v":2024},{"$f":"T247&U247","v":"65"},{"$f":"IF(V247&W247=V246&W246,X246+1,1)","v":5},{"$f":"V247&U247&T247&X247","v":"2024565"},{"$f":"S247","v":"2024-05-31"}]
[null,null,null,null,null,null,null,null,null,null,null,null,null,null,null,null,null,null,"2024-05-04",{"$f":"WEEKDAY(S248)","v":7},{"$f":"MONTH(S248)","v":5},{"$f":"YEAR(S248)","v":2024},{"$f":"T248&U248","v":"75"},{"$f":"IF(V248&W248=V247&W247,X247+1,1)","v":1},{"$f":"V248&U248&T248&X248","v":"2024571"},{"$f":"S248","v":"2024-05-04"}]
[null,null,null,null,null,null,null,null,null,null,null,null,null,null,null,null,null,null,"2024-05-11",{"$f":"WEEKDAY(S249)","v":7},{"$f":"MONTH(S249)","v":5},{"$f":"YEAR(S249)","v":2024},{"$f":"T249&U249","v":"75"},{"$f":"IF(V249&W249=V248&W248,X248+1,1)","v":2},{"$f":"V249&U249&T249&X249","v":"2024572"},{"$f":"S249","v":"2024-05-11"}]
[null,null,null,null,null,null,null,null,null,null,null,null,null,null,null,null,null,null,"2024-05-18",{"$f":"WEEKDAY(S250)","v":7},{"$f":"MONTH(S250)","v":5},{"$f":"YEAR(S250)","v":2024},{"$f":"T250&U250","v":"75"},{"$f":"IF(V250&W250=V249&W249,X249+1,1)","v":3},{"$f":"V250&U250&T250&X250","v":"2024573"},{"$f":"S250","v":"2024-05-18"}]
[null,null,null,null,null,null,null,null,null,null,null,null,null,null,null,null,null,null,"2024-05-25",{"$f":"WEEKDAY(S251)","v":7},{"$f":"MONTH(S251)","v":5},{"$f":"YEAR(S251)","v":2024},{"$f":"T251&U251","v":"75"},{"$f":"IF(V251&W251=V250&W250,X250+1,1)","v":4},{"$f":"V251&U251&T251&X251","v":"2024574"},{"$f":"S251","v":"2024-05-25"}]
[null,null,null,null,null,null,null,null,null,null,null,null,null,null,null,null,null,null,"2024-06-02",{"$f":"WEEKDAY(S252)","v":1},{"$f":"MONTH(S252)","v":6},{"$f":"YEAR(S252)","v":2024},{"$f":"T252&U252","v":"16"},{"$f":"IF(V252&W252=V251&W251,X251+1,1)","v":1},{"$f":"V252&U252&T252&X252","v":"2024611"},{"$f":"S252","v":"2024-06-02"}]
[null,null,null,null,null,null,null,null,null,null,null,null,null,null,null,null,null,null,"2024-06-09",{"$f":"WEEKDAY(S253)","v":1},{"$f":"MONTH(S253)","v":6},{"$f":"YEAR(S253)","v":2024},{"$f":"T253&U253","v":"16"},{"$f":"IF(V253&W253=V252&W252,X252+1,1)","v":2},{"$f":"V253&U253&T253&X253","v":"2024612"},{"$f":"S253","v":"2024-06-09"}]
[null,null,null,null,null,null,null,null,null,null,null,null,null,null,null,null,null,null,"2024-06-16",{"$f":"WEEKDAY(S254)","v":1},{"$f":"MONTH(S254)","v":6},{"$f":"YEAR(S254)","v":2024},{"$f":"T254&U254","v":"16"},{"$f":"IF(V254&W254=V253&W253,X253+1,1)","v":3},{"$f":"V254&U254&T254&X254","v":"2024613"},{"$f":"S254","v":"2024-06-16"}]
[null,null,null,null,null,null,null,null,null,null,null,null,null,null,null,null,null,null,"2024-06-23",{"$f":"WEEKDAY(S255)","v":1},{"$f":"MONTH(S255)","v":6},{"$f":"YEAR(S255)","v":2024},{"$f":"T255&U255","v":"16"},{"$f":"IF(V255&W255=V254&W254,X254+1,1)","v":4},{"$f":"V255&U255&T255&X255","v":"2024614"},{"$f":"S255","v":"2024-06-23"}]
[null,null,null,null,null,null,null,null,null,null,null,null,null,null,null,null,null,null,"2024-06-30",{"$f":"WEEKDAY(S256)","v":1},{"$f":"MONTH(S256)","v":6},{"$f":"YEAR(S256)","v":2024},{"$f":"T256&U256","v":"16"},{"$f":"IF(V256&W256=V255&W255,X255+1,1)","v":5},{"$f":"V256&U256&T256&X256","v":"2024615"},{"$f":"S256","v":"2024-06-30"}]
[null,null,null,null,null,null,null,null,null,null,null,null,null,null,null,null,null,null,"2024-06-03",{"$f":"WEEKDAY(S257)","v":2},{"$f":"MONTH(S257)","v":6},{"$f":"YEAR(S257)","v":2024},{"$f":"T257&U257","v":"26"},{"$f":"IF(V257&W257=V256&W256,X256+1,1)","v":1},{"$f":"V257&U257&T257&X257","v":"2024621"},{"$f":"S257","v":"2024-06-03"}]
[null,null,null,null,null,null,null,null,null,null,null,null,null,null,null,null,null,null,"2024-06-10",{"$f":"WEEKDAY(S258)","v":2},{"$f":"MONTH(S258)","v":6},{"$f":"YEAR(S258)","v":2024},{"$f":"T258&U258","v":"26"},{"$f":"IF(V258&W258=V257&W257,X257+1,1)","v":2},{"$f":"V258&U258&T258&X258","v":"2024622"},{"$f":"S258","v":"2024-06-10"}]
[null,null,null,null,null,null,null,null,null,null,null,null,null,null,null,null,null,null,"2024-06-17",{"$f":"WEEKDAY(S259)","v":2},{"$f":"MONTH(S259)","v":6},{"$f":"YEAR(S259)","v":2024},{"$f":"T259&U259","v":"26"},{"$f":"IF(V259&W259=V258&W258,X258+1,1)","v":3},{"$f":"V259&U259&T259&X259","v":"2024623"},{"$f":"S259","v":"2024-06-17"}]
[null,null,null,null,null,null,null,null,null,null,null,null,null,null,null,null,null,null,"2024-06-24",{"$f":"WEEKDAY(S260)","v":2},{"$f":"MONTH(S260)","v":6},{"$f":"YEAR(S260)","v":2024},{"$f":"T260&U260","v":"26"},{"$f":"IF(V260&W260=V259&W259,X259+1,1)","v":4},{"$f":"V260&U260&T260&X260","v":"2024624"},{"$f":"S260","v":"2024-06-24"}]
[null,null,null,null,null,null,null,null,null,null,null,null,null,null,null,null,null,null,"2024-06-04",{"$f":"WEEKDAY(S261)","v":3},{"$f":"MONTH(S261)","v":6},{"$f":"YEAR(S261)","v":2024},{"$f":"T261&U261","v":"36"},{"$f":"IF(V261&W261=V260&W260,X260+1,1)","v":1},{"$f":"V261&U261&T261&X261","v":"2024631"},{"$f":"S261","v":"2024-06-04"}]
[null,null,null,null,null,null,null,null,null,null,null,null,null,null,null,null,null,null,"2024-06-11",{"$f":"WEEKDAY(S262)","v":3},{"$f":"MONTH(S262)","v":6},{"$f":"YEAR(S262)","v":2024},{"$f":"T262&U262","v":"36"},{"$f":"IF(V262&W262=V261&W261,X261+1,1)","v":2},{"$f":"V262&U262&T262&X262","v":"2024632"},{"$f":"S262","v":"2024-06-11"}]
[null,null,null,null,null,null,null,null,null,null,null,null,null,null,null,null,null,null,"2024-06-18",{"$f":"WEEKDAY(S263)","v":3},{"$f":"MONTH(S263)","v":6},{"$f":"YEAR(S263)","v":2024},{"$f":"T263&U263","v":"36"},{"$f":"IF(V263&W263=V262&W262,X262+1,1)","v":3},{"$f":"V263&U263&T263&X263","v":"2024633"},{"$f":"S263","v":"2024-06-18"}]
[null,null,null,null,null,null,null,null,null,null,null,null,null,null,null,null,null,null,"2024-06-25",{"$f":"WEEKDAY(S264)","v":3},{"$f":"MONTH(S264)","v":6},{"$f":"YEAR(S264)","v":2024},{"$f":"T264&U264","v":"36"},{"$f":"IF(V264&W264=V263&W263,X263+1,1)","v":4},{"$f":"V264&U264&T264&X264","v":"2024634"},{"$f":"S264","v":"2024-06-25"}]
[null,null,null,null,null,null,null,null,null,null,null,null,null,null,null,null,null,null,"2024-06-05",{"$f":"WEEKDAY(S265)","v":4},{"$f":"MONTH(S265)","v":6},{"$f":"YEAR(S265)","v":2024},{"$f":"T265&U265","v":"46"},{"$f":"IF(V265&W265=V264&W264,X264+1,1)","v":1},{"$f":"V265&U265&T265&X265","v":"2024641"},{"$f":"S265","v":"2024-06-05"}]
[null,null,null,null,null,null,null,null,null,null,null,null,null,null,null,null,null,null,"2024-06-12",{"$f":"WEEKDAY(S266)","v":4},{"$f":"MONTH(S266)","v":6},{"$f":"YEAR(S266)","v":2024},{"$f":"T266&U266","v":"46"},{"$f":"IF(V266&W266=V265&W265,X265+1,1)","v":2},{"$f":"V266&U266&T266&X266","v":"2024642"},{"$f":"S266","v":"2024-06-12"}]
[null,null,null,null,null,null,null,null,null,null,null,null,null,null,null,null,null,null,"2024-06-19",{"$f":"WEEKDAY(S267)","v":4},{"$f":"MONTH(S267)","v":6},{"$f":"YEAR(S267)","v":2024},{"$f":"T267&U267","v":"46"},{"$f":"IF(V267&W267=V266&W266,X266+1,1)","v":3},{"$f":"V267&U267&T267&X267","v":"2024643"},{"$f":"S267","v":"2024-06-19"}]
[null,null,null,null,null,null,null,null,null,null,null,null,null,null,null,null,null,null,"2024-06-26",{"$f":"WEEKDAY(S268)","v":4},{"$f":"MONTH(S268)","v":6},{"$f":"YEAR(S268)","v":2024},{"$f":"T268&U268","v":"46"},{"$f":"IF(V268&W268=V267&W267,X267+1,1)","v":4},{"$f":"V268&U268&T268&X268","v":"2024644"},{"$f":"S268","v":"2024-06-26"}]
[null,null,null,null,null,null,null,null,null,null,null,null,null,null,null,null,null,null,"2024-06-06",{"$f":"WEEKDAY(S269)","v":5},{"$f":"MONTH(S269)","v":6},{"$f":"YEAR(S269)","v":2024},{"$f":"T269&U269","v":"56"},{"$f":"IF(V269&W269=V268&W268,X268+1,1)","v":1},{"$f":"V269&U269&T269&X269","v":"2024651"},{"$f":"S269","v":"2024-06-06"}]
[null,null,null,null,null,null,null,null,null,null,null,null,null,null,null,null,null,null,"2024-06-13",{"$f":"WEEKDAY(S270)","v":5},{"$f":"MONTH(S270)","v":6},{"$f":"YEAR(S270)","v":2024},{"$f":"T270&U270","v":"56"},{"$f":"IF(V270&W270=V269&W269,X269+1,1)","v":2},{"$f":"V270&U270&T270&X270","v":"2024652"},{"$f":"S270","v":"2024-06-13"}]
[null,null,null,null,null,null,null,null,null,null,null,null,null,null,null,null,null,null,"2024-06-20",{"$f":"WEEKDAY(S271)","v":5},{"$f":"MONTH(S271)","v":6},{"$f":"YEAR(S271)","v":2024},{"$f":"T271&U271","v":"56"},{"$f":"IF(V271&W271=V270&W270,X270+1,1)","v":3},{"$f":"V271&U271&T271&X271","v":"2024653"},{"$f":"S271","v":"2024-06-20"}]
[null,null,null,null,null,null,null,null,null,null,null,null,null,null,null,null,null,null,"2024-06-27",{"$f":"WEEKDAY(S272)","v":5},{"$f":"MONTH(S272)","v":6},{"$f":"YEAR(S272)","v":2024},{"$f":"T272&U272","v":"56"},{"$f":"IF(V272&W272=V271&W271,X271+1,1)","v":4},{"$f":"V272&U272&T272&X272","v":"2024654"},{"$f":"S272","v":"2024-06-27"}]
[null,null,null,null,null,null,null,null,null,null,null,null,null,null,null,null,null,null,"2024-06-07",{"$f":"WEEKDAY(S273)","v":6},{"$f":"MONTH(S273)","v":6},{"$f":"YEAR(S273)","v":2024},{"$f":"T273&U273","v":"66"},{"$f":"IF(V273&W273=V272&W272,X272+1,1)","v":1},{"$f":"V273&U273&T273&X273","v":"2024661"},{"$f":"S273","v":"2024-06-07"}]
[null,null,null,null,null,null,null,null,null,null,null,null,null,null,null,null,null,null,"2024-06-14",{"$f":"WEEKDAY(S274)","v":6},{"$f":"MONTH(S274)","v":6},{"$f":"YEAR(S274)","v":2024},{"$f":"T274&U274","v":"66"},{"$f":"IF(V274&W274=V273&W273,X273+1,1)","v":2},{"$f":"V274&U274&T274&X274","v":"2024662"},{"$f":"S274","v":"2024-06-14"}]
[null,null,null,null,null,null,null,null,null,null,null,null,null,null,null,null,null,null,"2024-06-21",{"$f":"WEEKDAY(S275)","v":6},{"$f":"MONTH(S275)","v":6},{"$f":"YEAR(S275)","v":2024},{"$f":"T275&U275","v":"66"},{"$f":"IF(V275&W275=V274&W274,X274+1,1)","v":3},{"$f":"V275&U275&T275&X275","v":"2024663"},{"$f":"S275","v":"2024-06-21"}]
[null,null,null,null,null,null,null,null,null,null,null,null,null,null,null,null,null,null,"2024-06-28",{"$f":"WEEKDAY(S276)","v":6},{"$f":"MONTH(S276)","v":6},{"$f":"YEAR(S276)","v":2024},{"$f":"T276&U276","v":"66"},{"$f":"IF(V276&W276=V275&W275,X275+1,1)","v":4},{"$f":"V276&U276&T276&X276","v":"2024664"},{"$f":"S276","v":"2024-06-28"}]
[null,null,null,null,null,null,null,null,null,null,null,null,null,null,null,null,null,null,"2024-06-01",{"$f":"WEEKDAY(S277)","v":7},{"$f":"MONTH(S277)","v":6},{"$f":"YEAR(S277)","v":2024},{"$f":"T277&U277","v":"76"},{"$f":"IF(V277&W277=V276&W276,X276+1,1)","v":1},{"$f":"V277&U277&T277&X277","v":"2024671"},{"$f":"S277","v":"2024-06-01"}]
[null,null,null,null,null,null,null,null,null,null,null,null,null,null,null,null,null,null,"2024-06-08",{"$f":"WEEKDAY(S278)","v":7},{"$f":"MONTH(S278)","v":6},{"$f":"YEAR(S278)","v":2024},{"$f":"T278&U278","v":"76"},{"$f":"IF(V278&W278=V277&W277,X277+1,1)","v":2},{"$f":"V278&U278&T278&X278","v":"2024672"},{"$f":"S278","v":"2024-06-08"}]
[null,null,null,null,null,null,null,null,null,null,null,null,null,null,null,null,null,null,"2024-06-15",{"$f":"WEEKDAY(S279)","v":7},{"$f":"MONTH(S279)","v":6},{"$f":"YEAR(S279)","v":2024},{"$f":"T279&U279","v":"76"},{"$f":"IF(V279&W279=V278&W278,X278+1,1)","v":3},{"$f":"V279&U279&T279&X279","v":"2024673"},{"$f":"S279","v":"2024-06-15"}]
[null,null,null,null,null,null,null,null,null,null,null,null,null,null,null,null,null,null,"2024-06-22",{"$f":"WEEKDAY(S280)","v":7},{"$f":"MONTH(S280)","v":6},{"$f":"YEAR(S280)","v":2024},{"$f":"T280&U280","v":"76"},{"$f":"IF(V280&W280=V279&W279,X279+1,1)","v":4},{"$f":"V280&U280&T280&X280","v":"2024674"},{"$f":"S280","v":"2024-06-22"}]
[null,null,null,null,null,null,null,null,null,null,null,null,null,null,null,null,null,null,"2024-06-29",{"$f":"WEEKDAY(S281)","v":7},{"$f":"MONTH(S281)","v":6},{"$f":"YEAR(S281)","v":2024},{"$f":"T281&U281","v":"76"},{"$f":"IF(V281&W281=V280&W280,X280+1,1)","v":5},{"$f":"V281&U281&T281&X281","v":"2024675"},{"$f":"S281","v":"2024-06-29"}]
[null,null,null,null,null,null,null,null,null,null,null,null,null,null,null,null,null,null,"2024-07-07",{"$f":"WEEKDAY(S282)","v":1},{"$f":"MONTH(S282)","v":7},{"$f":"YEAR(S282)","v":2024},{"$f":"T282&U282","v":"17"},{"$f":"IF(V282&W282=V281&W281,X281+1,1)","v":1},{"$f":"V282&U282&T282&X282","v":"2024711"},{"$f":"S282","v":"2024-07-07"}]
[null,null,null,null,null,null,null,null,null,null,null,null,null,null,null,null,null,null,"2024-07-14",{"$f":"WEEKDAY(S283)","v":1},{"$f":"MONTH(S283)","v":7},{"$f":"YEAR(S283)","v":2024},{"$f":"T283&U283","v":"17"},{"$f":"IF(V283&W283=V282&W282,X282+1,1)","v":2},{"$f":"V283&U283&T283&X283","v":"2024712"},{"$f":"S283","v":"2024-07-14"}]
[null,null,null,null,null,null,null,null,null,null,null,null,null,null,null,null,null,null,"2024-07-21",{"$f":"WEEKDAY(S284)","v":1},{"$f":"MONTH(S284)","v":7},{"$f":"YEAR(S284)","v":2024},{"$f":"T284&U284","v":"17"},{"$f":"IF(V284&W284=V283&W283,X283+1,1)","v":3},{"$f":"V284&U284&T284&X284","v":"2024713"},{"$f":"S284","v":"2024-07-21"}]
[null,null,null,null,null,null,null,null,null,null,null,null,null,null,null,null,null,null,"2024-07-28",{"$f":"WEEKDAY(S285)","v":1},{"$f":"MONTH(S285)","v":7},{"$f":"YEAR(S285)","v":2024},{"$f":"T285&U285","v":"17"},{"$f":"IF(V285&W285=V284&W284,X284+1,1)","v":4},{"$f":"V285&U285&T285&X285","v":"2024714"},{"$f":"S285","v":"2024-07-28"}]
[null,null,null,null,null,null,null,null,null,null,null,null,null,null,null,null,null,null,"2024-07-01",{"$f":"WEEKDAY(S286)","v":2},{"$f":"MONTH(S286)","v":7},{"$f":"YEAR(S286)","v":2024},{"$f":"T286&U286","v":"27"},{"$f":"IF(V286&W286=V285&W285,X285+1,1)","v":1},{"$f":"V286&U286&T286&X286","v":"2024721"},{"$f":"S286","v":"2024-07-01"}]
[null,null,null,null,null,null,null,null,null,null,null,null,null,null,null,null,null,null,"2024-07-08",{"$f":"WEEKDAY(S287)","v":2},{"$f":"MONTH(S287)","v":7},{"$f":"YEAR(S287)","v":2024},{"$f":"T287&U287","v":"27"},{"$f":"IF(V287&W287=V286&W286,X286+1,1)","v":2},{"$f":"V287&U287&T287&X287","v":"2024722"},{"$f":"S287","v":"2024-07-08"}]
[null,null,null,null,null,null,null,null,null,null,null,null,null,null,null,null,null,null,"2024-07-15",{"$f":"WEEKDAY(S288)","v":2},{"$f":"MONTH(S288)","v":7},{"$f":"YEAR(S288)","v":2024},{"$f":"T288&U288","v":"27"},{"$f":"IF(V288&W288=V287&W287,X287+1,1)","v":3},{"$f":"V288&U288&T288&X288","v":"2024723"},{"$f":"S288","v":"2024-07-15"}]
[null,null,null,null,null,null,null,null,null,null,null,null,null,null,null,null,null,null,"2024-07-22",{"$f":"WEEKDAY(S289)","v":2},{"$f":"MONTH(S289)","v":7},{"$f":"YEAR(S289)","v":2024},{"$f":"T289&U289","v":"27"},{"$f":"IF(V289&W289=V288&W288,X288+1,1)","v":4},{"$f":"V289&U289&T289&X289","v":"2024724"},{"$f":"S289","v":"2024-07-22"}]
[null,null,null,null,null,null,null,null,null,null,null,null,null,null,null,null,null,null,"2024-07-29",{"$f":"WEEKDAY(S290)","v":2},{"$f":"MONTH(S290)","v":7},{"$f":"YEAR(S290)","v":2024},{"$f":"T290&U290","v":"27"},{"$f":"IF(V290&W290=V289&W289,X289+1,1)","v":5},{"$f":"V290&U290&T290&X290","v":"2024725"},{"$f":"S290","v":"2024-07-29"}]
[null,null,null,null,null,null,null,null,null,null,null,null,null,null,null,null,null,null,"2024-07-02",{"$f":"WEEKDAY(S291)","v":3},{"$f":"MONTH(S291)","v":7},{"$f":"YEAR(S291)","v":2024},{"$f":"T291&U291","v":"37"},{"$f":"IF(V291&W291=V290&W290,X290+1,1)","v":1},{"$f":"V291&U291&T291&X291","v":"2024731"},{"$f":"S291","v":"2024-07-02"}]
[null,null,null,null,null,null,null,null,null,null,null,null,null,null,null,null,null,null,"2024-07-09",{"$f":"WEEKDAY(S292)","v":3},{"$f":"MONTH(S292)","v":7},{"$f":"YEAR(S292)","v":2024},{"$f":"T292&U292","v":"37"},{"$f":"IF(V292&W292=V291&W291,X291+1,1)","v":2},{"$f":"V292&U292&T292&X292","v":"2024732"},{"$f":"S292","v":"2024-07-09"}]
[null,null,null,null,null,null,null,null,null,null,null,null,null,null,null,null,null,null,"2024-07-16",{"$f":"WEEKDAY(S293)","v":3},{"$f":"MONTH(S293)","v":7},{"$f":"YEAR(S293)","v":2024},{"$f":"T293&U293","v":"37"},{"$f":"IF(V293&W293=V292&W292,X292+1,1)","v":3},{"$f":"V293&U293&T293&X293","v":"2024733"},{"$f":"S293","v":"2024-07-16"}]
[null,null,null,null,null,null,null,null,null,null,null,null,null,null,null,null,null,null,"2024-07-23",{"$f":"WEEKDAY(S294)","v":3},{"$f":"MONTH(S294)","v":7},{"$f":"YEAR(S294)","v":2024},{"$f":"T294&U294","v":"37"},{"$f":"IF(V294&W294=V293&W293,X293+1,1)","v":4},{"$f":"V294&U294&T294&X294","v":"2024734"},{"$f":"S294","v":"2024-07-23"}]
[null,null,null,null,null,null,null,null,null,null,null,null,null,null,null,null,null,null,"2024-07-30",{"$f":"WEEKDAY(S295)","v":3},{"$f":"MONTH(S295)","v":7},{"$f":"YEAR(S295)","v":2024},{"$f":"T295&U295","v":"37"},{"$f":"IF(V295&W295=V294&W294,X294+1,1)","v":5},{"$f":"V295&U295&T295&X295","v":"2024735"},{"$f":"S295","v":"2024-07-30"}]
[null,null,null,null,null,null,null,null,null,null,null,null,null,null,null,null,null,null,"2024-07-03",{"$f":"WEEKDAY(S296)","v":4},{"$f":"MONTH(S296)","v":7},{"$f":"YEAR(S296)","v":2024},{"$f":"T296&U296","v":"47"},{"$f":"IF(V296&W296=V295&W295,X295+1,1)","v":1},{"$f":"V296&U296&T296&X296","v":"2024741"},{"$f":"S296","v":"2024-07-03"}]
[null,null,null,null,null,null,null,null,null,null,null,null,null,null,null,null,null,null,"2024-07-10",{"$f":"WEEKDAY(S297)","v":4},{"$f":"MONTH(S297)","v":7},{"$f":"YEAR(S297)","v":2024},{"$f":"T297&U297","v":"47"},{"$f":"IF(V297&W297=V296&W296,X296+1,1)","v":2},{"$f":"V297&U297&T297&X297","v":"2024742"},{"$f":"S297","v":"2024-07-10"}]
[null,null,null,null,null,null,null,null,null,null,null,null,null,null,null,null,null,null,"2024-07-17",{"$f":"WEEKDAY(S298)","v":4},{"$f":"MONTH(S298)","v":7},{"$f":"YEAR(S298)","v":2024},{"$f":"T298&U298","v":"47"},{"$f":"IF(V298&W298=V297&W297,X297+1,1)","v":3},{"$f":"V298&U298&T298&X298","v":"2024743"},{"$f":"S298","v":"2024-07-17"}]
[null,null,null,null,null,null,null,null,null,null,null,null,null,null,null,null,null,null,"2024-07-24",{"$f":"WEEKDAY(S299)","v":4},{"$f":"MONTH(S299)","v":7},{"$f":"YEAR(S299)","v":2024},{"$f":"T299&U299","v":"47"},{"$f":"IF(V299&W299=V298&W298,X298+1,1)","v":4},{"$f":"V299&U299&T299&X299","v":"2024744"},{"$f":"S299","v":"2024-07-24"}]
[null,null,null,null,null,null,null,null,null,null,null,null,null,null,null,null,null,null,"2024-07-31",{"$f":"WEEKDAY(S300)","v":4},{"$f":"MONTH(S300)","v":7},{"$f":"YEAR(S300)","v":2024},{"$f":"T300&U300","v":"47"},{"$f":"IF(V300&W300=V299&W299,X299+1,1)","v":5},{"$f":"V300&U300&T300&X300","v":"2024745"},{"$f":"S300","v":"2024-07-31"}]
[null,null,null,null,null,null,null,null,null,null,null,null,null,null,null,null,null,null,"2024-07-04",{"$f":"WEEKDAY(S301)","v":5},{"$f":"MONTH(S301)","v":7},{"$f":"YEAR(S301)","v":2024},{"$f":"T301&U301","v":"57"},{"$f":"IF(V301&W301=V300&W300,X300+1,1)","v":1},{"$f":"V301&U301&T301&X301","v":"2024751"},{"$f":"S301","v":"2024-07-04"}]
[null,null,null,null,null,null,null,null,null,null,null,null,null,null,null,null,null,null,"2024-07-11",{"$f":"WEEKDAY(S302)","v":5},{"$f":"MONTH(S302)","v":7},{"$f":"YEAR(S302)","v":2024},{"$f":"T302&U302","v":"57"},{"$f":"IF(V302&W302=V301&W301,X301+1,1)","v":2},{"$f":"V302&U302&T302&X302","v":"2024752"},{"$f":"S302","v":"2024-07-11"}]
[null,null,null,null,null,null,null,null,null,null,null,null,null,null,null,null,null,null,"2024-07-18",{"$f":"WEEKDAY(S303)","v":5},{"$f":"MONTH(S303)","v":7},{"$f":"YEAR(S303)","v":2024},{"$f":"T303&U303","v":"57"},{"$f":"IF(V303&W303=V302&W302,X302+1,1)","v":3},{"$f":"V303&U303&T303&X303","v":"2024753"},{"$f":"S303","v":"2024-07-18"}]
[null,null,null,null,null,null,null,null,null,null,null,null,null,null,null,null,null,null,"2024-07-25",{"$f":"WEEKDAY(S304)","v":5},{"$f":"MONTH(S304)","v":7},{"$f":"YEAR(S304)","v":2024},{"$f":"T304&U304","v":"57"},{"$f":"IF(V304&W304=V303&W303,X303+1,1)","v":4},{"$f":"V304&U304&T304&X304","v":"2024754"},{"$f":"S304","v":"2024-07-25"}]
[null,null,null,null,null,null,null,null,null,null,null,null,null,null,null,null,null,null,"2024-07-05",{"$f":"WEEKDAY(S305)","v":6},{"$f":"MONTH(S305)","v":7},{"$f":"YEAR(S305)","v":2024},{"$f":"T305&U305","v":"67"},{"$f":"IF(V305&W305=V304&W304,X304+1,1)","v":1},{"$f":"V305&U305&T305&X305","v":"2024761"},{"$f":"S305","v":"2024-07-05"}]
[null,null,null,null,null,null,null,null,null,null,null,null,null,null,null,null,null,null,"2024-07-12",{"$f":"WEEKDAY(S306)","v":6},{"$f":"MONTH(S306)","v":7},{"$f":"YEAR(S306)","v":2024},{"$f":"T306&U306","v":"67"},{"$f":"IF(V306&W306=V305&W305,X305+1,1)","v":2},{"$f":"V306&U306&T306&X306","v":"2024762"},{"$f":"S306","v":"2024-07-12"}]
[null,null,null,null,null,null,null,null,null,null,null,null,null,null,null,null,null,null,"2024-07-19",{"$f":"WEEKDAY(S307)","v":6},{"$f":"MONTH(S307)","v":7},{"$f":"YEAR(S307)","v":2024},{"$f":"T307&U307","v":"67"},{"$f":"IF(V307&W307=V306&W306,X306+1,1)","v":3},{"$f":"V307&U307&T307&X307","v":"2024763"},{"$f":"S307","v":"2024-07-19"}]
[null,null,null,null,null,null,null,null,null,null,null,null,null,null,null,null,null,null,"2024-07-26",{"$f":"WEEKDAY(S308)","v":6},{"$f":"MONTH(S308)","v":7},{"$f":"YEAR(S308)","v":2024},{"$f":"T308&U308","v":"67"},{"$f":"IF(V308&W308=V307&W307,X307+1,1)","v":4},{"$f":"V308&U308&T308&X308","v":"2024764"},{"$f":"S308","v":"2024-07-26"}]
[null,null,null,null,null,null,null,null,null,null,null,null,null,null,null,null,null,null,"2024-07-06",{"$f":"WEEKDAY(S309)","v":7},{"$f":"MONTH(S309)","v":7},{"$f":"YEAR(S309)","v":2024},{"$f":"T309&U309","v":"77"},{"$f":"IF(V309&W309=V308&W308,X308+1,1)","v":1},{"$f":"V309&U309&T309&X309","v":"2024771"},{"$f":"S309","v":"2024-07-06"}]
[null,null,null,null,null,null,null,null,null,null,null,null,null,null,null,null,null,null,"2024-07-13",{"$f":"WEEKDAY(S310)","v":7},{"$f":"MONTH(S310)","v":7},{"$f":"YEAR(S310)","v":2024},{"$f":"T310&U310","v":"77"},{"$f":"IF(V310&W310=V309&W309,X309+1,1)","v":2},{"$f":"V310&U310&T310&X310","v":"2024772"},{"$f":"S310","v":"2024-07-13"}]
[null,null,null,null,null,null,null,null,null,null,null,null,null,null,null,null,null,null,"2024-07-20",{"$f":"WEEKDAY(S311)","v":7},{"$f":"MONTH(S311)","v":7},{"$f":"YEAR(S311)","v":2024},{"$f":"T311&U311","v":"77"},{"$f":"IF(V311&W311=V310&W310,X310+1,1)","v":3},{"$f":"V311&U311&T311&X311","v":"2024773"},{"$f":"S311","v":"2024-07-20"}]
[null,null,null,null,null,null,null,null,null,null,null,null,null,null,null,null,null,null,"2024-07-27",{"$f":"WEEKDAY(S312)","v":7},{"$f":"MONTH(S312)","v":7},{"$f":"YEAR(S312)","v":2024},{"$f":"T312&U312","v":"77"},{"$f":"IF(V312&W312=V311&W311,X311+1,1)","v":4},{"$f":"V312&U312&T312&X312","v":"2024774"},{"$f":"S312","v":"2024-07-27"}]
[null,null,null,null,null,null,null,null,null,null,null,null,null,null,null,null,null,null,"2024-08-04",{"$f":"WEEKDAY(S313)","v":1},{"$f":"MONTH(S313)","v":8},{"$f":"YEAR(S313)","v":2024},{"$f":"T313&U313","v":"18"},{"$f":"IF(V313&W313=V312&W312,X312+1,1)","v":1},{"$f":"V313&U313&T313&X313","v":"2024811"},{"$f":"S313","v":"2024-08-04"}]
[null,null,null,null,null,null,null,null,null,null,null,null,null,null,null,null,null,null,"2024-08-11",{"$f":"WEEKDAY(S314)","v":1},{"$f":"MONTH(S314)","v":8},{"$f":"YEAR(S314)","v":2024},{"$f":"T314&U314","v":"18"},{"$f":"IF(V314&W314=V313&W313,X313+1,1)","v":2},{"$f":"V314&U314&T314&X314","v":"2024812"},{"$f":"S314","v":"2024-08-11"}]
[null,null,null,null,null,null,null,null,null,null,null,null,null,null,null,null,null,null,"2024-08-18",{"$f":"WEEKDAY(S315)","v":1},{"$f":"MONTH(S315)","v":8},{"$f":"YEAR(S315)","v":2024},{"$f":"T315&U315","v":"18"},{"$f":"IF(V315&W315=V314&W314,X314+1,1)","v":3},{"$f":"V315&U315&T315&X315","v":"2024813"},{"$f":"S315","v":"2024-08-18"}]
[null,null,null,null,null,null,null,null,null,null,null,null,null,null,null,null,null,null,"2024-08-25",{"$f":"WEEKDAY(S316)","v":1},{"$f":"MONTH(S316)","v":8},{"$f":"YEAR(S316)","v":2024},{"$f":"T316&U316","v":"18"},{"$f":"IF(V316&W316=V315&W315,X315+1,1)","v":4},{"$f":"V316&U316&T316&X316","v":"2024814"},{"$f":"S316","v":"2024-08-25"}]
[null,null,null,null,null,null,null,null,null,null,null,null,null,null,null,null,null,null,"2024-08-05",{"$f":"WEEKDAY(S317)","v":2},{"$f":"MONTH(S317)","v":8},{"$f":"YEAR(S317)","v":2024},{"$f":"T317&U317","v":"28"},{"$f":"IF(V317&W317=V316&W316,X316+1,1)","v":1},{"$f":"V317&U317&T317&X317","v":"2024821"},{"$f":"S317","v":"2024-08-05"}]
[null,null,null,null,null,null,null,null,null,null,null,null,null,null,null,null,null,null,"2024-08-12",{"$f":"WEEKDAY(S318)","v":2},{"$f":"MONTH(S318)","v":8},{"$f":"YEAR(S318)","v":2024},{"$f":"T318&U318","v":"28"},{"$f":"IF(V318&W318=V317&W317,X317+1,1)","v":2},{"$f":"V318&U318&T318&X318","v":"2024822"},{"$f":"S318","v":"2024-08-12"}]
[null,null,null,null,null,null,null,null,null,null,null,null,null,null,null,null,null,null,"2024-08-19",{"$f":"WEEKDAY(S319)","v":2},{"$f":"MONTH(S319)","v":8},{"$f":"YEAR(S319)","v":2024},{"$f":"T319&U319","v":"28"},{"$f":"IF(V319&W319=V318&W318,X318+1,1)","v":3},{"$f":"V319&U319&T319&X319","v":"2024823"},{"$f":"S319","v":"2024-08-19"}]
[null,null,null,null,null,null,null,null,null,null,null,null,null,null,null,null,null,null,"2024-08-26",{"$f":"WEEKDAY(S320)","v":2},{"$f":"MONTH(S320)","v":8},{"$f":"YEAR(S320)","v":2024},{"$f":"T320&U320","v":"28"},{"$f":"IF(V320&W320=V319&W319,X319+1,1)","v":4},{"$f":"V320&U320&T320&X320","v":"2024824"},{"$f":"S320","v":"2024-08-26"}]
[null,null,null,null,null,null,null,null,null,null,null,null,null,null,null,null,null,null,"2024-08-06",{"$f":"WEEKDAY(S321)","v":3},{"$f":"MONTH(S321)","v":8},{"$f":"YEAR(S321)","v":2024},{"$f":"T321&U321","v":"38"},{"$f":"IF(V321&W321=V320&W320,X320+1,1)","v":1},{"$f":"V321&U321&T321&X321","v":"2024831"},{"$f":"S321","v":"2024-08-06"}]
[null,null,null,null,null,null,null,null,null,null,null,null,null,null,null,null,null,null,"2024-08-13",{"$f":"WEEKDAY(S322)","v":3},{"$f":"MONTH(S322)","v":8},{"$f":"YEAR(S322)","v":2024},{"$f":"T322&U322","v":"38"},{"$f":"IF(V322&W322=V321&W321,X321+1,1)","v":2},{"$f":"V322&U322&T322&X322","v":"2024832"},{"$f":"S322","v":"2024-08-13"}]
[null,null,null,null,null,null,null,null,null,null,null,null,null,null,null,null,null,null,"2024-08-20",{"$f":"WEEKDAY(S323)","v":3},{"$f":"MONTH(S323)","v":8},{"$f":"YEAR(S323)","v":2024},{"$f":"T323&U323","v":"38"},{"$f":"IF(V323&W323=V322&W322,X322+1,1)","v":3},{"$f":"V323&U323&T323&X323","v":"2024833"},{"$f":"S323","v":"2024-08-20"}]
[null,null,null,null,null,null,null,null,null,null,null,null,null,null,null,null,null,null,"2024-08-27",{"$f":"WEEKDAY(S324)","v":3},{"$f":"MONTH(S324)","v":8},{"$f":"YEAR(S324)","v":2024},{"$f":"T324&U324","v":"38"},{"$f":"IF(V324&W324=V323&W323,X323+1,1)","v":4},{"$f":"V324&U324&T324&X324","v":"2024834"},{"$f":"S324","v":"2024-08-27"}]
[null,null,null,null,null,null,null,null,null,null,null,null,null,null,null,null,null,null,"2024-08-07",{"$f":"WEEKDAY(S325)","v":4},{"$f":"MONTH(S325)","v":8},{"$f":"YEAR(S325)","v":2024},{"$f":"T325&U325","v":"48"},{"$f":"IF(V325&W325=V324&W324,X324+1,1)","v":1},{"$f":"V325&U325&T325&X325","v":"2024841"},{"$f":"S325","v":"2024-08-07"}]
[null,null,null,null,null,null,null,null,null,null,null,null,null,null,null,null,null,null,"2024-08-14",{"$f":"WEEKDAY(S326)","v":4},{"$f":"MONTH(S326)","v":8},{"$f":"YEAR(S326)","v":2024},{"$f":"T326&U326","v":"48"},{"$f":"IF(V326&W326=V325&W325,X325+1,1)","v":2},{"$f":"V326&U326&T326&X326","v":"2024842"},{"$f":"S326","v":"2024-08-14"}]
[null,null,null,null,null,null,null,null,null,null,null,null,null,null,null,null,null,null,"2024-08-21",{"$f":"WEEKDAY(S327)","v":4},{"$f":"MONTH(S327)","v":8},{"$f":"YEAR(S327)","v":2024},{"$f":"T327&U327","v":"48"},{"$f":"IF(V327&W327=V326&W326,X326+1,1)","v":3},{"$f":"V327&U327&T327&X327","v":"2024843"},{"$f":"S327","v":"2024-08-21"}]
[null,null,null,null,null,null,null,null,null,null,null,null,null,null,null,null,null,null,"2024-08-28",{"$f":"WEEKDAY(S328)","v":4},{"$f":"MONTH(S328)","v":8},{"$f":"YEAR(S328)","v":2024},{"$f":"T328&U328","v":"48"},{"$f":"IF(V328&W328=V327&W327,X327+1,1)","v":4},{"$f":"V328&U328&T328&X328","v":"2024844"},{"$f":"S328","v":"2024-08-28"}]
[null,null,null,null,null,null,null,null,null,null,null,null,null,null,null,null,null,null,"2024-08-01",{"$f":"WEEKDAY(S329)","v":5},{"$f":"MONTH(S329)","v":8},{"$f":"YEAR(S329)","v":2024},{"$f":"T329&U329","v":"58"},{"$f":"IF(V329&W329=V328&W328,X328+1,1)","v":1},{"$f":"V329&U329&T329&X329","v":"2024851"},{"$f":"S329","v":"2024-08-01"}]
[null,null,null,null,null,null,null,null,null,null,null,null,null,null,null,null,null,null,"2024-08-08",{"$f":"WEEKDAY(S330)","v":5},{"$f":"MONTH(S330)","v":8},{"$f":"YEAR(S330)","v":2024},{"$f":"T330&U330","v":"58"},{"$f":"IF(V330&W330=V329&W329,X329+1,1)","v":2},{"$f":"V330&U330&T330&X330","v":"2024852"},{"$f":"S330","v":"2024-08-08"}]
[null,null,null,null,null,null,null,null,null,null,null,null,null,null,null,null,null,null,"2024-08-15",{"$f":"WEEKDAY(S331)","v":5},{"$f":"MONTH(S331)","v":8},{"$f":"YEAR(S331)","v":2024},{"$f":"T331&U331","v":"58"},{"$f":"IF(V331&W331=V330&W330,X330+1,1)","v":3},{"$f":"V331&U331&T331&X331","v":"2024853"},{"$f":"S331","v":"2024-08-15"}]
[null,null,null,null,null,null,null,null,null,null,null,null,null,null,null,null,null,null,"2024-08-22",{"$f":"WEEKDAY(S332)","v":5},{"$f":"MONTH(S332)","v":8},{"$f":"YEAR(S332)","v":2024},{"$f":"T332&U332","v":"58"},{"$f":"IF(V332&W332=V331&W331,X331+1,1)","v":4},{"$f":"V332&U332&T332&X332","v":"2024854"},{"$f":"S332","v":"2024-08-22"}]
[null,null,null,null,null,null,null,null,null,null,null,null,null,null,null,null,null,null,"2024-08-29",{"$f":"WEEKDAY(S333)","v":5},{"$f":"MONTH(S333)","v":8},{"$f":"YEAR(S333)","v":2024},{"$f":"T333&U333","v":"58"},{"$f":"IF(V333&W333=V332&W332,X332+1,1)","v":5},{"$f":"V333&U333&T333&X333","v":"2024855"},{"$f":"S333","v":"2024-08-29"}]
[null,null,null,null,null,null,null,null,null,null,null,null,null,null,null,null,null,null,"2024-08-02",{"$f":"WEEKDAY(S334)","v":6},{"$f":"MONTH(S334)","v":8},{"$f":"YEAR(S334)","v":2024},{"$f":"T334&U334","v":"68"},{"$f":"IF(V334&W334=V333&W333,X333+1,1)","v":1},{"$f":"V334&U334&T334&X334","v":"2024861"},{"$f":"S334","v":"2024-08-02"}]
[null,null,null,null,null,null,null,null,null,null,null,null,null,null,null,null,null,null,"2024-08-09",{"$f":"WEEKDAY(S335)","v":6},{"$f":"MONTH(S335)","v":8},{"$f":"YEAR(S335)","v":2024},{"$f":"T335&U335","v":"68"},{"$f":"IF(V335&W335=V334&W334,X334+1,1)","v":2},{"$f":"V335&U335&T335&X335","v":"2024862"},{"$f":"S335","v":"2024-08-09"}]
[null,null,null,null,null,null,null,null,null,null,null,null,null,null,null,null,null,null,"2024-08-16",{"$f":"WEEKDAY(S336)","v":6},{"$f":"MONTH(S336)","v":8},{"$f":"YEAR(S336)","v":2024},{"$f":"T336&U336","v":"68"},{"$f":"IF(V336&W336=V335&W335,X335+1,1)","v":3},{"$f":"V336&U336&T336&X336","v":"2024863"},{"$f":"S336","v":"2024-08-16"}]
[null,null,null,null,null,null,null,null,null,null,null,null,null,null,null,null,null,null,"2024-08-23",{"$f":"WEEKDAY(S337)","v":6},{"$f":"MONTH(S337)","v":8},{"$f":"YEAR(S337)","v":2024},{"$f":"T337&U337","v":"68"},{"$f":"IF(V337&W337=V336&W336,X336+1,1)","v":4},{"$f":"V337&U337&T337&X337","v":"2024864"},{"$f":"S337","v":"2024-08-23"}]
[null,null,null,null,null,null,null,null,null,null,null,null,null,null,null,null,null,null,"2024-08-30",{"$f":"WEEKDAY(S338)","v":6},{"$f":"MONTH(S338)","v":8},{"$f":"YEAR(S338)","v":2024},{"$f":"T338&U338","v":"68"},{"$f":"IF(V338&W338=V337&W337,X337+1,1)","v":5},{"$f":"V338&U338&T338&X338","v":"2024865"},{"$f":"S338","v":"2024-08-30"}]
[null,null,null,null,null,null,null,null,null,null,null,null,null,null,null,null,null,null,"2024-08-03",{"$f":"WEEKDAY(S339)","v":7},{"$f":"MONTH(S339)","v":8},{"$f":"YEAR(S339)","v":2024},{"$f":"T339&U339","v":"78"},{"$f":"IF(V339&W339=V338&W338,X338+1,1)","v":1},{"$f":"V339&U339&T339&X339","v":"2024871"},{"$f":"S339","v":"2024-08-03"}]
[null,null,null,null,null,null,null,null,null,null,null,null,null,null,null,null,null,null,"2024-08-10",{"$f":"WEEKDAY(S340)","v":7},{"$f":"MONTH(S340)","v":8},{"$f":"YEAR(S340)","v":2024},{"$f":"T340&U340","v":"78"},{"$f":"IF(V340&W340=V339&W339,X339+1,1)","v":2},{"$f":"V340&U340&T340&X340","v":"2024872"},{"$f":"S340","v":"2024-08-10"}]
[null,null,null,null,null,null,null,null,null,null,null,null,null,null,null,null,null,null,"2024-08-17",{"$f":"WEEKDAY(S341)","v":7},{"$f":"MONTH(S341)","v":8},{"$f":"YEAR(S341)","v":2024},{"$f":"T341&U341","v":"78"},{"$f":"IF(V341&W341=V340&W340,X340+1,1)","v":3},{"$f":"V341&U341&T341&X341","v":"2024873"},{"$f":"S341","v":"2024-08-17"}]
[null,null,null,null,null,null,null,null,null,null,null,null,null,null,null,null,null,null,"2024-08-24",{"$f":"WEEKDAY(S342)","v":7},{"$f":"MONTH(S342)","v":8},{"$f":"YEAR(S342)","v":2024},{"$f":"T342&U342","v":"78"},{"$f":"IF(V342&W342=V341&W341,X341+1,1)","v":4},{"$f":"V342&U342&T342&X342","v":"2024874"},{"$f":"S342","v":"2024-08-24"}]
[null,null,null,null,null,null,null,null,null,null,null,null,null,null,null,null,null,null,"2024-08-31",{"$f":"WEEKDAY(S343)","v":7},{"$f":"MONTH(S343)","v":8},{"$f":"YEAR(S343)","v":2024},{"$f":"T343&U343","v":"78"},{"$f":"IF(V343&W343=V342&W342,X342+1,1)","v":5},{"$f":"V343&U343&T343&X343","v":"2024875"},{"$f":"S343","v":"2024-08-31"}]
[null,null,null,null,null,null,null,null,null,null,null,null,null,null,null,null,null,null,"2024-09-01",{"$f":"WEEKDAY(S344)","v":1},{"$f":"MONTH(S344)","v":9},{"$f":"YEAR(S344)","v":2024},{"$f":"T344&U344","v":"19"},{"$f":"IF(V344&W344=V343&W343,X343+1,1)","v":1},{"$f":"V344&U344&T344&X344","v":"2024911"},{"$f":"S344","v":"2024-09-01"}]
[null,null,null,null,null,null,null,null,null,null,null,null,null,null,null,null,null,null,"2024-09-08",{"$f":"WEEKDAY(S345)","v":1},{"$f":"MONTH(S345)","v":9},{"$f":"YEAR(S345)","v":2024},{"$f":"T345&U345","v":"19"},{"$f":"IF(V345&W345=V344&W344,X344+1,1)","v":2},{"$f":"V345&U345&T345&X345","v":"2024912"},{"$f":"S345","v":"2024-09-08"}]
[null,null,null,null,null,null,null,null,null,null,null,null,null,null,null,null,null,null,"2024-09-15",{"$f":"WEEKDAY(S346)","v":1},{"$f":"MONTH(S346)","v":9},{"$f":"YEAR(S346)","v":2024},{"$f":"T346&U346","v":"19"},{"$f":"IF(V346&W346=V345&W345,X345+1,1)","v":3},{"$f":"V346&U346&T346&X346","v":"2024913"},{"$f":"S346","v":"2024-09-15"}]
[null,null,null,null,null,null,null,null,null,null,null,null,null,null,null,null,null,null,"2024-09-22",{"$f":"WEEKDAY(S347)","v":1},{"$f":"MONTH(S347)","v":9},{"$f":"YEAR(S347)","v":2024},{"$f":"T347&U347","v":"19"},{"$f":"IF(V347&W347=V346&W346,X346+1,1)","v":4},{"$f":"V347&U347&T347&X347","v":"2024914"},{"$f":"S347","v":"2024-09-22"}]
[null,null,null,null,null,null,null,null,null,null,null,null,null,null,null,null,null,null,"2024-09-29",{"$f":"WEEKDAY(S348)","v":1},{"$f":"MONTH(S348)","v":9},{"$f":"YEAR(S348)","v":2024},{"$f":"T348&U348","v":"19"},{"$f":"IF(V348&W348=V347&W347,X347+1,1)","v":5},{"$f":"V348&U348&T348&X348","v":"2024915"},{"$f":"S348","v":"2024-09-29"}]
[null,null,null,null,null,null,null,null,null,null,null,null,null,null,null,null,null,null,"2024-09-02",{"$f":"WEEKDAY(S349)","v":2},{"$f":"MONTH(S349)","v":9},{"$f":"YEAR(S349)","v":2024},{"$f":"T349&U349","v":"29"},{"$f":"IF(V349&W349=V348&W348,X348+1,1)","v":1},{"$f":"V349&U349&T349&X349","v":"2024921"},{"$f":"S349","v":"2024-09-02"}]
[null,null,null,null,null,null,null,null,null,null,null,null,null,null,null,null,null,null,"2024-09-09",{"$f":"WEEKDAY(S350)","v":2},{"$f":"MONTH(S350)","v":9},{"$f":"YEAR(S350)","v":2024},{"$f":"T350&U350","v":"29"},{"$f":"IF(V350&W350=V349&W349,X349+1,1)","v":2},{"$f":"V350&U350&T350&X350","v":"2024922"},{"$f":"S350","v":"2024-09-09"}]
[null,null,null,null,null,null,null,null,null,null,null,null,null,null,null,null,null,null,"2024-09-16",{"$f":"WEEKDAY(S351)","v":2},{"$f":"MONTH(S351)","v":9},{"$f":"YEAR(S351)","v":2024},{"$f":"T351&U351","v":"29"},{"$f":"IF(V351&W351=V350&W350,X350+1,1)","v":3},{"$f":"V351&U351&T351&X351","v":"2024923"},{"$f":"S351","v":"2024-09-16"}]
[null,null,null,null,null,null,null,null,null,null,null,null,null,null,null,null,null,null,"2024-09-23",{"$f":"WEEKDAY(S352)","v":2},{"$f":"MONTH(S352)","v":9},{"$f":"YEAR(S352)","v":2024},{"$f":"T352&U352","v":"29"},{"$f":"IF(V352&W352=V351&W351,X351+1,1)","v":4},{"$f":"V352&U352&T352&X352","v":"2024924"},{"$f":"S352","v":"2024-09-23"}]
[null,null,null,null,null,null,null,null,null,null,null,null,null,null,null,null,null,null,"2024-09-30",{"$f":"WEEKDAY(S353)","v":2},{"$f":"MONTH(S353)","v":9},{"$f":"YEAR(S353)","v":2024},{"$f":"T353&U353","v":"29"},{"$f":"IF(V353&W353=V352&W352,X352+1,1)","v":5},{"$f":"V353&U353&T353&X353","v":"2024925"},{"$f":"S353","v":"2024-09-30"}]
[null,null,null,null,null,null,null,null,null,null,null,null,null,null,null,null,null,null,"2024-09-03",{"$f":"WEEKDAY(S354)","v":3},{"$f":"MONTH(S354)","v":9},{"$f":"YEAR(S354)","v":2024},{"$f":"T354&U354","v":"39"},{"$f":"IF(V354&W354=V353&W353,X353+1,1)","v":1},{"$f":"V354&U354&T354&X354","v":"2024931"},{"$f":"S354","v":"2024-09-03"}]
[null,null,null,null,null,null,null,null,null,null,null,null,null,null,null,null,null,null,"2024-09-10",{"$f":"WEEKDAY(S355)","v":3},{"$f":"MONTH(S355)","v":9},{"$f":"YEAR(S355)","v":2024},{"$f":"T355&U355","v":"39"},{"$f":"IF(V355&W355=V354&W354,X354+1,1)","v":2},{"$f":"V355&U355&T355&X355","v":"2024932"},{"$f":"S355","v":"2024-09-10"}]
[null,null,null,null,null,null,null,null,null,null,null,null,null,null,null,null,null,null,"2024-09-17",{"$f":"WEEKDAY(S356)","v":3},{"$f":"MONTH(S356)","v":9},{"$f":"YEAR(S356)","v":2024},{"$f":"T356&U356","v":"39"},{"$f":"IF(V356&W356=V355&W355,X355+1,1)","v":3},{"$f":"V356&U356&T356&X356","v":"2024933"},{"$f":"S356","v":"2024-09-17"}]
[null,null,null,null,null,null,null,null,null,null,null,null,null,null,null,null,null,null,"2024-09-24",{"$f":"WEEKDAY(S357)","v":3},{"$f":"MONTH(S357)","v":9},{"$f":"YEAR(S357)","v":2024},{"$f":"T357&U357","v":"39"},{"$f":"IF(V357&W357=V356&W356,X356+1,1)","v":4},{"$f":"V357&U357&T357&X357","v":"2024934"},{"$f":"S357","v":"2024-09-24"}]
[null,null,null,null,null,null,null,null,null,null,null,null,null,null,null,null,null,null,"2024-09-04",{"$f":"WEEKDAY(S358)","v":4},{"$f":"MONTH(S358)","v":9},{"$f":"YEAR(S358)","v":2024},{"$f":"T358&U358","v":"49"},{"$f":"IF(V358&W358=V357&W357,X357+1,1)","v":1},{"$f":"V358&U358&T358&X358","v":"2024941"},{"$f":"S358","v":"2024-09-04"}]
[null,null,null,null,null,null,null,null,null,null,null,null,null,null,null,null,null,null,"2024-09-11",{"$f":"WEEKDAY(S359)","v":4},{"$f":"MONTH(S359)","v":9},{"$f":"YEAR(S359)","v":2024},{"$f":"T359&U359","v":"49"},{"$f":"IF(V359&W359=V358&W358,X358+1,1)","v":2},{"$f":"V359&U359&T359&X359","v":"2024942"},{"$f":"S359","v":"2024-09-11"}]
[null,null,null,null,null,null,null,null,null,null,null,null,null,null,null,null,null,null,"2024-09-18",{"$f":"WEEKDAY(S360)","v":4},{"$f":"MONTH(S360)","v":9},{"$f":"YEAR(S360)","v":2024},{"$f":"T360&U360","v":"49"},{"$f":"IF(V360&W360=V359&W359,X359+1,1)","v":3},{"$f":"V360&U360&T360&X360","v":"2024943"},{"$f":"S360","v":"2024-09-18"}]
[null,null,null,null,null,null,null,null,null,null,null,null,null,null,null,null,null,null,"2024-09-25",{"$f":"WEEKDAY(S361)","v":4},{"$f":"MONTH(S361)","v":9},{"$f":"YEAR(S361)","v":2024},{"$f":"T361&U361","v":"49"},{"$f":"IF(V361&W361=V360&W360,X360+1,1)","v":4},{"$f":"V361&U361&T361&X361","v":"2024944"},{"$f":"S361","v":"2024-09-25"}]
[null,null,null,null,null,null,null,null,null,null,null,null,null,null,null,null,null,null,"2024-09-05",{"$f":"WEEKDAY(S362)","v":5},{"$f":"MONTH(S362)","v":9},{"$f":"YEAR(S362)","v":2024},{"$f":"T362&U362","v":"59"},{"$f":"IF(V362&W362=V361&W361,X361+1,1)","v":1},{"$f":"V362&U362&T362&X362","v":"2024951"},{"$f":"S362","v":"2024-09-05"}]
[null,null,null,null,null,null,null,null,null,null,null,null,null,null,null,null,null,null,"2024-09-12",{"$f":"WEEKDAY(S363)","v":5},{"$f":"MONTH(S363)","v":9},{"$f":"YEAR(S363)","v":2024},{"$f":"T363&U363","v":"59"},{"$f":"IF(V363&W363=V362&W362,X362+1,1)","v":2},{"$f":"V363&U363&T363&X363","v":"2024952"},{"$f":"S363","v":"2024-09-12"}]
[null,null,null,null,null,null,null,null,null,null,null,null,null,null,null,null,null,null,"2024-09-19",{"$f":"WEEKDAY(S364)","v":5},{"$f":"MONTH(S364)","v":9},{"$f":"YEAR(S364)","v":2024},{"$f":"T364&U364","v":"59"},{"$f":"IF(V364&W364=V363&W363,X363+1,1)","v":3},{"$f":"V364&U364&T364&X364","v":"2024953"},{"$f":"S364","v":"2024-09-19"}]
[null,null,null,null,null,null,null,null,null,null,null,null,null,null,null,null,null,null,"2024-09-26",{"$f":"WEEKDAY(S365)","v":5},{"$f":"MONTH(S365)","v":9},{"$f":"YEAR(S365)","v":2024},{"$f":"T365&U365","v":"59"},{"$f":"IF(V365&W365=V364&W364,X364+1,1)","v":4},{"$f":"V365&U365&T365&X365","v":"2024954"},{"$f":"S365","v":"2024-09-26"}]
[null,null,null,null,null,null,null,null,null,null,null,null,null,null,null,null,null,null,"2024-09-06",{"$f":"WEEKDAY(S366)","v":6},{"$f":"MONTH(S366)","v":9},{"$f":"YEAR(S366)","v":2024},{"$f":"T366&U366","v":"69"},{"$f":"IF(V366&W366=V365&W365,X365+1,1)","v":1},{"$f":"V366&U366&T366&X366","v":"2024961"},{"$f":"S366","v":"2024-09-06"}]
[null,null,null,null,null,null,null,null,null,null,null,null,null,null,null,null,null,null,"2024-09-13",{"$f":"WEEKDAY(S367)","v":6},{"$f":"MONTH(S367)","v":9},{"$f":"YEAR(S367)","v":2024},{"$f":"T367&U367","v":"69"},{"$f":"IF(V367&W367=V366&W366,X366+1,1)","v":2},{"$f":"V367&U367&T367&X367","v":"2024962"},{"$f":"S367","v":"2024-09-13"}]
[null,null,null,null,null,null,null,null,null,null,null,null,null,null,null,null,null,null,"2024-09-20",{"$f":"WEEKDAY(S368)","v":6},{"$f":"MONTH(S368)","v":9},{"$f":"YEAR(S368)","v":2024},{"$f":"T368&U368","v":"69"},{"$f":"IF(V368&W368=V367&W367,X367+1,1)","v":3},{"$f":"V368&U368&T368&X368","v":"2024963"},{"$f":"S368","v":"2024-09-20"}]
[null,null,null,null,null,null,null,null,null,null,null,null,null,null,null,null,null,null,"2024-09-27",{"$f":"WEEKDAY(S369)","v":6},{"$f":"MONTH(S369)","v":9},{"$f":"YEAR(S369)","v":2024},{"$f":"T369&U369","v":"69"},{"$f":"IF(V369&W369=V368&W368,X368+1,1)","v":4},{"$f":"V369&U369&T369&X369","v":"2024964"},{"$f":"S369","v":"2024-09-27"}]
[null,null,null,null,null,null,null,null,null,null,null,null,null,null,null,null,null,null,"2024-09-07",{"$f":"WEEKDAY(S370)","v":7},{"$f":"MONTH(S370)","v":9},{"$f":"YEAR(S370)","v":2024},{"$f":"T370&U370","v":"79"},{"$f":"IF(V370&W370=V369&W369,X369+1,1)","v":1},{"$f":"V370&U370&T370&X370","v":"2024971"},{"$f":"S370","v":"2024-09-07"}]
[null,null,null,null,null,null,null,null,null,null,null,null,null,null,null,null,null,null,"2024-09-14",{"$f":"WEEKDAY(S371)","v":7},{"$f":"MONTH(S371)","v":9},{"$f":"YEAR(S371)","v":2024},{"$f":"T371&U371","v":"79"},{"$f":"IF(V371&W371=V370&W370,X370+1,1)","v":2},{"$f":"V371&U371&T371&X371","v":"2024972"},{"$f":"S371","v":"2024-09-14"}]
[null,null,null,null,null,null,null,null,null,null,null,null,null,null,null,null,null,null,"2024-09-21",{"$f":"WEEKDAY(S372)","v":7},{"$f":"MONTH(S372)","v":9},{"$f":"YEAR(S372)","v":2024},{"$f":"T372&U372","v":"79"},{"$f":"IF(V372&W372=V371&W371,X371+1,1)","v":3},{"$f":"V372&U372&T372&X372","v":"2024973"},{"$f":"S372","v":"2024-09-21"}]
[null,null,null,null,null,null,null,null,null,null,null,null,null,null,null,null,null,null,"2024-09-28",{"$f":"WEEKDAY(S373)","v":7},{"$f":"MONTH(S373)","v":9},{"$f":"YEAR(S373)","v":2024},{"$f":"T373&U373","v":"79"},{"$f":"IF(V373&W373=V372&W372,X372+1,1)","v":4},{"$f":"V373&U373&T373&X373","v":"2024974"},{"$f":"S373","v":"2024-09-28"}]
[null,null,null,null,null,null,null,null,null,null,null,null,null,null,null,null,null,null,"2025-10-05",{"$f":"WEEKDAY(S374)","v":1},{"$f":"MONTH(S374)","v":10},{"$f":"YEAR(S374)","v":2025},{"$f":"T374&U374","v":"110"},{"$f":"IF(V374&W374=V373&W373,X373+1,1)","v":1},{"$f":"V374&U374&T374&X374","v":"20251011"},{"$f":"S374","v":"2025-10-05"}]
[null,null,null,null,null,null,null,null,null,null,null,null,null,null,null,null,null,null,"2025-10-12",{"$f":"WEEKDAY(S375)","v":1},{"$f":"MONTH(S375)","v":10},{"$f":"YEAR(S375)","v":2025},{"$f":"T375&U375","v":"110"},{"$f":"IF(V375&W375=V374&W374,X374+1,1)","v":2},{"$f":"V375&U375&T375&X375","v":"20251012"},{"$f":"S375","v":"2025-10-12"}]
[null,null,null,null,null,null,null,null,null,null,null,null,null,null,null,null,null,null,"2025-10-19",{"$f":"WEEKDAY(S376)","v":1},{"$f":"MONTH(S376)","v":10},{"$f":"YEAR(S376)","v":2025},{"$f":"T376&U376","v":"110"},{"$f":"IF(V376&W376=V375&W375,X375+1,1)","v":3},{"$f":"V376&U376&T376&X376","v":"20251013"},{"$f":"S376","v":"2025-10-19"}]
[null,null,null,null,null,null,null,null,null,null,null,null,null,null,null,null,null,null,"2025-10-26",{"$f":"WEEKDAY(S377)","v":1},{"$f":"MONTH(S377)","v":10},{"$f":"YEAR(S377)","v":2025},{"$f":"T377&U377","v":"110"},{"$f":"IF(V377&W377=V376&W376,X376+1,1)","v":4},{"$f":"V377&U377&T377&X377","v":"20251014"},{"$f":"S377","v":"2025-10-26"}]
[null,null,null,null,null,null,null,null,null,null,null,null,null,null,null,null,null,null,"2025-10-06",{"$f":"WEEKDAY(S378)","v":2},{"$f":"MONTH(S378)","v":10},{"$f":"YEAR(S378)","v":2025},{"$f":"T378&U378","v":"210"},{"$f":"IF(V378&W378=V377&W377,X377+1,1)","v":1},{"$f":"V378&U378&T378&X378","v":"20251021"},{"$f":"S378","v":"2025-10-06"}]
[null,null,null,null,null,null,null,null,null,null,null,null,null,null,null,null,null,null,"2025-10-13",{"$f":"WEEKDAY(S379)","v":2},{"$f":"MONTH(S379)","v":10},{"$f":"YEAR(S379)","v":2025},{"$f":"T379&U379","v":"210"},{"$f":"IF(V379&W379=V378&W378,X378+1,1)","v":2},{"$f":"V379&U379&T379&X379","v":"20251022"},{"$f":"S379","v":"2025-10-13"}]
[null,null,null,null,null,null,null,null,null,null,null,null,null,null,null,null,null,null,"2025-10-20",{"$f":"WEEKDAY(S380)","v":2},{"$f":"MONTH(S380)","v":10},{"$f":"YEAR(S380)","v":2025},{"$f":"T380&U380","v":"210"},{"$f":"IF(V380&W380=V379&W379,X379+1,1)","v":3},{"$f":"V380&U380&T380&X380","v":"20251023"},{"$f":"S380","v":"2025-10-20"}]
[null,null,null,null,null,null,null,null,null,null,null,null,null,null,null,null,null,null,"2025-10-27",{"$f":"WEEKDAY(S381)","v":2},{"$f":"MONTH(S381)","v":10},{"$f":"YEAR(S381)","v":2025},{"$f":"T381&U381","v":"210"},{"$f":"IF(V381&W381=V380&W380,X380+1,1)","v":4},{"$f":"V381&U381&T381&X381","v":"20251024"},{"$f":"S381","v":"2025-10-27"}]
[null,null,null,null,null,null,null,null,null,null,null,null,null,null,null,null,null,null,"2025-10-07",{"$f":"WEEKDAY(S382)","v":3},{"$f":"MONTH(S382)","v":10},{"$f":"YEAR(S382)","v":2025},{"$f":"T382&U382","v":"310"},{"$f":"IF(V382&W382=V381&W381,X381+1,1)","v":1},{"$f":"V382&U382&T382&X382","v":"20251031"},{"$f":"S382","v":"2025-10-07"}]
[null,null,null,null,null,null,null,null,null,null,null,null,null,null,null,null,null,null,"2025-10-14",{"$f":"WEEKDAY(S383)","v":3},{"$f":"MONTH(S383)","v":10},{"$f":"YEAR(S383)","v":2025},{"$f":"T383&U383","v":"310"},{"$f":"IF(V383&W383=V382&W382,X382+1,1)","v":2},{"$f":"V383&U383&T383&X383","v":"20251032"},{"$f":"S383","v":"2025-10-14"}]
[null,null,null,null,null,null,null,null,null,null,null,null,null,null,null,null,null,null,"2025-10-21",{"$f":"WEEKDAY(S384)","v":3},{"$f":"MONTH(S384)","v":10},{"$f":"YEAR(S384)","v":2025},{"$f":"T384&U384","v":"310"},{"$f":"IF(V384&W384=V383&W383,X383+1,1)","v":3},{"$f":"V384&U384&T384&X384","v":"20251033"},{"$f":"S384","v":"2025-10-21"}]
[null,null,null,null,null,null,null,null,null,null,null,null,null,null,null,null,null,null,"2025-10-28",{"$f":"WEEKDAY(S385)","v":3},{"$f":"MONTH(S385)","v":10},{"$f":"YEAR(S385)","v":2025},{"$f":"T385&U385","v":"310"},{"$f":"IF(V385&W385=V384&W384,X384+1,1)","v":4},{"$f":"V385&U385&T385&X385","v":"20251034"},{"$f":"S385","v":"2025-10-28"}]
[null,null,null,null,null,null,null,null,null,null,null,null,null,null,null,null,null,null,"2025-10-01",{"$f":"WEEKDAY(S386)","v":4},{"$f":"MONTH(S386)","v":10},{"$f":"YEAR(S386)","v":2025},{"$f":"T386&U386","v":"410"},{"$f":"IF(V386&W386=V385&W385,X385+1,1)","v":1},{"$f":"V386&U386&T386&X386","v":"20251041"},{"$f":"S386","v":"2025-10-01"}]
[null,null,null,null,null,null,null,null,null,null,null,null,null,null,null,null,null,null,"2025-10-08",{"$f":"WEEKDAY(S387)","v":4},{"$f":"MONTH(S387)","v":10},{"$f":"YEAR(S387)","v":2025},{"$f":"T387&U387","v":"410"},{"$f":"IF(V387&W387=V386&W386,X386+1,1)","v":2},{"$f":"V387&U387&T387&X387","v":"20251042"},{"$f":"S387","v":"2025-10-08"}]
[null,null,null,null,null,null,null,null,null,null,null,null,null,null,null,null,null,null,"2025-10-15",{"$f":"WEEKDAY(S388)","v":4},{"$f":"MONTH(S388)","v":10},{"$f":"YEAR(S388)","v":2025},{"$f":"T388&U388","v":"410"},{"$f":"IF(V388&W388=V387&W387,X387+1,1)","v":3},{"$f":"V388&U388&T388&X388","v":"20251043"},{"$f":"S388","v":"2025-10-15"}]
[null,null,null,null,null,null,null,null,null,null,null,null,null,null,null,null,null,null,"2025-10-22",{"$f":"WEEKDAY(S389)","v":4},{"$f":"MONTH(S389)","v":10},{"$f":"YEAR(S389)","v":2025},{"$f":"T389&U389","v":"410"},{"$f":"IF(V389&W389=V388&W388,X388+1,1)","v":4},{"$f":"V389&U389&T389&X389","v":"20251044"},{"$f":"S389","v":"2025-10-22"}]
[null,null,null,null,null,null,null,null,null,null,null,null,null,null,null,null,null,null,"2025-10-29",{"$f":"WEEKDAY(S390)","v":4},{"$f":"MONTH(S390)","v":10},{"$f":"YEAR(S390)","v":2025},{"$f":"T390&U390","v":"410"},{"$f":"IF(V390&W390=V389&W389,X389+1,1)","v":5},{"$f":"V390&U390&T390&X390","v":"20251045"},{"$f":"S390","v":"2025-10-29"}]
[null,null,null,null,null,null,null,null,null,null,null,null,null,null,null,null,null,null,"2025-10-02",{"$f":"WEEKDAY(S391)","v":5},{"$f":"MONTH(S391)","v":10},{"$f":"YEAR(S391)","v":2025},{"$f":"T391&U391","v":"510"},{"$f":"IF(V391&W391=V390&W390,X390+1,1)","v":1},{"$f":"V391&U391&T391&X391","v":"20251051"},{"$f":"S391","v":"2025-10-02"}]
[null,null,null,null,null,null,null,null,null,null,null,null,null,null,null,null,null,null,"2025-10-09",{"$f":"WEEKDAY(S392)","v":5},{"$f":"MONTH(S392)","v":10},{"$f":"YEAR(S392)","v":2025},{"$f":"T392&U392","v":"510"},{"$f":"IF(V392&W392=V391&W391,X391+1,1)","v":2},{"$f":"V392&U392&T392&X392","v":"20251052"},{"$f":"S392","v":"2025-10-09"}]
[null,null,null,null,null,null,null,null,null,null,null,null,null,null,null,null,null,null,"2025-10-16",{"$f":"WEEKDAY(S393)","v":5},{"$f":"MONTH(S393)","v":10},{"$f":"YEAR(S393)","v":2025},{"$f":"T393&U393","v":"510"},{"$f":"IF(V393&W393=V392&W392,X392+1,1)","v":3},{"$f":"V393&U393&T393&X393","v":"20251053"},{"$f":"S393","v":"2025-10-16"}]
[null,null,null,null,null,null,null,null,null,null,null,null,null,null,null,null,null,null,"2025-10-23",{"$f":"WEEKDAY(S394)","v":5},{"$f":"MONTH(S394)","v":10},{"$f":"YEAR(S394)","v":2025},{"$f":"T394&U394","v":"510"},{"$f":"IF(V394&W394=V393&W393,X393+1,1)","v":4},{"$f":"V394&U394&T394&X394","v":"20251054"},{"$f":"S394","v":"2025-10-23"}]
[null,null,null,null,null,null,null,null,null,null,null,null,null,null,null,null,null,null,"2025-10-30",{"$f":"WEEKDAY(S395)","v":5},{"$f":"MONTH(S395)","v":10},{"$f":"YEAR(S395)","v":2025},{"$f":"T395&U395","v":"510"},{"$f":"IF(V395&W395=V394&W394,X394+1,1)","v":5},{"$f":"V395&U395&T395&X395","v":"20251055"},{"$f":"S395","v":"2025-10-30"}]
[null,null,null,null,null,null,null,null,null,null,null,null,null,null,null,null,null,null,"2025-10-03",{"$f":"WEEKDAY(S396)","v":6},{"$f":"MONTH(S396)","v":10},{"$f":"YEAR(S396)","v":2025},{"$f":"T396&U396","v":"610"},{"$f":"IF(V396&W396=V395&W395,X395+1,1)","v":1},{"$f":"V396&U396&T396&X396","v":"20251061"},{"$f":"S396","v":"2025-10-03"}]
[null,null,null,null,null,null,null,null,null,null,null,null,null,null,null,null,null,null,"2025-10-10",{"$f":"WEEKDAY(S397)","v":6},{"$f":"MONTH(S397)","v":10},{"$f":"YEAR(S397)","v":2025},{"$f":"T397&U397","v":"610"},{"$f":"IF(V397&W397=V396&W396,X396+1,1)","v":2},{"$f":"V397&U397&T397&X397","v":"20251062"},{"$f":"S397","v":"2025-10-10"}]
[null,null,null,null,null,null,null,null,null,null,null,null,null,null,null,null,null,null,"2025-10-17",{"$f":"WEEKDAY(S398)","v":6},{"$f":"MONTH(S398)","v":10},{"$f":"YEAR(S398)","v":2025},{"$f":"T398&U398","v":"610"},{"$f":"IF(V398&W398=V397&W397,X397+1,1)","v":3},{"$f":"V398&U398&T398&X398","v":"20251063"},{"$f":"S398","v":"2025-10-17"}]
[null,null,null,null,null,null,null,null,null,null,null,null,null,null,null,null,null,null,"2025-10-24",{"$f":"WEEKDAY(S399)","v":6},{"$f":"MONTH(S399)","v":10},{"$f":"YEAR(S399)","v":2025},{"$f":"T399&U399","v":"610"},{"$f":"IF(V399&W399=V398&W398,X398+1,1)","v":4},{"$f":"V399&U399&T399&X399","v":"20251064"},{"$f":"S399","v":"2025-10-24"}]
[null,null,null,null,null,null,null,null,null,null,null,null,null,null,null,null,null,null,"2025-10-31",{"$f":"WEEKDAY(S400)","v":6},{"$f":"MONTH(S400)","v":10},{"$f":"YEAR(S400)","v":2025},{"$f":"T400&U400","v":"610"},{"$f":"IF(V400&W400=V399&W399,X399+1,1)","v":5},{"$f":"V400&U400&T400&X400","v":"20251065"},{"$f":"S400","v":"2025-10-31"}]
[null,null,null,null,null,null,null,null,null,null,null,null,null,null,null,null,null,null,"2025-10-04",{"$f":"WEEKDAY(S401)","v":7},{"$f":"MONTH(S401)","v":10},{"$f":"YEAR(S401)","v":2025},{"$f":"T401&U401","v":"710"},{"$f":"IF(V401&W401=V400&W400,X400+1,1)","v":1},{"$f":"V401&U401&T401&X401","v":"20251071"},{"$f":"S401","v":"2025-10-04"}]
[null,null,null,null,null,null,null,null,null,null,null,null,null,null,null,null,null,null,"2025-10-11",{"$f":"WEEKDAY(S402)","v":7},{"$f":"MONTH(S402)","v":10},{"$f":"YEAR(S402)","v":2025},{"$f":"T402&U402","v":"710"},{"$f":"IF(V402&W402=V401&W401,X401+1,1)","v":2},{"$f":"V402&U402&T402&X402","v":"20251072"},{"$f":"S402","v":"2025-10-11"}]
[null,null,null,null,null,null,null,null,null,null,null,null,null,null,null,null,null,null,"2025-10-18",{"$f":"WEEKDAY(S403)","v":7},{"$f":"MONTH(S403)","v":10},{"$f":"YEAR(S403)","v":2025},{"$f":"T403&U403","v":"710"},{"$f":"IF(V403&W403=V402&W402,X402+1,1)","v":3},{"$f":"V403&U403&T403&X403","v":"20251073"},{"$f":"S403","v":"2025-10-18"}]
[null,null,null,null,null,null,null,null,null,null,null,null,null,null,null,null,null,null,"2025-10-25",{"$f":"WEEKDAY(S404)","v":7},{"$f":"MONTH(S404)","v":10},{"$f":"YEAR(S404)","v":2025},{"$f":"T404&U404","v":"710"},{"$f":"IF(V404&W404=V403&W403,X403+1,1)","v":4},{"$f":"V404&U404&T404&X404","v":"20251074"},{"$f":"S404","v":"2025-10-25"}]
[null,null,null,null,null,null,null,null,null,null,null,null,null,null,null,null,null,null,"2025-01-05",{"$f":"WEEKDAY(S405)","v":1},{"$f":"MONTH(S405)","v":1},{"$f":"YEAR(S405)","v":2025},{"$f":"T405&U405","v":"11"},{"$f":"IF(V405&W405=V404&W404,X404+1,1)","v":1},{"$f":"V405&U405&T405&X405","v":"2025111"},{"$f":"S405","v":"2025-01-05"}]
[null,null,null,null,null,null,null,null,null,null,null,null,null,null,null,null,null,null,"2025-11-02",{"$f":"WEEKDAY(S406)","v":1},{"$f":"MONTH(S406)","v":11},{"$f":"YEAR(S406)","v":2025},{"$f":"T406&U406","v":"111"},{"$f":"IF(V406&W406=V405&W405,X405+1,1)","v":1},{"$f":"V406&U406&T406&X406","v":"20251111"},{"$f":"S406","v":"2025-11-02"}]
[null,null,null,null,null,null,null,null,null,null,null,null,null,null,null,null,null,null,"2025-11-09",{"$f":"WEEKDAY(S407)","v":1},{"$f":"MONTH(S407)","v":11},{"$f":"YEAR(S407)","v":2025},{"$f":"T407&U407","v":"111"},{"$f":"IF(V407&W407=V406&W406,X406+1,1)","v":2},{"$f":"V407&U407&T407&X407","v":"20251112"},{"$f":"S407","v":"2025-11-09"}]
[null,null,null,null,null,null,null,null,null,null,null,null,null,null,null,null,null,null,"2025-11-16",{"$f":"WEEKDAY(S408)","v":1},{"$f":"MONTH(S408)","v":11},{"$f":"YEAR(S408)","v":2025},{"$f":"T408&U408","v":"111"},{"$f":"IF(V408&W408=V407&W407,X407+1,1)","v":3},{"$f":"V408&U408&T408&X408","v":"20251113"},{"$f":"S408","v":"2025-11-16"}]
[null,null,null,null,null,null,null,null,null,null,null,null,null,null,null,null,null,null,"2025-11-23",{"$f":"WEEKDAY(S409)","v":1},{"$f":"MONTH(S409)","v":11},{"$f":"YEAR(S409)","v":2025},{"$f":"T409&U409","v":"111"},{"$f":"IF(V409&W409=V408&W408,X408+1,1)","v":4},{"$f":"V409&U409&T409&X409","v":"20251114"},{"$f":"S409","v":"2025-11-23"}]
[null,null,null,null,null,null,null,null,null,null,null,null,null,null,null,null,null,null,"2025-11-30",{"$f":"WEEKDAY(S410)","v":1},{"$f":"MONTH(S410)","v":11},{"$f":"YEAR(S410)","v":2025},{"$f":"T410&U410","v":"111"},{"$f":"IF(V410&W410=V409&W409,X409+1,1)","v":5},{"$f":"V410&U410&T410&X410","v":"20251115"},{"$f":"S410","v":"2025-11-30"}]
[null,null,null,null,null,null,null,null,null,null,null,null,null,null,null,null,null,null,"2025-01-12",{"$f":"WEEKDAY(S411)","v":1},{"$f":"MONTH(S411)","v":1},{"$f":"YEAR(S411)","v":2025},{"$f":"T411&U411","v":"11"},{"$f":"IF(V411&W411=V410&W410,X410+1,1)","v":1},{"$f":"V411&U411&T411&X411","v":"2025111"},{"$f":"S411","v":"2025-01-12"}]
[null,null,null,null,null,null,null,null,null,null,null,null,null,null,null,null,null,null,"2025-11-03",{"$f":"WEEKDAY(S412)","v":2},{"$f":"MONTH(S412)","v":11},{"$f":"YEAR(S412)","v":2025},{"$f":"T412&U412","v":"211"},{"$f":"IF(V412&W412=V411&W411,X411+1,1)","v":1},{"$f":"V412&U412&T412&X412","v":"20251121"},{"$f":"S412","v":"2025-11-03"}]
[null,null,null,null,null,null,null,null,null,null,null,null,null,null,null,null,null,null,"2025-11-10",{"$f":"WEEKDAY(S413)","v":2},{"$f":"MONTH(S413)","v":11},{"$f":"YEAR(S413)","v":2025},{"$f":"T413&U413","v":"211"},{"$f":"IF(V413&W413=V412&W412,X412+1,1)","v":2},{"$f":"V413&U413&T413&X413","v":"20251122"},{"$f":"S413","v":"2025-11-10"}]
[null,null,null,null,null,null,null,null,null,null,null,null,null,null,null,null,null,null,"2025-11-17",{"$f":"WEEKDAY(S414)","v":2},{"$f":"MONTH(S414)","v":11},{"$f":"YEAR(S414)","v":2025},{"$f":"T414&U414","v":"211"},{"$f":"IF(V414&W414=V413&W413,X413+1,1)","v":3},{"$f":"V414&U414&T414&X414","v":"20251123"},{"$f":"S414","v":"2025-11-17"}]
[null,null,null,null,null,null,null,null,null,null,null,null,null,null,null,null,null,null,"2025-11-24",{"$f":"WEEKDAY(S415)","v":2},{"$f":"MONTH(S415)","v":11},{"$f":"YEAR(S415)","v":2025},{"$f":"T415&U415","v":"211"},{"$f":"IF(V415&W415=V414&W414,X414+1,1)","v":4},{"$f":"V415&U415&T415&X415","v":"20251124"},{"$f":"S415","v":"2025-11-24"}]
[null,null,null,null,null,null,null,null,null,null,null,null,null,null,null,null,null,null,"2025-01-19",{"$f":"WEEKDAY(S416)","v":1},{"$f":"MONTH(S416)","v":1},{"$f":"YEAR(S416)","v":2025},{"$f":"T416&U416","v":"11"},{"$f":"IF(V416&W416=V415&W415,X415+1,1)","v":1},{"$f":"V416&U416&T416&X416","v":"2025111"},{"$f":"S416","v":"2025-01-19"}]
[null,null,null,null,null,null,null,null,null,null,null,null,null,null,null,null,null,null,"2025-11-04",{"$f":"WEEKDAY(S417)","v":3},{"$f":"MONTH(S417)","v":11},{"$f":"YEAR(S417)","v":2025},{"$f":"T417&U417","v":"311"},{"$f":"IF(V417&W417=V416&W416,X416+1,1)","v":1},{"$f":"V417&U417&T417&X417","v":"20251131"},{"$f":"S417","v":"2025-11-04"}]
[null,null,null,null,null,null,null,null,null,null,null,null,null,null,null,null,null,null,"2025-11-11",{"$f":"WEEKDAY(S418)","v":3},{"$f":"MONTH(S418)","v":11},{"$f":"YEAR(S418)","v":2025},{"$f":"T418&U418","v":"311"},{"$f":"IF(V418&W418=V417&W417,X417+1,1)","v":2},{"$f":"V418&U418&T418&X418","v":"20251132"},{"$f":"S418","v":"2025-11-11"}]
[null,null,null,null,null,null,null,null,null,null,null,null,null,null,null,null,null,null,"2025-11-18",{"$f":"WEEKDAY(S419)","v":3},{"$f":"MONTH(S419)","v":11},{"$f":"YEAR(S419)","v":2025},{"$f":"T419&U419","v":"311"},{"$f":"IF(V419&W419=V418&W418,X418+1,1)","v":3},{"$f":"V419&U419&T419&X419","v":"20251133"},{"$f":"S419","v":"2025-11-18"}]
[null,null,null,null,null,null,null,null,null,null,null,null,null,null,null,null,null,null,"2025-11-25",{"$f":"WEEKDAY(S420)","v":3},{"$f":"MONTH(S420)","v":11},{"$f":"YEAR(S420)","v":2025},{"$f":"T420&U420","v":"311"},{"$f":"IF(V420&W420=V419&W419,X419+1,1)","v":4},{"$f":"V420&U420&T420&X420","v":"20251134"},{"$f":"S420","v":"2025-11-25"}]
[null,null,null,null,null,null,null,null,null,null,null,null,null,null,null,null,null,null,"2025-01-26",{"$f":"WEEKDAY(S421)","v":1},{"$f":"MONTH(S421)","v":1},{"$f":"YEAR(S421)","v":2025},{"$f":"T421&U421","v":"11"},{"$f":"IF(V421&W421=V420&W420,X420+1,1)","v":1},{"$f":"V421&U421&T421&X421","v":"2025111"},{"$f":"S421","v":"2025-01-26"}]
[null,null,null,null,null,null,null,null,null,null,null,null,null,null,null,null,null,null,"2025-11-05",{"$f":"WEEKDAY(S422)","v":4},{"$f":"MONTH(S422)","v":11},{"$f":"YEAR(S422)","v":2025},{"$f":"T422&U422","v":"411"},{"$f":"IF(V422&W422=V421&W421,X421+1,1)","v":1},{"$f":"V422&U422&T422&X422","v":"20251141"},{"$f":"S422","v":"2025-11-05"}]
[null,null,null,null,null,null,null,null,null,null,null,null,null,null,null,null,null,null,"2025-11-12",{"$f":"WEEKDAY(S423)","v":4},{"$f":"MONTH(S423)","v":11},{"$f":"YEAR(S423)","v":2025},{"$f":"T423&U423","v":"411"},{"$f":"IF(V423&W423=V422&W422,X422+1,1)","v":2},{"$f":"V423&U423&T423&X423","v":"20251142"},{"$f":"S423","v":"2025-11-12"}]
[null,null,null,null,null,null,null,null,null,null,null,null,null,null,null,null,null,null,"2025-11-19",{"$f":"WEEKDAY(S424)","v":4},{"$f":"MONTH(S424)","v":11},{"$f":"YEAR(S424)","v":2025},{"$f":"T424&U424","v":"411"},{"$f":"IF(V424&W424=V423&W423,X423+1,1)","v":3},{"$f":"V424&U424&T424&X424","v":"20251143"},{"$f":"S424","v":"2025-11-19"}]
[null,null,null,null,null,null,null,null,null,null,null,null,null,null,null,null,null,null,"2025-11-26",{"$f":"WEEKDAY(S425)","v":4},{"$f":"MONTH(S425)","v":11},{"$f":"YEAR(S425)","v":2025},{"$f":"T425&U425","v":"411"},{"$f":"IF(V425&W425=V424&W424,X424+1,1)","v":4},{"$f":"V425&U425&T425&X425","v":"20251144"},{"$f":"S425","v":"2025-11-26"}]
[null,null,null,null,null,null,null,null,null,null,null,null,null,null,null,null,null,null,"2025-11-06",{"$f":"WEEKDAY(S426)","v":5},{"$f":"MONTH(S426)","v":11},{"$f":"YEAR(S426)","v":2025},{"$f":"T426&U426","v":"511"},{"$f":"IF(V426&W426=V425&W425,X425+1,1)","v":1},{"$f":"V426&U426&T426&X426","v":"20251151"},{"$f":"S426","v":"2025-11-06"}]
[null,null,null,null,null,null,null,null,null,null,null,null,null,null,null,null,null,null,"2025-11-13",{"$f":"WEEKDAY(S427)","v":5},{"$f":"MONTH(S427)","v":11},{"$f":"YEAR(S427)","v":2025},{"$f":"T427&U427","v":"511"},{"$f":"IF(V427&W427=V426&W426,X426+1,1)","v":2},{"$f":"V427&U427&T427&X427","v":"20251152"},{"$f":"S427","v":"2025-11-13"}]
[null,null,null,null,null,null,null,null,null,null,null,null,null,null,null,null,null,null,"2025-11-20",{"$f":"WEEKDAY(S428)","v":5},{"$f":"MONTH(S428)","v":11},{"$f":"YEAR(S428)","v":2025},{"$f":"T428&U428","v":"511"},{"$f":"IF(V428&W428=V427&W427,X427+1,1)","v":3},{"$f":"V428&U428&T428&X428","v":"20251153"},{"$f":"S428","v":"2025-11-20"}]
[null,null,null,null,null,null,null,null,null,null,null,null,null,null,null,null,null,null,"2025-11-27",{"$f":"WEEKDAY(S429)","v":5},{"$f":"MONTH(S429)","v":11},{"$f":"YEAR(S429)","v":2025},{"$f":"T429&U429","v":"511"},{"$f":"IF(V429&W429=V428&W428,X428+1,1)","v":4},{"$f":"V429&U429&T429&X429","v":"20251154"},{"$f":"S429","v":"2025-11-27"}]
[null,null,null,null,null,null,null,null,null,null,null,null,null,null,null,null,null,null,"2025-11-07",{"$f":"WEEKDAY(S430)","v":6},{"$f":"MONTH(S430)","v":11},{"$f":"YEAR(S430)","v":2025},{"$f":"T430&U430","v":"611"},{"$f":"IF(V430&W430=V429&W429,X429+1,1)","v":1},{"$f":"V430&U430&T430&X430","v":"20251161"},{"$f":"S430","v":"2025-11-07"}]
[null,null,null,null,null,null,null,null,null,null,null,null,null,null,null,null,null,null,"2025-11-14",{"$f":"WEEKDAY(S431)","v":6},{"$f":"MONTH(S431)","v":11},{"$f":"YEAR(S431)","v":2025},{"$f":"T431&U431","v":"611"},{"$f":"IF(V431&W431=V430&W430,X430+1,1)","v":2},{"$f":"V431&U431&T431&X431","v":"20251162"},{"$f":"S431","v":"2025-11-14"}]
[null,null,null,null,null,null,null,null,null,null,null,null,null,null,null,null,null,null,"2025-11-21",{"$f":"WEEKDAY(S432)","v":6},{"$f":"MONTH(S432)","v":11},{"$f":"YEAR(S432)","v":2025},{"$f":"T432&U432","v":"611"},{"$f":"IF(V432&W432=V431&W431,X431+1,1)","v":3},{"$f":"V432&U432&T432&X432","v":"20251163"},{"$f":"S432","v":"2025-11-21"}]
[null,null,null,null,null,null,null,null,null,null,null,null,null,null,null,null,null,null,"2025-11-28",{"$f":"WEEKDAY(S433)","v":6},{"$f":"MONTH(S433)","v":11},{"$f":"YEAR(S433)","v":2025},{"$f":"T433&U433","v":"611"},{"$f":"IF(V433&W433=V432&W432,X432+1,1)","v":4},{"$f":"V433&U433&T433&X433","v":"20251164"},{"$f":"S433","v":"2025-11-28"}]
[null,null,null,null,null,null,null,null,null,null,null,null,null,null,null,null,null,null,"2025-11-01",{"$f":"WEEKDAY(S434)","v":7},{"$f":"MONTH(S434)","v":11},{"$f":"YEAR(S434)","v":2025},{"$f":"T434&U434","v":"711"},{"$f":"IF(V434&W434=V433&W433,X433+1,1)","v":1},{"$f":"V434&U434&T434&X434","v":"20251171"},{"$f":"S434","v":"2025-11-01"}]
[null,null,null,null,null,null,null,null,null,null,null,null,null,null,null,null,null,null,"2025-11-08",{"$f":"WEEKDAY(S435)","v":7},{"$f":"MONTH(S435)","v":11},{"$f":"YEAR(S435)","v":2025},{"$f":"T435&U435","v":"711"},{"$f":"IF(V435&W435=V434&W434,X434+1,1)","v":2},{"$f":"V435&U435&T435&X435","v":"20251172"},{"$f":"S435","v":"2025-11-08"}]
[null,null,null,null,null,null,null,null,null,null,null,null,null,null,null,null,null,null,"2025-11-15",{"$f":"WEEKDAY(S436)","v":7},{"$f":"MONTH(S436)","v":11},{"$f":"YEAR(S436)","v":2025},{"$f":"T436&U436","v":"711"},{"$f":"IF(V436&W436=V435&W435,X435+1,1)","v":3},{"$f":"V436&U436&T436&X436","v":"20251173"},{"$f":"S436","v":"2025-11-15"}]
[null,null,null,null,null,null,null,null,null,null,null,null,null,null,null,null,null,null,"2025-11-22",{"$f":"WEEKDAY(S437)","v":7},{"$f":"MONTH(S437)","v":11},{"$f":"YEAR(S437)","v":2025},{"$f":"T437&U437","v":"711"},{"$f":"IF(V437&W437=V436&W436,X436+1,1)","v":4},{"$f":"V437&U437&T437&X437","v":"20251174"},{"$f":"S437","v":"2025-11-22"}]
[null,null,null,null,null,null,null,null,null,null,null,null,null,null,null,null,null,null,"2025-11-29",{"$f":"WEEKDAY(S438)","v":7},{"$f":"MONTH(S438)","v":11},{"$f":"YEAR(S438)","v":2025},{"$f":"T438&U438","v":"711"},{"$f":"IF(V438&W438=V437&W437,X437+1,1)","v":5},{"$f":"V438&U438&T438&X438","v":"20251175"},{"$f":"S438","v":"2025-11-29"}]
[null,null,null,null,null,null,null,null,null,null,null,null,null,null,null,null,null,null,"2025-01-06",{"$f":"WEEKDAY(S439)","v":2},{"$f":"MONTH(S439)","v":1},{"$f":"YEAR(S439)","v":2025},{"$f":"T439&U439","v":"21"},{"$f":"IF(V439&W439=V438&W438,X438+1,1)","v":1},{"$f":"V439&U439&T439&X439","v":"2025121"},{"$f":"S439","v":"2025-01-06"}]
[null,null,null,null,null,null,null,null,null,null,null,null,null,null,null,null,null,null,"2025-12-07",{"$f":"WEEKDAY(S440)","v":1},{"$f":"MONTH(S440)","v":12},{"$f":"YEAR(S440)","v":2025},{"$f":"T440&U440","v":"112"},{"$f":"IF(V440&W440=V439&W439,X439+1,1)","v":1},{"$f":"V440&U440&T440&X440","v":"20251211"},{"$f":"S440","v":"2025-12-07"}]
[null,null,null,null,null,null,null,null,null,null,null,null,null,null,null,null,null,null,"2025-12-14",{"$f":"WEEKDAY(S441)","v":1},{"$f":"MONTH(S441)","v":12},{"$f":"YEAR(S441)","v":2025},{"$f":"T441&U441","v":"112"},{"$f":"IF(V441&W441=V440&W440,X440+1,1)","v":2},{"$f":"V441&U441&T441&X441","v":"20251212"},{"$f":"S441","v":"2025-12-14"}]
[null,null,null,null,null,null,null,null,null,null,null,null,null,null,null,null,null,null,"2025-12-21",{"$f":"WEEKDAY(S442)","v":1},{"$f":"MONTH(S442)","v":12},{"$f":"YEAR(S442)","v":2025},{"$f":"T442&U442","v":"112"},{"$f":"IF(V442&W442=V441&W441,X441+1,1)","v":3},{"$f":"V442&U442&T442&X442","v":"20251213"},{"$f":"S442","v":"2025-12-21"}]
[null,null,null,null,null,null,null,null,null,null,null,null,null,null,null,null,null,null,"2025-12-28",{"$f":"WEEKDAY(S443)","v":1},{"$f":"MONTH(S443)","v":12},{"$f":"YEAR(S443)","v":2025},{"$f":"T443&U443","v":"112"},{"$f":"IF(V443&W443=V442&W442,X442+1,1)","v":4},{"$f":"V443&U443&T443&X443","v":"20251214"},{"$f":"S443","v":"2025-12-28"}]
[null,null,null,null,null,null,null,null,null,null,null,null,null,null,null,null,null,null,"2025-01-13",{"$f":"WEEKDAY(S444)","v":2},{"$f":"MONTH(S444)","v":1},{"$f":"YEAR(S444)","v":2025},{"$f":"T444&U444","v":"21"},{"$f":"IF(V444&W444=V443&W443,X443+1,1)","v":1},{"$f":"V444&U444&T444&X444","v":"2025121"},{"$f":"S444","v":"2025-01-13"}]
[null,null,null,null,null,null,null,null,null,null,null,null,null,null,null,null,null,null,"2025-12-01",{"$f":"WEEKDAY(S445)","v":2},{"$f":"MONTH(S445)","v":12},{"$f":"YEAR(S445)","v":2025},{"$f":"T445&U445","v":"212"},{"$f":"IF(V445&W445=V444&W444,X444+1,1)","v":1},{"$f":"V445&U445&T445&X445","v":"20251221"},{"$f":"S445","v":"2025-12-01"}]
[null,null,null,null,null,null,null,null,null,null,null,null,null,null,null,null,null,null,"2025-12-08",{"$f":"WEEKDAY(S446)","v":2},{"$f":"MONTH(S446)","v":12},{"$f":"YEAR(S446)","v":2025},{"$f":"T446&U446","v":"212"},{"$f":"IF(V446&W446=V445&W445,X445+1,1)","v":2},{"$f":"V446&U446&T446&X446","v":"20251222"},{"$f":"S446","v":"2025-12-08"}]
[null,null,null,null,null,null,null,null,null,null,null,null,null,null,null,null,null,null,"2025-12-15",{"$f":"WEEKDAY(S447)","v":2},{"$f":"MONTH(S447)","v":12},{"$f":"YEAR(S447)","v":2025},{"$f":"T447&U447","v":"212"},{"$f":"IF(V447&W447=V446&W446,X446+1,1)","v":3},{"$f":"V447&U447&T447&X447","v":"20251223"},{"$f":"S447","v":"2025-12-15"}]
[null,null,null,null,null,null,null,null,null,null,null,null,null,null,null,null,null,null,"2025-12-22",{"$f":"WEEKDAY(S448)","v":2},{"$f":"MONTH(S448)","v":12},{"$f":"YEAR(S448)","v":2025},{"$f":"T448&U448","v":"212"},{"$f":"IF(V448&W448=V447&W447,X447+1,1)","v":4},{"$f":"V448&U448&T448&X448","v":"20251224"},{"$f":"S448","v":"2025-12-22"}]
[null,null,null,null,null,null,null,null,null,null,null,null,null,null,null,null,null,null,"2025-12-29",{"$f":"WEEKDAY(S449)","v":2},{"$f":"MONTH(S449)","v":12},{"$f":"YEAR(S449)","v":2025},{"$f":"T449&U449","v":"212"},{"$f":"IF(V449&W449=V448&W448,X448+1,1)","v":5},{"$f":"V449&U449&T449&X449","v":"20251225"},{"$f":"S449","v":"2025-12-29"}]
[null,null,null,null,null,null,null,null,null,null,null,null,null,null,null,null,null,null,"2025-01-20",{"$f":"WEEKDAY(S450)","v":2},{"$f":"MONTH(S450)","v":1},{"$f":"YEAR(S450)","v":2025},{"$f":"T450&U450","v":"21"},{"$f":"IF(V450&W450=V449&W449,X449+1,1)","v":1},{"$f":"V450&U450&T450&X450","v":"2025121"},{"$f":"S450","v":"2025-01-20"}]
[null,null,null,null,null,null,null,null,null,null,null,null,null,null,null,null,null,null,"2025-12-02",{"$f":"WEEKDAY(S451)","v":3},{"$f":"MONTH(S451)","v":12},{"$f":"YEAR(S451)","v":2025},{"$f":"T451&U451","v":"312"},{"$f":"IF(V451&W451=V450&W450,X450+1,1)","v":1},{"$f":"V451&U451&T451&X451","v":"20251231"},{"$f":"S451","v":"2025-12-02"}]
[null,null,null,null,null,null,null,null,null,null,null,null,null,null,null,null,null,null,"2025-12-09",{"$f":"WEEKDAY(S452)","v":3},{"$f":"MONTH(S452)","v":12},{"$f":"YEAR(S452)","v":2025},{"$f":"T452&U452","v":"312"},{"$f":"IF(V452&W452=V451&W451,X451+1,1)","v":2},{"$f":"V452&U452&T452&X452","v":"20251232"},{"$f":"S452","v":"2025-12-09"}]
[null,null,null,null,null,null,null,null,null,null,null,null,null,null,null,null,null,null,"2025-12-16",{"$f":"WEEKDAY(S453)","v":3},{"$f":"MONTH(S453)","v":12},{"$f":"YEAR(S453)","v":2025},{"$f":"T453&U453","v":"312"},{"$f":"IF(V453&W453=V452&W452,X452+1,1)","v":3},{"$f":"V453&U453&T453&X453","v":"20251233"},{"$f":"S453","v":"2025-12-16"}]
[null,null,null,null,null,null,null,null,null,null,null,null,null,null,null,null,null,null,"2025-12-23",{"$f":"WEEKDAY(S454)","v":3},{"$f":"MONTH(S454)","v":12},{"$f":"YEAR(S454)","v":2025},{"$f":"T454&U454","v":"312"},{"$f":"IF(V454&W454=V453&W453,X453+1,1)","v":4},{"$f":"V454&U454&T454&X454","v":"20251234"},{"$f":"S454","v":"2025-12-23"}]
[null,null,null,null,null,null,null,null,null,null,null,null,null,null,null,null,null,null,"2025-12-30",{"$f":"WEEKDAY(S455)","v":3},{"$f":"MONTH(S455)","v":12},{"$f":"YEAR(S455)","v":2025},{"$f":"T455&U455","v":"312"},{"$f":"IF(V455&W455=V454&W454,X454+1,1)","v":5},{"$f":"V455&U455&T455&X455","v":"20251235"},{"$f":"S455","v":"2025-12-30"}]
[null,null,null,null,null,null,null,null,null,null,null,null,null,null,null,null,null,null,"2025-01-27",{"$f":"WEEKDAY(S456)","v":2},{"$f":"MONTH(S456)","v":1},{"$f":"YEAR(S456)","v":2025},{"$f":"T456&U456","v":"21"},{"$f":"IF(V456&W456=V455&W455,X455+1,1)","v":1},{"$f":"V456&U456&T456&X456","v":"2025121"},{"$f":"S456","v":"2025-01-27"}]
[null,null,null,null,null,null,null,null,null,null,null,null,null,null,null,null,null,null,"2025-12-03",{"$f":"WEEKDAY(S457)","v":4},{"$f":"MONTH(S457)","v":12},{"$f":"YEAR(S457)","v":2025},{"$f":"T457&U457","v":"412"},{"$f":"IF(V457&W457=V456&W456,X456+1,1)","v":1},{"$f":"V457&U457&T457&X457","v":"20251241"},{"$f":"S457","v":"2025-12-03"}]
[null,null,null,null,null,null,null,null,null,null,null,null,null,null,null,null,null,null,"2025-12-10",{"$f":"WEEKDAY(S458)","v":4},{"$f":"MONTH(S458)","v":12},{"$f":"YEAR(S458)","v":2025},{"$f":"T458&U458","v":"412"},{"$f":"IF(V458&W458=V457&W457,X457+1,1)","v":2},{"$f":"V458&U458&T458&X458","v":"20251242"},{"$f":"S458","v":"2025-12-10"}]
[null,null,null,null,null,null,null,null,null,null,null,null,null,null,null,null,null,null,"2025-12-17",{"$f":"WEEKDAY(S459)","v":4},{"$f":"MONTH(S459)","v":12},{"$f":"YEAR(S459)","v":2025},{"$f":"T459&U459","v":"412"},{"$f":"IF(V459&W459=V458&W458,X458+1,1)","v":3},{"$f":"V459&U459&T459&X459","v":"20251243"},{"$f":"S459","v":"2025-12-17"}]
[null,null,null,null,null,null,null,null,null,null,null,null,null,null,null,null,null,null,"2025-12-24",{"$f":"WEEKDAY(S460)","v":4},{"$f":"MONTH(S460)","v":12},{"$f":"YEAR(S460)","v":2025},{"$f":"T460&U460","v":"412"},{"$f":"IF(V460&W460=V459&W459,X459+1,1)","v":4},{"$f":"V460&U460&T460&X460","v":"20251244"},{"$f":"S460","v":"2025-12-24"}]
[null,null,null,null,null,null,null,null,null,null,null,null,null,null,null,null,null,null,"2025-12-31",{"$f":"WEEKDAY(S461)","v":4},{"$f":"MONTH(S461)","v":12},{"$f":"YEAR(S461)","v":2025},{"$f":"T461&U461","v":"412"},{"$f":"IF(V461&W461=V460&W460,X460+1,1)","v":5},{"$f":"V461&U461&T461&X461","v":"20251245"},{"$f":"S461","v":"2025-12-31"}]
[null,null,null,null,null,null,null,null,null,null,null,null,null,null,null,null,null,null,"2025-12-04",{"$f":"WEEKDAY(S462)","v":5},{"$f":"MONTH(S462)","v":12},{"$f":"YEAR(S462)","v":2025},{"$f":"T462&U462","v":"512"},{"$f":"IF(V462&W462=V461&W461,X461+1,1)","v":1},{"$f":"V462&U462&T462&X462","v":"20251251"},{"$f":"S462","v":"2025-12-04"}]
[null,null,null,null,null,null,null,null,null,null,null,null,null,null,null,null,null,null,"2025-12-11",{"$f":"WEEKDAY(S463)","v":5},{"$f":"MONTH(S463)","v":12},{"$f":"YEAR(S463)","v":2025},{"$f":"T463&U463","v":"512"},{"$f":"IF(V463&W463=V462&W462,X462+1,1)","v":2},{"$f":"V463&U463&T463&X463","v":"20251252"},{"$f":"S463","v":"2025-12-11"}]
[null,null,null,null,null,null,null,null,null,null,null,null,null,null,null,null,null,null,"2025-12-18",{"$f":"WEEKDAY(S464)","v":5},{"$f":"MONTH(S464)","v":12},{"$f":"YEAR(S464)","v":2025},{"$f":"T464&U464","v":"512"},{"$f":"IF(V464&W464=V463&W463,X463+1,1)","v":3},{"$f":"V464&U464&T464&X464","v":"20251253"},{"$f":"S464","v":"2025-12-18"}]
[null,null,null,null,null,null,null,null,null,null,null,null,null,null,null,null,null,null,"2025-12-25",{"$f":"WEEKDAY(S465)","v":5},{"$f":"MONTH(S465)","v":12},{"$f":"YEAR(S465)","v":2025},{"$f":"T465&U465","v":"512"},{"$f":"IF(V465&W465=V464&W464,X464+1,1)","v":4},{"$f":"V465&U465&T465&X465","v":"20251254"},{"$f":"S465","v":"2025-12-25"}]
[null,null,null,null,null,null,null,null,null,null,null,null,null,null,null,null,null,null,"2025-12-05",{"$f":"WEEKDAY(S466)","v":6},{"$f":"MONTH(S466)","v":12},{"$f":"YEAR(S466)","v":2025},{"$f":"T466&U466","v":"612"},{"$f":"IF(V466&W466=V465&W465,X465+1,1)","v":1},{"$f":"V466&U466&T466&X466","v":"20251261"},{"$f":"S466","v":"2025-12-05"}]
[null,null,null,null,null,null,null,null,null,null,null,null,null,null,null,null,null,null,"2025-12-12",{"$f":"WEEKDAY(S467)","v":6},{"$f":"MONTH(S467)","v":12},{"$f":"YEAR(S467)","v":2025},{"$f":"T467&U467","v":"612"},{"$f":"IF(V467&W467=V466&W466,X466+1,1)","v":2},{"$f":"V467&U467&T467&X467","v":"20251262"},{"$f":"S467","v":"2025-12-12"}]
[null,null,null,null,null,null,null,null,null,null,null,null,null,null,null,null,null,null,"2025-12-19",{"$f":"WEEKDAY(S468)","v":6},{"$f":"MONTH(S468)","v":12},{"$f":"YEAR(S468)","v":2025},{"$f":"T468&U468","v":"612"},{"$f":"IF(V468&W468=V467&W467,X467+1,1)","v":3},{"$f":"V468&U468&T468&X468","v":"20251263"},{"$f":"S468","v":"2025-12-19"}]
[null,null,null,null,null,null,null,null,null,null,null,null,null,null,null,null,null,null,"2025-12-26",{"$f":"WEEKDAY(S469)","v":6},{"$f":"MONTH(S469)","v":12},{"$f":"YEAR(S469)","v":2025},{"$f":"T469&U469","v":"612"},{"$f":"IF(V469&W469=V468&W468,X468+1,1)","v":4},{"$f":"V469&U469&T469&X469","v":"20251264"},{"$f":"S469","v":"2025-12-26"}]
[null,null,null,null,null,null,null,null,null,null,null,null,null,null,null,null,null,null,"2025-12-06",{"$f":"WEEKDAY(S470)","v":7},{"$f":"MONTH(S470)","v":12},{"$f":"YEAR(S470)","v":2025},{"$f":"T470&U470","v":"712"},{"$f":"IF(V470&W470=V469&W469,X469+1,1)","v":1},{"$f":"V470&U470&T470&X470","v":"20251271"},{"$f":"S470","v":"2025-12-06"}]
[null,null,null,null,null,null,null,null,null,null,null,null,null,null,null,null,null,null,"2025-12-13",{"$f":"WEEKDAY(S471)","v":7},{"$f":"MONTH(S471)","v":12},{"$f":"YEAR(S471)","v":2025},{"$f":"T471&U471","v":"712"},{"$f":"IF(V471&W471=V470&W470,X470+1,1)","v":2},{"$f":"V471&U471&T471&X471","v":"20251272"},{"$f":"S471","v":"2025-12-13"}]
[null,null,null,null,null,null,null,null,null,null,null,null,null,null,null,null,null,null,"2025-12-20",{"$f":"WEEKDAY(S472)","v":7},{"$f":"MONTH(S472)","v":12},{"$f":"YEAR(S472)","v":2025},{"$f":"T472&U472","v":"712"},{"$f":"IF(V472&W472=V471&W471,X471+1,1)","v":3},{"$f":"V472&U472&T472&X472","v":"20251273"},{"$f":"S472","v":"2025-12-20"}]
[null,null,null,null,null,null,null,null,null,null,null,null,null,null,null,null,null,null,"2025-12-27",{"$f":"WEEKDAY(S473)","v":7},{"$f":"MONTH(S473)","v":12},{"$f":"YEAR(S473)","v":2025},{"$f":"T473&U473","v":"712"},{"$f":"IF(V473&W473=V472&W472,X472+1,1)","v":4},{"$f":"V473&U473&T473&X473","v":"20251274"},{"$f":"S473","v":"2025-12-27"}]
[null,null,null,null,null,null,null,null,null,null,null,null,null,null,null,null,null,null,"2025-01-07",{"$f":"WEEKDAY(S474)","v":3},{"$f":"MONTH(S474)","v":1},{"$f":"YEAR(S474)","v":2025},{"$f":"T474&U474","v":"31"},{"$f":"IF(V474&W474=V473&W473,X473+1,1)","v":1},{"$f":"V474&U474&T474&X474","v":"2025131"},{"$f":"S474","v":"2025-01-07"}]
[null,null,null,null,null,null,null,null,null,null,null,null,null,null,null,null,null,null,"2025-01-14",{"$f":"WEEKDAY(S475)","v":3},{"$f":"MONTH(S475)","v":1},{"$f":"YEAR(S475)","v":2025},{"$f":"T475&U475","v":"31"},{"$f":"IF(V475&W475=V474&W474,X474+1,1)","v":2},{"$f":"V475&U475&T475&X475","v":"2025132"},{"$f":"S475","v":"2025-01-14"}]
[null,null,null,null,null,null,null,null,null,null,null,null,null,null,null,null,null,null,"2025-01-21",{"$f":"WEEKDAY(S476)","v":3},{"$f":"MONTH(S476)","v":1},{"$f":"YEAR(S476)","v":2025},{"$f":"T476&U476","v":"31"},{"$f":"IF(V476&W476=V475&W475,X475+1,1)","v":3},{"$f":"V476&U476&T476&X476","v":"2025133"},{"$f":"S476","v":"2025-01-21"}]
[null,null,null,null,null,null,null,null,null,null,null,null,null,null,null,null,null,null,"2025-01-28",{"$f":"WEEKDAY(S477)","v":3},{"$f":"MONTH(S477)","v":1},{"$f":"YEAR(S477)","v":2025},{"$f":"T477&U477","v":"31"},{"$f":"IF(V477&W477=V476&W476,X476+1,1)","v":4},{"$f":"V477&U477&T477&X477","v":"2025134"},{"$f":"S477","v":"2025-01-28"}]
[null,null,null,null,null,null,null,null,null,null,null,null,null,null,null,null,null,null,"2025-01-01",{"$f":"WEEKDAY(S478)","v":4},{"$f":"MONTH(S478)","v":1},{"$f":"YEAR(S478)","v":2025},{"$f":"T478&U478","v":"41"},{"$f":"IF(V478&W478=V477&W477,X477+1,1)","v":1},{"$f":"V478&U478&T478&X478","v":"2025141"},{"$f":"S478","v":"2025-01-01"}]
[null,null,null,null,null,null,null,null,null,null,null,null,null,null,null,null,null,null,"2025-01-08",{"$f":"WEEKDAY(S479)","v":4},{"$f":"MONTH(S479)","v":1},{"$f":"YEAR(S479)","v":2025},{"$f":"T479&U479","v":"41"},{"$f":"IF(V479&W479=V478&W478,X478+1,1)","v":2},{"$f":"V479&U479&T479&X479","v":"2025142"},{"$f":"S479","v":"2025-01-08"}]
[null,null,null,null,null,null,null,null,null,null,null,null,null,null,null,null,null,null,"2025-01-15",{"$f":"WEEKDAY(S480)","v":4},{"$f":"MONTH(S480)","v":1},{"$f":"YEAR(S480)","v":2025},{"$f":"T480&U480","v":"41"},{"$f":"IF(V480&W480=V479&W479,X479+1,1)","v":3},{"$f":"V480&U480&T480&X480","v":"2025143"},{"$f":"S480","v":"2025-01-15"}]
[null,null,null,null,null,null,null,null,null,null,null,null,null,null,null,null,null,null,"2025-01-22",{"$f":"WEEKDAY(S481)","v":4},{"$f":"MONTH(S481)","v":1},{"$f":"YEAR(S481)","v":2025},{"$f":"T481&U481","v":"41"},{"$f":"IF(V481&W481=V480&W480,X480+1,1)","v":4},{"$f":"V481&U481&T481&X481","v":"2025144"},{"$f":"S481","v":"2025-01-22"}]
[null,null,null,null,null,null,null,null,null,null,null,null,null,null,null,null,null,null,"2025-01-29",{"$f":"WEEKDAY(S482)","v":4},{"$f":"MONTH(S482)","v":1},{"$f":"YEAR(S482)","v":2025},{"$f":"T482&U482","v":"41"},{"$f":"IF(V482&W482=V481&W481,X481+1,1)","v":5},{"$f":"V482&U482&T482&X482","v":"2025145"},{"$f":"S482","v":"2025-01-29"}]
[null,null,null,null,null,null,null,null,null,null,null,null,null,null,null,null,null,null,"2025-01-02",{"$f":"WEEKDAY(S483)","v":5},{"$f":"MONTH(S483)","v":1},{"$f":"YEAR(S483)","v":2025},{"$f":"T483&U483","v":"51"},{"$f":"IF(V483&W483=V482&W482,X482+1,1)","v":1},{"$f":"V483&U483&T483&X483","v":"2025151"},{"$f":"S483","v":"2025-01-02"}]
[null,null,null,null,null,null,null,null,null,null,null,null,null,null,null,null,null,null,"2025-01-09",{"$f":"WEEKDAY(S484)","v":5},{"$f":"MONTH(S484)","v":1},{"$f":"YEAR(S484)","v":2025},{"$f":"T484&U484","v":"51"},{"$f":"IF(V484&W484=V483&W483,X483+1,1)","v":2},{"$f":"V484&U484&T484&X484","v":"2025152"},{"$f":"S484","v":"2025-01-09"}]
[null,null,null,null,null,null,null,null,null,null,null,null,null,null,null,null,null,null,"2025-01-16",{"$f":"WEEKDAY(S485)","v":5},{"$f":"MONTH(S485)","v":1},{"$f":"YEAR(S485)","v":2025},{"$f":"T485&U485","v":"51"},{"$f":"IF(V485&W485=V484&W484,X484+1,1)","v":3},{"$f":"V485&U485&T485&X485","v":"2025153"},{"$f":"S485","v":"2025-01-16"}]
[null,null,null,null,null,null,null,null,null,null,null,null,null,null,null,null,null,null,"2025-01-23",{"$f":"WEEKDAY(S486)","v":5},{"$f":"MONTH(S486)","v":1},{"$f":"YEAR(S486)","v":2025},{"$f":"T486&U486","v":"51"},{"$f":"IF(V486&W486=V485&W485,X485+1,1)","v":4},{"$f":"V486&U486&T486&X486","v":"2025154"},{"$f":"S486","v":"2025-01-23"}]
[null,null,null,null,null,null,null,null,null,null,null,null,null,null,null,null,null,null,"2025-01-30",{"$f":"WEEKDAY(S487)","v":5},{"$f":"MONTH(S487)","v":1},{"$f":"YEAR(S487)","v":2025},{"$f":"T487&U487","v":"51"},{"$f":"IF(V487&W487=V486&W486,X486+1,1)","v":5},{"$f":"V487&U487&T487&X487","v":"2025155"},{"$f":"S487","v":"2025-01-30"}]
[null,null,null,null,null,null,null,null,null,null,null,null,null,null,null,null,null,null,"2025-01-03",{"$f":"WEEKDAY(S488)","v":6},{"$f":"MONTH(S488)","v":1},{"$f":"YEAR(S488)","v":2025},{"$f":"T488&U488","v":"61"},{"$f":"IF(V488&W488=V487&W487,X487+1,1)","v":1},{"$f":"V488&U488&T488&X488","v":"2025161"},{"$f":"S488","v":"2025-01-03"}]
[null,null,null,null,null,null,null,null,null,null,null,null,null,null,null,null,null,null,"2025-01-10",{"$f":"WEEKDAY(S489)","v":6},{"$f":"MONTH(S489)","v":1},{"$f":"YEAR(S489)","v":2025},{"$f":"T489&U489","v":"61"},{"$f":"IF(V489&W489=V488&W488,X488+1,1)","v":2},{"$f":"V489&U489&T489&X489","v":"2025162"},{"$f":"S489","v":"2025-01-10"}]
[null,null,null,null,null,null,null,null,null,null,null,null,null,null,null,null,null,null,"2025-01-17",{"$f":"WEEKDAY(S490)","v":6},{"$f":"MONTH(S490)","v":1},{"$f":"YEAR(S490)","v":2025},{"$f":"T490&U490","v":"61"},{"$f":"IF(V490&W490=V489&W489,X489+1,1)","v":3},{"$f":"V490&U490&T490&X490","v":"2025163"},{"$f":"S490","v":"2025-01-17"}]
[null,null,null,null,null,null,null,null,null,null,null,null,null,null,null,null,null,null,"2025-01-24",{"$f":"WEEKDAY(S491)","v":6},{"$f":"MONTH(S491)","v":1},{"$f":"YEAR(S491)","v":2025},{"$f":"T491&U491","v":"61"},{"$f":"IF(V491&W491=V490&W490,X490+1,1)","v":4},{"$f":"V491&U491&T491&X491","v":"2025164"},{"$f":"S491","v":"2025-01-24"}]
[null,null,null,null,null,null,null,null,null,null,null,null,null,null,null,null,null,null,"2025-01-31",{"$f":"WEEKDAY(S492)","v":6},{"$f":"MONTH(S492)","v":1},{"$f":"YEAR(S492)","v":2025},{"$f":"T492&U492","v":"61"},{"$f":"IF(V492&W492=V491&W491,X491+1,1)","v":5},{"$f":"V492&U492&T492&X492","v":"2025165"},{"$f":"S492","v":"2025-01-31"}]
[null,null,null,null,null,null,null,null,null,null,null,null,null,null,null,null,null,null,"2025-01-04",{"$f":"WEEKDAY(S493)","v":7},{"$f":"MONTH(S493)","v":1},{"$f":"YEAR(S493)","v":2025},{"$f":"T493&U493","v":"71"},{"$f":"IF(V493&W493=V492&W492,X492+1,1)","v":1},{"$f":"V493&U493&T493&X493","v":"2025171"},{"$f":"S493","v":"2025-01-04"}]
[null,null,null,null,null,null,null,null,null,null,null,null,null,null,null,null,null,null,"2025-01-11",{"$f":"WEEKDAY(S494)","v":7},{"$f":"MONTH(S494)","v":1},{"$f":"YEAR(S494)","v":2025},{"$f":"T494&U494","v":"71"},{"$f":"IF(V494&W494=V493&W493,X493+1,1)","v":2},{"$f":"V494&U494&T494&X494","v":"2025172"},{"$f":"S494","v":"2025-01-11"}]
[null,null,null,null,null,null,null,null,null,null,null,null,null,null,null,null,null,null,"2025-01-18",{"$f":"WEEKDAY(S495)","v":7},{"$f":"MONTH(S495)","v":1},{"$f":"YEAR(S495)","v":2025},{"$f":"T495&U495","v":"71"},{"$f":"IF(V495&W495=V494&W494,X494+1,1)","v":3},{"$f":"V495&U495&T495&X495","v":"2025173"},{"$f":"S495","v":"2025-01-18"}]
[null,null,null,null,null,null,null,null,null,null,null,null,null,null,null,null,null,null,"2025-01-25",{"$f":"WEEKDAY(S496)","v":7},{"$f":"MONTH(S496)","v":1},{"$f":"YEAR(S496)","v":2025},{"$f":"T496&U496","v":"71"},{"$f":"IF(V496&W496=V495&W495,X495+1,1)","v":4},{"$f":"V496&U496&T496&X496","v":"2025174"},{"$f":"S496","v":"2025-01-25"}]
[null,null,null,null,null,null,null,null,null,null,null,null,null,null,null,null,null,null,"2025-02-02",{"$f":"WEEKDAY(S497)","v":1},{"$f":"MONTH(S497)","v":2},{"$f":"YEAR(S497)","v":2025},{"$f":"T497&U497","v":"12"},{"$f":"IF(V497&W497=V496&W496,X496+1,1)","v":1},{"$f":"V497&U497&T497&X497","v":"2025211"},{"$f":"S497","v":"2025-02-02"}]
[null,null,null,null,null,null,null,null,null,null,null,null,null,null,null,null,null,null,"2025-02-09",{"$f":"WEEKDAY(S498)","v":1},{"$f":"MONTH(S498)","v":2},{"$f":"YEAR(S498)","v":2025},{"$f":"T498&U498","v":"12"},{"$f":"IF(V498&W498=V497&W497,X497+1,1)","v":2},{"$f":"V498&U498&T498&X498","v":"2025212"},{"$f":"S498","v":"2025-02-09"}]
[null,null,null,null,null,null,null,null,null,null,null,null,null,null,null,null,null,null,"2025-02-16",{"$f":"WEEKDAY(S499)","v":1},{"$f":"MONTH(S499)","v":2},{"$f":"YEAR(S499)","v":2025},{"$f":"T499&U499","v":"12"},{"$f":"IF(V499&W499=V498&W498,X498+1,1)","v":3},{"$f":"V499&U499&T499&X499","v":"2025213"},{"$f":"S499","v":"2025-02-16"}]
[null,null,null,null,null,null,null,null,null,null,null,null,null,null,null,null,null,null,"2025-02-23",{"$f":"WEEKDAY(S500)","v":1},{"$f":"MONTH(S500)","v":2},{"$f":"YEAR(S500)","v":2025},{"$f":"T500&U500","v":"12"},{"$f":"IF(V500&W500=V499&W499,X499+1,1)","v":4},{"$f":"V500&U500&T500&X500","v":"2025214"},{"$f":"S500","v":"2025-02-23"}]
[null,null,null,null,null,null,null,null,null,null,null,null,null,null,null,null,null,null,"2025-02-03",{"$f":"WEEKDAY(S501)","v":2},{"$f":"MONTH(S501)","v":2},{"$f":"YEAR(S501)","v":2025},{"$f":"T501&U501","v":"22"},{"$f":"IF(V501&W501=V500&W500,X500+1,1)","v":1},{"$f":"V501&U501&T501&X501","v":"2025221"},{"$f":"S501","v":"2025-02-03"}]
[null,null,null,null,null,null,null,null,null,null,null,null,null,null,null,null,null,null,"2025-02-10",{"$f":"WEEKDAY(S502)","v":2},{"$f":"MONTH(S502)","v":2},{"$f":"YEAR(S502)","v":2025},{"$f":"T502&U502","v":"22"},{"$f":"IF(V502&W502=V501&W501,X501+1,1)","v":2},{"$f":"V502&U502&T502&X502","v":"2025222"},{"$f":"S502","v":"2025-02-10"}]
[null,null,null,null,null,null,null,null,null,null,null,null,null,null,null,null,null,null,"2025-02-17",{"$f":"WEEKDAY(S503)","v":2},{"$f":"MONTH(S503)","v":2},{"$f":"YEAR(S503)","v":2025},{"$f":"T503&U503","v":"22"},{"$f":"IF(V503&W503=V502&W502,X502+1,1)","v":3},{"$f":"V503&U503&T503&X503","v":"2025223"},{"$f":"S503","v":"2025-02-17"}]
[null,null,null,null,null,null,null,null,null,null,null,null,null,null,null,null,null,null,"2025-02-24",{"$f":"WEEKDAY(S504)","v":2},{"$f":"MONTH(S504)","v":2},{"$f":"YEAR(S504)","v":2025},{"$f":"T504&U504","v":"22"},{"$f":"IF(V504&W504=V503&W503,X503+1,1)","v":4},{"$f":"V504&U504&T504&X504","v":"2025224"},{"$f":"S504","v":"2025-02-24"}]
[null,null,null,null,null,null,null,null,null,null,null,null,null,null,null,null,null,null,"2025-02-04",{"$f":"WEEKDAY(S505)","v":3},{"$f":"MONTH(S505)","v":2},{"$f":"YEAR(S505)","v":2025},{"$f":"T505&U505","v":"32"},{"$f":"IF(V505&W505=V504&W504,X504+1,1)","v":1},{"$f":"V505&U505&T505&X505","v":"2025231"},{"$f":"S505","v":"2025-02-04"}]
[null,null,null,null,null,null,null,null,null,null,null,null,null,null,null,null,null,null,"2025-02-11",{"$f":"WEEKDAY(S506)","v":3},{"$f":"MONTH(S506)","v":2},{"$f":"YEAR(S506)","v":2025},{"$f":"T506&U506","v":"32"},{"$f":"IF(V506&W506=V505&W505,X505+1,1)","v":2},{"$f":"V506&U506&T506&X506","v":"2025232"},{"$f":"S506","v":"2025-02-11"}]
[null,null,null,null,null,null,null,null,null,null,null,null,null,null,null,null,null,null,"2025-02-18",{"$f":"WEEKDAY(S507)","v":3},{"$f":"MONTH(S507)","v":2},{"$f":"YEAR(S507)","v":2025},{"$f":"T507&U507","v":"32"},{"$f":"IF(V507&W507=V506&W506,X506+1,1)","v":3},{"$f":"V507&U507&T507&X507","v":"2025233"},{"$f":"S507","v":"2025-02-18"}]
[null,null,null,null,null,null,null,null,null,null,null,null,null,null,null,null,null,null,"2025-02-25",{"$f":"WEEKDAY(S508)","v":3},{"$f":"MONTH(S508)","v":2},{"$f":"YEAR(S508)","v":2025},{"$f":"T508&U508","v":"32"},{"$f":"IF(V508&W508=V507&W507,X507+1,1)","v":4},{"$f":"V508&U508&T508&X508","v":"2025234"},{"$f":"S508","v":"2025-02-25"}]
[null,null,null,null,null,null,null,null,null,null,null,null,null,null,null,null,null,null,"2025-02-05",{"$f":"WEEKDAY(S509)","v":4},{"$f":"MONTH(S509)","v":2},{"$f":"YEAR(S509)","v":2025},{"$f":"T509&U509","v":"42"},{"$f":"IF(V509&W509=V508&W508,X508+1,1)","v":1},{"$f":"V509&U509&T509&X509","v":"2025241"},{"$f":"S509","v":"2025-02-05"}]
[null,null,null,null,null,null,null,null,null,null,null,null,null,null,null,null,null,null,"2025-02-12",{"$f":"WEEKDAY(S510)","v":4},{"$f":"MONTH(S510)","v":2},{"$f":"YEAR(S510)","v":2025},{"$f":"T510&U510","v":"42"},{"$f":"IF(V510&W510=V509&W509,X509+1,1)","v":2},{"$f":"V510&U510&T510&X510","v":"2025242"},{"$f":"S510","v":"2025-02-12"}]
[null,null,null,null,null,null,null,null,null,null,null,null,null,null,null,null,null,null,"2025-02-19",{"$f":"WEEKDAY(S511)","v":4},{"$f":"MONTH(S511)","v":2},{"$f":"YEAR(S511)","v":2025},{"$f":"T511&U511","v":"42"},{"$f":"IF(V511&W511=V510&W510,X510+1,1)","v":3},{"$f":"V511&U511&T511&X511","v":"2025243"},{"$f":"S511","v":"2025-02-19"}]
[null,null,null,null,null,null,null,null,null,null,null,null,null,null,null,null,null,null,"2025-02-26",{"$f":"WEEKDAY(S512)","v":4},{"$f":"MONTH(S512)","v":2},{"$f":"YEAR(S512)","v":2025},{"$f":"T512&U512","v":"42"},{"$f":"IF(V512&W512=V511&W511,X511+1,1)","v":4},{"$f":"V512&U512&T512&X512","v":"2025244"},{"$f":"S512","v":"2025-02-26"}]
[null,null,null,null,null,null,null,null,null,null,null,null,null,null,null,null,null,null,"2025-02-06",{"$f":"WEEKDAY(S513)","v":5},{"$f":"MONTH(S513)","v":2},{"$f":"YEAR(S513)","v":2025},{"$f":"T513&U513","v":"52"},{"$f":"IF(V513&W513=V512&W512,X512+1,1)","v":1},{"$f":"V513&U513&T513&X513","v":"2025251"},{"$f":"S513","v":"2025-02-06"}]
[null,null,null,null,null,null,null,null,null,null,null,null,null,null,null,null,null,null,"2025-02-13",{"$f":"WEEKDAY(S514)","v":5},{"$f":"MONTH(S514)","v":2},{"$f":"YEAR(S514)","v":2025},{"$f":"T514&U514","v":"52"},{"$f":"IF(V514&W514=V513&W513,X513+1,1)","v":2},{"$f":"V514&U514&T514&X514","v":"2025252"},{"$f":"S514","v":"2025-02-13"}]
[null,null,null,null,null,null,null,null,null,null,null,null,null,null,null,null,null,null,"2025-02-20",{"$f":"WEEKDAY(S515)","v":5},{"$f":"MONTH(S515)","v":2},{"$f":"YEAR(S515)","v":2025},{"$f":"T515&U515","v":"52"},{"$f":"IF(V515&W515=V514&W514,X514+1,1)","v":3},{"$f":"V515&U515&T515&X515","v":"2025253"},{"$f":"S515","v":"2025-02-20"}]
[null,null,null,null,null,null,null,null,null,null,null,null,null,null,null,null,null,null,"2025-02-27",{"$f":"WEEKDAY(S516)","v":5},{"$f":"MONTH(S516)","v":2},{"$f":"YEAR(S516)","v":2025},{"$f":"T516&U516","v":"52"},{"$f":"IF(V516&W516=V515&W515,X515+1,1)","v":4},{"$f":"V516&U516&T516&X516","v":"2025254"},{"$f":"S516","v":"2025-02-27"}]
[null,null,null,null,null,null,null,null,null,null,null,null,null,null,null,null,null,null,"2025-02-07",{"$f":"WEEKDAY(S517)","v":6},{"$f":"MONTH(S517)","v":2},{"$f":"YEAR(S517)","v":2025},{"$f":"T517&U517","v":"62"},{"$f":"IF(V517&W517=V516&W516,X516+1,1)","v":1},{"$f":"V517&U517&T517&X517","v":"2025261"},{"$f":"S517","v":"2025-02-07"}]
[null,null,null,null,null,null,null,null,null,null,null,null,null,null,null,null,null,null,"2025-02-14",{"$f":"WEEKDAY(S518)","v":6},{"$f":"MONTH(S518)","v":2},{"$f":"YEAR(S518)","v":2025},{"$f":"T518&U518","v":"62"},{"$f":"IF(V518&W518=V517&W517,X517+1,1)","v":2},{"$f":"V518&U518&T518&X518","v":"2025262"},{"$f":"S518","v":"2025-02-14"}]
[null,null,null,null,null,null,null,null,null,null,null,null,null,null,null,null,null,null,"2025-02-21",{"$f":"WEEKDAY(S519)","v":6},{"$f":"MONTH(S519)","v":2},{"$f":"YEAR(S519)","v":2025},{"$f":"T519&U519","v":"62"},{"$f":"IF(V519&W519=V518&W518,X518+1,1)","v":3},{"$f":"V519&U519&T519&X519","v":"2025263"},{"$f":"S519","v":"2025-02-21"}]
[null,null,null,null,null,null,null,null,null,null,null,null,null,null,null,null,null,null,"2025-02-28",{"$f":"WEEKDAY(S520)","v":6},{"$f":"MONTH(S520)","v":2},{"$f":"YEAR(S520)","v":2025},{"$f":"T520&U520","v":"62"},{"$f":"IF(V520&W520=V519&W519,X519+1,1)","v":4},{"$f":"V520&U520&T520&X520","v":"2025264"},{"$f":"S520","v":"2025-02-28"}]
[null,null,null,null,null,null,null,null,null,null,null,null,null,null,null,null,null,null,"2025-02-01",{"$f":"WEEKDAY(S521)","v":7},{"$f":"MONTH(S521)","v":2},{"$f":"YEAR(S521)","v":2025},{"$f":"T521&U521","v":"72"},{"$f":"IF(V521&W521=V520&W520,X520+1,1)","v":1},{"$f":"V521&U521&T521&X521","v":"2025271"},{"$f":"S521","v":"2025-02-01"}]
[null,null,null,null,null,null,null,null,null,null,null,null,null,null,null,null,null,null,"2025-02-08",{"$f":"WEEKDAY(S522)","v":7},{"$f":"MONTH(S522)","v":2},{"$f":"YEAR(S522)","v":2025},{"$f":"T522&U522","v":"72"},{"$f":"IF(V522&W522=V521&W521,X521+1,1)","v":2},{"$f":"V522&U522&T522&X522","v":"2025272"},{"$f":"S522","v":"2025-02-08"}]
[null,null,null,null,null,null,null,null,null,null,null,null,null,null,null,null,null,null,"2025-02-15",{"$f":"WEEKDAY(S523)","v":7},{"$f":"MONTH(S523)","v":2},{"$f":"YEAR(S523)","v":2025},{"$f":"T523&U523","v":"72"},{"$f":"IF(V523&W523=V522&W522,X522+1,1)","v":3},{"$f":"V523&U523&T523&X523","v":"2025273"},{"$f":"S523","v":"2025-02-15"}]
[null,null,null,null,null,null,null,null,null,null,null,null,null,null,null,null,null,null,"2025-02-22",{"$f":"WEEKDAY(S524)","v":7},{"$f":"MONTH(S524)","v":2},{"$f":"YEAR(S524)","v":2025},{"$f":"T524&U524","v":"72"},{"$f":"IF(V524&W524=V523&W523,X523+1,1)","v":4},{"$f":"V524&U524&T524&X524","v":"2025274"},{"$f":"S524","v":"2025-02-22"}]
[null,null,null,null,null,null,null,null,null,null,null,null,null,null,null,null,null,null,"2025-03-02",{"$f":"WEEKDAY(S525)","v":1},{"$f":"MONTH(S525)","v":3},{"$f":"YEAR(S525)","v":2025},{"$f":"T525&U525","v":"13"},{"$f":"IF(V525&W525=V524&W524,X524+1,1)","v":1},{"$f":"V525&U525&T525&X525","v":"2025311"},{"$f":"S525","v":"2025-03-02"}]
[null,null,null,null,null,null,null,null,null,null,null,null,null,null,null,null,null,null,"2025-03-09",{"$f":"WEEKDAY(S526)","v":1},{"$f":"MONTH(S526)","v":3},{"$f":"YEAR(S526)","v":2025},{"$f":"T526&U526","v":"13"},{"$f":"IF(V526&W526=V525&W525,X525+1,1)","v":2},{"$f":"V526&U526&T526&X526","v":"2025312"},{"$f":"S526","v":"2025-03-09"}]
[null,null,null,null,null,null,null,null,null,null,null,null,null,null,null,null,null,null,"2025-03-16",{"$f":"WEEKDAY(S527)","v":1},{"$f":"MONTH(S527)","v":3},{"$f":"YEAR(S527)","v":2025},{"$f":"T527&U527","v":"13"},{"$f":"IF(V527&W527=V526&W526,X526+1,1)","v":3},{"$f":"V527&U527&T527&X527","v":"2025313"},{"$f":"S527","v":"2025-03-16"}]
[null,null,null,null,null,null,null,null,null,null,null,null,null,null,null,null,null,null,"2025-03-23",{"$f":"WEEKDAY(S528)","v":1},{"$f":"MONTH(S528)","v":3},{"$f":"YEAR(S528)","v":2025},{"$f":"T528&U528","v":"13"},{"$f":"IF(V528&W528=V527&W527,X527+1,1)","v":4},{"$f":"V528&U528&T528&X528","v":"2025314"},{"$f":"S528","v":"2025-03-23"}]
[null,null,null,null,null,null,null,null,null,null,null,null,null,null,null,null,null,null,"2025-03-30",{"$f":"WEEKDAY(S529)","v":1},{"$f":"MONTH(S529)","v":3},{"$f":"YEAR(S529)","v":2025},{"$f":"T529&U529","v":"13"},{"$f":"IF(V529&W529=V528&W528,X528+1,1)","v":5},{"$f":"V529&U529&T529&X529","v":"2025315"},{"$f":"S529","v":"2025-03-30"}]
[null,null,null,null,null,null,null,null,null,null,null,null,null,null,null,null,null,null,"2025-03-03",{"$f":"WEEKDAY(S530)","v":2},{"$f":"MONTH(S530)","v":3},{"$f":"YEAR(S530)","v":2025},{"$f":"T530&U530","v":"23"},{"$f":"IF(V530&W530=V529&W529,X529+1,1)","v":1},{"$f":"V530&U530&T530&X530","v":"2025321"},{"$f":"S530","v":"2025-03-03"}]
[null,null,null,null,null,null,null,null,null,null,null,null,null,null,null,null,null,null,"2025-03-10",{"$f":"WEEKDAY(S531)","v":2},{"$f":"MONTH(S531)","v":3},{"$f":"YEAR(S531)","v":2025},{"$f":"T531&U531","v":"23"},{"$f":"IF(V531&W531=V530&W530,X530+1,1)","v":2},{"$f":"V531&U531&T531&X531","v":"2025322"},{"$f":"S531","v":"2025-03-10"}]
[null,null,null,null,null,null,null,null,null,null,null,null,null,null,null,null,null,null,"2025-03-17",{"$f":"WEEKDAY(S532)","v":2},{"$f":"MONTH(S532)","v":3},{"$f":"YEAR(S532)","v":2025},{"$f":"T532&U532","v":"23"},{"$f":"IF(V532&W532=V531&W531,X531+1,1)","v":3},{"$f":"V532&U532&T532&X532","v":"2025323"},{"$f":"S532","v":"2025-03-17"}]
[null,null,null,null,null,null,null,null,null,null,null,null,null,null,null,null,null,null,"2025-03-24",{"$f":"WEEKDAY(S533)","v":2},{"$f":"MONTH(S533)","v":3},{"$f":"YEAR(S533)","v":2025},{"$f":"T533&U533","v":"23"},{"$f":"IF(V533&W533=V532&W532,X532+1,1)","v":4},{"$f":"V533&U533&T533&X533","v":"2025324"},{"$f":"S533","v":"2025-03-24"}]
[null,null,null,null,null,null,null,null,null,null,null,null,null,null,null,null,null,null,"2025-03-31",{"$f":"WEEKDAY(S534)","v":2},{"$f":"MONTH(S534)","v":3},{"$f":"YEAR(S534)","v":2025},{"$f":"T534&U534","v":"23"},{"$f":"IF(V534&W534=V533&W533,X533+1,1)","v":5},{"$f":"V534&U534&T534&X534","v":"2025325"},{"$f":"S534","v":"2025-03-31"}]
[null,null,null,null,null,null,null,null,null,null,null,null,null,null,null,null,null,null,"2025-03-04",{"$f":"WEEKDAY(S535)","v":3},{"$f":"MONTH(S535)","v":3},{"$f":"YEAR(S535)","v":2025},{"$f":"T535&U535","v":"33"},{"$f":"IF(V535&W535=V534&W534,X534+1,1)","v":1},{"$f":"V535&U535&T535&X535","v":"2025331"},{"$f":"S535","v":"2025-03-04"}]
[null,null,null,null,null,null,null,null,null,null,null,null,null,null,null,null,null,null,"2025-03-11",{"$f":"WEEKDAY(S536)","v":3},{"$f":"MONTH(S536)","v":3},{"$f":"YEAR(S536)","v":2025},{"$f":"T536&U536","v":"33"},{"$f":"IF(V536&W536=V535&W535,X535+1,1)","v":2},{"$f":"V536&U536&T536&X536","v":"2025332"},{"$f":"S536","v":"2025-03-11"}]
[null,null,null,null,null,null,null,null,null,null,null,null,null,null,null,null,null,null,"2025-03-18",{"$f":"WEEKDAY(S537)","v":3},{"$f":"MONTH(S537)","v":3},{"$f":"YEAR(S537)","v":2025},{"$f":"T537&U537","v":"33"},{"$f":"IF(V537&W537=V536&W536,X536+1,1)","v":3},{"$f":"V537&U537&T537&X537","v":"2025333"},{"$f":"S537","v":"2025-03-18"}]
[null,null,null,null,null,null,null,null,null,null,null,null,null,null,null,null,null,null,"2025-03-25",{"$f":"WEEKDAY(S538)","v":3},{"$f":"MONTH(S538)","v":3},{"$f":"YEAR(S538)","v":2025},{"$f":"T538&U538","v":"33"},{"$f":"IF(V538&W538=V537&W537,X537+1,1)","v":4},{"$f":"V538&U538&T538&X538","v":"2025334"},{"$f":"S538","v":"2025-03-25"}]
[null,null,null,null,null,null,null,null,null,null,null,null,null,null,null,null,null,null,"2025-03-05",{"$f":"WEEKDAY(S539)","v":4},{"$f":"MONTH(S539)","v":3},{"$f":"YEAR(S539)","v":2025},{"$f":"T539&U539","v":"43"},{"$f":"IF(V539&W539=V538&W538,X538+1,1)","v":1},{"$f":"V539&U539&T539&X539","v":"2025341"},{"$f":"S539","v":"2025-03-05"}]
[null,null,null,null,null,null,null,null,null,null,null,null,null,null,null,null,null,null,"2025-03-12",{"$f":"WEEKDAY(S540)","v":4},{"$f":"MONTH(S540)","v":3},{"$f":"YEAR(S540)","v":2025},{"$f":"T540&U540","v":"43"},{"$f":"IF(V540&W540=V539&W539,X539+1,1)","v":2},{"$f":"V540&U540&T540&X540","v":"2025342"},{"$f":"S540","v":"2025-03-12"}]
[null,null,null,null,null,null,null,null,null,null,null,null,null,null,null,null,null,null,"2025-03-19",{"$f":"WEEKDAY(S541)","v":4},{"$f":"MONTH(S541)","v":3},{"$f":"YEAR(S541)","v":2025},{"$f":"T541&U541","v":"43"},{"$f":"IF(V541&W541=V540&W540,X540+1,1)","v":3},{"$f":"V541&U541&T541&X541","v":"2025343"},{"$f":"S541","v":"2025-03-19"}]
[null,null,null,null,null,null,null,null,null,null,null,null,null,null,null,null,null,null,"2025-03-26",{"$f":"WEEKDAY(S542)","v":4},{"$f":"MONTH(S542)","v":3},{"$f":"YEAR(S542)","v":2025},{"$f":"T542&U542","v":"43"},{"$f":"IF(V542&W542=V541&W541,X541+1,1)","v":4},{"$f":"V542&U542&T542&X542","v":"2025344"},{"$f":"S542","v":"2025-03-26"}]
[null,null,null,null,null,null,null,null,null,null,null,null,null,null,null,null,null,null,"2025-03-06",{"$f":"WEEKDAY(S543)","v":5},{"$f":"MONTH(S543)","v":3},{"$f":"YEAR(S543)","v":2025},{"$f":"T543&U543","v":"53"},{"$f":"IF(V543&W543=V542&W542,X542+1,1)","v":1},{"$f":"V543&U543&T543&X543","v":"2025351"},{"$f":"S543","v":"2025-03-06"}]
[null,null,null,null,null,null,null,null,null,null,null,null,null,null,null,null,null,null,"2025-03-13",{"$f":"WEEKDAY(S544)","v":5},{"$f":"MONTH(S544)","v":3},{"$f":"YEAR(S544)","v":2025},{"$f":"T544&U544","v":"53"},{"$f":"IF(V544&W544=V543&W543,X543+1,1)","v":2},{"$f":"V544&U544&T544&X544","v":"2025352"},{"$f":"S544","v":"2025-03-13"}]
[null,null,null,null,null,null,null,null,null,null,null,null,null,null,null,null,null,null,"2025-03-20",{"$f":"WEEKDAY(S545)","v":5},{"$f":"MONTH(S545)","v":3},{"$f":"YEAR(S545)","v":2025},{"$f":"T545&U545","v":"53"},{"$f":"IF(V545&W545=V544&W544,X544+1,1)","v":3},{"$f":"V545&U545&T545&X545","v":"2025353"},{"$f":"S545","v":"2025-03-20"}]
[null,null,null,null,null,null,null,null,null,null,null,null,null,null,null,null,null,null,"2025-03-27",{"$f":"WEEKDAY(S546)","v":5},{"$f":"MONTH(S546)","v":3},{"$f":"YEAR(S546)","v":2025},{"$f":"T546&U546","v":"53"},{"$f":"IF(V546&W546=V545&W545,X545+1,1)","v":4},{"$f":"V546&U546&T546&X546","v":"2025354"},{"$f":"S546","v":"2025-03-27"}]
[null,null,null,null,null,null,null,null,null,null,null,null,null,null,null,null,null,null,"2025-03-07",{"$f":"WEEKDAY(S547)","v":6},{"$f":"MONTH(S547)","v":3},{"$f":"YEAR(S547)","v":2025},{"$f":"T547&U547","v":"63"},{"$f":"IF(V547&W547=V546&W546,X546+1,1)","v":1},{"$f":"V547&U547&T547&X547","v":"2025361"},{"$f":"S547","v":"2025-03-07"}]
[null,null,null,null,null,null,null,null,null,null,null,null,null,null,null,null,null,null,"2025-03-14",{"$f":"WEEKDAY(S548)","v":6},{"$f":"MONTH(S548)","v":3},{"$f":"YEAR(S548)","v":2025},{"$f":"T548&U548","v":"63"},{"$f":"IF(V548&W548=V547&W547,X547+1,1)","v":2},{"$f":"V548&U548&T548&X548","v":"2025362"},{"$f":"S548","v":"2025-03-14"}]
[null,null,null,null,null,null,null,null,null,null,null,null,null,null,null,null,null,null,"2025-03-21",{"$f":"WEEKDAY(S549)","v":6},{"$f":"MONTH(S549)","v":3},{"$f":"YEAR(S549)","v":2025},{"$f":"T549&U549","v":"63"},{"$f":"IF(V549&W549=V548&W548,X548+1,1)","v":3},{"$f":"V549&U549&T549&X549","v":"2025363"},{"$f":"S549","v":"2025-03-21"}]
[null,null,null,null,null,null,null,null,null,null,null,null,null,null,null,null,null,null,"2025-03-28",{"$f":"WEEKDAY(S550)","v":6},{"$f":"MONTH(S550)","v":3},{"$f":"YEAR(S550)","v":2025},{"$f":"T550&U550","v":"63"},{"$f":"IF(V550&W550=V549&W549,X549+1,1)","v":4},{"$f":"V550&U550&T550&X550","v":"2025364"},{"$f":"S550","v":"2025-03-28"}]
[null,null,null,null,null,null,null,null,null,null,null,null,null,null,null,null,null,null,"2025-03-01",{"$f":"WEEKDAY(S551)","v":7},{"$f":"MONTH(S551)","v":3},{"$f":"YEAR(S551)","v":2025},{"$f":"T551&U551","v":"73"},{"$f":"IF(V551&W551=V550&W550,X550+1,1)","v":1},{"$f":"V551&U551&T551&X551","v":"2025371"},{"$f":"S551","v":"2025-03-01"}]
[null,null,null,null,null,null,null,null,null,null,null,null,null,null,null,null,null,null,"2025-03-08",{"$f":"WEEKDAY(S552)","v":7},{"$f":"MONTH(S552)","v":3},{"$f":"YEAR(S552)","v":2025},{"$f":"T552&U552","v":"73"},{"$f":"IF(V552&W552=V551&W551,X551+1,1)","v":2},{"$f":"V552&U552&T552&X552","v":"2025372"},{"$f":"S552","v":"2025-03-08"}]
[null,null,null,null,null,null,null,null,null,null,null,null,null,null,null,null,null,null,"2025-03-15",{"$f":"WEEKDAY(S553)","v":7},{"$f":"MONTH(S553)","v":3},{"$f":"YEAR(S553)","v":2025},{"$f":"T553&U553","v":"73"},{"$f":"IF(V553&W553=V552&W552,X552+1,1)","v":3},{"$f":"V553&U553&T553&X553","v":"2025373"},{"$f":"S553","v":"2025-03-15"}]
[null,null,null,null,null,null,null,null,null,null,null,null,null,null,null,null,null,null,"2025-03-22",{"$f":"WEEKDAY(S554)","v":7},{"$f":"MONTH(S554)","v":3},{"$f":"YEAR(S554)","v":2025},{"$f":"T554&U554","v":"73"},{"$f":"IF(V554&W554=V553&W553,X553+1,1)","v":4},{"$f":"V554&U554&T554&X554","v":"2025374"},{"$f":"S554","v":"2025-03-22"}]
[null,null,null,null,null,null,null,null,null,null,null,null,null,null,null,null,null,null,"2025-03-29",{"$f":"WEEKDAY(S555)","v":7},{"$f":"MONTH(S555)","v":3},{"$f":"YEAR(S555)","v":2025},{"$f":"T555&U555","v":"73"},{"$f":"IF(V555&W555=V554&W554,X554+1,1)","v":5},{"$f":"V555&U555&T555&X555","v":"2025375"},{"$f":"S555","v":"2025-03-29"}]
[null,null,null,null,null,null,null,null,null,null,null,null,null,null,null,null,null,null,"2025-04-06",{"$f":"WEEKDAY(S556)","v":1},{"$f":"MONTH(S556)","v":4},{"$f":"YEAR(S556)","v":2025},{"$f":"T556&U556","v":"14"},{"$f":"IF(V556&W556=V555&W555,X555+1,1)","v":1},{"$f":"V556&U556&T556&X556","v":"2025411"},{"$f":"S556","v":"2025-04-06"}]
[null,null,null,null,null,null,null,null,null,null,null,null,null,null,null,null,null,null,"2025-04-13",{"$f":"WEEKDAY(S557)","v":1},{"$f":"MONTH(S557)","v":4},{"$f":"YEAR(S557)","v":2025},{"$f":"T557&U557","v":"14"},{"$f":"IF(V557&W557=V556&W556,X556+1,1)","v":2},{"$f":"V557&U557&T557&X557","v":"2025412"},{"$f":"S557","v":"2025-04-13"}]
[null,null,null,null,null,null,null,null,null,null,null,null,null,null,null,null,null,null,"2025-04-20",{"$f":"WEEKDAY(S558)","v":1},{"$f":"MONTH(S558)","v":4},{"$f":"YEAR(S558)","v":2025},{"$f":"T558&U558","v":"14"},{"$f":"IF(V558&W558=V557&W557,X557+1,1)","v":3},{"$f":"V558&U558&T558&X558","v":"2025413"},{"$f":"S558","v":"2025-04-20"}]
[null,null,null,null,null,null,null,null,null,null,null,null,null,null,null,null,null,null,"2025-04-27",{"$f":"WEEKDAY(S559)","v":1},{"$f":"MONTH(S559)","v":4},{"$f":"YEAR(S559)","v":2025},{"$f":"T559&U559","v":"14"},{"$f":"IF(V559&W559=V558&W558,X558+1,1)","v":4},{"$f":"V559&U559&T559&X559","v":"2025414"},{"$f":"S559","v":"2025-04-27"}]
[null,null,null,null,null,null,null,null,null,null,null,null,null,null,null,null,null,null,"2025-04-07",{"$f":"WEEKDAY(S560)","v":2},{"$f":"MONTH(S560)","v":4},{"$f":"YEAR(S560)","v":2025},{"$f":"T560&U560","v":"24"},{"$f":"IF(V560&W560=V559&W559,X559+1,1)","v":1},{"$f":"V560&U560&T560&X560","v":"2025421"},{"$f":"S560","v":"2025-04-07"}]
[null,null,null,null,null,null,null,null,null,null,null,null,null,null,null,null,null,null,"2025-04-14",{"$f":"WEEKDAY(S561)","v":2},{"$f":"MONTH(S561)","v":4},{"$f":"YEAR(S561)","v":2025},{"$f":"T561&U561","v":"24"},{"$f":"IF(V561&W561=V560&W560,X560+1,1)","v":2},{"$f":"V561&U561&T561&X561","v":"2025422"},{"$f":"S561","v":"2025-04-14"}]
[null,null,null,null,null,null,null,null,null,null,null,null,null,null,null,null,null,null,"2025-04-21",{"$f":"WEEKDAY(S562)","v":2},{"$f":"MONTH(S562)","v":4},{"$f":"YEAR(S562)","v":2025},{"$f":"T562&U562","v":"24"},{"$f":"IF(V562&W562=V561&W561,X561+1,1)","v":3},{"$f":"V562&U562&T562&X562","v":"2025423"},{"$f":"S562","v":"2025-04-21"}]
[null,null,null,null,null,null,null,null,null,null,null,null,null,null,null,null,null,null,"2025-04-28",{"$f":"WEEKDAY(S563)","v":2},{"$f":"MONTH(S563)","v":4},{"$f":"YEAR(S563)","v":2025},{"$f":"T563&U563","v":"24"},{"$f":"IF(V563&W563=V562&W562,X562+1,1)","v":4},{"$f":"V563&U563&T563&X563","v":"2025424"},{"$f":"S563","v":"2025-04-28"}]
[null,null,null,null,null,null,null,null,null,null,null,null,null,null,null,null,null,null,"2025-04-01",{"$f":"WEEKDAY(S564)","v":3},{"$f":"MONTH(S564)","v":4},{"$f":"YEAR(S564)","v":2025},{"$f":"T564&U564","v":"34"},{"$f":"IF(V564&W564=V563&W563,X563+1,1)","v":1},{"$f":"V564&U564&T564&X564","v":"2025431"},{"$f":"S564","v":"2025-04-01"}]
[null,null,null,null,null,null,null,null,null,null,null,null,null,null,null,null,null,null,"2025-04-08",{"$f":"WEEKDAY(S565)","v":3},{"$f":"MONTH(S565)","v":4},{"$f":"YEAR(S565)","v":2025},{"$f":"T565&U565","v":"34"},{"$f":"IF(V565&W565=V564&W564,X564+1,1)","v":2},{"$f":"V565&U565&T565&X565","v":"2025432"},{"$f":"S565","v":"2025-04-08"}]
[null,null,null,null,null,null,null,null,null,null,null,null,null,null,null,null,null,null,"2025-04-15",{"$f":"WEEKDAY(S566)","v":3},{"$f":"MONTH(S566)","v":4},{"$f":"YEAR(S566)","v":2025},{"$f":"T566&U566","v":"34"},{"$f":"IF(V566&W566=V565&W565,X565+1,1)","v":3},{"$f":"V566&U566&T566&X566","v":"2025433"},{"$f":"S566","v":"2025-04-15"}]
[null,null,null,null,null,null,null,null,null,null,null,null,null,null,null,null,null,null,"2025-04-22",{"$f":"WEEKDAY(S567)","v":3},{"$f":"MONTH(S567)","v":4},{"$f":"YEAR(S567)","v":2025},{"$f":"T567&U567","v":"34"},{"$f":"IF(V567&W567=V566&W566,X566+1,1)","v":4},{"$f":"V567&U567&T567&X567","v":"2025434"},{"$f":"S567","v":"2025-04-22"}]
[null,null,null,null,null,null,null,null,null,null,null,null,null,null,null,null,null,null,"2025-04-29",{"$f":"WEEKDAY(S568)","v":3},{"$f":"MONTH(S568)","v":4},{"$f":"YEAR(S568)","v":2025},{"$f":"T568&U568","v":"34"},{"$f":"IF(V568&W568=V567&W567,X567+1,1)","v":5},{"$f":"V568&U568&T568&X568","v":"2025435"},{"$f":"S568","v":"2025-04-29"}]
[null,null,null,null,null,null,null,null,null,null,null,null,null,null,null,null,null,null,"2025-04-02",{"$f":"WEEKDAY(S569)","v":4},{"$f":"MONTH(S569)","v":4},{"$f":"YEAR(S569)","v":2025},{"$f":"T569&U569","v":"44"},{"$f":"IF(V569&W569=V568&W568,X568+1,1)","v":1},{"$f":"V569&U569&T569&X569","v":"2025441"},{"$f":"S569","v":"2025-04-02"}]
[null,null,null,null,null,null,null,null,null,null,null,null,null,null,null,null,null,null,"2025-04-09",{"$f":"WEEKDAY(S570)","v":4},{"$f":"MONTH(S570)","v":4},{"$f":"YEAR(S570)","v":2025},{"$f":"T570&U570","v":"44"},{"$f":"IF(V570&W570=V569&W569,X569+1,1)","v":2},{"$f":"V570&U570&T570&X570","v":"2025442"},{"$f":"S570","v":"2025-04-09"}]
[null,null,null,null,null,null,null,null,null,null,null,null,null,null,null,null,null,null,"2025-04-16",{"$f":"WEEKDAY(S571)","v":4},{"$f":"MONTH(S571)","v":4},{"$f":"YEAR(S571)","v":2025},{"$f":"T571&U571","v":"44"},{"$f":"IF(V571&W571=V570&W570,X570+1,1)","v":3},{"$f":"V571&U571&T571&X571","v":"2025443"},{"$f":"S571","v":"2025-04-16"}]
[null,null,null,null,null,null,null,null,null,null,null,null,null,null,null,null,null,null,"2025-04-23",{"$f":"WEEKDAY(S572)","v":4},{"$f":"MONTH(S572)","v":4},{"$f":"YEAR(S572)","v":2025},{"$f":"T572&U572","v":"44"},{"$f":"IF(V572&W572=V571&W571,X571+1,1)","v":4},{"$f":"V572&U572&T572&X572","v":"2025444"},{"$f":"S572","v":"2025-04-23"}]
[null,null,null,null,null,null,null,null,null,null,null,null,null,null,null,null,null,null,"2025-04-30",{"$f":"WEEKDAY(S573)","v":4},{"$f":"MONTH(S573)","v":4},{"$f":"YEAR(S573)","v":2025},{"$f":"T573&U573","v":"44"},{"$f":"IF(V573&W573=V572&W572,X572+1,1)","v":5},{"$f":"V573&U573&T573&X573","v":"2025445"},{"$f":"S573","v":"2025-04-30"}]
[null,null,null,null,null,null,null,null,null,null,null,null,null,null,null,null,null,null,"2025-04-03",{"$f":"WEEKDAY(S574)","v":5},{"$f":"MONTH(S574)","v":4},{"$f":"YEAR(S574)","v":2025},{"$f":"T574&U574","v":"54"},{"$f":"IF(V574&W574=V573&W573,X573+1,1)","v":1},{"$f":"V574&U574&T574&X574","v":"2025451"},{"$f":"S574","v":"2025-04-03"}]
[null,null,null,null,null,null,null,null,null,null,null,null,null,null,null,null,null,null,"2025-04-10",{"$f":"WEEKDAY(S575)","v":5},{"$f":"MONTH(S575)","v":4},{"$f":"YEAR(S575)","v":2025},{"$f":"T575&U575","v":"54"},{"$f":"IF(V575&W575=V574&W574,X574+1,1)","v":2},{"$f":"V575&U575&T575&X575","v":"2025452"},{"$f":"S575","v":"2025-04-10"}]
[null,null,null,null,null,null,null,null,null,null,null,null,null,null,null,null,null,null,"2025-04-17",{"$f":"WEEKDAY(S576)","v":5},{"$f":"MONTH(S576)","v":4},{"$f":"YEAR(S576)","v":2025},{"$f":"T576&U576","v":"54"},{"$f":"IF(V576&W576=V575&W575,X575+1,1)","v":3},{"$f":"V576&U576&T576&X576","v":"2025453"},{"$f":"S576","v":"2025-04-17"}]
[null,null,null,null,null,null,null,null,null,null,null,null,null,null,null,null,null,null,"2025-04-24",{"$f":"WEEKDAY(S577)","v":5},{"$f":"MONTH(S577)","v":4},{"$f":"YEAR(S577)","v":2025},{"$f":"T577&U577","v":"54"},{"$f":"IF(V577&W577=V576&W576,X576+1,1)","v":4},{"$f":"V577&U577&T577&X577","v":"2025454"},{"$f":"S577","v":"2025-04-24"}]
[null,null,null,null,null,null,null,null,null,null,null,null,null,null,null,null,null,null,"2025-04-04",{"$f":"WEEKDAY(S578)","v":6},{"$f":"MONTH(S578)","v":4},{"$f":"YEAR(S578)","v":2025},{"$f":"T578&U578","v":"64"},{"$f":"IF(V578&W578=V577&W577,X577+1,1)","v":1},{"$f":"V578&U578&T578&X578","v":"2025461"},{"$f":"S578","v":"2025-04-04"}]
[null,null,null,null,null,null,null,null,null,null,null,null,null,null,null,null,null,null,"2025-04-11",{"$f":"WEEKDAY(S579)","v":6},{"$f":"MONTH(S579)","v":4},{"$f":"YEAR(S579)","v":2025},{"$f":"T579&U579","v":"64"},{"$f":"IF(V579&W579=V578&W578,X578+1,1)","v":2},{"$f":"V579&U579&T579&X579","v":"2025462"},{"$f":"S579","v":"2025-04-11"}]
[null,null,null,null,null,null,null,null,null,null,null,null,null,null,null,null,null,null,"2025-04-18",{"$f":"WEEKDAY(S580)","v":6},{"$f":"MONTH(S580)","v":4},{"$f":"YEAR(S580)","v":2025},{"$f":"T580&U580","v":"64"},{"$f":"IF(V580&W580=V579&W579,X579+1,1)","v":3},{"$f":"V580&U580&T580&X580","v":"2025463"},{"$f":"S580","v":"2025-04-18"}]
[null,null,null,null,null,null,null,null,null,null,null,null,null,null,null,null,null,null,"2025-04-25",{"$f":"WEEKDAY(S581)","v":6},{"$f":"MONTH(S581)","v":4},{"$f":"YEAR(S581)","v":2025},{"$f":"T581&U581","v":"64"},{"$f":"IF(V581&W581=V580&W580,X580+1,1)","v":4},{"$f":"V581&U581&T581&X581","v":"2025464"},{"$f":"S581","v":"2025-04-25"}]
[null,null,null,null,null,null,null,null,null,null,null,null,null,null,null,null,null,null,"2025-04-05",{"$f":"WEEKDAY(S582)","v":7},{"$f":"MONTH(S582)","v":4},{"$f":"YEAR(S582)","v":2025},{"$f":"T582&U582","v":"74"},{"$f":"IF(V582&W582=V581&W581,X581+1,1)","v":1},{"$f":"V582&U582&T582&X582","v":"2025471"},{"$f":"S582","v":"2025-04-05"}]
[null,null,null,null,null,null,null,null,null,null,null,null,null,null,null,null,null,null,"2025-04-12",{"$f":"WEEKDAY(S583)","v":7},{"$f":"MONTH(S583)","v":4},{"$f":"YEAR(S583)","v":2025},{"$f":"T583&U583","v":"74"},{"$f":"IF(V583&W583=V582&W582,X582+1,1)","v":2},{"$f":"V583&U583&T583&X583","v":"2025472"},{"$f":"S583","v":"2025-04-12"}]
[null,null,null,null,null,null,null,null,null,null,null,null,null,null,null,null,null,null,"2025-04-19",{"$f":"WEEKDAY(S584)","v":7},{"$f":"MONTH(S584)","v":4},{"$f":"YEAR(S584)","v":2025},{"$f":"T584&U584","v":"74"},{"$f":"IF(V584&W584=V583&W583,X583+1,1)","v":3},{"$f":"V584&U584&T584&X584","v":"2025473"},{"$f":"S584","v":"2025-04-19"}]
[null,null,null,null,null,null,null,null,null,null,null,null,null,null,null,null,null,null,"2025-04-26",{"$f":"WEEKDAY(S585)","v":7},{"$f":"MONTH(S585)","v":4},{"$f":"YEAR(S585)","v":2025},{"$f":"T585&U585","v":"74"},{"$f":"IF(V585&W585=V584&W584,X584+1,1)","v":4},{"$f":"V585&U585&T585&X585","v":"2025474"},{"$f":"S585","v":"2025-04-26"}]
[null,null,null,null,null,null,null,null,null,null,null,null,null,null,null,null,null,null,"2025-05-04",{"$f":"WEEKDAY(S586)","v":1},{"$f":"MONTH(S586)","v":5},{"$f":"YEAR(S586)","v":2025},{"$f":"T586&U586","v":"15"},{"$f":"IF(V586&W586=V585&W585,X585+1,1)","v":1},{"$f":"V586&U586&T586&X586","v":"2025511"},{"$f":"S586","v":"2025-05-04"}]
[null,null,null,null,null,null,null,null,null,null,null,null,null,null,null,null,null,null,"2025-05-11",{"$f":"WEEKDAY(S587)","v":1},{"$f":"MONTH(S587)","v":5},{"$f":"YEAR(S587)","v":2025},{"$f":"T587&U587","v":"15"},{"$f":"IF(V587&W587=V586&W586,X586+1,1)","v":2},{"$f":"V587&U587&T587&X587","v":"2025512"},{"$f":"S587","v":"2025-05-11"}]
[null,null,null,null,null,null,null,null,null,null,null,null,null,null,null,null,null,null,"2025-05-18",{"$f":"WEEKDAY(S588)","v":1},{"$f":"MONTH(S588)","v":5},{"$f":"YEAR(S588)","v":2025},{"$f":"T588&U588","v":"15"},{"$f":"IF(V588&W588=V587&W587,X587+1,1)","v":3},{"$f":"V588&U588&T588&X588","v":"2025513"},{"$f":"S588","v":"2025-05-18"}]
[null,null,null,null,null,null,null,null,null,null,null,null,null,null,null,null,null,null,"2025-05-25",{"$f":"WEEKDAY(S589)","v":1},{"$f":"MONTH(S589)","v":5},{"$f":"YEAR(S589)","v":2025},{"$f":"T589&U589","v":"15"},{"$f":"IF(V589&W589=V588&W588,X588+1,1)","v":4},{"$f":"V589&U589&T589&X589","v":"2025514"},{"$f":"S589","v":"2025-05-25"}]
[null,null,null,null,null,null,null,null,null,null,null,null,null,null,null,null,null,null,"2025-05-05",{"$f":"WEEKDAY(S590)","v":2},{"$f":"MONTH(S590)","v":5},{"$f":"YEAR(S590)","v":2025},{"$f":"T590&U590","v":"25"},{"$f":"IF(V590&W590=V589&W589,X589+1,1)","v":1},{"$f":"V590&U590&T590&X590","v":"2025521"},{"$f":"S590","v":"2025-05-05"}]
[null,null,null,null,null,null,null,null,null,null,null,null,null,null,null,null,null,null,"2025-05-12",{"$f":"WEEKDAY(S591)","v":2},{"$f":"MONTH(S591)","v":5},{"$f":"YEAR(S591)","v":2025},{"$f":"T591&U591","v":"25"},{"$f":"IF(V591&W591=V590&W590,X590+1,1)","v":2},{"$f":"V591&U591&T591&X591","v":"2025522"},{"$f":"S591","v":"2025-05-12"}]
[null,null,null,null,null,null,null,null,null,null,null,null,null,null,null,null,null,null,"2025-05-19",{"$f":"WEEKDAY(S592)","v":2},{"$f":"MONTH(S592)","v":5},{"$f":"YEAR(S592)","v":2025},{"$f":"T592&U592","v":"25"},{"$f":"IF(V592&W592=V591&W591,X591+1,1)","v":3},{"$f":"V592&U592&T592&X592","v":"2025523"},{"$f":"S592","v":"2025-05-19"}]
[null,null,null,null,null,null,null,null,null,null,null,null,null,null,null,null,null,null,"2025-05-26",{"$f":"WEEKDAY(S593)","v":2},{"$f":"MONTH(S593)","v":5},{"$f":"YEAR(S593)","v":2025},{"$f":"T593&U593","v":"25"},{"$f":"IF(V593&W593=V592&W592,X592+1,1)","v":4},{"$f":"V593&U593&T593&X593","v":"2025524"},{"$f":"S593","v":"2025-05-26"}]
[null,null,null,null,null,null,null,null,null,null,null,null,null,null,null,null,null,null,"2025-05-06",{"$f":"WEEKDAY(S594)","v":3},{"$f":"MONTH(S594)","v":5},{"$f":"YEAR(S594)","v":2025},{"$f":"T594&U594","v":"35"},{"$f":"IF(V594&W594=V593&W593,X593+1,1)","v":1},{"$f":"V594&U594&T594&X594","v":"2025531"},{"$f":"S594","v":"2025-05-06"}]
[null,null,null,null,null,null,null,null,null,null,null,null,null,null,null,null,null,null,"2025-05-13",{"$f":"WEEKDAY(S595)","v":3},{"$f":"MONTH(S595)","v":5},{"$f":"YEAR(S595)","v":2025},{"$f":"T595&U595","v":"35"},{"$f":"IF(V595&W595=V594&W594,X594+1,1)","v":2},{"$f":"V595&U595&T595&X595","v":"2025532"},{"$f":"S595","v":"2025-05-13"}]
[null,null,null,null,null,null,null,null,null,null,null,null,null,null,null,null,null,null,"2025-05-20",{"$f":"WEEKDAY(S596)","v":3},{"$f":"MONTH(S596)","v":5},{"$f":"YEAR(S596)","v":2025},{"$f":"T596&U596","v":"35"},{"$f":"IF(V596&W596=V595&W595,X595+1,1)","v":3},{"$f":"V596&U596&T596&X596","v":"2025533"},{"$f":"S596","v":"2025-05-20"}]
[null,null,null,null,null,null,null,null,null,null,null,null,null,null,null,null,null,null,"2025-05-27",{"$f":"WEEKDAY(S597)","v":3},{"$f":"MONTH(S597)","v":5},{"$f":"YEAR(S597)","v":2025},{"$f":"T597&U597","v":"35"},{"$f":"IF(V597&W597=V596&W596,X596+1,1)","v":4},{"$f":"V597&U597&T597&X597","v":"2025534"},{"$f":"S597","v":"2025-05-27"}]
[null,null,null,null,null,null,null,null,null,null,null,null,null,null,null,null,null,null,"2025-05-07",{"$f":"WEEKDAY(S598)","v":4},{"$f":"MONTH(S598)","v":5},{"$f":"YEAR(S598)","v":2025},{"$f":"T598&U598","v":"45"},{"$f":"IF(V598&W598=V597&W597,X597+1,1)","v":1},{"$f":"V598&U598&T598&X598","v":"2025541"},{"$f":"S598","v":"2025-05-07"}]
[null,null,null,null,null,null,null,null,null,null,null,null,null,null,null,null,null,null,"2025-05-14",{"$f":"WEEKDAY(S599)","v":4},{"$f":"MONTH(S599)","v":5},{"$f":"YEAR(S599)","v":2025},{"$f":"T599&U599","v":"45"},{"$f":"IF(V599&W599=V598&W598,X598+1,1)","v":2},{"$f":"V599&U599&T599&X599","v":"2025542"},{"$f":"S599","v":"2025-05-14"}]
[null,null,null,null,null,null,null,null,null,null,null,null,null,null,null,null,null,null,"2025-05-21",{"$f":"WEEKDAY(S600)","v":4},{"$f":"MONTH(S600)","v":5},{"$f":"YEAR(S600)","v":2025},{"$f":"T600&U600","v":"45"},{"$f":"IF(V600&W600=V599&W599,X599+1,1)","v":3},{"$f":"V600&U600&T600&X600","v":"2025543"},{"$f":"S600","v":"2025-05-21"}]
[null,null,null,null,null,null,null,null,null,null,null,null,null,null,null,null,null,null,"2025-05-28",{"$f":"WEEKDAY(S601)","v":4},{"$f":"MONTH(S601)","v":5},{"$f":"YEAR(S601)","v":2025},{"$f":"T601&U601","v":"45"},{"$f":"IF(V601&W601=V600&W600,X600+1,1)","v":4},{"$f":"V601&U601&T601&X601","v":"2025544"},{"$f":"S601","v":"2025-05-28"}]
[null,null,null,null,null,null,null,null,null,null,null,null,null,null,null,null,null,null,"2025-05-01",{"$f":"WEEKDAY(S602)","v":5},{"$f":"MONTH(S602)","v":5},{"$f":"YEAR(S602)","v":2025},{"$f":"T602&U602","v":"55"},{"$f":"IF(V602&W602=V601&W601,X601+1,1)","v":1},{"$f":"V602&U602&T602&X602","v":"2025551"},{"$f":"S602","v":"2025-05-01"}]
[null,null,null,null,null,null,null,null,null,null,null,null,null,null,null,null,null,null,"2025-05-08",{"$f":"WEEKDAY(S603)","v":5},{"$f":"MONTH(S603)","v":5},{"$f":"YEAR(S603)","v":2025},{"$f":"T603&U603","v":"55"},{"$f":"IF(V603&W603=V602&W602,X602+1,1)","v":2},{"$f":"V603&U603&T603&X603","v":"2025552"},{"$f":"S603","v":"2025-05-08"}]
[null,null,null,null,null,null,null,null,null,null,null,null,null,null,null,null,null,null,"2025-05-15",{"$f":"WEEKDAY(S604)","v":5},{"$f":"MONTH(S604)","v":5},{"$f":"YEAR(S604)","v":2025},{"$f":"T604&U604","v":"55"},{"$f":"IF(V604&W604=V603&W603,X603+1,1)","v":3},{"$f":"V604&U604&T604&X604","v":"2025553"},{"$f":"S604","v":"2025-05-15"}]
[null,null,null,null,null,null,null,null,null,null,null,null,null,null,null,null,null,null,"2025-05-22",{"$f":"WEEKDAY(S605)","v":5},{"$f":"MONTH(S605)","v":5},{"$f":"YEAR(S605)","v":2025},{"$f":"T605&U605","v":"55"},{"$f":"IF(V605&W605=V604&W604,X604+1,1)","v":4},{"$f":"V605&U605&T605&X605","v":"2025554"},{"$f":"S605","v":"2025-05-22"}]
[null,null,null,null,null,null,null,null,null,null,null,null,null,null,null,null,null,null,"2025-05-29",{"$f":"WEEKDAY(S606)","v":5},{"$f":"MONTH(S606)","v":5},{"$f":"YEAR(S606)","v":2025},{"$f":"T606&U606","v":"55"},{"$f":"IF(V606&W606=V605&W605,X605+1,1)","v":5},{"$f":"V606&U606&T606&X606","v":"2025555"},{"$f":"S606","v":"2025-05-29"}]
[null,null,null,null,null,null,null,null,null,null,null,null,null,null,null,null,null,null,"2025-05-02",{"$f":"WEEKDAY(S607)","v":6},{"$f":"MONTH(S607)","v":5},{"$f":"YEAR(S607)","v":2025},{"$f":"T607&U607","v":"65"},{"$f":"IF(V607&W607=V606&W606,X606+1,1)","v":1},{"$f":"V607&U607&T607&X607","v":"2025561"},{"$f":"S607","v":"2025-05-02"}]
[null,null,null,null,null,null,null,null,null,null,null,null,null,null,null,null,null,null,"2025-05-09",{"$f":"WEEKDAY(S608)","v":6},{"$f":"MONTH(S608)","v":5},{"$f":"YEAR(S608)","v":2025},{"$f":"T608&U608","v":"65"},{"$f":"IF(V608&W608=V607&W607,X607+1,1)","v":2},{"$f":"V608&U608&T608&X608","v":"2025562"},{"$f":"S608","v":"2025-05-09"}]
[null,null,null,null,null,null,null,null,null,null,null,null,null,null,null,null,null,null,"2025-05-16",{"$f":"WEEKDAY(S609)","v":6},{"$f":"MONTH(S609)","v":5},{"$f":"YEAR(S609)","v":2025},{"$f":"T609&U609","v":"65"},{"$f":"IF(V609&W609=V608&W608,X608+1,1)","v":3},{"$f":"V609&U609&T609&X609","v":"2025563"},{"$f":"S609","v":"2025-05-16"}]
[null,null,null,null,null,null,null,null,null,null,null,null,null,null,null,null,null,null,"2025-05-23",{"$f":"WEEKDAY(S610)","v":6},{"$f":"MONTH(S610)","v":5},{"$f":"YEAR(S610)","v":2025},{"$f":"T610&U610","v":"65"},{"$f":"IF(V610&W610=V609&W609,X609+1,1)","v":4},{"$f":"V610&U610&T610&X610","v":"2025564"},{"$f":"S610","v":"2025-05-23"}]
[null,null,null,null,null,null,null,null,null,null,null,null,null,null,null,null,null,null,"2025-05-30",{"$f":"WEEKDAY(S611)","v":6},{"$f":"MONTH(S611)","v":5},{"$f":"YEAR(S611)","v":2025},{"$f":"T611&U611","v":"65"},{"$f":"IF(V611&W611=V610&W610,X610+1,1)","v":5},{"$f":"V611&U611&T611&X611","v":"2025565"},{"$f":"S611","v":"2025-05-30"}]
[null,null,null,null,null,null,null,null,null,null,null,null,null,null,null,null,null,null,"2025-05-03",{"$f":"WEEKDAY(S612)","v":7},{"$f":"MONTH(S612)","v":5},{"$f":"YEAR(S612)","v":2025},{"$f":"T612&U612","v":"75"},{"$f":"IF(V612&W612=V611&W611,X611+1,1)","v":1},{"$f":"V612&U612&T612&X612","v":"2025571"},{"$f":"S612","v":"2025-05-03"}]
[null,null,null,null,null,null,null,null,null,null,null,null,null,null,null,null,null,null,"2025-05-10",{"$f":"WEEKDAY(S613)","v":7},{"$f":"MONTH(S613)","v":5},{"$f":"YEAR(S613)","v":2025},{"$f":"T613&U613","v":"75"},{"$f":"IF(V613&W613=V612&W612,X612+1,1)","v":2},{"$f":"V613&U613&T613&X613","v":"2025572"},{"$f":"S613","v":"2025-05-10"}]
[null,null,null,null,null,null,null,null,null,null,null,null,null,null,null,null,null,null,"2025-05-17",{"$f":"WEEKDAY(S614)","v":7},{"$f":"MONTH(S614)","v":5},{"$f":"YEAR(S614)","v":2025},{"$f":"T614&U614","v":"75"},{"$f":"IF(V614&W614=V613&W613,X613+1,1)","v":3},{"$f":"V614&U614&T614&X614","v":"2025573"},{"$f":"S614","v":"2025-05-17"}]
[null,null,null,null,null,null,null,null,null,null,null,null,null,null,null,null,null,null,"2025-05-24",{"$f":"WEEKDAY(S615)","v":7},{"$f":"MONTH(S615)","v":5},{"$f":"YEAR(S615)","v":2025},{"$f":"T615&U615","v":"75"},{"$f":"IF(V615&W615=V614&W614,X614+1,1)","v":4},{"$f":"V615&U615&T615&X615","v":"2025574"},{"$f":"S615","v":"2025-05-24"}]
[null,null,null,null,null,null,null,null,null,null,null,null,null,null,null,null,null,null,"2025-05-31",{"$f":"WEEKDAY(S616)","v":7},{"$f":"MONTH(S616)","v":5},{"$f":"YEAR(S616)","v":2025},{"$f":"T616&U616","v":"75"},{"$f":"IF(V616&W616=V615&W615,X615+1,1)","v":5},{"$f":"V616&U616&T616&X616","v":"2025575"},{"$f":"S616","v":"2025-05-31"}]
[null,null,null,null,null,null,null,null,null,null,null,null,null,null,null,null,null,null,"2025-06-01",{"$f":"WEEKDAY(S617)","v":1},{"$f":"MONTH(S617)","v":6},{"$f":"YEAR(S617)","v":2025},{"$f":"T617&U617","v":"16"},{"$f":"IF(V617&W617=V616&W616,X616+1,1)","v":1},{"$f":"V617&U617&T617&X617","v":"2025611"},{"$f":"S617","v":"2025-06-01"}]
[null,null,null,null,null,null,null,null,null,null,null,null,null,null,null,null,null,null,"2025-06-08",{"$f":"WEEKDAY(S618)","v":1},{"$f":"MONTH(S618)","v":6},{"$f":"YEAR(S618)","v":2025},{"$f":"T618&U618","v":"16"},{"$f":"IF(V618&W618=V617&W617,X617+1,1)","v":2},{"$f":"V618&U618&T618&X618","v":"2025612"},{"$f":"S618","v":"2025-06-08"}]
[null,null,null,null,null,null,null,null,null,null,null,null,null,null,null,null,null,null,"2025-06-15",{"$f":"WEEKDAY(S619)","v":1},{"$f":"MONTH(S619)","v":6},{"$f":"YEAR(S619)","v":2025},{"$f":"T619&U619","v":"16"},{"$f":"IF(V619&W619=V618&W618,X618+1,1)","v":3},{"$f":"V619&U619&T619&X619","v":"2025613"},{"$f":"S619","v":"2025-06-15"}]
[null,null,null,null,null,null,null,null,null,null,null,null,null,null,null,null,null,null,"2025-06-22",{"$f":"WEEKDAY(S620)","v":1},{"$f":"MONTH(S620)","v":6},{"$f":"YEAR(S620)","v":2025},{"$f":"T620&U620","v":"16"},{"$f":"IF(V620&W620=V619&W619,X619+1,1)","v":4},{"$f":"V620&U620&T620&X620","v":"2025614"},{"$f":"S620","v":"2025-06-22"}]
[null,null,null,null,null,null,null,null,null,null,null,null,null,null,null,null,null,null,"2025-06-29",{"$f":"WEEKDAY(S621)","v":1},{"$f":"MONTH(S621)","v":6},{"$f":"YEAR(S621)","v":2025},{"$f":"T621&U621","v":"16"},{"$f":"IF(V621&W621=V620&W620,X620+1,1)","v":5},{"$f":"V621&U621&T621&X621","v":"2025615"},{"$f":"S621","v":"2025-06-29"}]
[null,null,null,null,null,null,null,null,null,null,null,null,null,null,null,null,null,null,"2025-06-02",{"$f":"WEEKDAY(S622)","v":2},{"$f":"MONTH(S622)","v":6},{"$f":"YEAR(S622)","v":2025},{"$f":"T622&U622","v":"26"},{"$f":"IF(V622&W622=V621&W621,X621+1,1)","v":1},{"$f":"V622&U622&T622&X622","v":"2025621"},{"$f":"S622","v":"2025-06-02"}]
[null,null,null,null,null,null,null,null,null,null,null,null,null,null,null,null,null,null,"2025-06-09",{"$f":"WEEKDAY(S623)","v":2},{"$f":"MONTH(S623)","v":6},{"$f":"YEAR(S623)","v":2025},{"$f":"T623&U623","v":"26"},{"$f":"IF(V623&W623=V622&W622,X622+1,1)","v":2},{"$f":"V623&U623&T623&X623","v":"2025622"},{"$f":"S623","v":"2025-06-09"}]
[null,null,null,null,null,null,null,null,null,null,null,null,null,null,null,null,null,null,"2025-06-16",{"$f":"WEEKDAY(S624)","v":2},{"$f":"MONTH(S624)","v":6},{"$f":"YEAR(S624)","v":2025},{"$f":"T624&U624","v":"26"},{"$f":"IF(V624&W624=V623&W623,X623+1,1)","v":3},{"$f":"V624&U624&T624&X624","v":"2025623"},{"$f":"S624","v":"2025-06-16"}]
[null,null,null,null,null,null,null,null,null,null,null,null,null,null,null,null,null,null,"2025-06-23",{"$f":"WEEKDAY(S625)","v":2},{"$f":"MONTH(S625)","v":6},{"$f":"YEAR(S625)","v":2025},{"$f":"T625&U625","v":"26"},{"$f":"IF(V625&W625=V624&W624,X624+1,1)","v":4},{"$f":"V625&U625&T625&X625","v":"2025624"},{"$f":"S625","v":"2025-06-23"}]
[null,null,null,null,null,null,null,null,null,null,null,null,null,null,null,null,null,null,"2025-06-30",{"$f":"WEEKDAY(S626)","v":2},{"$f":"MONTH(S626)","v":6},{"$f":"YEAR(S626)","v":2025},{"$f":"T626&U626","v":"26"},{"$f":"IF(V626&W626=V625&W625,X625+1,1)","v":5},{"$f":"V626&U626&T626&X626","v":"2025625"},{"$f":"S626","v":"2025-06-30"}]
[null,null,null,null,null,null,null,null,null,null,null,null,null,null,null,null,null,null,"2025-06-03",{"$f":"WEEKDAY(S627)","v":3},{"$f":"MONTH(S627)","v":6},{"$f":"YEAR(S627)","v":2025},{"$f":"T627&U627","v":"36"},{"$f":"IF(V627&W627=V626&W626,X626+1,1)","v":1},{"$f":"V627&U627&T627&X627","v":"2025631"},{"$f":"S627","v":"2025-06-03"}]
[null,null,null,null,null,null,null,null,null,null,null,null,null,null,null,null,null,null,"2025-06-10",{"$f":"WEEKDAY(S628)","v":3},{"$f":"MONTH(S628)","v":6},{"$f":"YEAR(S628)","v":2025},{"$f":"T628&U628","v":"36"},{"$f":"IF(V628&W628=V627&W627,X627+1,1)","v":2},{"$f":"V628&U628&T628&X628","v":"2025632"},{"$f":"S628","v":"2025-06-10"}]
[null,null,null,null,null,null,null,null,null,null,null,null,null,null,null,null,null,null,"2025-06-17",{"$f":"WEEKDAY(S629)","v":3},{"$f":"MONTH(S629)","v":6},{"$f":"YEAR(S629)","v":2025},{"$f":"T629&U629","v":"36"},{"$f":"IF(V629&W629=V628&W628,X628+1,1)","v":3},{"$f":"V629&U629&T629&X629","v":"2025633"},{"$f":"S629","v":"2025-06-17"}]
[null,null,null,null,null,null,null,null,null,null,null,null,null,null,null,null,null,null,"2025-06-24",{"$f":"WEEKDAY(S630)","v":3},{"$f":"MONTH(S630)","v":6},{"$f":"YEAR(S630)","v":2025},{"$f":"T630&U630","v":"36"},{"$f":"IF(V630&W630=V629&W629,X629+1,1)","v":4},{"$f":"V630&U630&T630&X630","v":"2025634"},{"$f":"S630","v":"2025-06-24"}]
[null,null,null,null,null,null,null,null,null,null,null,null,null,null,null,null,null,null,"2025-06-04",{"$f":"WEEKDAY(S631)","v":4},{"$f":"MONTH(S631)","v":6},{"$f":"YEAR(S631)","v":2025},{"$f":"T631&U631","v":"46"},{"$f":"IF(V631&W631=V630&W630,X630+1,1)","v":1},{"$f":"V631&U631&T631&X631","v":"2025641"},{"$f":"S631","v":"2025-06-04"}]
[null,null,null,null,null,null,null,null,null,null,null,null,null,null,null,null,null,null,"2025-06-11",{"$f":"WEEKDAY(S632)","v":4},{"$f":"MONTH(S632)","v":6},{"$f":"YEAR(S632)","v":2025},{"$f":"T632&U632","v":"46"},{"$f":"IF(V632&W632=V631&W631,X631+1,1)","v":2},{"$f":"V632&U632&T632&X632","v":"2025642"},{"$f":"S632","v":"2025-06-11"}]
[null,null,null,null,null,null,null,null,null,null,null,null,null,null,null,null,null,null,"2025-06-18",{"$f":"WEEKDAY(S633)","v":4},{"$f":"MONTH(S633)","v":6},{"$f":"YEAR(S633)","v":2025},{"$f":"T633&U633","v":"46"},{"$f":"IF(V633&W633=V632&W632,X632+1,1)","v":3},{"$f":"V633&U633&T633&X633","v":"2025643"},{"$f":"S633","v":"2025-06-18"}]
[null,null,null,null,null,null,null,null,null,null,null,null,null,null,null,null,null,null,"2025-06-25",{"$f":"WEEKDAY(S634)","v":4},{"$f":"MONTH(S634)","v":6},{"$f":"YEAR(S634)","v":2025},{"$f":"T634&U634","v":"46"},{"$f":"IF(V634&W634=V633&W633,X633+1,1)","v":4},{"$f":"V634&U634&T634&X634","v":"2025644"},{"$f":"S634","v":"2025-06-25"}]
[null,null,null,null,null,null,null,null,null,null,null,null,null,null,null,null,null,null,"2025-06-05",{"$f":"WEEKDAY(S635)","v":5},{"$f":"MONTH(S635)","v":6},{"$f":"YEAR(S635)","v":2025},{"$f":"T635&U635","v":"56"},{"$f":"IF(V635&W635=V634&W634,X634+1,1)","v":1},{"$f":"V635&U635&T635&X635","v":"2025651"},{"$f":"S635","v":"2025-06-05"}]
[null,null,null,null,null,null,null,null,null,null,null,null,null,null,null,null,null,null,"2025-06-12",{"$f":"WEEKDAY(S636)","v":5},{"$f":"MONTH(S636)","v":6},{"$f":"YEAR(S636)","v":2025},{"$f":"T636&U636","v":"56"},{"$f":"IF(V636&W636=V635&W635,X635+1,1)","v":2},{"$f":"V636&U636&T636&X636","v":"2025652"},{"$f":"S636","v":"2025-06-12"}]
[null,null,null,null,null,null,null,null,null,null,null,null,null,null,null,null,null,null,"2025-06-19",{"$f":"WEEKDAY(S637)","v":5},{"$f":"MONTH(S637)","v":6},{"$f":"YEAR(S637)","v":2025},{"$f":"T637&U637","v":"56"},{"$f":"IF(V637&W637=V636&W636,X636+1,1)","v":3},{"$f":"V637&U637&T637&X637","v":"2025653"},{"$f":"S637","v":"2025-06-19"}]
[null,null,null,null,null,null,null,null,null,null,null,null,null,null,null,null,null,null,"2025-06-26",{"$f":"WEEKDAY(S638)","v":5},{"$f":"MONTH(S638)","v":6},{"$f":"YEAR(S638)","v":2025},{"$f":"T638&U638","v":"56"},{"$f":"IF(V638&W638=V637&W637,X637+1,1)","v":4},{"$f":"V638&U638&T638&X638","v":"2025654"},{"$f":"S638","v":"2025-06-26"}]
[null,null,null,null,null,null,null,null,null,null,null,null,null,null,null,null,null,null,"2025-06-06",{"$f":"WEEKDAY(S639)","v":6},{"$f":"MONTH(S639)","v":6},{"$f":"YEAR(S639)","v":2025},{"$f":"T639&U639","v":"66"},{"$f":"IF(V639&W639=V638&W638,X638+1,1)","v":1},{"$f":"V639&U639&T639&X639","v":"2025661"},{"$f":"S639","v":"2025-06-06"}]
[null,null,null,null,null,null,null,null,null,null,null,null,null,null,null,null,null,null,"2025-06-13",{"$f":"WEEKDAY(S640)","v":6},{"$f":"MONTH(S640)","v":6},{"$f":"YEAR(S640)","v":2025},{"$f":"T640&U640","v":"66"},{"$f":"IF(V640&W640=V639&W639,X639+1,1)","v":2},{"$f":"V640&U640&T640&X640","v":"2025662"},{"$f":"S640","v":"2025-06-13"}]
[null,null,null,null,null,null,null,null,null,null,null,null,null,null,null,null,null,null,"2025-06-20",{"$f":"WEEKDAY(S641)","v":6},{"$f":"MONTH(S641)","v":6},{"$f":"YEAR(S641)","v":2025},{"$f":"T641&U641","v":"66"},{"$f":"IF(V641&W641=V640&W640,X640+1,1)","v":3},{"$f":"V641&U641&T641&X641","v":"2025663"},{"$f":"S641","v":"2025-06-20"}]
[null,null,null,null,null,null,null,null,null,null,null,null,null,null,null,null,null,null,"2025-06-27",{"$f":"WEEKDAY(S642)","v":6},{"$f":"MONTH(S642)","v":6},{"$f":"YEAR(S642)","v":2025},{"$f":"T642&U642","v":"66"},{"$f":"IF(V642&W642=V641&W641,X641+1,1)","v":4},{"$f":"V642&U642&T642&X642","v":"2025664"},{"$f":"S642","v":"2025-06-27"}]
[null,null,null,null,null,null,null,null,null,null,null,null,null,null,null,null,null,null,"2025-06-07",{"$f":"WEEKDAY(S643)","v":7},{"$f":"MONTH(S643)","v":6},{"$f":"YEAR(S643)","v":2025},{"$f":"T643&U643","v":"76"},{"$f":"IF(V643&W643=V642&W642,X642+1,1)","v":1},{"$f":"V643&U643&T643&X643","v":"2025671"},{"$f":"S643","v":"2025-06-07"}]
[null,null,null,null,null,null,null,null,null,null,null,null,null,null,null,null,null,null,"2025-06-14",{"$f":"WEEKDAY(S644)","v":7},{"$f":"MONTH(S644)","v":6},{"$f":"YEAR(S644)","v":2025},{"$f":"T644&U644","v":"76"},{"$f":"IF(V644&W644=V643&W643,X643+1,1)","v":2},{"$f":"V644&U644&T644&X644","v":"2025672"},{"$f":"S644","v":"2025-06-14"}]
[null,null,null,null,null,null,null,null,null,null,null,null,null,null,null,null,null,null,"2025-06-21",{"$f":"WEEKDAY(S645)","v":7},{"$f":"MONTH(S645)","v":6},{"$f":"YEAR(S645)","v":2025},{"$f":"T645&U645","v":"76"},{"$f":"IF(V645&W645=V644&W644,X644+1,1)","v":3},{"$f":"V645&U645&T645&X645","v":"2025673"},{"$f":"S645","v":"2025-06-21"}]
[null,null,null,null,null,null,null,null,null,null,null,null,null,null,null,null,null,null,"2025-06-28",{"$f":"WEEKDAY(S646)","v":7},{"$f":"MONTH(S646)","v":6},{"$f":"YEAR(S646)","v":2025},{"$f":"T646&U646","v":"76"},{"$f":"IF(V646&W646=V645&W645,X645+1,1)","v":4},{"$f":"V646&U646&T646&X646","v":"2025674"},{"$f":"S646","v":"2025-06-28"}]
[null,null,null,null,null,null,null,null,null,null,null,null,null,null,null,null,null,null,"2025-07-06",{"$f":"WEEKDAY(S647)","v":1},{"$f":"MONTH(S647)","v":7},{"$f":"YEAR(S647)","v":2025},{"$f":"T647&U647","v":"17"},{"$f":"IF(V647&W647=V646&W646,X646+1,1)","v":1},{"$f":"V647&U647&T647&X647","v":"2025711"},{"$f":"S647","v":"2025-07-06"}]
[null,null,null,null,null,null,null,null,null,null,null,null,null,null,null,null,null,null,"2025-07-13",{"$f":"WEEKDAY(S648)","v":1},{"$f":"MONTH(S648)","v":7},{"$f":"YEAR(S648)","v":2025},{"$f":"T648&U648","v":"17"},{"$f":"IF(V648&W648=V647&W647,X647+1,1)","v":2},{"$f":"V648&U648&T648&X648","v":"2025712"},{"$f":"S648","v":"2025-07-13"}]
[null,null,null,null,null,null,null,null,null,null,null,null,null,null,null,null,null,null,"2025-07-20",{"$f":"WEEKDAY(S649)","v":1},{"$f":"MONTH(S649)","v":7},{"$f":"YEAR(S649)","v":2025},{"$f":"T649&U649","v":"17"},{"$f":"IF(V649&W649=V648&W648,X648+1,1)","v":3},{"$f":"V649&U649&T649&X649","v":"2025713"},{"$f":"S649","v":"2025-07-20"}]
[null,null,null,null,null,null,null,null,null,null,null,null,null,null,null,null,null,null,"2025-07-27",{"$f":"WEEKDAY(S650)","v":1},{"$f":"MONTH(S650)","v":7},{"$f":"YEAR(S650)","v":2025},{"$f":"T650&U650","v":"17"},{"$f":"IF(V650&W650=V649&W649,X649+1,1)","v":4},{"$f":"V650&U650&T650&X650","v":"2025714"},{"$f":"S650","v":"2025-07-27"}]
[null,null,null,null,null,null,null,null,null,null,null,null,null,null,null,null,null,null,"2025-07-07",{"$f":"WEEKDAY(S651)","v":2},{"$f":"MONTH(S651)","v":7},{"$f":"YEAR(S651)","v":2025},{"$f":"T651&U651","v":"27"},{"$f":"IF(V651&W651=V650&W650,X650+1,1)","v":1},{"$f":"V651&U651&T651&X651","v":"2025721"},{"$f":"S651","v":"2025-07-07"}]
[null,null,null,null,null,null,null,null,null,null,null,null,null,null,null,null,null,null,"2025-07-14",{"$f":"WEEKDAY(S652)","v":2},{"$f":"MONTH(S652)","v":7},{"$f":"YEAR(S652)","v":2025},{"$f":"T652&U652","v":"27"},{"$f":"IF(V652&W652=V651&W651,X651+1,1)","v":2},{"$f":"V652&U652&T652&X652","v":"2025722"},{"$f":"S652","v":"2025-07-14"}]
[null,null,null,null,null,null,null,null,null,null,null,null,null,null,null,null,null,null,"2025-07-21",{"$f":"WEEKDAY(S653)","v":2},{"$f":"MONTH(S653)","v":7},{"$f":"YEAR(S653)","v":2025},{"$f":"T653&U653","v":"27"},{"$f":"IF(V653&W653=V652&W652,X652+1,1)","v":3},{"$f":"V653&U653&T653&X653","v":"2025723"},{"$f":"S653","v":"2025-07-21"}]
[null,null,null,null,null,null,null,null,null,null,null,null,null,null,null,null,null,null,"2025-07-28",{"$f":"WEEKDAY(S654)","v":2},{"$f":"MONTH(S654)","v":7},{"$f":"YEAR(S654)","v":2025},{"$f":"T654&U654","v":"27"},{"$f":"IF(V654&W654=V653&W653,X653+1,1)","v":4},{"$f":"V654&U654&T654&X654","v":"2025724"},{"$f":"S654","v":"2025-07-28"}]
[null,null,null,null,null,null,null,null,null,null,null,null,null,null,null,null,null,null,"2025-07-01",{"$f":"WEEKDAY(S655)","v":3},{"$f":"MONTH(S655)","v":7},{"$f":"YEAR(S655)","v":2025},{"$f":"T655&U655","v":"37"},{"$f":"IF(V655&W655=V654&W654,X654+1,1)","v":1},{"$f":"V655&U655&T655&X655","v":"2025731"},{"$f":"S655","v":"2025-07-01"}]
[null,null,null,null,null,null,null,null,null,null,null,null,null,null,null,null,null,null,"2025-07-08",{"$f":"WEEKDAY(S656)","v":3},{"$f":"MONTH(S656)","v":7},{"$f":"YEAR(S656)","v":2025},{"$f":"T656&U656","v":"37"},{"$f":"IF(V656&W656=V655&W655,X655+1,1)","v":2},{"$f":"V656&U656&T656&X656","v":"2025732"},{"$f":"S656","v":"2025-07-08"}]
[null,null,null,null,null,null,null,null,null,null,null,null,null,null,null,null,null,null,"2025-07-15",{"$f":"WEEKDAY(S657)","v":3},{"$f":"MONTH(S657)","v":7},{"$f":"YEAR(S657)","v":2025},{"$f":"T657&U657","v":"37"},{"$f":"IF(V657&W657=V656&W656,X656+1,1)","v":3},{"$f":"V657&U657&T657&X657","v":"2025733"},{"$f":"S657","v":"2025-07-15"}]
[null,null,null,null,null,null,null,null,null,null,null,null,null,null,null,null,null,null,"2025-07-22",{"$f":"WEEKDAY(S658)","v":3},{"$f":"MONTH(S658)","v":7},{"$f":"YEAR(S658)","v":2025},{"$f":"T658&U658","v":"37"},{"$f":"IF(V658&W658=V657&W657,X657+1,1)","v":4},{"$f":"V658&U658&T658&X658","v":"2025734"},{"$f":"S658","v":"2025-07-22"}]
[null,null,null,null,null,null,null,null,null,null,null,null,null,null,null,null,null,null,"2025-07-29",{"$f":"WEEKDAY(S659)","v":3},{"$f":"MONTH(S659)","v":7},{"$f":"YEAR(S659)","v":2025},{"$f":"T659&U659","v":"37"},{"$f":"IF(V659&W659=V658&W658,X658+1,1)","v":5},{"$f":"V659&U659&T659&X659","v":"2025735"},{"$f":"S659","v":"2025-07-29"}]
[null,null,null,null,null,null,null,null,null,null,null,null,null,null,null,null,null,null,"2025-07-02",{"$f":"WEEKDAY(S660)","v":4},{"$f":"MONTH(S660)","v":7},{"$f":"YEAR(S660)","v":2025},{"$f":"T660&U660","v":"47"},{"$f":"IF(V660&W660=V659&W659,X659+1,1)","v":1},{"$f":"V660&U660&T660&X660","v":"2025741"},{"$f":"S660","v":"2025-07-02"}]
[null,null,null,null,null,null,null,null,null,null,null,null,null,null,null,null,null,null,"2025-07-09",{"$f":"WEEKDAY(S661)","v":4},{"$f":"MONTH(S661)","v":7},{"$f":"YEAR(S661)","v":2025},{"$f":"T661&U661","v":"47"},{"$f":"IF(V661&W661=V660&W660,X660+1,1)","v":2},{"$f":"V661&U661&T661&X661","v":"2025742"},{"$f":"S661","v":"2025-07-09"}]
[null,null,null,null,null,null,null,null,null,null,null,null,null,null,null,null,null,null,"2025-07-16",{"$f":"WEEKDAY(S662)","v":4},{"$f":"MONTH(S662)","v":7},{"$f":"YEAR(S662)","v":2025},{"$f":"T662&U662","v":"47"},{"$f":"IF(V662&W662=V661&W661,X661+1,1)","v":3},{"$f":"V662&U662&T662&X662","v":"2025743"},{"$f":"S662","v":"2025-07-16"}]
[null,null,null,null,null,null,null,null,null,null,null,null,null,null,null,null,null,null,"2025-07-23",{"$f":"WEEKDAY(S663)","v":4},{"$f":"MONTH(S663)","v":7},{"$f":"YEAR(S663)","v":2025},{"$f":"T663&U663","v":"47"},{"$f":"IF(V663&W663=V662&W662,X662+1,1)","v":4},{"$f":"V663&U663&T663&X663","v":"2025744"},{"$f":"S663","v":"2025-07-23"}]
[null,null,null,null,null,null,null,null,null,null,null,null,null,null,null,null,null,null,"2025-07-30",{"$f":"WEEKDAY(S664)","v":4},{"$f":"MONTH(S664)","v":7},{"$f":"YEAR(S664)","v":2025},{"$f":"T664&U664","v":"47"},{"$f":"IF(V664&W664=V663&W663,X663+1,1)","v":5},{"$f":"V664&U664&T664&X664","v":"2025745"},{"$f":"S664","v":"2025-07-30"}]
[null,null,null,null,null,null,null,null,null,null,null,null,null,null,null,null,null,null,"2025-07-03",{"$f":"WEEKDAY(S665)","v":5},{"$f":"MONTH(S665)","v":7},{"$f":"YEAR(S665)","v":2025},{"$f":"T665&U665","v":"57"},{"$f":"IF(V665&W665=V664&W664,X664+1,1)","v":1},{"$f":"V665&U665&T665&X665","v":"2025751"},{"$f":"S665","v":"2025-07-03"}]
[null,null,null,null,null,null,null,null,null,null,null,null,null,null,null,null,null,null,"2025-07-10",{"$f":"WEEKDAY(S666)","v":5},{"$f":"MONTH(S666)","v":7},{"$f":"YEAR(S666)","v":2025},{"$f":"T666&U666","v":"57"},{"$f":"IF(V666&W666=V665&W665,X665+1,1)","v":2},{"$f":"V666&U666&T666&X666","v":"2025752"},{"$f":"S666","v":"2025-07-10"}]
[null,null,null,null,null,null,null,null,null,null,null,null,null,null,null,null,null,null,"2025-07-17",{"$f":"WEEKDAY(S667)","v":5},{"$f":"MONTH(S667)","v":7},{"$f":"YEAR(S667)","v":2025},{"$f":"T667&U667","v":"57"},{"$f":"IF(V667&W667=V666&W666,X666+1,1)","v":3},{"$f":"V667&U667&T667&X667","v":"2025753"},{"$f":"S667","v":"2025-07-17"}]
[null,null,null,null,null,null,null,null,null,null,null,null,null,null,null,null,null,null,"2025-07-24",{"$f":"WEEKDAY(S668)","v":5},{"$f":"MONTH(S668)","v":7},{"$f":"YEAR(S668)","v":2025},{"$f":"T668&U668","v":"57"},{"$f":"IF(V668&W668=V667&W667,X667+1,1)","v":4},{"$f":"V668&U668&T668&X668","v":"2025754"},{"$f":"S668","v":"2025-07-24"}]
[null,null,null,null,null,null,null,null,null,null,null,null,null,null,null,null,null,null,"2025-07-31",{"$f":"WEEKDAY(S669)","v":5},{"$f":"MONTH(S669)","v":7},{"$f":"YEAR(S669)","v":2025},{"$f":"T669&U669","v":"57"},{"$f":"IF(V669&W669=V668&W668,X668+1,1)","v":5},{"$f":"V669&U669&T669&X669","v":"2025755"},{"$f":"S669","v":"2025-07-31"}]
[null,null,null,null,null,null,null,null,null,null,null,null,null,null,null,null,null,null,"2025-07-04",{"$f":"WEEKDAY(S670)","v":6},{"$f":"MONTH(S670)","v":7},{"$f":"YEAR(S670)","v":2025},{"$f":"T670&U670","v":"67"},{"$f":"IF(V670&W670=V669&W669,X669+1,1)","v":1},{"$f":"V670&U670&T670&X670","v":"2025761"},{"$f":"S670","v":"2025-07-04"}]
[null,null,null,null,null,null,null,null,null,null,null,null,null,null,null,null,null,null,"2025-07-11",{"$f":"WEEKDAY(S671)","v":6},{"$f":"MONTH(S671)","v":7},{"$f":"YEAR(S671)","v":2025},{"$f":"T671&U671","v":"67"},{"$f":"IF(V671&W671=V670&W670,X670+1,1)","v":2},{"$f":"V671&U671&T671&X671","v":"2025762"},{"$f":"S671","v":"2025-07-11"}]
[null,null,null,null,null,null,null,null,null,null,null,null,null,null,null,null,null,null,"2025-07-18",{"$f":"WEEKDAY(S672)","v":6},{"$f":"MONTH(S672)","v":7},{"$f":"YEAR(S672)","v":2025},{"$f":"T672&U672","v":"67"},{"$f":"IF(V672&W672=V671&W671,X671+1,1)","v":3},{"$f":"V672&U672&T672&X672","v":"2025763"},{"$f":"S672","v":"2025-07-18"}]
[null,null,null,null,null,null,null,null,null,null,null,null,null,null,null,null,null,null,"2025-07-25",{"$f":"WEEKDAY(S673)","v":6},{"$f":"MONTH(S673)","v":7},{"$f":"YEAR(S673)","v":2025},{"$f":"T673&U673","v":"67"},{"$f":"IF(V673&W673=V672&W672,X672+1,1)","v":4},{"$f":"V673&U673&T673&X673","v":"2025764"},{"$f":"S673","v":"2025-07-25"}]
[null,null,null,null,null,null,null,null,null,null,null,null,null,null,null,null,null,null,"2025-07-05",{"$f":"WEEKDAY(S674)","v":7},{"$f":"MONTH(S674)","v":7},{"$f":"YEAR(S674)","v":2025},{"$f":"T674&U674","v":"77"},{"$f":"IF(V674&W674=V673&W673,X673+1,1)","v":1},{"$f":"V674&U674&T674&X674","v":"2025771"},{"$f":"S674","v":"2025-07-05"}]
[null,null,null,null,null,null,null,null,null,null,null,null,null,null,null,null,null,null,"2025-07-12",{"$f":"WEEKDAY(S675)","v":7},{"$f":"MONTH(S675)","v":7},{"$f":"YEAR(S675)","v":2025},{"$f":"T675&U675","v":"77"},{"$f":"IF(V675&W675=V674&W674,X674+1,1)","v":2},{"$f":"V675&U675&T675&X675","v":"2025772"},{"$f":"S675","v":"2025-07-12"}]
[null,null,null,null,null,null,null,null,null,null,null,null,null,null,null,null,null,null,"2025-07-19",{"$f":"WEEKDAY(S676)","v":7},{"$f":"MONTH(S676)","v":7},{"$f":"YEAR(S676)","v":2025},{"$f":"T676&U676","v":"77"},{"$f":"IF(V676&W676=V675&W675,X675+1,1)","v":3},{"$f":"V676&U676&T676&X676","v":"2025773"},{"$f":"S676","v":"2025-07-19"}]
[null,null,null,null,null,null,null,null,null,null,null,null,null,null,null,null,null,null,"2025-07-26",{"$f":"WEEKDAY(S677)","v":7},{"$f":"MONTH(S677)","v":7},{"$f":"YEAR(S677)","v":2025},{"$f":"T677&U677","v":"77"},{"$f":"IF(V677&W677=V676&W676,X676+1,1)","v":4},{"$f":"V677&U677&T677&X677","v":"2025774"},{"$f":"S677","v":"2025-07-26"}]
[null,null,null,null,null,null,null,null,null,null,null,null,null,null,null,null,null,null,"2025-08-03",{"$f":"WEEKDAY(S678)","v":1},{"$f":"MONTH(S678)","v":8},{"$f":"YEAR(S678)","v":2025},{"$f":"T678&U678","v":"18"},{"$f":"IF(V678&W678=V677&W677,X677+1,1)","v":1},{"$f":"V678&U678&T678&X678","v":"2025811"},{"$f":"S678","v":"2025-08-03"}]
[null,null,null,null,null,null,null,null,null,null,null,null,null,null,null,null,null,null,"2025-08-10",{"$f":"WEEKDAY(S679)","v":1},{"$f":"MONTH(S679)","v":8},{"$f":"YEAR(S679)","v":2025},{"$f":"T679&U679","v":"18"},{"$f":"IF(V679&W679=V678&W678,X678+1,1)","v":2},{"$f":"V679&U679&T679&X679","v":"2025812"},{"$f":"S679","v":"2025-08-10"}]
[null,null,null,null,null,null,null,null,null,null,null,null,null,null,null,null,null,null,"2025-08-17",{"$f":"WEEKDAY(S680)","v":1},{"$f":"MONTH(S680)","v":8},{"$f":"YEAR(S680)","v":2025},{"$f":"T680&U680","v":"18"},{"$f":"IF(V680&W680=V679&W679,X679+1,1)","v":3},{"$f":"V680&U680&T680&X680","v":"2025813"},{"$f":"S680","v":"2025-08-17"}]
[null,null,null,null,null,null,null,null,null,null,null,null,null,null,null,null,null,null,"2025-08-24",{"$f":"WEEKDAY(S681)","v":1},{"$f":"MONTH(S681)","v":8},{"$f":"YEAR(S681)","v":2025},{"$f":"T681&U681","v":"18"},{"$f":"IF(V681&W681=V680&W680,X680+1,1)","v":4},{"$f":"V681&U681&T681&X681","v":"2025814"},{"$f":"S681","v":"2025-08-24"}]
[null,null,null,null,null,null,null,null,null,null,null,null,null,null,null,null,null,null,"2025-08-31",{"$f":"WEEKDAY(S682)","v":1},{"$f":"MONTH(S682)","v":8},{"$f":"YEAR(S682)","v":2025},{"$f":"T682&U682","v":"18"},{"$f":"IF(V682&W682=V681&W681,X681+1,1)","v":5},{"$f":"V682&U682&T682&X682","v":"2025815"},{"$f":"S682","v":"2025-08-31"}]
[null,null,null,null,null,null,null,null,null,null,null,null,null,null,null,null,null,null,"2025-08-04",{"$f":"WEEKDAY(S683)","v":2},{"$f":"MONTH(S683)","v":8},{"$f":"YEAR(S683)","v":2025},{"$f":"T683&U683","v":"28"},{"$f":"IF(V683&W683=V682&W682,X682+1,1)","v":1},{"$f":"V683&U683&T683&X683","v":"2025821"},{"$f":"S683","v":"2025-08-04"}]
[null,null,null,null,null,null,null,null,null,null,null,null,null,null,null,null,null,null,"2025-08-11",{"$f":"WEEKDAY(S684)","v":2},{"$f":"MONTH(S684)","v":8},{"$f":"YEAR(S684)","v":2025},{"$f":"T684&U684","v":"28"},{"$f":"IF(V684&W684=V683&W683,X683+1,1)","v":2},{"$f":"V684&U684&T684&X684","v":"2025822"},{"$f":"S684","v":"2025-08-11"}]
[null,null,null,null,null,null,null,null,null,null,null,null,null,null,null,null,null,null,"2025-08-18",{"$f":"WEEKDAY(S685)","v":2},{"$f":"MONTH(S685)","v":8},{"$f":"YEAR(S685)","v":2025},{"$f":"T685&U685","v":"28"},{"$f":"IF(V685&W685=V684&W684,X684+1,1)","v":3},{"$f":"V685&U685&T685&X685","v":"2025823"},{"$f":"S685","v":"2025-08-18"}]
[null,null,null,null,null,null,null,null,null,null,null,null,null,null,null,null,null,null,"2025-08-25",{"$f":"WEEKDAY(S686)","v":2},{"$f":"MONTH(S686)","v":8},{"$f":"YEAR(S686)","v":2025},{"$f":"T686&U686","v":"28"},{"$f":"IF(V686&W686=V685&W685,X685+1,1)","v":4},{"$f":"V686&U686&T686&X686","v":"2025824"},{"$f":"S686","v":"2025-08-25"}]
[null,null,null,null,null,null,null,null,null,null,null,null,null,null,null,null,null,null,"2025-08-05",{"$f":"WEEKDAY(S687)","v":3},{"$f":"MONTH(S687)","v":8},{"$f":"YEAR(S687)","v":2025},{"$f":"T687&U687","v":"38"},{"$f":"IF(V687&W687=V686&W686,X686+1,1)","v":1},{"$f":"V687&U687&T687&X687","v":"2025831"},{"$f":"S687","v":"2025-08-05"}]
[null,null,null,null,null,null,null,null,null,null,null,null,null,null,null,null,null,null,"2025-08-12",{"$f":"WEEKDAY(S688)","v":3},{"$f":"MONTH(S688)","v":8},{"$f":"YEAR(S688)","v":2025},{"$f":"T688&U688","v":"38"},{"$f":"IF(V688&W688=V687&W687,X687+1,1)","v":2},{"$f":"V688&U688&T688&X688","v":"2025832"},{"$f":"S688","v":"2025-08-12"}]
[null,null,null,null,null,null,null,null,null,null,null,null,null,null,null,null,null,null,"2025-08-19",{"$f":"WEEKDAY(S689)","v":3},{"$f":"MONTH(S689)","v":8},{"$f":"YEAR(S689)","v":2025},{"$f":"T689&U689","v":"38"},{"$f":"IF(V689&W689=V688&W688,X688+1,1)","v":3},{"$f":"V689&U689&T689&X689","v":"2025833"},{"$f":"S689","v":"2025-08-19"}]
[null,null,null,null,null,null,null,null,null,null,null,null,null,null,null,null,null,null,"2025-08-26",{"$f":"WEEKDAY(S690)","v":3},{"$f":"MONTH(S690)","v":8},{"$f":"YEAR(S690)","v":2025},{"$f":"T690&U690","v":"38"},{"$f":"IF(V690&W690=V689&W689,X689+1,1)","v":4},{"$f":"V690&U690&T690&X690","v":"2025834"},{"$f":"S690","v":"2025-08-26"}]
[null,null,null,null,null,null,null,null,null,null,null,null,null,null,null,null,null,null,"2025-08-06",{"$f":"WEEKDAY(S691)","v":4},{"$f":"MONTH(S691)","v":8},{"$f":"YEAR(S691)","v":2025},{"$f":"T691&U691","v":"48"},{"$f":"IF(V691&W691=V690&W690,X690+1,1)","v":1},{"$f":"V691&U691&T691&X691","v":"2025841"},{"$f":"S691","v":"2025-08-06"}]
[null,null,null,null,null,null,null,null,null,null,null,null,null,null,null,null,null,null,"2025-08-13",{"$f":"WEEKDAY(S692)","v":4},{"$f":"MONTH(S692)","v":8},{"$f":"YEAR(S692)","v":2025},{"$f":"T692&U692","v":"48"},{"$f":"IF(V692&W692=V691&W691,X691+1,1)","v":2},{"$f":"V692&U692&T692&X692","v":"2025842"},{"$f":"S692","v":"2025-08-13"}]
[null,null,null,null,null,null,null,null,null,null,null,null,null,null,null,null,null,null,"2025-08-20",{"$f":"WEEKDAY(S693)","v":4},{"$f":"MONTH(S693)","v":8},{"$f":"YEAR(S693)","v":2025},{"$f":"T693&U693","v":"48"},{"$f":"IF(V693&W693=V692&W692,X692+1,1)","v":3},{"$f":"V693&U693&T693&X693","v":"2025843"},{"$f":"S693","v":"2025-08-20"}]
[null,null,null,null,null,null,null,null,null,null,null,null,null,null,null,null,null,null,"2025-08-27",{"$f":"WEEKDAY(S694)","v":4},{"$f":"MONTH(S694)","v":8},{"$f":"YEAR(S694)","v":2025},{"$f":"T694&U694","v":"48"},{"$f":"IF(V694&W694=V693&W693,X693+1,1)","v":4},{"$f":"V694&U694&T694&X694","v":"2025844"},{"$f":"S694","v":"2025-08-27"}]
[null,null,null,null,null,null,null,null,null,null,null,null,null,null,null,null,null,null,"2025-08-07",{"$f":"WEEKDAY(S695)","v":5},{"$f":"MONTH(S695)","v":8},{"$f":"YEAR(S695)","v":2025},{"$f":"T695&U695","v":"58"},{"$f":"IF(V695&W695=V694&W694,X694+1,1)","v":1},{"$f":"V695&U695&T695&X695","v":"2025851"},{"$f":"S695","v":"2025-08-07"}]
[null,null,null,null,null,null,null,null,null,null,null,null,null,null,null,null,null,null,"2025-08-14",{"$f":"WEEKDAY(S696)","v":5},{"$f":"MONTH(S696)","v":8},{"$f":"YEAR(S696)","v":2025},{"$f":"T696&U696","v":"58"},{"$f":"IF(V696&W696=V695&W695,X695+1,1)","v":2},{"$f":"V696&U696&T696&X696","v":"2025852"},{"$f":"S696","v":"2025-08-14"}]
[null,null,null,null,null,null,null,null,null,null,null,null,null,null,null,null,null,null,"2025-08-21",{"$f":"WEEKDAY(S697)","v":5},{"$f":"MONTH(S697)","v":8},{"$f":"YEAR(S697)","v":2025},{"$f":"T697&U697","v":"58"},{"$f":"IF(V697&W697=V696&W696,X696+1,1)","v":3},{"$f":"V697&U697&T697&X697","v":"2025853"},{"$f":"S697","v":"2025-08-21"}]
[null,null,null,null,null,null,null,null,null,null,null,null,null,null,null,null,null,null,"2025-08-28",{"$f":"WEEKDAY(S698)","v":5},{"$f":"MONTH(S698)","v":8},{"$f":"YEAR(S698)","v":2025},{"$f":"T698&U698","v":"58"},{"$f":"IF(V698&W698=V697&W697,X697+1,1)","v":4},{"$f":"V698&U698&T698&X698","v":"2025854"},{"$f":"S698","v":"2025-08-28"}]
[null,null,null,null,null,null,null,null,null,null,null,null,null,null,null,null,null,null,"2025-08-01",{"$f":"WEEKDAY(S699)","v":6},{"$f":"MONTH(S699)","v":8},{"$f":"YEAR(S699)","v":2025},{"$f":"T699&U699","v":"68"},{"$f":"IF(V699&W699=V698&W698,X698+1,1)","v":1},{"$f":"V699&U699&T699&X699","v":"2025861"},{"$f":"S699","v":"2025-08-01"}]
[null,null,null,null,null,null,null,null,null,null,null,null,null,null,null,null,null,null,"2025-08-08",{"$f":"WEEKDAY(S700)","v":6},{"$f":"MONTH(S700)","v":8},{"$f":"YEAR(S700)","v":2025},{"$f":"T700&U700","v":"68"},{"$f":"IF(V700&W700=V699&W699,X699+1,1)","v":2},{"$f":"V700&U700&T700&X700","v":"2025862"},{"$f":"S700","v":"2025-08-08"}]
[null,null,null,null,null,null,null,null,null,null,null,null,null,null,null,null,null,null,"2025-08-15",{"$f":"WEEKDAY(S701)","v":6},{"$f":"MONTH(S701)","v":8},{"$f":"YEAR(S701)","v":2025},{"$f":"T701&U701","v":"68"},{"$f":"IF(V701&W701=V700&W700,X700+1,1)","v":3},{"$f":"V701&U701&T701&X701","v":"2025863"},{"$f":"S701","v":"2025-08-15"}]
[null,null,null,null,null,null,null,null,null,null,null,null,null,null,null,null,null,null,"2025-08-22",{"$f":"WEEKDAY(S702)","v":6},{"$f":"MONTH(S702)","v":8},{"$f":"YEAR(S702)","v":2025},{"$f":"T702&U702","v":"68"},{"$f":"IF(V702&W702=V701&W701,X701+1,1)","v":4},{"$f":"V702&U702&T702&X702","v":"2025864"},{"$f":"S702","v":"2025-08-22"}]
[null,null,null,null,null,null,null,null,null,null,null,null,null,null,null,null,null,null,"2025-08-29",{"$f":"WEEKDAY(S703)","v":6},{"$f":"MONTH(S703)","v":8},{"$f":"YEAR(S703)","v":2025},{"$f":"T703&U703","v":"68"},{"$f":"IF(V703&W703=V702&W702,X702+1,1)","v":5},{"$f":"V703&U703&T703&X703","v":"2025865"},{"$f":"S703","v":"2025-08-29"}]
[null,null,null,null,null,null,null,null,null,null,null,null,null,null,null,null,null,null,"2025-08-02",{"$f":"WEEKDAY(S704)","v":7},{"$f":"MONTH(S704)","v":8},{"$f":"YEAR(S704)","v":2025},{"$f":"T704&U704","v":"78"},{"$f":"IF(V704&W704=V703&W703,X703+1,1)","v":1},{"$f":"V704&U704&T704&X704","v":"2025871"},{"$f":"S704","v":"2025-08-02"}]
[null,null,null,null,null,null,null,null,null,null,null,null,null,null,null,null,null,null,"2025-08-09",{"$f":"WEEKDAY(S705)","v":7},{"$f":"MONTH(S705)","v":8},{"$f":"YEAR(S705)","v":2025},{"$f":"T705&U705","v":"78"},{"$f":"IF(V705&W705=V704&W704,X704+1,1)","v":2},{"$f":"V705&U705&T705&X705","v":"2025872"},{"$f":"S705","v":"2025-08-09"}]
[null,null,null,null,null,null,null,null,null,null,null,null,null,null,null,null,null,null,"2025-08-16",{"$f":"WEEKDAY(S706)","v":7},{"$f":"MONTH(S706)","v":8},{"$f":"YEAR(S706)","v":2025},{"$f":"T706&U706","v":"78"},{"$f":"IF(V706&W706=V705&W705,X705+1,1)","v":3},{"$f":"V706&U706&T706&X706","v":"2025873"},{"$f":"S706","v":"2025-08-16"}]
[null,null,null,null,null,null,null,null,null,null,null,null,null,null,null,null,null,null,"2025-08-23",{"$f":"WEEKDAY(S707)","v":7},{"$f":"MONTH(S707)","v":8},{"$f":"YEAR(S707)","v":2025},{"$f":"T707&U707","v":"78"},{"$f":"IF(V707&W707=V706&W706,X706+1,1)","v":4},{"$f":"V707&U707&T707&X707","v":"2025874"},{"$f":"S707","v":"2025-08-23"}]
[null,null,null,null,null,null,null,null,null,null,null,null,null,null,null,null,null,null,"2025-08-30",{"$f":"WEEKDAY(S708)","v":7},{"$f":"MONTH(S708)","v":8},{"$f":"YEAR(S708)","v":2025},{"$f":"T708&U708","v":"78"},{"$f":"IF(V708&W708=V707&W707,X707+1,1)","v":5},{"$f":"V708&U708&T708&X708","v":"2025875"},{"$f":"S708","v":"2025-08-30"}]
[null,null,null,null,null,null,null,null,null,null,null,null,null,null,null,null,null,null,"2025-09-07",{"$f":"WEEKDAY(S709)","v":1},{"$f":"MONTH(S709)","v":9},{"$f":"YEAR(S709)","v":2025},{"$f":"T709&U709","v":"19"},{"$f":"IF(V709&W709=V708&W708,X708+1,1)","v":1},{"$f":"V709&U709&T709&X709","v":"2025911"},{"$f":"S709","v":"2025-09-07"}]
[null,null,null,null,null,null,null,null,null,null,null,null,null,null,null,null,null,null,"2025-09-14",{"$f":"WEEKDAY(S710)","v":1},{"$f":"MONTH(S710)","v":9},{"$f":"YEAR(S710)","v":2025},{"$f":"T710&U710","v":"19"},{"$f":"IF(V710&W710=V709&W709,X709+1,1)","v":2},{"$f":"V710&U710&T710&X710","v":"2025912"},{"$f":"S710","v":"2025-09-14"}]
[null,null,null,null,null,null,null,null,null,null,null,null,null,null,null,null,null,null,"2025-09-21",{"$f":"WEEKDAY(S711)","v":1},{"$f":"MONTH(S711)","v":9},{"$f":"YEAR(S711)","v":2025},{"$f":"T711&U711","v":"19"},{"$f":"IF(V711&W711=V710&W710,X710+1,1)","v":3},{"$f":"V711&U711&T711&X711","v":"2025913"},{"$f":"S711","v":"2025-09-21"}]
[null,null,null,null,null,null,null,null,null,null,null,null,null,null,null,null,null,null,"2025-09-28",{"$f":"WEEKDAY(S712)","v":1},{"$f":"MONTH(S712)","v":9},{"$f":"YEAR(S712)","v":2025},{"$f":"T712&U712","v":"19"},{"$f":"IF(V712&W712=V711&W711,X711+1,1)","v":4},{"$f":"V712&U712&T712&X712","v":"2025914"},{"$f":"S712","v":"2025-09-28"}]
[null,null,null,null,null,null,null,null,null,null,null,null,null,null,null,null,null,null,"2025-09-01",{"$f":"WEEKDAY(S713)","v":2},{"$f":"MONTH(S713)","v":9},{"$f":"YEAR(S713)","v":2025},{"$f":"T713&U713","v":"29"},{"$f":"IF(V713&W713=V712&W712,X712+1,1)","v":1},{"$f":"V713&U713&T713&X713","v":"2025921"},{"$f":"S713","v":"2025-09-01"}]
[null,null,null,null,null,null,null,null,null,null,null,null,null,null,null,null,null,null,"2025-09-08",{"$f":"WEEKDAY(S714)","v":2},{"$f":"MONTH(S714)","v":9},{"$f":"YEAR(S714)","v":2025},{"$f":"T714&U714","v":"29"},{"$f":"IF(V714&W714=V713&W713,X713+1,1)","v":2},{"$f":"V714&U714&T714&X714","v":"2025922"},{"$f":"S714","v":"2025-09-08"}]
[null,null,null,null,null,null,null,null,null,null,null,null,null,null,null,null,null,null,"2025-09-15",{"$f":"WEEKDAY(S715)","v":2},{"$f":"MONTH(S715)","v":9},{"$f":"YEAR(S715)","v":2025},{"$f":"T715&U715","v":"29"},{"$f":"IF(V715&W715=V714&W714,X714+1,1)","v":3},{"$f":"V715&U715&T715&X715","v":"2025923"},{"$f":"S715","v":"2025-09-15"}]
[null,null,null,null,null,null,null,null,null,null,null,null,null,null,null,null,null,null,"2025-09-22",{"$f":"WEEKDAY(S716)","v":2},{"$f":"MONTH(S716)","v":9},{"$f":"YEAR(S716)","v":2025},{"$f":"T716&U716","v":"29"},{"$f":"IF(V716&W716=V715&W715,X715+1,1)","v":4},{"$f":"V716&U716&T716&X716","v":"2025924"},{"$f":"S716","v":"2025-09-22"}]
[null,null,null,null,null,null,null,null,null,null,null,null,null,null,null,null,null,null,"2025-09-29",{"$f":"WEEKDAY(S717)","v":2},{"$f":"MONTH(S717)","v":9},{"$f":"YEAR(S717)","v":2025},{"$f":"T717&U717","v":"29"},{"$f":"IF(V717&W717=V716&W716,X716+1,1)","v":5},{"$f":"V717&U717&T717&X717","v":"2025925"},{"$f":"S717","v":"2025-09-29"}]
[null,null,null,null,null,null,null,null,null,null,null,null,null,null,null,null,null,null,"2025-09-02",{"$f":"WEEKDAY(S718)","v":3},{"$f":"MONTH(S718)","v":9},{"$f":"YEAR(S718)","v":2025},{"$f":"T718&U718","v":"39"},{"$f":"IF(V718&W718=V717&W717,X717+1,1)","v":1},{"$f":"V718&U718&T718&X718","v":"2025931"},{"$f":"S718","v":"2025-09-02"}]
[null,null,null,null,null,null,null,null,null,null,null,null,null,null,null,null,null,null,"2025-09-09",{"$f":"WEEKDAY(S719)","v":3},{"$f":"MONTH(S719)","v":9},{"$f":"YEAR(S719)","v":2025},{"$f":"T719&U719","v":"39"},{"$f":"IF(V719&W719=V718&W718,X718+1,1)","v":2},{"$f":"V719&U719&T719&X719","v":"2025932"},{"$f":"S719","v":"2025-09-09"}]
[null,null,null,null,null,null,null,null,null,null,null,null,null,null,null,null,null,null,"2025-09-16",{"$f":"WEEKDAY(S720)","v":3},{"$f":"MONTH(S720)","v":9},{"$f":"YEAR(S720)","v":2025},{"$f":"T720&U720","v":"39"},{"$f":"IF(V720&W720=V719&W719,X719+1,1)","v":3},{"$f":"V720&U720&T720&X720","v":"2025933"},{"$f":"S720","v":"2025-09-16"}]
[null,null,null,null,null,null,null,null,null,null,null,null,null,null,null,null,null,null,"2025-09-23",{"$f":"WEEKDAY(S721)","v":3},{"$f":"MONTH(S721)","v":9},{"$f":"YEAR(S721)","v":2025},{"$f":"T721&U721","v":"39"},{"$f":"IF(V721&W721=V720&W720,X720+1,1)","v":4},{"$f":"V721&U721&T721&X721","v":"2025934"},{"$f":"S721","v":"2025-09-23"}]
[null,null,null,null,null,null,null,null,null,null,null,null,null,null,null,null,null,null,"2025-09-30",{"$f":"WEEKDAY(S722)","v":3},{"$f":"MONTH(S722)","v":9},{"$f":"YEAR(S722)","v":2025},{"$f":"T722&U722","v":"39"},{"$f":"IF(V722&W722=V721&W721,X721+1,1)","v":5},{"$f":"V722&U722&T722&X722","v":"2025935"},{"$f":"S722","v":"2025-09-30"}]
[null,null,null,null,null,null,null,null,null,null,null,null,null,null,null,null,null,null,"2025-09-03",{"$f":"WEEKDAY(S723)","v":4},{"$f":"MONTH(S723)","v":9},{"$f":"YEAR(S723)","v":2025},{"$f":"T723&U723","v":"49"},{"$f":"IF(V723&W723=V722&W722,X722+1,1)","v":1},{"$f":"V723&U723&T723&X723","v":"2025941"},{"$f":"S723","v":"2025-09-03"}]
[null,null,null,null,null,null,null,null,null,null,null,null,null,null,null,null,null,null,"2025-09-10",{"$f":"WEEKDAY(S724)","v":4},{"$f":"MONTH(S724)","v":9},{"$f":"YEAR(S724)","v":2025},{"$f":"T724&U724","v":"49"},{"$f":"IF(V724&W724=V723&W723,X723+1,1)","v":2},{"$f":"V724&U724&T724&X724","v":"2025942"},{"$f":"S724","v":"2025-09-10"}]
[null,null,null,null,null,null,null,null,null,null,null,null,null,null,null,null,null,null,"2025-09-17",{"$f":"WEEKDAY(S725)","v":4},{"$f":"MONTH(S725)","v":9},{"$f":"YEAR(S725)","v":2025},{"$f":"T725&U725","v":"49"},{"$f":"IF(V725&W725=V724&W724,X724+1,1)","v":3},{"$f":"V725&U725&T725&X725","v":"2025943"},{"$f":"S725","v":"2025-09-17"}]
[null,null,null,null,null,null,null,null,null,null,null,null,null,null,null,null,null,null,"2025-09-24",{"$f":"WEEKDAY(S726)","v":4},{"$f":"MONTH(S726)","v":9},{"$f":"YEAR(S726)","v":2025},{"$f":"T726&U726","v":"49"},{"$f":"IF(V726&W726=V725&W725,X725+1,1)","v":4},{"$f":"V726&U726&T726&X726","v":"2025944"},{"$f":"S726","v":"2025-09-24"}]
[null,null,null,null,null,null,null,null,null,null,null,null,null,null,null,null,null,null,"2025-09-04",{"$f":"WEEKDAY(S727)","v":5},{"$f":"MONTH(S727)","v":9},{"$f":"YEAR(S727)","v":2025},{"$f":"T727&U727","v":"59"},{"$f":"IF(V727&W727=V726&W726,X726+1,1)","v":1},{"$f":"V727&U727&T727&X727","v":"2025951"},{"$f":"S727","v":"2025-09-04"}]
[null,null,null,null,null,null,null,null,null,null,null,null,null,null,null,null,null,null,"2025-09-11",{"$f":"WEEKDAY(S728)","v":5},{"$f":"MONTH(S728)","v":9},{"$f":"YEAR(S728)","v":2025},{"$f":"T728&U728","v":"59"},{"$f":"IF(V728&W728=V727&W727,X727+1,1)","v":2},{"$f":"V728&U728&T728&X728","v":"2025952"},{"$f":"S728","v":"2025-09-11"}]
[null,null,null,null,null,null,null,null,null,null,null,null,null,null,null,null,null,null,"2025-09-18",{"$f":"WEEKDAY(S729)","v":5},{"$f":"MONTH(S729)","v":9},{"$f":"YEAR(S729)","v":2025},{"$f":"T729&U729","v":"59"},{"$f":"IF(V729&W729=V728&W728,X728+1,1)","v":3},{"$f":"V729&U729&T729&X729","v":"2025953"},{"$f":"S729","v":"2025-09-18"}]
[null,null,null,null,null,null,null,null,null,null,null,null,null,null,null,null,null,null,"2025-09-25",{"$f":"WEEKDAY(S730)","v":5},{"$f":"MONTH(S730)","v":9},{"$f":"YEAR(S730)","v":2025},{"$f":"T730&U730","v":"59"},{"$f":"IF(V730&W730=V729&W729,X729+1,1)","v":4},{"$f":"V730&U730&T730&X730","v":"2025954"},{"$f":"S730","v":"2025-09-25"}]
[null,null,null,null,null,null,null,null,null,null,null,null,null,null,null,null,null,null,"2025-09-05",{"$f":"WEEKDAY(S731)","v":6},{"$f":"MONTH(S731)","v":9},{"$f":"YEAR(S731)","v":2025},{"$f":"T731&U731","v":"69"},{"$f":"IF(V731&W731=V730&W730,X730+1,1)","v":1},{"$f":"V731&U731&T731&X731","v":"2025961"},{"$f":"S731","v":"2025-09-05"}]
[null,null,null,null,null,null,null,null,null,null,null,null,null,null,null,null,null,null,"2025-09-12",{"$f":"WEEKDAY(S732)","v":6},{"$f":"MONTH(S732)","v":9},{"$f":"YEAR(S732)","v":2025},{"$f":"T732&U732","v":"69"},{"$f":"IF(V732&W732=V731&W731,X731+1,1)","v":2},{"$f":"V732&U732&T732&X732","v":"2025962"},{"$f":"S732","v":"2025-09-12"}]
[null,null,null,null,null,null,null,null,null,null,null,null,null,null,null,null,null,null,"2025-09-19",{"$f":"WEEKDAY(S733)","v":6},{"$f":"MONTH(S733)","v":9},{"$f":"YEAR(S733)","v":2025},{"$f":"T733&U733","v":"69"},{"$f":"IF(V733&W733=V732&W732,X732+1,1)","v":3},{"$f":"V733&U733&T733&X733","v":"2025963"},{"$f":"S733","v":"2025-09-19"}]
[null,null,null,null,null,null,null,null,null,null,null,null,null,null,null,null,null,null,"2025-09-26",{"$f":"WEEKDAY(S734)","v":6},{"$f":"MONTH(S734)","v":9},{"$f":"YEAR(S734)","v":2025},{"$f":"T734&U734","v":"69"},{"$f":"IF(V734&W734=V733&W733,X733+1,1)","v":4},{"$f":"V734&U734&T734&X734","v":"2025964"},{"$f":"S734","v":"2025-09-26"}]
[null,null,null,null,null,null,null,null,null,null,null,null,null,null,null,null,null,null,"2025-09-06",{"$f":"WEEKDAY(S735)","v":7},{"$f":"MONTH(S735)","v":9},{"$f":"YEAR(S735)","v":2025},{"$f":"T735&U735","v":"79"},{"$f":"IF(V735&W735=V734&W734,X734+1,1)","v":1},{"$f":"V735&U735&T735&X735","v":"2025971"},{"$f":"S735","v":"2025-09-06"}]
[null,null,null,null,null,null,null,null,null,null,null,null,null,null,null,null,null,null,"2025-09-13",{"$f":"WEEKDAY(S736)","v":7},{"$f":"MONTH(S736)","v":9},{"$f":"YEAR(S736)","v":2025},{"$f":"T736&U736","v":"79"},{"$f":"IF(V736&W736=V735&W735,X735+1,1)","v":2},{"$f":"V736&U736&T736&X736","v":"2025972"},{"$f":"S736","v":"2025-09-13"}]
[null,null,null,null,null,null,null,null,null,null,null,null,null,null,null,null,null,null,"2025-09-20",{"$f":"WEEKDAY(S737)","v":7},{"$f":"MONTH(S737)","v":9},{"$f":"YEAR(S737)","v":2025},{"$f":"T737&U737","v":"79"},{"$f":"IF(V737&W737=V736&W736,X736+1,1)","v":3},{"$f":"V737&U737&T737&X737","v":"2025973"},{"$f":"S737","v":"2025-09-20"}]
[null,null,null,null,null,null,null,null,null,null,null,null,null,null,null,null,null,null,"2025-09-27",{"$f":"WEEKDAY(S738)","v":7},{"$f":"MONTH(S738)","v":9},{"$f":"YEAR(S738)","v":2025},{"$f":"T738&U738","v":"79"},{"$f":"IF(V738&W738=V737&W737,X737+1,1)","v":4},{"$f":"V738&U738&T738&X738","v":"2025974"},{"$f":"S738","v":"2025-09-27"}]
[null,null,null,null,null,null,null,null,null,null,null,null,null,null,null,null,null,null,"2026-10-04",{"$f":"WEEKDAY(S739)","v":1},{"$f":"MONTH(S739)","v":10},{"$f":"YEAR(S739)","v":2026},{"$f":"T739&U739","v":"110"},{"$f":"IF(V739&W739=V738&W738,X738+1,1)","v":1},{"$f":"V739&U739&T739&X739","v":"20261011"},{"$f":"S739","v":"2026-10-04"}]
[null,null,null,null,null,null,null,null,null,null,null,null,null,null,null,null,null,null,"2026-10-11",{"$f":"WEEKDAY(S740)","v":1},{"$f":"MONTH(S740)","v":10},{"$f":"YEAR(S740)","v":2026},{"$f":"T740&U740","v":"110"},{"$f":"IF(V740&W740=V739&W739,X739+1,1)","v":2},{"$f":"V740&U740&T740&X740","v":"20261012"},{"$f":"S740","v":"2026-10-11"}]
[null,null,null,null,null,null,null,null,null,null,null,null,null,null,null,null,null,null,"2026-10-18",{"$f":"WEEKDAY(S741)","v":1},{"$f":"MONTH(S741)","v":10},{"$f":"YEAR(S741)","v":2026},{"$f":"T741&U741","v":"110"},{"$f":"IF(V741&W741=V740&W740,X740+1,1)","v":3},{"$f":"V741&U741&T741&X741","v":"20261013"},{"$f":"S741","v":"2026-10-18"}]
[null,null,null,null,null,null,null,null,null,null,null,null,null,null,null,null,null,null,"2026-10-25",{"$f":"WEEKDAY(S742)","v":1},{"$f":"MONTH(S742)","v":10},{"$f":"YEAR(S742)","v":2026},{"$f":"T742&U742","v":"110"},{"$f":"IF(V742&W742=V741&W741,X741+1,1)","v":4},{"$f":"V742&U742&T742&X742","v":"20261014"},{"$f":"S742","v":"2026-10-25"}]
[null,null,null,null,null,null,null,null,null,null,null,null,null,null,null,null,null,null,"2026-10-05",{"$f":"WEEKDAY(S743)","v":2},{"$f":"MONTH(S743)","v":10},{"$f":"YEAR(S743)","v":2026},{"$f":"T743&U743","v":"210"},{"$f":"IF(V743&W743=V742&W742,X742+1,1)","v":1},{"$f":"V743&U743&T743&X743","v":"20261021"},{"$f":"S743","v":"2026-10-05"}]
[null,null,null,null,null,null,null,null,null,null,null,null,null,null,null,null,null,null,"2026-10-12",{"$f":"WEEKDAY(S744)","v":2},{"$f":"MONTH(S744)","v":10},{"$f":"YEAR(S744)","v":2026},{"$f":"T744&U744","v":"210"},{"$f":"IF(V744&W744=V743&W743,X743+1,1)","v":2},{"$f":"V744&U744&T744&X744","v":"20261022"},{"$f":"S744","v":"2026-10-12"}]
[null,null,null,null,null,null,null,null,null,null,null,null,null,null,null,null,null,null,"2026-10-19",{"$f":"WEEKDAY(S745)","v":2},{"$f":"MONTH(S745)","v":10},{"$f":"YEAR(S745)","v":2026},{"$f":"T745&U745","v":"210"},{"$f":"IF(V745&W745=V744&W744,X744+1,1)","v":3},{"$f":"V745&U745&T745&X745","v":"20261023"},{"$f":"S745","v":"2026-10-19"}]
[null,null,null,null,null,null,null,null,null,null,null,null,null,null,null,null,null,null,"2026-10-26",{"$f":"WEEKDAY(S746)","v":2},{"$f":"MONTH(S746)","v":10},{"$f":"YEAR(S746)","v":2026},{"$f":"T746&U746","v":"210"},{"$f":"IF(V746&W746=V745&W745,X745+1,1)","v":4},{"$f":"V746&U746&T746&X746","v":"20261024"},{"$f":"S746","v":"2026-10-26"}]
[null,null,null,null,null,null,null,null,null,null,null,null,null,null,null,null,null,null,"2026-10-06",{"$f":"WEEKDAY(S747)","v":3},{"$f":"MONTH(S747)","v":10},{"$f":"YEAR(S747)","v":2026},{"$f":"T747&U747","v":"310"},{"$f":"IF(V747&W747=V746&W746,X746+1,1)","v":1},{"$f":"V747&U747&T747&X747","v":"20261031"},{"$f":"S747","v":"2026-10-06"}]
[null,null,null,null,null,null,null,null,null,null,null,null,null,null,null,null,null,null,"2026-10-13",{"$f":"WEEKDAY(S748)","v":3},{"$f":"MONTH(S748)","v":10},{"$f":"YEAR(S748)","v":2026},{"$f":"T748&U748","v":"310"},{"$f":"IF(V748&W748=V747&W747,X747+1,1)","v":2},{"$f":"V748&U748&T748&X748","v":"20261032"},{"$f":"S748","v":"2026-10-13"}]
[null,null,null,null,null,null,null,null,null,null,null,null,null,null,null,null,null,null,"2026-10-20",{"$f":"WEEKDAY(S749)","v":3},{"$f":"MONTH(S749)","v":10},{"$f":"YEAR(S749)","v":2026},{"$f":"T749&U749","v":"310"},{"$f":"IF(V749&W749=V748&W748,X748+1,1)","v":3},{"$f":"V749&U749&T749&X749","v":"20261033"},{"$f":"S749","v":"2026-10-20"}]
[null,null,null,null,null,null,null,null,null,null,null,null,null,null,null,null,null,null,"2026-10-27",{"$f":"WEEKDAY(S750)","v":3},{"$f":"MONTH(S750)","v":10},{"$f":"YEAR(S750)","v":2026},{"$f":"T750&U750","v":"310"},{"$f":"IF(V750&W750=V749&W749,X749+1,1)","v":4},{"$f":"V750&U750&T750&X750","v":"20261034"},{"$f":"S750","v":"2026-10-27"}]
[null,null,null,null,null,null,null,null,null,null,null,null,null,null,null,null,null,null,"2026-10-07",{"$f":"WEEKDAY(S751)","v":4},{"$f":"MONTH(S751)","v":10},{"$f":"YEAR(S751)","v":2026},{"$f":"T751&U751","v":"410"},{"$f":"IF(V751&W751=V750&W750,X750+1,1)","v":1},{"$f":"V751&U751&T751&X751","v":"20261041"},{"$f":"S751","v":"2026-10-07"}]
[null,null,null,null,null,null,null,null,null,null,null,null,null,null,null,null,null,null,"2026-10-14",{"$f":"WEEKDAY(S752)","v":4},{"$f":"MONTH(S752)","v":10},{"$f":"YEAR(S752)","v":2026},{"$f":"T752&U752","v":"410"},{"$f":"IF(V752&W752=V751&W751,X751+1,1)","v":2},{"$f":"V752&U752&T752&X752","v":"20261042"},{"$f":"S752","v":"2026-10-14"}]
[null,null,null,null,null,null,null,null,null,null,null,null,null,null,null,null,null,null,"2026-10-21",{"$f":"WEEKDAY(S753)","v":4},{"$f":"MONTH(S753)","v":10},{"$f":"YEAR(S753)","v":2026},{"$f":"T753&U753","v":"410"},{"$f":"IF(V753&W753=V752&W752,X752+1,1)","v":3},{"$f":"V753&U753&T753&X753","v":"20261043"},{"$f":"S753","v":"2026-10-21"}]
[null,null,null,null,null,null,null,null,null,null,null,null,null,null,null,null,null,null,"2026-10-28",{"$f":"WEEKDAY(S754)","v":4},{"$f":"MONTH(S754)","v":10},{"$f":"YEAR(S754)","v":2026},{"$f":"T754&U754","v":"410"},{"$f":"IF(V754&W754=V753&W753,X753+1,1)","v":4},{"$f":"V754&U754&T754&X754","v":"20261044"},{"$f":"S754","v":"2026-10-28"}]
[null,null,null,null,null,null,null,null,null,null,null,null,null,null,null,null,null,null,"2026-10-01",{"$f":"WEEKDAY(S755)","v":5},{"$f":"MONTH(S755)","v":10},{"$f":"YEAR(S755)","v":2026},{"$f":"T755&U755","v":"510"},{"$f":"IF(V755&W755=V754&W754,X754+1,1)","v":1},{"$f":"V755&U755&T755&X755","v":"20261051"},{"$f":"S755","v":"2026-10-01"}]
[null,null,null,null,null,null,null,null,null,null,null,null,null,null,null,null,null,null,"2026-10-08",{"$f":"WEEKDAY(S756)","v":5},{"$f":"MONTH(S756)","v":10},{"$f":"YEAR(S756)","v":2026},{"$f":"T756&U756","v":"510"},{"$f":"IF(V756&W756=V755&W755,X755+1,1)","v":2},{"$f":"V756&U756&T756&X756","v":"20261052"},{"$f":"S756","v":"2026-10-08"}]
[null,null,null,null,null,null,null,null,null,null,null,null,null,null,null,null,null,null,"2026-10-15",{"$f":"WEEKDAY(S757)","v":5},{"$f":"MONTH(S757)","v":10},{"$f":"YEAR(S757)","v":2026},{"$f":"T757&U757","v":"510"},{"$f":"IF(V757&W757=V756&W756,X756+1,1)","v":3},{"$f":"V757&U757&T757&X757","v":"20261053"},{"$f":"S757","v":"2026-10-15"}]
[null,null,null,null,null,null,null,null,null,null,null,null,null,null,null,null,null,null,"2026-10-22",{"$f":"WEEKDAY(S758)","v":5},{"$f":"MONTH(S758)","v":10},{"$f":"YEAR(S758)","v":2026},{"$f":"T758&U758","v":"510"},{"$f":"IF(V758&W758=V757&W757,X757+1,1)","v":4},{"$f":"V758&U758&T758&X758","v":"20261054"},{"$f":"S758","v":"2026-10-22"}]
[null,null,null,null,null,null,null,null,null,null,null,null,null,null,null,null,null,null,"2026-10-29",{"$f":"WEEKDAY(S759)","v":5},{"$f":"MONTH(S759)","v":10},{"$f":"YEAR(S759)","v":2026},{"$f":"T759&U759","v":"510"},{"$f":"IF(V759&W759=V758&W758,X758+1,1)","v":5},{"$f":"V759&U759&T759&X759","v":"20261055"},{"$f":"S759","v":"2026-10-29"}]
[null,null,null,null,null,null,null,null,null,null,null,null,null,null,null,null,null,null,"2026-10-02",{"$f":"WEEKDAY(S760)","v":6},{"$f":"MONTH(S760)","v":10},{"$f":"YEAR(S760)","v":2026},{"$f":"T760&U760","v":"610"},{"$f":"IF(V760&W760=V759&W759,X759+1,1)","v":1},{"$f":"V760&U760&T760&X760","v":"20261061"},{"$f":"S760","v":"2026-10-02"}]
[null,null,null,null,null,null,null,null,null,null,null,null,null,null,null,null,null,null,"2026-10-09",{"$f":"WEEKDAY(S761)","v":6},{"$f":"MONTH(S761)","v":10},{"$f":"YEAR(S761)","v":2026},{"$f":"T761&U761","v":"610"},{"$f":"IF(V761&W761=V760&W760,X760+1,1)","v":2},{"$f":"V761&U761&T761&X761","v":"20261062"},{"$f":"S761","v":"2026-10-09"}]
[null,null,null,null,null,null,null,null,null,null,null,null,null,null,null,null,null,null,"2026-10-16",{"$f":"WEEKDAY(S762)","v":6},{"$f":"MONTH(S762)","v":10},{"$f":"YEAR(S762)","v":2026},{"$f":"T762&U762","v":"610"},{"$f":"IF(V762&W762=V761&W761,X761+1,1)","v":3},{"$f":"V762&U762&T762&X762","v":"20261063"},{"$f":"S762","v":"2026-10-16"}]
[null,null,null,null,null,null,null,null,null,null,null,null,null,null,null,null,null,null,"2026-10-23",{"$f":"WEEKDAY(S763)","v":6},{"$f":"MONTH(S763)","v":10},{"$f":"YEAR(S763)","v":2026},{"$f":"T763&U763","v":"610"},{"$f":"IF(V763&W763=V762&W762,X762+1,1)","v":4},{"$f":"V763&U763&T763&X763","v":"20261064"},{"$f":"S763","v":"2026-10-23"}]
[null,null,null,null,null,null,null,null,null,null,null,null,null,null,null,null,null,null,"2026-10-30",{"$f":"WEEKDAY(S764)","v":6},{"$f":"MONTH(S764)","v":10},{"$f":"YEAR(S764)","v":2026},{"$f":"T764&U764","v":"610"},{"$f":"IF(V764&W764=V763&W763,X763+1,1)","v":5},{"$f":"V764&U764&T764&X764","v":"20261065"},{"$f":"S764","v":"2026-10-30"}]
[null,null,null,null,null,null,null,null,null,null,null,null,null,null,null,null,null,null,"2026-10-03",{"$f":"WEEKDAY(S765)","v":7},{"$f":"MONTH(S765)","v":10},{"$f":"YEAR(S765)","v":2026},{"$f":"T765&U765","v":"710"},{"$f":"IF(V765&W765=V764&W764,X764+1,1)","v":1},{"$f":"V765&U765&T765&X765","v":"20261071"},{"$f":"S765","v":"2026-10-03"}]
[null,null,null,null,null,null,null,null,null,null,null,null,null,null,null,null,null,null,"2026-10-10",{"$f":"WEEKDAY(S766)","v":7},{"$f":"MONTH(S766)","v":10},{"$f":"YEAR(S766)","v":2026},{"$f":"T766&U766","v":"710"},{"$f":"IF(V766&W766=V765&W765,X765+1,1)","v":2},{"$f":"V766&U766&T766&X766","v":"20261072"},{"$f":"S766","v":"2026-10-10"}]
[null,null,null,null,null,null,null,null,null,null,null,null,null,null,null,null,null,null,"2026-10-17",{"$f":"WEEKDAY(S767)","v":7},{"$f":"MONTH(S767)","v":10},{"$f":"YEAR(S767)","v":2026},{"$f":"T767&U767","v":"710"},{"$f":"IF(V767&W767=V766&W766,X766+1,1)","v":3},{"$f":"V767&U767&T767&X767","v":"20261073"},{"$f":"S767","v":"2026-10-17"}]
[null,null,null,null,null,null,null,null,null,null,null,null,null,null,null,null,null,null,"2026-10-24",{"$f":"WEEKDAY(S768)","v":7},{"$f":"MONTH(S768)","v":10},{"$f":"YEAR(S768)","v":2026},{"$f":"T768&U768","v":"710"},{"$f":"IF(V768&W768=V767&W767,X767+1,1)","v":4},{"$f":"V768&U768&T768&X768","v":"20261074"},{"$f":"S768","v":"2026-10-24"}]
[null,null,null,null,null,null,null,null,null,null,null,null,null,null,null,null,null,null,"2026-10-31",{"$f":"WEEKDAY(S769)","v":7},{"$f":"MONTH(S769)","v":10},{"$f":"YEAR(S769)","v":2026},{"$f":"T769&U769","v":"710"},{"$f":"IF(V769&W769=V768&W768,X768+1,1)","v":5},{"$f":"V769&U769&T769&X769","v":"20261075"},{"$f":"S769","v":"2026-10-31"}]
[null,null,null,null,null,null,null,null,null,null,null,null,null,null,null,null,null,null,"2026-01-04",{"$f":"WEEKDAY(S770)","v":1},{"$f":"MONTH(S770)","v":1},{"$f":"YEAR(S770)","v":2026},{"$f":"T770&U770","v":"11"},{"$f":"IF(V770&W770=V769&W769,X769+1,1)","v":1},{"$f":"V770&U770&T770&X770","v":"2026111"},{"$f":"S770","v":"2026-01-04"}]
[null,null,null,null,null,null,null,null,null,null,null,null,null,null,null,null,null,null,"2026-11-01",{"$f":"WEEKDAY(S771)","v":1},{"$f":"MONTH(S771)","v":11},{"$f":"YEAR(S771)","v":2026},{"$f":"T771&U771","v":"111"},{"$f":"IF(V771&W771=V770&W770,X770+1,1)","v":1},{"$f":"V771&U771&T771&X771","v":"20261111"},{"$f":"S771","v":"2026-11-01"}]
[null,null,null,null,null,null,null,null,null,null,null,null,null,null,null,null,null,null,"2026-11-08",{"$f":"WEEKDAY(S772)","v":1},{"$f":"MONTH(S772)","v":11},{"$f":"YEAR(S772)","v":2026},{"$f":"T772&U772","v":"111"},{"$f":"IF(V772&W772=V771&W771,X771+1,1)","v":2},{"$f":"V772&U772&T772&X772","v":"20261112"},{"$f":"S772","v":"2026-11-08"}]
[null,null,null,null,null,null,null,null,null,null,null,null,null,null,null,null,null,null,"2026-11-15",{"$f":"WEEKDAY(S773)","v":1},{"$f":"MONTH(S773)","v":11},{"$f":"YEAR(S773)","v":2026},{"$f":"T773&U773","v":"111"},{"$f":"IF(V773&W773=V772&W772,X772+1,1)","v":3},{"$f":"V773&U773&T773&X773","v":"20261113"},{"$f":"S773","v":"2026-11-15"}]
[null,null,null,null,null,null,null,null,null,null,null,null,null,null,null,null,null,null,"2026-11-22",{"$f":"WEEKDAY(S774)","v":1},{"$f":"MONTH(S774)","v":11},{"$f":"YEAR(S774)","v":2026},{"$f":"T774&U774","v":"111"},{"$f":"IF(V774&W774=V773&W773,X773+1,1)","v":4},{"$f":"V774&U774&T774&X774","v":"20261114"},{"$f":"S774","v":"2026-11-22"}]
[null,null,null,null,null,null,null,null,null,null,null,null,null,null,null,null,null,null,"2026-11-29",{"$f":"WEEKDAY(S775)","v":1},{"$f":"MONTH(S775)","v":11},{"$f":"YEAR(S775)","v":2026},{"$f":"T775&U775","v":"111"},{"$f":"IF(V775&W775=V774&W774,X774+1,1)","v":5},{"$f":"V775&U775&T775&X775","v":"20261115"},{"$f":"S775","v":"2026-11-29"}]
[null,null,null,null,null,null,null,null,null,null,null,null,null,null,null,null,null,null,"2026-01-11",{"$f":"WEEKDAY(S776)","v":1},{"$f":"MONTH(S776)","v":1},{"$f":"YEAR(S776)","v":2026},{"$f":"T776&U776","v":"11"},{"$f":"IF(V776&W776=V775&W775,X775+1,1)","v":1},{"$f":"V776&U776&T776&X776","v":"2026111"},{"$f":"S776","v":"2026-01-11"}]
[null,null,null,null,null,null,null,null,null,null,null,null,null,null,null,null,null,null,"2026-11-02",{"$f":"WEEKDAY(S777)","v":2},{"$f":"MONTH(S777)","v":11},{"$f":"YEAR(S777)","v":2026},{"$f":"T777&U777","v":"211"},{"$f":"IF(V777&W777=V776&W776,X776+1,1)","v":1},{"$f":"V777&U777&T777&X777","v":"20261121"},{"$f":"S777","v":"2026-11-02"}]
[null,null,null,null,null,null,null,null,null,null,null,null,null,null,null,null,null,null,"2026-11-09",{"$f":"WEEKDAY(S778)","v":2},{"$f":"MONTH(S778)","v":11},{"$f":"YEAR(S778)","v":2026},{"$f":"T778&U778","v":"211"},{"$f":"IF(V778&W778=V777&W777,X777+1,1)","v":2},{"$f":"V778&U778&T778&X778","v":"20261122"},{"$f":"S778","v":"2026-11-09"}]
[null,null,null,null,null,null,null,null,null,null,null,null,null,null,null,null,null,null,"2026-11-16",{"$f":"WEEKDAY(S779)","v":2},{"$f":"MONTH(S779)","v":11},{"$f":"YEAR(S779)","v":2026},{"$f":"T779&U779","v":"211"},{"$f":"IF(V779&W779=V778&W778,X778+1,1)","v":3},{"$f":"V779&U779&T779&X779","v":"20261123"},{"$f":"S779","v":"2026-11-16"}]
[null,null,null,null,null,null,null,null,null,null,null,null,null,null,null,null,null,null,"2026-11-23",{"$f":"WEEKDAY(S780)","v":2},{"$f":"MONTH(S780)","v":11},{"$f":"YEAR(S780)","v":2026},{"$f":"T780&U780","v":"211"},{"$f":"IF(V780&W780=V779&W779,X779+1,1)","v":4},{"$f":"V780&U780&T780&X780","v":"20261124"},{"$f":"S780","v":"2026-11-23"}]
[null,null,null,null,null,null,null,null,null,null,null,null,null,null,null,null,null,null,"2026-11-30",{"$f":"WEEKDAY(S781)","v":2},{"$f":"MONTH(S781)","v":11},{"$f":"YEAR(S781)","v":2026},{"$f":"T781&U781","v":"211"},{"$f":"IF(V781&W781=V780&W780,X780+1,1)","v":5},{"$f":"V781&U781&T781&X781","v":"20261125"},{"$f":"S781","v":"2026-11-30"}]
[null,null,null,null,null,null,null,null,null,null,null,null,null,null,null,null,null,null,"2026-01-18",{"$f":"WEEKDAY(S782)","v":1},{"$f":"MONTH(S782)","v":1},{"$f":"YEAR(S782)","v":2026},{"$f":"T782&U782","v":"11"},{"$f":"IF(V782&W782=V781&W781,X781+1,1)","v":1},{"$f":"V782&U782&T782&X782","v":"2026111"},{"$f":"S782","v":"2026-01-18"}]
[null,null,null,null,null,null,null,null,null,null,null,null,null,null,null,null,null,null,"2026-11-03",{"$f":"WEEKDAY(S783)","v":3},{"$f":"MONTH(S783)","v":11},{"$f":"YEAR(S783)","v":2026},{"$f":"T783&U783","v":"311"},{"$f":"IF(V783&W783=V782&W782,X782+1,1)","v":1},{"$f":"V783&U783&T783&X783","v":"20261131"},{"$f":"S783","v":"2026-11-03"}]
[null,null,null,null,null,null,null,null,null,null,null,null,null,null,null,null,null,null,"2026-11-10",{"$f":"WEEKDAY(S784)","v":3},{"$f":"MONTH(S784)","v":11},{"$f":"YEAR(S784)","v":2026},{"$f":"T784&U784","v":"311"},{"$f":"IF(V784&W784=V783&W783,X783+1,1)","v":2},{"$f":"V784&U784&T784&X784","v":"20261132"},{"$f":"S784","v":"2026-11-10"}]
[null,null,null,null,null,null,null,null,null,null,null,null,null,null,null,null,null,null,"2026-11-17",{"$f":"WEEKDAY(S785)","v":3},{"$f":"MONTH(S785)","v":11},{"$f":"YEAR(S785)","v":2026},{"$f":"T785&U785","v":"311"},{"$f":"IF(V785&W785=V784&W784,X784+1,1)","v":3},{"$f":"V785&U785&T785&X785","v":"20261133"},{"$f":"S785","v":"2026-11-17"}]
[null,null,null,null,null,null,null,null,null,null,null,null,null,null,null,null,null,null,"2026-11-24",{"$f":"WEEKDAY(S786)","v":3},{"$f":"MONTH(S786)","v":11},{"$f":"YEAR(S786)","v":2026},{"$f":"T786&U786","v":"311"},{"$f":"IF(V786&W786=V785&W785,X785+1,1)","v":4},{"$f":"V786&U786&T786&X786","v":"20261134"},{"$f":"S786","v":"2026-11-24"}]
[null,null,null,null,null,null,null,null,null,null,null,null,null,null,null,null,null,null,"2026-01-25",{"$f":"WEEKDAY(S787)","v":1},{"$f":"MONTH(S787)","v":1},{"$f":"YEAR(S787)","v":2026},{"$f":"T787&U787","v":"11"},{"$f":"IF(V787&W787=V786&W786,X786+1,1)","v":1},{"$f":"V787&U787&T787&X787","v":"2026111"},{"$f":"S787","v":"2026-01-25"}]
[null,null,null,null,null,null,null,null,null,null,null,null,null,null,null,null,null,null,"2026-11-04",{"$f":"WEEKDAY(S788)","v":4},{"$f":"MONTH(S788)","v":11},{"$f":"YEAR(S788)","v":2026},{"$f":"T788&U788","v":"411"},{"$f":"IF(V788&W788=V787&W787,X787+1,1)","v":1},{"$f":"V788&U788&T788&X788","v":"20261141"},{"$f":"S788","v":"2026-11-04"}]
[null,null,null,null,null,null,null,null,null,null,null,null,null,null,null,null,null,null,"2026-11-11",{"$f":"WEEKDAY(S789)","v":4},{"$f":"MONTH(S789)","v":11},{"$f":"YEAR(S789)","v":2026},{"$f":"T789&U789","v":"411"},{"$f":"IF(V789&W789=V788&W788,X788+1,1)","v":2},{"$f":"V789&U789&T789&X789","v":"20261142"},{"$f":"S789","v":"2026-11-11"}]
[null,null,null,null,null,null,null,null,null,null,null,null,null,null,null,null,null,null,"2026-11-18",{"$f":"WEEKDAY(S790)","v":4},{"$f":"MONTH(S790)","v":11},{"$f":"YEAR(S790)","v":2026},{"$f":"T790&U790","v":"411"},{"$f":"IF(V790&W790=V789&W789,X789+1,1)","v":3},{"$f":"V790&U790&T790&X790","v":"20261143"},{"$f":"S790","v":"2026-11-18"}]
[null,null,null,null,null,null,null,null,null,null,null,null,null,null,null,null,null,null,"2026-11-25",{"$f":"WEEKDAY(S791)","v":4},{"$f":"MONTH(S791)","v":11},{"$f":"YEAR(S791)","v":2026},{"$f":"T791&U791","v":"411"},{"$f":"IF(V791&W791=V790&W790,X790+1,1)","v":4},{"$f":"V791&U791&T791&X791","v":"20261144"},{"$f":"S791","v":"2026-11-25"}]
[null,null,null,null,null,null,null,null,null,null,null,null,null,null,null,null,null,null,"2026-11-05",{"$f":"WEEKDAY(S792)","v":5},{"$f":"MONTH(S792)","v":11},{"$f":"YEAR(S792)","v":2026},{"$f":"T792&U792","v":"511"},{"$f":"IF(V792&W792=V791&W791,X791+1,1)","v":1},{"$f":"V792&U792&T792&X792","v":"20261151"},{"$f":"S792","v":"2026-11-05"}]
[null,null,null,null,null,null,null,null,null,null,null,null,null,null,null,null,null,null,"2026-11-12",{"$f":"WEEKDAY(S793)","v":5},{"$f":"MONTH(S793)","v":11},{"$f":"YEAR(S793)","v":2026},{"$f":"T793&U793","v":"511"},{"$f":"IF(V793&W793=V792&W792,X792+1,1)","v":2},{"$f":"V793&U793&T793&X793","v":"20261152"},{"$f":"S793","v":"2026-11-12"}]
[null,null,null,null,null,null,null,null,null,null,null,null,null,null,null,null,null,null,"2026-11-19",{"$f":"WEEKDAY(S794)","v":5},{"$f":"MONTH(S794)","v":11},{"$f":"YEAR(S794)","v":2026},{"$f":"T794&U794","v":"511"},{"$f":"IF(V794&W794=V793&W793,X793+1,1)","v":3},{"$f":"V794&U794&T794&X794","v":"20261153"},{"$f":"S794","v":"2026-11-19"}]
[null,null,null,null,null,null,null,null,null,null,null,null,null,null,null,null,null,null,"2026-11-26",{"$f":"WEEKDAY(S795)","v":5},{"$f":"MONTH(S795)","v":11},{"$f":"YEAR(S795)","v":2026},{"$f":"T795&U795","v":"511"},{"$f":"IF(V795&W795=V794&W794,X794+1,1)","v":4},{"$f":"V795&U795&T795&X795","v":"20261154"},{"$f":"S795","v":"2026-11-26"}]
[null,null,null,null,null,null,null,null,null,null,null,null,null,null,null,null,null,null,"2026-11-06",{"$f":"WEEKDAY(S796)","v":6},{"$f":"MONTH(S796)","v":11},{"$f":"YEAR(S796)","v":2026},{"$f":"T796&U796","v":"611"},{"$f":"IF(V796&W796=V795&W795,X795+1,1)","v":1},{"$f":"V796&U796&T796&X796","v":"20261161"},{"$f":"S796","v":"2026-11-06"}]
[null,null,null,null,null,null,null,null,null,null,null,null,null,null,null,null,null,null,"2026-11-13",{"$f":"WEEKDAY(S797)","v":6},{"$f":"MONTH(S797)","v":11},{"$f":"YEAR(S797)","v":2026},{"$f":"T797&U797","v":"611"},{"$f":"IF(V797&W797=V796&W796,X796+1,1)","v":2},{"$f":"V797&U797&T797&X797","v":"20261162"},{"$f":"S797","v":"2026-11-13"}]
[null,null,null,null,null,null,null,null,null,null,null,null,null,null,null,null,null,null,"2026-11-20",{"$f":"WEEKDAY(S798)","v":6},{"$f":"MONTH(S798)","v":11},{"$f":"YEAR(S798)","v":2026},{"$f":"T798&U798","v":"611"},{"$f":"IF(V798&W798=V797&W797,X797+1,1)","v":3},{"$f":"V798&U798&T798&X798","v":"20261163"},{"$f":"S798","v":"2026-11-20"}]
[null,null,null,null,null,null,null,null,null,null,null,null,null,null,null,null,null,null,"2026-11-27",{"$f":"WEEKDAY(S799)","v":6},{"$f":"MONTH(S799)","v":11},{"$f":"YEAR(S799)","v":2026},{"$f":"T799&U799","v":"611"},{"$f":"IF(V799&W799=V798&W798,X798+1,1)","v":4},{"$f":"V799&U799&T799&X799","v":"20261164"},{"$f":"S799","v":"2026-11-27"}]
[null,null,null,null,null,null,null,null,null,null,null,null,null,null,null,null,null,null,"2026-11-07",{"$f":"WEEKDAY(S800)","v":7},{"$f":"MONTH(S800)","v":11},{"$f":"YEAR(S800)","v":2026},{"$f":"T800&U800","v":"711"},{"$f":"IF(V800&W800=V799&W799,X799+1,1)","v":1},{"$f":"V800&U800&T800&X800","v":"20261171"},{"$f":"S800","v":"2026-11-07"}]
[null,null,null,null,null,null,null,null,null,null,null,null,null,null,null,null,null,null,"2026-11-14",{"$f":"WEEKDAY(S801)","v":7},{"$f":"MONTH(S801)","v":11},{"$f":"YEAR(S801)","v":2026},{"$f":"T801&U801","v":"711"},{"$f":"IF(V801&W801=V800&W800,X800+1,1)","v":2},{"$f":"V801&U801&T801&X801","v":"20261172"},{"$f":"S801","v":"2026-11-14"}]
[null,null,null,null,null,null,null,null,null,null,null,null,null,null,null,null,null,null,"2026-11-21",{"$f":"WEEKDAY(S802)","v":7},{"$f":"MONTH(S802)","v":11},{"$f":"YEAR(S802)","v":2026},{"$f":"T802&U802","v":"711"},{"$f":"IF(V802&W802=V801&W801,X801+1,1)","v":3},{"$f":"V802&U802&T802&X802","v":"20261173"},{"$f":"S802","v":"2026-11-21"}]
[null,null,null,null,null,null,null,null,null,null,null,null,null,null,null,null,null,null,"2026-11-28",{"$f":"WEEKDAY(S803)","v":7},{"$f":"MONTH(S803)","v":11},{"$f":"YEAR(S803)","v":2026},{"$f":"T803&U803","v":"711"},{"$f":"IF(V803&W803=V802&W802,X802+1,1)","v":4},{"$f":"V803&U803&T803&X803","v":"20261174"},{"$f":"S803","v":"2026-11-28"}]
[null,null,null,null,null,null,null,null,null,null,null,null,null,null,null,null,null,null,"2026-01-05",{"$f":"WEEKDAY(S804)","v":2},{"$f":"MONTH(S804)","v":1},{"$f":"YEAR(S804)","v":2026},{"$f":"T804&U804","v":"21"},{"$f":"IF(V804&W804=V803&W803,X803+1,1)","v":1},{"$f":"V804&U804&T804&X804","v":"2026121"},{"$f":"S804","v":"2026-01-05"}]
[null,null,null,null,null,null,null,null,null,null,null,null,null,null,null,null,null,null,"2026-12-06",{"$f":"WEEKDAY(S805)","v":1},{"$f":"MONTH(S805)","v":12},{"$f":"YEAR(S805)","v":2026},{"$f":"T805&U805","v":"112"},{"$f":"IF(V805&W805=V804&W804,X804+1,1)","v":1},{"$f":"V805&U805&T805&X805","v":"20261211"},{"$f":"S805","v":"2026-12-06"}]
[null,null,null,null,null,null,null,null,null,null,null,null,null,null,null,null,null,null,"2026-12-13",{"$f":"WEEKDAY(S806)","v":1},{"$f":"MONTH(S806)","v":12},{"$f":"YEAR(S806)","v":2026},{"$f":"T806&U806","v":"112"},{"$f":"IF(V806&W806=V805&W805,X805+1,1)","v":2},{"$f":"V806&U806&T806&X806","v":"20261212"},{"$f":"S806","v":"2026-12-13"}]
[null,null,null,null,null,null,null,null,null,null,null,null,null,null,null,null,null,null,"2026-12-20",{"$f":"WEEKDAY(S807)","v":1},{"$f":"MONTH(S807)","v":12},{"$f":"YEAR(S807)","v":2026},{"$f":"T807&U807","v":"112"},{"$f":"IF(V807&W807=V806&W806,X806+1,1)","v":3},{"$f":"V807&U807&T807&X807","v":"20261213"},{"$f":"S807","v":"2026-12-20"}]
[null,null,null,null,null,null,null,null,null,null,null,null,null,null,null,null,null,null,"2026-12-27",{"$f":"WEEKDAY(S808)","v":1},{"$f":"MONTH(S808)","v":12},{"$f":"YEAR(S808)","v":2026},{"$f":"T808&U808","v":"112"},{"$f":"IF(V808&W808=V807&W807,X807+1,1)","v":4},{"$f":"V808&U808&T808&X808","v":"20261214"},{"$f":"S808","v":"2026-12-27"}]
[null,null,null,null,null,null,null,null,null,null,null,null,null,null,null,null,null,null,"2026-01-12",{"$f":"WEEKDAY(S809)","v":2},{"$f":"MONTH(S809)","v":1},{"$f":"YEAR(S809)","v":2026},{"$f":"T809&U809","v":"21"},{"$f":"IF(V809&W809=V808&W808,X808+1,1)","v":1},{"$f":"V809&U809&T809&X809","v":"2026121"},{"$f":"S809","v":"2026-01-12"}]
[null,null,null,null,null,null,null,null,null,null,null,null,null,null,null,null,null,null,"2026-12-07",{"$f":"WEEKDAY(S810)","v":2},{"$f":"MONTH(S810)","v":12},{"$f":"YEAR(S810)","v":2026},{"$f":"T810&U810","v":"212"},{"$f":"IF(V810&W810=V809&W809,X809+1,1)","v":1},{"$f":"V810&U810&T810&X810","v":"20261221"},{"$f":"S810","v":"2026-12-07"}]
[null,null,null,null,null,null,null,null,null,null,null,null,null,null,null,null,null,null,"2026-12-14",{"$f":"WEEKDAY(S811)","v":2},{"$f":"MONTH(S811)","v":12},{"$f":"YEAR(S811)","v":2026},{"$f":"T811&U811","v":"212"},{"$f":"IF(V811&W811=V810&W810,X810+1,1)","v":2},{"$f":"V811&U811&T811&X811","v":"20261222"},{"$f":"S811","v":"2026-12-14"}]
[null,null,null,null,null,null,null,null,null,null,null,null,null,null,null,null,null,null,"2026-12-21",{"$f":"WEEKDAY(S812)","v":2},{"$f":"MONTH(S812)","v":12},{"$f":"YEAR(S812)","v":2026},{"$f":"T812&U812","v":"212"},{"$f":"IF(V812&W812=V811&W811,X811+1,1)","v":3},{"$f":"V812&U812&T812&X812","v":"20261223"},{"$f":"S812","v":"2026-12-21"}]
[null,null,null,null,null,null,null,null,null,null,null,null,null,null,null,null,null,null,"2026-12-28",{"$f":"WEEKDAY(S813)","v":2},{"$f":"MONTH(S813)","v":12},{"$f":"YEAR(S813)","v":2026},{"$f":"T813&U813","v":"212"},{"$f":"IF(V813&W813=V812&W812,X812+1,1)","v":4},{"$f":"V813&U813&T813&X813","v":"20261224"},{"$f":"S813","v":"2026-12-28"}]
[null,null,null,null,null,null,null,null,null,null,null,null,null,null,null,null,null,null,"2026-01-19",{"$f":"WEEKDAY(S814)","v":2},{"$f":"MONTH(S814)","v":1},{"$f":"YEAR(S814)","v":2026},{"$f":"T814&U814","v":"21"},{"$f":"IF(V814&W814=V813&W813,X813+1,1)","v":1},{"$f":"V814&U814&T814&X814","v":"2026121"},{"$f":"S814","v":"2026-01-19"}]
[null,null,null,null,null,null,null,null,null,null,null,null,null,null,null,null,null,null,"2026-12-01",{"$f":"WEEKDAY(S815)","v":3},{"$f":"MONTH(S815)","v":12},{"$f":"YEAR(S815)","v":2026},{"$f":"T815&U815","v":"312"},{"$f":"IF(V815&W815=V814&W814,X814+1,1)","v":1},{"$f":"V815&U815&T815&X815","v":"20261231"},{"$f":"S815","v":"2026-12-01"}]
[null,null,null,null,null,null,null,null,null,null,null,null,null,null,null,null,null,null,"2026-12-08",{"$f":"WEEKDAY(S816)","v":3},{"$f":"MONTH(S816)","v":12},{"$f":"YEAR(S816)","v":2026},{"$f":"T816&U816","v":"312"},{"$f":"IF(V816&W816=V815&W815,X815+1,1)","v":2},{"$f":"V816&U816&T816&X816","v":"20261232"},{"$f":"S816","v":"2026-12-08"}]
[null,null,null,null,null,null,null,null,null,null,null,null,null,null,null,null,null,null,"2026-12-15",{"$f":"WEEKDAY(S817)","v":3},{"$f":"MONTH(S817)","v":12},{"$f":"YEAR(S817)","v":2026},{"$f":"T817&U817","v":"312"},{"$f":"IF(V817&W817=V816&W816,X816+1,1)","v":3},{"$f":"V817&U817&T817&X817","v":"20261233"},{"$f":"S817","v":"2026-12-15"}]
[null,null,null,null,null,null,null,null,null,null,null,null,null,null,null,null,null,null,"2026-12-22",{"$f":"WEEKDAY(S818)","v":3},{"$f":"MONTH(S818)","v":12},{"$f":"YEAR(S818)","v":2026},{"$f":"T818&U818","v":"312"},{"$f":"IF(V818&W818=V817&W817,X817+1,1)","v":4},{"$f":"V818&U818&T818&X818","v":"20261234"},{"$f":"S818","v":"2026-12-22"}]
[null,null,null,null,null,null,null,null,null,null,null,null,null,null,null,null,null,null,"2026-12-29",{"$f":"WEEKDAY(S819)","v":3},{"$f":"MONTH(S819)","v":12},{"$f":"YEAR(S819)","v":2026},{"$f":"T819&U819","v":"312"},{"$f":"IF(V819&W819=V818&W818,X818+1,1)","v":5},{"$f":"V819&U819&T819&X819","v":"20261235"},{"$f":"S819","v":"2026-12-29"}]
[null,null,null,null,null,null,null,null,null,null,null,null,null,null,null,null,null,null,"2026-01-26",{"$f":"WEEKDAY(S820)","v":2},{"$f":"MONTH(S820)","v":1},{"$f":"YEAR(S820)","v":2026},{"$f":"T820&U820","v":"21"},{"$f":"IF(V820&W820=V819&W819,X819+1,1)","v":1},{"$f":"V820&U820&T820&X820","v":"2026121"},{"$f":"S820","v":"2026-01-26"}]
[null,null,null,null,null,null,null,null,null,null,null,null,null,null,null,null,null,null,"2026-12-02",{"$f":"WEEKDAY(S821)","v":4},{"$f":"MONTH(S821)","v":12},{"$f":"YEAR(S821)","v":2026},{"$f":"T821&U821","v":"412"},{"$f":"IF(V821&W821=V820&W820,X820+1,1)","v":1},{"$f":"V821&U821&T821&X821","v":"20261241"},{"$f":"S821","v":"2026-12-02"}]
[null,null,null,null,null,null,null,null,null,null,null,null,null,null,null,null,null,null,"2026-12-09",{"$f":"WEEKDAY(S822)","v":4},{"$f":"MONTH(S822)","v":12},{"$f":"YEAR(S822)","v":2026},{"$f":"T822&U822","v":"412"},{"$f":"IF(V822&W822=V821&W821,X821+1,1)","v":2},{"$f":"V822&U822&T822&X822","v":"20261242"},{"$f":"S822","v":"2026-12-09"}]
[null,null,null,null,null,null,null,null,null,null,null,null,null,null,null,null,null,null,"2026-12-16",{"$f":"WEEKDAY(S823)","v":4},{"$f":"MONTH(S823)","v":12},{"$f":"YEAR(S823)","v":2026},{"$f":"T823&U823","v":"412"},{"$f":"IF(V823&W823=V822&W822,X822+1,1)","v":3},{"$f":"V823&U823&T823&X823","v":"20261243"},{"$f":"S823","v":"2026-12-16"}]
[null,null,null,null,null,null,null,null,null,null,null,null,null,null,null,null,null,null,"2026-12-23",{"$f":"WEEKDAY(S824)","v":4},{"$f":"MONTH(S824)","v":12},{"$f":"YEAR(S824)","v":2026},{"$f":"T824&U824","v":"412"},{"$f":"IF(V824&W824=V823&W823,X823+1,1)","v":4},{"$f":"V824&U824&T824&X824","v":"20261244"},{"$f":"S824","v":"2026-12-23"}]
[null,null,null,null,null,null,null,null,null,null,null,null,null,null,null,null,null,null,"2026-12-30",{"$f":"WEEKDAY(S825)","v":4},{"$f":"MONTH(S825)","v":12},{"$f":"YEAR(S825)","v":2026},{"$f":"T825&U825","v":"412"},{"$f":"IF(V825&W825=V824&W824,X824+1,1)","v":5},{"$f":"V825&U825&T825&X825","v":"20261245"},{"$f":"S825","v":"2026-12-30"}]
[null,null,null,null,null,null,null,null,null,null,null,null,null,null,null,null,null,null,"2026-12-03",{"$f":"WEEKDAY(S826)","v":5},{"$f":"MONTH(S826)","v":12},{"$f":"YEAR(S826)","v":2026},{"$f":"T826&U826","v":"512"},{"$f":"IF(V826&W826=V825&W825,X825+1,1)","v":1},{"$f":"V826&U826&T826&X826","v":"20261251"},{"$f":"S826","v":"2026-12-03"}]
[null,null,null,null,null,null,null,null,null,null,null,null,null,null,null,null,null,null,"2026-12-10",{"$f":"WEEKDAY(S827)","v":5},{"$f":"MONTH(S827)","v":12},{"$f":"YEAR(S827)","v":2026},{"$f":"T827&U827","v":"512"},{"$f":"IF(V827&W827=V826&W826,X826+1,1)","v":2},{"$f":"V827&U827&T827&X827","v":"20261252"},{"$f":"S827","v":"2026-12-10"}]
[null,null,null,null,null,null,null,null,null,null,null,null,null,null,null,null,null,null,"2026-12-17",{"$f":"WEEKDAY(S828)","v":5},{"$f":"MONTH(S828)","v":12},{"$f":"YEAR(S828)","v":2026},{"$f":"T828&U828","v":"512"},{"$f":"IF(V828&W828=V827&W827,X827+1,1)","v":3},{"$f":"V828&U828&T828&X828","v":"20261253"},{"$f":"S828","v":"2026-12-17"}]
[null,null,null,null,null,null,null,null,null,null,null,null,null,null,null,null,null,null,"2026-12-24",{"$f":"WEEKDAY(S829)","v":5},{"$f":"MONTH(S829)","v":12},{"$f":"YEAR(S829)","v":2026},{"$f":"T829&U829","v":"512"},{"$f":"IF(V829&W829=V828&W828,X828+1,1)","v":4},{"$f":"V829&U829&T829&X829","v":"20261254"},{"$f":"S829","v":"2026-12-24"}]
[null,null,null,null,null,null,null,null,null,null,null,null,null,null,null,null,null,null,"2026-12-31",{"$f":"WEEKDAY(S830)","v":5},{"$f":"MONTH(S830)","v":12},{"$f":"YEAR(S830)","v":2026},{"$f":"T830&U830","v":"512"},{"$f":"IF(V830&W830=V829&W829,X829+1,1)","v":5},{"$f":"V830&U830&T830&X830","v":"20261255"},{"$f":"S830","v":"2026-12-31"}]
[null,null,null,null,null,null,null,null,null,null,null,null,null,null,null,null,null,null,"2026-12-04",{"$f":"WEEKDAY(S831)","v":6},{"$f":"MONTH(S831)","v":12},{"$f":"YEAR(S831)","v":2026},{"$f":"T831&U831","v":"612"},{"$f":"IF(V831&W831=V830&W830,X830+1,1)","v":1},{"$f":"V831&U831&T831&X831","v":"20261261"},{"$f":"S831","v":"2026-12-04"}]
[null,null,null,null,null,null,null,null,null,null,null,null,null,null,null,null,null,null,"2026-12-11",{"$f":"WEEKDAY(S832)","v":6},{"$f":"MONTH(S832)","v":12},{"$f":"YEAR(S832)","v":2026},{"$f":"T832&U832","v":"612"},{"$f":"IF(V832&W832=V831&W831,X831+1,1)","v":2},{"$f":"V832&U832&T832&X832","v":"20261262"},{"$f":"S832","v":"2026-12-11"}]
[null,null,null,null,null,null,null,null,null,null,null,null,null,null,null,null,null,null,"2026-12-18",{"$f":"WEEKDAY(S833)","v":6},{"$f":"MONTH(S833)","v":12},{"$f":"YEAR(S833)","v":2026},{"$f":"T833&U833","v":"612"},{"$f":"IF(V833&W833=V832&W832,X832+1,1)","v":3},{"$f":"V833&U833&T833&X833","v":"20261263"},{"$f":"S833","v":"2026-12-18"}]
[null,null,null,null,null,null,null,null,null,null,null,null,null,null,null,null,null,null,"2026-12-25",{"$f":"WEEKDAY(S834)","v":6},{"$f":"MONTH(S834)","v":12},{"$f":"YEAR(S834)","v":2026},{"$f":"T834&U834","v":"612"},{"$f":"IF(V834&W834=V833&W833,X833+1,1)","v":4},{"$f":"V834&U834&T834&X834","v":"20261264"},{"$f":"S834","v":"2026-12-25"}]
[null,null,null,null,null,null,null,null,null,null,null,null,null,null,null,null,null,null,"2026-12-05",{"$f":"WEEKDAY(S835)","v":7},{"$f":"MONTH(S835)","v":12},{"$f":"YEAR(S835)","v":2026},{"$f":"T835&U835","v":"712"},{"$f":"IF(V835&W835=V834&W834,X834+1,1)","v":1},{"$f":"V835&U835&T835&X835","v":"20261271"},{"$f":"S835","v":"2026-12-05"}]
[null,null,null,null,null,null,null,null,null,null,null,null,null,null,null,null,null,null,"2026-12-12",{"$f":"WEEKDAY(S836)","v":7},{"$f":"MONTH(S836)","v":12},{"$f":"YEAR(S836)","v":2026},{"$f":"T836&U836","v":"712"},{"$f":"IF(V836&W836=V835&W835,X835+1,1)","v":2},{"$f":"V836&U836&T836&X836","v":"20261272"},{"$f":"S836","v":"2026-12-12"}]
[null,null,null,null,null,null,null,null,null,null,null,null,null,null,null,null,null,null,"2026-12-19",{"$f":"WEEKDAY(S837)","v":7},{"$f":"MONTH(S837)","v":12},{"$f":"YEAR(S837)","v":2026},{"$f":"T837&U837","v":"712"},{"$f":"IF(V837&W837=V836&W836,X836+1,1)","v":3},{"$f":"V837&U837&T837&X837","v":"20261273"},{"$f":"S837","v":"2026-12-19"}]
[null,null,null,null,null,null,null,null,null,null,null,null,null,null,null,null,null,null,"2026-12-26",{"$f":"WEEKDAY(S838)","v":7},{"$f":"MONTH(S838)","v":12},{"$f":"YEAR(S838)","v":2026},{"$f":"T838&U838","v":"712"},{"$f":"IF(V838&W838=V837&W837,X837+1,1)","v":4},{"$f":"V838&U838&T838&X838","v":"20261274"},{"$f":"S838","v":"2026-12-26"}]
[null,null,null,null,null,null,null,null,null,null,null,null,null,null,null,null,null,null,"2026-01-06",{"$f":"WEEKDAY(S839)","v":3},{"$f":"MONTH(S839)","v":1},{"$f":"YEAR(S839)","v":2026},{"$f":"T839&U839","v":"31"},{"$f":"IF(V839&W839=V838&W838,X838+1,1)","v":1},{"$f":"V839&U839&T839&X839","v":"2026131"},{"$f":"S839","v":"2026-01-06"}]
[null,null,null,null,null,null,null,null,null,null,null,null,null,null,null,null,null,null,"2026-01-13",{"$f":"WEEKDAY(S840)","v":3},{"$f":"MONTH(S840)","v":1},{"$f":"YEAR(S840)","v":2026},{"$f":"T840&U840","v":"31"},{"$f":"IF(V840&W840=V839&W839,X839+1,1)","v":2},{"$f":"V840&U840&T840&X840","v":"2026132"},{"$f":"S840","v":"2026-01-13"}]
[null,null,null,null,null,null,null,null,null,null,null,null,null,null,null,null,null,null,"2026-01-20",{"$f":"WEEKDAY(S841)","v":3},{"$f":"MONTH(S841)","v":1},{"$f":"YEAR(S841)","v":2026},{"$f":"T841&U841","v":"31"},{"$f":"IF(V841&W841=V840&W840,X840+1,1)","v":3},{"$f":"V841&U841&T841&X841","v":"2026133"},{"$f":"S841","v":"2026-01-20"}]
[null,null,null,null,null,null,null,null,null,null,null,null,null,null,null,null,null,null,"2026-01-27",{"$f":"WEEKDAY(S842)","v":3},{"$f":"MONTH(S842)","v":1},{"$f":"YEAR(S842)","v":2026},{"$f":"T842&U842","v":"31"},{"$f":"IF(V842&W842=V841&W841,X841+1,1)","v":4},{"$f":"V842&U842&T842&X842","v":"2026134"},{"$f":"S842","v":"2026-01-27"}]
[null,null,null,null,null,null,null,null,null,null,null,null,null,null,null,null,null,null,"2026-01-07",{"$f":"WEEKDAY(S843)","v":4},{"$f":"MONTH(S843)","v":1},{"$f":"YEAR(S843)","v":2026},{"$f":"T843&U843","v":"41"},{"$f":"IF(V843&W843=V842&W842,X842+1,1)","v":1},{"$f":"V843&U843&T843&X843","v":"2026141"},{"$f":"S843","v":"2026-01-07"}]
[null,null,null,null,null,null,null,null,null,null,null,null,null,null,null,null,null,null,"2026-01-14",{"$f":"WEEKDAY(S844)","v":4},{"$f":"MONTH(S844)","v":1},{"$f":"YEAR(S844)","v":2026},{"$f":"T844&U844","v":"41"},{"$f":"IF(V844&W844=V843&W843,X843+1,1)","v":2},{"$f":"V844&U844&T844&X844","v":"2026142"},{"$f":"S844","v":"2026-01-14"}]
[null,null,null,null,null,null,null,null,null,null,null,null,null,null,null,null,null,null,"2026-01-21",{"$f":"WEEKDAY(S845)","v":4},{"$f":"MONTH(S845)","v":1},{"$f":"YEAR(S845)","v":2026},{"$f":"T845&U845","v":"41"},{"$f":"IF(V845&W845=V844&W844,X844+1,1)","v":3},{"$f":"V845&U845&T845&X845","v":"2026143"},{"$f":"S845","v":"2026-01-21"}]
[null,null,null,null,null,null,null,null,null,null,null,null,null,null,null,null,null,null,"2026-01-28",{"$f":"WEEKDAY(S846)","v":4},{"$f":"MONTH(S846)","v":1},{"$f":"YEAR(S846)","v":2026},{"$f":"T846&U846","v":"41"},{"$f":"IF(V846&W846=V845&W845,X845+1,1)","v":4},{"$f":"V846&U846&T846&X846","v":"2026144"},{"$f":"S846","v":"2026-01-28"}]
[null,null,null,null,null,null,null,null,null,null,null,null,null,null,null,null,null,null,"2026-01-01",{"$f":"WEEKDAY(S847)","v":5},{"$f":"MONTH(S847)","v":1},{"$f":"YEAR(S847)","v":2026},{"$f":"T847&U847","v":"51"},{"$f":"IF(V847&W847=V846&W846,X846+1,1)","v":1},{"$f":"V847&U847&T847&X847","v":"2026151"},{"$f":"S847","v":"2026-01-01"}]
[null,null,null,null,null,null,null,null,null,null,null,null,null,null,null,null,null,null,"2026-01-08",{"$f":"WEEKDAY(S848)","v":5},{"$f":"MONTH(S848)","v":1},{"$f":"YEAR(S848)","v":2026},{"$f":"T848&U848","v":"51"},{"$f":"IF(V848&W848=V847&W847,X847+1,1)","v":2},{"$f":"V848&U848&T848&X848","v":"2026152"},{"$f":"S848","v":"2026-01-08"}]
[null,null,null,null,null,null,null,null,null,null,null,null,null,null,null,null,null,null,"2026-01-15",{"$f":"WEEKDAY(S849)","v":5},{"$f":"MONTH(S849)","v":1},{"$f":"YEAR(S849)","v":2026},{"$f":"T849&U849","v":"51"},{"$f":"IF(V849&W849=V848&W848,X848+1,1)","v":3},{"$f":"V849&U849&T849&X849","v":"2026153"},{"$f":"S849","v":"2026-01-15"}]
[null,null,null,null,null,null,null,null,null,null,null,null,null,null,null,null,null,null,"2026-01-22",{"$f":"WEEKDAY(S850)","v":5},{"$f":"MONTH(S850)","v":1},{"$f":"YEAR(S850)","v":2026},{"$f":"T850&U850","v":"51"},{"$f":"IF(V850&W850=V849&W849,X849+1,1)","v":4},{"$f":"V850&U850&T850&X850","v":"2026154"},{"$f":"S850","v":"2026-01-22"}]
[null,null,null,null,null,null,null,null,null,null,null,null,null,null,null,null,null,null,"2026-01-29",{"$f":"WEEKDAY(S851)","v":5},{"$f":"MONTH(S851)","v":1},{"$f":"YEAR(S851)","v":2026},{"$f":"T851&U851","v":"51"},{"$f":"IF(V851&W851=V850&W850,X850+1,1)","v":5},{"$f":"V851&U851&T851&X851","v":"2026155"},{"$f":"S851","v":"2026-01-29"}]
[null,null,null,null,null,null,null,null,null,null,null,null,null,null,null,null,null,null,"2026-01-02",{"$f":"WEEKDAY(S852)","v":6},{"$f":"MONTH(S852)","v":1},{"$f":"YEAR(S852)","v":2026},{"$f":"T852&U852","v":"61"},{"$f":"IF(V852&W852=V851&W851,X851+1,1)","v":1},{"$f":"V852&U852&T852&X852","v":"2026161"},{"$f":"S852","v":"2026-01-02"}]
[null,null,null,null,null,null,null,null,null,null,null,null,null,null,null,null,null,null,"2026-01-09",{"$f":"WEEKDAY(S853)","v":6},{"$f":"MONTH(S853)","v":1},{"$f":"YEAR(S853)","v":2026},{"$f":"T853&U853","v":"61"},{"$f":"IF(V853&W853=V852&W852,X852+1,1)","v":2},{"$f":"V853&U853&T853&X853","v":"2026162"},{"$f":"S853","v":"2026-01-09"}]
[null,null,null,null,null,null,null,null,null,null,null,null,null,null,null,null,null,null,"2026-01-16",{"$f":"WEEKDAY(S854)","v":6},{"$f":"MONTH(S854)","v":1},{"$f":"YEAR(S854)","v":2026},{"$f":"T854&U854","v":"61"},{"$f":"IF(V854&W854=V853&W853,X853+1,1)","v":3},{"$f":"V854&U854&T854&X854","v":"2026163"},{"$f":"S854","v":"2026-01-16"}]
[null,null,null,null,null,null,null,null,null,null,null,null,null,null,null,null,null,null,"2026-01-23",{"$f":"WEEKDAY(S855)","v":6},{"$f":"MONTH(S855)","v":1},{"$f":"YEAR(S855)","v":2026},{"$f":"T855&U855","v":"61"},{"$f":"IF(V855&W855=V854&W854,X854+1,1)","v":4},{"$f":"V855&U855&T855&X855","v":"2026164"},{"$f":"S855","v":"2026-01-23"}]
[null,null,null,null,null,null,null,null,null,null,null,null,null,null,null,null,null,null,"2026-01-30",{"$f":"WEEKDAY(S856)","v":6},{"$f":"MONTH(S856)","v":1},{"$f":"YEAR(S856)","v":2026},{"$f":"T856&U856","v":"61"},{"$f":"IF(V856&W856=V855&W855,X855+1,1)","v":5},{"$f":"V856&U856&T856&X856","v":"2026165"},{"$f":"S856","v":"2026-01-30"}]
[null,null,null,null,null,null,null,null,null,null,null,null,null,null,null,null,null,null,"2026-01-03",{"$f":"WEEKDAY(S857)","v":7},{"$f":"MONTH(S857)","v":1},{"$f":"YEAR(S857)","v":2026},{"$f":"T857&U857","v":"71"},{"$f":"IF(V857&W857=V856&W856,X856+1,1)","v":1},{"$f":"V857&U857&T857&X857","v":"2026171"},{"$f":"S857","v":"2026-01-03"}]
[null,null,null,null,null,null,null,null,null,null,null,null,null,null,null,null,null,null,"2026-01-10",{"$f":"WEEKDAY(S858)","v":7},{"$f":"MONTH(S858)","v":1},{"$f":"YEAR(S858)","v":2026},{"$f":"T858&U858","v":"71"},{"$f":"IF(V858&W858=V857&W857,X857+1,1)","v":2},{"$f":"V858&U858&T858&X858","v":"2026172"},{"$f":"S858","v":"2026-01-10"}]
[null,null,null,null,null,null,null,null,null,null,null,null,null,null,null,null,null,null,"2026-01-17",{"$f":"WEEKDAY(S859)","v":7},{"$f":"MONTH(S859)","v":1},{"$f":"YEAR(S859)","v":2026},{"$f":"T859&U859","v":"71"},{"$f":"IF(V859&W859=V858&W858,X858+1,1)","v":3},{"$f":"V859&U859&T859&X859","v":"2026173"},{"$f":"S859","v":"2026-01-17"}]
[null,null,null,null,null,null,null,null,null,null,null,null,null,null,null,null,null,null,"2026-01-24",{"$f":"WEEKDAY(S860)","v":7},{"$f":"MONTH(S860)","v":1},{"$f":"YEAR(S860)","v":2026},{"$f":"T860&U860","v":"71"},{"$f":"IF(V860&W860=V859&W859,X859+1,1)","v":4},{"$f":"V860&U860&T860&X860","v":"2026174"},{"$f":"S860","v":"2026-01-24"}]
[null,null,null,null,null,null,null,null,null,null,null,null,null,null,null,null,null,null,"2026-01-31",{"$f":"WEEKDAY(S861)","v":7},{"$f":"MONTH(S861)","v":1},{"$f":"YEAR(S861)","v":2026},{"$f":"T861&U861","v":"71"},{"$f":"IF(V861&W861=V860&W860,X860+1,1)","v":5},{"$f":"V861&U861&T861&X861","v":"2026175"},{"$f":"S861","v":"2026-01-31"}]
[null,null,null,null,null,null,null,null,null,null,null,null,null,null,null,null,null,null,"2026-02-01",{"$f":"WEEKDAY(S862)","v":1},{"$f":"MONTH(S862)","v":2},{"$f":"YEAR(S862)","v":2026},{"$f":"T862&U862","v":"12"},{"$f":"IF(V862&W862=V861&W861,X861+1,1)","v":1},{"$f":"V862&U862&T862&X862","v":"2026211"},{"$f":"S862","v":"2026-02-01"}]
[null,null,null,null,null,null,null,null,null,null,null,null,null,null,null,null,null,null,"2026-02-08",{"$f":"WEEKDAY(S863)","v":1},{"$f":"MONTH(S863)","v":2},{"$f":"YEAR(S863)","v":2026},{"$f":"T863&U863","v":"12"},{"$f":"IF(V863&W863=V862&W862,X862+1,1)","v":2},{"$f":"V863&U863&T863&X863","v":"2026212"},{"$f":"S863","v":"2026-02-08"}]
[null,null,null,null,null,null,null,null,null,null,null,null,null,null,null,null,null,null,"2026-02-15",{"$f":"WEEKDAY(S864)","v":1},{"$f":"MONTH(S864)","v":2},{"$f":"YEAR(S864)","v":2026},{"$f":"T864&U864","v":"12"},{"$f":"IF(V864&W864=V863&W863,X863+1,1)","v":3},{"$f":"V864&U864&T864&X864","v":"2026213"},{"$f":"S864","v":"2026-02-15"}]
[null,null,null,null,null,null,null,null,null,null,null,null,null,null,null,null,null,null,"2026-02-22",{"$f":"WEEKDAY(S865)","v":1},{"$f":"MONTH(S865)","v":2},{"$f":"YEAR(S865)","v":2026},{"$f":"T865&U865","v":"12"},{"$f":"IF(V865&W865=V864&W864,X864+1,1)","v":4},{"$f":"V865&U865&T865&X865","v":"2026214"},{"$f":"S865","v":"2026-02-22"}]
[null,null,null,null,null,null,null,null,null,null,null,null,null,null,null,null,null,null,"2026-02-02",{"$f":"WEEKDAY(S866)","v":2},{"$f":"MONTH(S866)","v":2},{"$f":"YEAR(S866)","v":2026},{"$f":"T866&U866","v":"22"},{"$f":"IF(V866&W866=V865&W865,X865+1,1)","v":1},{"$f":"V866&U866&T866&X866","v":"2026221"},{"$f":"S866","v":"2026-02-02"}]
[null,null,null,null,null,null,null,null,null,null,null,null,null,null,null,null,null,null,"2026-02-09",{"$f":"WEEKDAY(S867)","v":2},{"$f":"MONTH(S867)","v":2},{"$f":"YEAR(S867)","v":2026},{"$f":"T867&U867","v":"22"},{"$f":"IF(V867&W867=V866&W866,X866+1,1)","v":2},{"$f":"V867&U867&T867&X867","v":"2026222"},{"$f":"S867","v":"2026-02-09"}]
[null,null,null,null,null,null,null,null,null,null,null,null,null,null,null,null,null,null,"2026-02-16",{"$f":"WEEKDAY(S868)","v":2},{"$f":"MONTH(S868)","v":2},{"$f":"YEAR(S868)","v":2026},{"$f":"T868&U868","v":"22"},{"$f":"IF(V868&W868=V867&W867,X867+1,1)","v":3},{"$f":"V868&U868&T868&X868","v":"2026223"},{"$f":"S868","v":"2026-02-16"}]
[null,null,null,null,null,null,null,null,null,null,null,null,null,null,null,null,null,null,"2026-02-23",{"$f":"WEEKDAY(S869)","v":2},{"$f":"MONTH(S869)","v":2},{"$f":"YEAR(S869)","v":2026},{"$f":"T869&U869","v":"22"},{"$f":"IF(V869&W869=V868&W868,X868+1,1)","v":4},{"$f":"V869&U869&T869&X869","v":"2026224"},{"$f":"S869","v":"2026-02-23"}]
[null,null,null,null,null,null,null,null,null,null,null,null,null,null,null,null,null,null,"2026-02-03",{"$f":"WEEKDAY(S870)","v":3},{"$f":"MONTH(S870)","v":2},{"$f":"YEAR(S870)","v":2026},{"$f":"T870&U870","v":"32"},{"$f":"IF(V870&W870=V869&W869,X869+1,1)","v":1},{"$f":"V870&U870&T870&X870","v":"2026231"},{"$f":"S870","v":"2026-02-03"}]
[null,null,null,null,null,null,null,null,null,null,null,null,null,null,null,null,null,null,"2026-02-10",{"$f":"WEEKDAY(S871)","v":3},{"$f":"MONTH(S871)","v":2},{"$f":"YEAR(S871)","v":2026},{"$f":"T871&U871","v":"32"},{"$f":"IF(V871&W871=V870&W870,X870+1,1)","v":2},{"$f":"V871&U871&T871&X871","v":"2026232"},{"$f":"S871","v":"2026-02-10"}]
[null,null,null,null,null,null,null,null,null,null,null,null,null,null,null,null,null,null,"2026-02-17",{"$f":"WEEKDAY(S872)","v":3},{"$f":"MONTH(S872)","v":2},{"$f":"YEAR(S872)","v":2026},{"$f":"T872&U872","v":"32"},{"$f":"IF(V872&W872=V871&W871,X871+1,1)","v":3},{"$f":"V872&U872&T872&X872","v":"2026233"},{"$f":"S872","v":"2026-02-17"}]
[null,null,null,null,null,null,null,null,null,null,null,null,null,null,null,null,null,null,"2026-02-24",{"$f":"WEEKDAY(S873)","v":3},{"$f":"MONTH(S873)","v":2},{"$f":"YEAR(S873)","v":2026},{"$f":"T873&U873","v":"32"},{"$f":"IF(V873&W873=V872&W872,X872+1,1)","v":4},{"$f":"V873&U873&T873&X873","v":"2026234"},{"$f":"S873","v":"2026-02-24"}]
[null,null,null,null,null,null,null,null,null,null,null,null,null,null,null,null,null,null,"2026-02-04",{"$f":"WEEKDAY(S874)","v":4},{"$f":"MONTH(S874)","v":2},{"$f":"YEAR(S874)","v":2026},{"$f":"T874&U874","v":"42"},{"$f":"IF(V874&W874=V873&W873,X873+1,1)","v":1},{"$f":"V874&U874&T874&X874","v":"2026241"},{"$f":"S874","v":"2026-02-04"}]
[null,null,null,null,null,null,null,null,null,null,null,null,null,null,null,null,null,null,"2026-02-11",{"$f":"WEEKDAY(S875)","v":4},{"$f":"MONTH(S875)","v":2},{"$f":"YEAR(S875)","v":2026},{"$f":"T875&U875","v":"42"},{"$f":"IF(V875&W875=V874&W874,X874+1,1)","v":2},{"$f":"V875&U875&T875&X875","v":"2026242"},{"$f":"S875","v":"2026-02-11"}]
[null,null,null,null,null,null,null,null,null,null,null,null,null,null,null,null,null,null,"2026-02-18",{"$f":"WEEKDAY(S876)","v":4},{"$f":"MONTH(S876)","v":2},{"$f":"YEAR(S876)","v":2026},{"$f":"T876&U876","v":"42"},{"$f":"IF(V876&W876=V875&W875,X875+1,1)","v":3},{"$f":"V876&U876&T876&X876","v":"2026243"},{"$f":"S876","v":"2026-02-18"}]
[null,null,null,null,null,null,null,null,null,null,null,null,null,null,null,null,null,null,"2026-02-25",{"$f":"WEEKDAY(S877)","v":4},{"$f":"MONTH(S877)","v":2},{"$f":"YEAR(S877)","v":2026},{"$f":"T877&U877","v":"42"},{"$f":"IF(V877&W877=V876&W876,X876+1,1)","v":4},{"$f":"V877&U877&T877&X877","v":"2026244"},{"$f":"S877","v":"2026-02-25"}]
[null,null,null,null,null,null,null,null,null,null,null,null,null,null,null,null,null,null,"2026-02-05",{"$f":"WEEKDAY(S878)","v":5},{"$f":"MONTH(S878)","v":2},{"$f":"YEAR(S878)","v":2026},{"$f":"T878&U878","v":"52"},{"$f":"IF(V878&W878=V877&W877,X877+1,1)","v":1},{"$f":"V878&U878&T878&X878","v":"2026251"},{"$f":"S878","v":"2026-02-05"}]
[null,null,null,null,null,null,null,null,null,null,null,null,null,null,null,null,null,null,"2026-02-12",{"$f":"WEEKDAY(S879)","v":5},{"$f":"MONTH(S879)","v":2},{"$f":"YEAR(S879)","v":2026},{"$f":"T879&U879","v":"52"},{"$f":"IF(V879&W879=V878&W878,X878+1,1)","v":2},{"$f":"V879&U879&T879&X879","v":"2026252"},{"$f":"S879","v":"2026-02-12"}]
[null,null,null,null,null,null,null,null,null,null,null,null,null,null,null,null,null,null,"2026-02-19",{"$f":"WEEKDAY(S880)","v":5},{"$f":"MONTH(S880)","v":2},{"$f":"YEAR(S880)","v":2026},{"$f":"T880&U880","v":"52"},{"$f":"IF(V880&W880=V879&W879,X879+1,1)","v":3},{"$f":"V880&U880&T880&X880","v":"2026253"},{"$f":"S880","v":"2026-02-19"}]
[null,null,null,null,null,null,null,null,null,null,null,null,null,null,null,null,null,null,"2026-02-26",{"$f":"WEEKDAY(S881)","v":5},{"$f":"MONTH(S881)","v":2},{"$f":"YEAR(S881)","v":2026},{"$f":"T881&U881","v":"52"},{"$f":"IF(V881&W881=V880&W880,X880+1,1)","v":4},{"$f":"V881&U881&T881&X881","v":"2026254"},{"$f":"S881","v":"2026-02-26"}]
[null,null,null,null,null,null,null,null,null,null,null,null,null,null,null,null,null,null,"2026-02-06",{"$f":"WEEKDAY(S882)","v":6},{"$f":"MONTH(S882)","v":2},{"$f":"YEAR(S882)","v":2026},{"$f":"T882&U882","v":"62"},{"$f":"IF(V882&W882=V881&W881,X881+1,1)","v":1},{"$f":"V882&U882&T882&X882","v":"2026261"},{"$f":"S882","v":"2026-02-06"}]
[null,null,null,null,null,null,null,null,null,null,null,null,null,null,null,null,null,null,"2026-02-13",{"$f":"WEEKDAY(S883)","v":6},{"$f":"MONTH(S883)","v":2},{"$f":"YEAR(S883)","v":2026},{"$f":"T883&U883","v":"62"},{"$f":"IF(V883&W883=V882&W882,X882+1,1)","v":2},{"$f":"V883&U883&T883&X883","v":"2026262"},{"$f":"S883","v":"2026-02-13"}]
[null,null,null,null,null,null,null,null,null,null,null,null,null,null,null,null,null,null,"2026-02-20",{"$f":"WEEKDAY(S884)","v":6},{"$f":"MONTH(S884)","v":2},{"$f":"YEAR(S884)","v":2026},{"$f":"T884&U884","v":"62"},{"$f":"IF(V884&W884=V883&W883,X883+1,1)","v":3},{"$f":"V884&U884&T884&X884","v":"2026263"},{"$f":"S884","v":"2026-02-20"}]
[null,null,null,null,null,null,null,null,null,null,null,null,null,null,null,null,null,null,"2026-02-27",{"$f":"WEEKDAY(S885)","v":6},{"$f":"MONTH(S885)","v":2},{"$f":"YEAR(S885)","v":2026},{"$f":"T885&U885","v":"62"},{"$f":"IF(V885&W885=V884&W884,X884+1,1)","v":4},{"$f":"V885&U885&T885&X885","v":"2026264"},{"$f":"S885","v":"2026-02-27"}]
[null,null,null,null,null,null,null,null,null,null,null,null,null,null,null,null,null,null,"2026-02-07",{"$f":"WEEKDAY(S886)","v":7},{"$f":"MONTH(S886)","v":2},{"$f":"YEAR(S886)","v":2026},{"$f":"T886&U886","v":"72"},{"$f":"IF(V886&W886=V885&W885,X885+1,1)","v":1},{"$f":"V886&U886&T886&X886","v":"2026271"},{"$f":"S886","v":"2026-02-07"}]
[null,null,null,null,null,null,null,null,null,null,null,null,null,null,null,null,null,null,"2026-02-14",{"$f":"WEEKDAY(S887)","v":7},{"$f":"MONTH(S887)","v":2},{"$f":"YEAR(S887)","v":2026},{"$f":"T887&U887","v":"72"},{"$f":"IF(V887&W887=V886&W886,X886+1,1)","v":2},{"$f":"V887&U887&T887&X887","v":"2026272"},{"$f":"S887","v":"2026-02-14"}]
[null,null,null,null,null,null,null,null,null,null,null,null,null,null,null,null,null,null,"2026-02-21",{"$f":"WEEKDAY(S888)","v":7},{"$f":"MONTH(S888)","v":2},{"$f":"YEAR(S888)","v":2026},{"$f":"T888&U888","v":"72"},{"$f":"IF(V888&W888=V887&W887,X887+1,1)","v":3},{"$f":"V888&U888&T888&X888","v":"2026273"},{"$f":"S888","v":"2026-02-21"}]
[null,null,null,null,null,null,null,null,null,null,null,null,null,null,null,null,null,null,"2026-02-28",{"$f":"WEEKDAY(S889)","v":7},{"$f":"MONTH(S889)","v":2},{"$f":"YEAR(S889)","v":2026},{"$f":"T889&U889","v":"72"},{"$f":"IF(V889&W889=V888&W888,X888+1,1)","v":4},{"$f":"V889&U889&T889&X889","v":"2026274"},{"$f":"S889","v":"2026-02-28"}]
[null,null,null,null,null,null,null,null,null,null,null,null,null,null,null,null,null,null,"2026-03-01",{"$f":"WEEKDAY(S890)","v":1},{"$f":"MONTH(S890)","v":3},{"$f":"YEAR(S890)","v":2026},{"$f":"T890&U890","v":"13"},{"$f":"IF(V890&W890=V889&W889,X889+1,1)","v":1},{"$f":"V890&U890&T890&X890","v":"2026311"},{"$f":"S890","v":"2026-03-01"}]
[null,null,null,null,null,null,null,null,null,null,null,null,null,null,null,null,null,null,"2026-03-08",{"$f":"WEEKDAY(S891)","v":1},{"$f":"MONTH(S891)","v":3},{"$f":"YEAR(S891)","v":2026},{"$f":"T891&U891","v":"13"},{"$f":"IF(V891&W891=V890&W890,X890+1,1)","v":2},{"$f":"V891&U891&T891&X891","v":"2026312"},{"$f":"S891","v":"2026-03-08"}]
[null,null,null,null,null,null,null,null,null,null,null,null,null,null,null,null,null,null,"2026-03-15",{"$f":"WEEKDAY(S892)","v":1},{"$f":"MONTH(S892)","v":3},{"$f":"YEAR(S892)","v":2026},{"$f":"T892&U892","v":"13"},{"$f":"IF(V892&W892=V891&W891,X891+1,1)","v":3},{"$f":"V892&U892&T892&X892","v":"2026313"},{"$f":"S892","v":"2026-03-15"}]
[null,null,null,null,null,null,null,null,null,null,null,null,null,null,null,null,null,null,"2026-03-22",{"$f":"WEEKDAY(S893)","v":1},{"$f":"MONTH(S893)","v":3},{"$f":"YEAR(S893)","v":2026},{"$f":"T893&U893","v":"13"},{"$f":"IF(V893&W893=V892&W892,X892+1,1)","v":4},{"$f":"V893&U893&T893&X893","v":"2026314"},{"$f":"S893","v":"2026-03-22"}]
[null,null,null,null,null,null,null,null,null,null,null,null,null,null,null,null,null,null,"2026-03-29",{"$f":"WEEKDAY(S894)","v":1},{"$f":"MONTH(S894)","v":3},{"$f":"YEAR(S894)","v":2026},{"$f":"T894&U894","v":"13"},{"$f":"IF(V894&W894=V893&W893,X893+1,1)","v":5},{"$f":"V894&U894&T894&X894","v":"2026315"},{"$f":"S894","v":"2026-03-29"}]
[null,null,null,null,null,null,null,null,null,null,null,null,null,null,null,null,null,null,"2026-03-02",{"$f":"WEEKDAY(S895)","v":2},{"$f":"MONTH(S895)","v":3},{"$f":"YEAR(S895)","v":2026},{"$f":"T895&U895","v":"23"},{"$f":"IF(V895&W895=V894&W894,X894+1,1)","v":1},{"$f":"V895&U895&T895&X895","v":"2026321"},{"$f":"S895","v":"2026-03-02"}]
[null,null,null,null,null,null,null,null,null,null,null,null,null,null,null,null,null,null,"2026-03-09",{"$f":"WEEKDAY(S896)","v":2},{"$f":"MONTH(S896)","v":3},{"$f":"YEAR(S896)","v":2026},{"$f":"T896&U896","v":"23"},{"$f":"IF(V896&W896=V895&W895,X895+1,1)","v":2},{"$f":"V896&U896&T896&X896","v":"2026322"},{"$f":"S896","v":"2026-03-09"}]
[null,null,null,null,null,null,null,null,null,null,null,null,null,null,null,null,null,null,"2026-03-16",{"$f":"WEEKDAY(S897)","v":2},{"$f":"MONTH(S897)","v":3},{"$f":"YEAR(S897)","v":2026},{"$f":"T897&U897","v":"23"},{"$f":"IF(V897&W897=V896&W896,X896+1,1)","v":3},{"$f":"V897&U897&T897&X897","v":"2026323"},{"$f":"S897","v":"2026-03-16"}]
[null,null,null,null,null,null,null,null,null,null,null,null,null,null,null,null,null,null,"2026-03-23",{"$f":"WEEKDAY(S898)","v":2},{"$f":"MONTH(S898)","v":3},{"$f":"YEAR(S898)","v":2026},{"$f":"T898&U898","v":"23"},{"$f":"IF(V898&W898=V897&W897,X897+1,1)","v":4},{"$f":"V898&U898&T898&X898","v":"2026324"},{"$f":"S898","v":"2026-03-23"}]
[null,null,null,null,null,null,null,null,null,null,null,null,null,null,null,null,null,null,"2026-03-30",{"$f":"WEEKDAY(S899)","v":2},{"$f":"MONTH(S899)","v":3},{"$f":"YEAR(S899)","v":2026},{"$f":"T899&U899","v":"23"},{"$f":"IF(V899&W899=V898&W898,X898+1,1)","v":5},{"$f":"V899&U899&T899&X899","v":"2026325"},{"$f":"S899","v":"2026-03-30"}]
[null,null,null,null,null,null,null,null,null,null,null,null,null,null,null,null,null,null,"2026-03-03",{"$f":"WEEKDAY(S900)","v":3},{"$f":"MONTH(S900)","v":3},{"$f":"YEAR(S900)","v":2026},{"$f":"T900&U900","v":"33"},{"$f":"IF(V900&W900=V899&W899,X899+1,1)","v":1},{"$f":"V900&U900&T900&X900","v":"2026331"},{"$f":"S900","v":"2026-03-03"}]
[null,null,null,null,null,null,null,null,null,null,null,null,null,null,null,null,null,null,"2026-03-10",{"$f":"WEEKDAY(S901)","v":3},{"$f":"MONTH(S901)","v":3},{"$f":"YEAR(S901)","v":2026},{"$f":"T901&U901","v":"33"},{"$f":"IF(V901&W901=V900&W900,X900+1,1)","v":2},{"$f":"V901&U901&T901&X901","v":"2026332"},{"$f":"S901","v":"2026-03-10"}]
[null,null,null,null,null,null,null,null,null,null,null,null,null,null,null,null,null,null,"2026-03-17",{"$f":"WEEKDAY(S902)","v":3},{"$f":"MONTH(S902)","v":3},{"$f":"YEAR(S902)","v":2026},{"$f":"T902&U902","v":"33"},{"$f":"IF(V902&W902=V901&W901,X901+1,1)","v":3},{"$f":"V902&U902&T902&X902","v":"2026333"},{"$f":"S902","v":"2026-03-17"}]
[null,null,null,null,null,null,null,null,null,null,null,null,null,null,null,null,null,null,"2026-03-24",{"$f":"WEEKDAY(S903)","v":3},{"$f":"MONTH(S903)","v":3},{"$f":"YEAR(S903)","v":2026},{"$f":"T903&U903","v":"33"},{"$f":"IF(V903&W903=V902&W902,X902+1,1)","v":4},{"$f":"V903&U903&T903&X903","v":"2026334"},{"$f":"S903","v":"2026-03-24"}]
[null,null,null,null,null,null,null,null,null,null,null,null,null,null,null,null,null,null,"2026-03-31",{"$f":"WEEKDAY(S904)","v":3},{"$f":"MONTH(S904)","v":3},{"$f":"YEAR(S904)","v":2026},{"$f":"T904&U904","v":"33"},{"$f":"IF(V904&W904=V903&W903,X903+1,1)","v":5},{"$f":"V904&U904&T904&X904","v":"2026335"},{"$f":"S904","v":"2026-03-31"}]
[null,null,null,null,null,null,null,null,null,null,null,null,null,null,null,null,null,null,"2026-03-04",{"$f":"WEEKDAY(S905)","v":4},{"$f":"MONTH(S905)","v":3},{"$f":"YEAR(S905)","v":2026},{"$f":"T905&U905","v":"43"},{"$f":"IF(V905&W905=V904&W904,X904+1,1)","v":1},{"$f":"V905&U905&T905&X905","v":"2026341"},{"$f":"S905","v":"2026-03-04"}]
[null,null,null,null,null,null,null,null,null,null,null,null,null,null,null,null,null,null,"2026-03-11",{"$f":"WEEKDAY(S906)","v":4},{"$f":"MONTH(S906)","v":3},{"$f":"YEAR(S906)","v":2026},{"$f":"T906&U906","v":"43"},{"$f":"IF(V906&W906=V905&W905,X905+1,1)","v":2},{"$f":"V906&U906&T906&X906","v":"2026342"},{"$f":"S906","v":"2026-03-11"}]
[null,null,null,null,null,null,null,null,null,null,null,null,null,null,null,null,null,null,"2026-03-18",{"$f":"WEEKDAY(S907)","v":4},{"$f":"MONTH(S907)","v":3},{"$f":"YEAR(S907)","v":2026},{"$f":"T907&U907","v":"43"},{"$f":"IF(V907&W907=V906&W906,X906+1,1)","v":3},{"$f":"V907&U907&T907&X907","v":"2026343"},{"$f":"S907","v":"2026-03-18"}]
[null,null,null,null,null,null,null,null,null,null,null,null,null,null,null,null,null,null,"2026-03-25",{"$f":"WEEKDAY(S908)","v":4},{"$f":"MONTH(S908)","v":3},{"$f":"YEAR(S908)","v":2026},{"$f":"T908&U908","v":"43"},{"$f":"IF(V908&W908=V907&W907,X907+1,1)","v":4},{"$f":"V908&U908&T908&X908","v":"2026344"},{"$f":"S908","v":"2026-03-25"}]
[null,null,null,null,null,null,null,null,null,null,null,null,null,null,null,null,null,null,"2026-03-05",{"$f":"WEEKDAY(S909)","v":5},{"$f":"MONTH(S909)","v":3},{"$f":"YEAR(S909)","v":2026},{"$f":"T909&U909","v":"53"},{"$f":"IF(V909&W909=V908&W908,X908+1,1)","v":1},{"$f":"V909&U909&T909&X909","v":"2026351"},{"$f":"S909","v":"2026-03-05"}]
[null,null,null,null,null,null,null,null,null,null,null,null,null,null,null,null,null,null,"2026-03-12",{"$f":"WEEKDAY(S910)","v":5},{"$f":"MONTH(S910)","v":3},{"$f":"YEAR(S910)","v":2026},{"$f":"T910&U910","v":"53"},{"$f":"IF(V910&W910=V909&W909,X909+1,1)","v":2},{"$f":"V910&U910&T910&X910","v":"2026352"},{"$f":"S910","v":"2026-03-12"}]
[null,null,null,null,null,null,null,null,null,null,null,null,null,null,null,null,null,null,"2026-03-19",{"$f":"WEEKDAY(S911)","v":5},{"$f":"MONTH(S911)","v":3},{"$f":"YEAR(S911)","v":2026},{"$f":"T911&U911","v":"53"},{"$f":"IF(V911&W911=V910&W910,X910+1,1)","v":3},{"$f":"V911&U911&T911&X911","v":"2026353"},{"$f":"S911","v":"2026-03-19"}]
[null,null,null,null,null,null,null,null,null,null,null,null,null,null,null,null,null,null,"2026-03-26",{"$f":"WEEKDAY(S912)","v":5},{"$f":"MONTH(S912)","v":3},{"$f":"YEAR(S912)","v":2026},{"$f":"T912&U912","v":"53"},{"$f":"IF(V912&W912=V911&W911,X911+1,1)","v":4},{"$f":"V912&U912&T912&X912","v":"2026354"},{"$f":"S912","v":"2026-03-26"}]
[null,null,null,null,null,null,null,null,null,null,null,null,null,null,null,null,null,null,"2026-03-06",{"$f":"WEEKDAY(S913)","v":6},{"$f":"MONTH(S913)","v":3},{"$f":"YEAR(S913)","v":2026},{"$f":"T913&U913","v":"63"},{"$f":"IF(V913&W913=V912&W912,X912+1,1)","v":1},{"$f":"V913&U913&T913&X913","v":"2026361"},{"$f":"S913","v":"2026-03-06"}]
[null,null,null,null,null,null,null,null,null,null,null,null,null,null,null,null,null,null,"2026-03-13",{"$f":"WEEKDAY(S914)","v":6},{"$f":"MONTH(S914)","v":3},{"$f":"YEAR(S914)","v":2026},{"$f":"T914&U914","v":"63"},{"$f":"IF(V914&W914=V913&W913,X913+1,1)","v":2},{"$f":"V914&U914&T914&X914","v":"2026362"},{"$f":"S914","v":"2026-03-13"}]
[null,null,null,null,null,null,null,null,null,null,null,null,null,null,null,null,null,null,"2026-03-20",{"$f":"WEEKDAY(S915)","v":6},{"$f":"MONTH(S915)","v":3},{"$f":"YEAR(S915)","v":2026},{"$f":"T915&U915","v":"63"},{"$f":"IF(V915&W915=V914&W914,X914+1,1)","v":3},{"$f":"V915&U915&T915&X915","v":"2026363"},{"$f":"S915","v":"2026-03-20"}]
[null,null,null,null,null,null,null,null,null,null,null,null,null,null,null,null,null,null,"2026-03-27",{"$f":"WEEKDAY(S916)","v":6},{"$f":"MONTH(S916)","v":3},{"$f":"YEAR(S916)","v":2026},{"$f":"T916&U916","v":"63"},{"$f":"IF(V916&W916=V915&W915,X915+1,1)","v":4},{"$f":"V916&U916&T916&X916","v":"2026364"},{"$f":"S916","v":"2026-03-27"}]
[null,null,null,null,null,null,null,null,null,null,null,null,null,null,null,null,null,null,"2026-03-07",{"$f":"WEEKDAY(S917)","v":7},{"$f":"MONTH(S917)","v":3},{"$f":"YEAR(S917)","v":2026},{"$f":"T917&U917","v":"73"},{"$f":"IF(V917&W917=V916&W916,X916+1,1)","v":1},{"$f":"V917&U917&T917&X917","v":"2026371"},{"$f":"S917","v":"2026-03-07"}]
[null,null,null,null,null,null,null,null,null,null,null,null,null,null,null,null,null,null,"2026-03-14",{"$f":"WEEKDAY(S918)","v":7},{"$f":"MONTH(S918)","v":3},{"$f":"YEAR(S918)","v":2026},{"$f":"T918&U918","v":"73"},{"$f":"IF(V918&W918=V917&W917,X917+1,1)","v":2},{"$f":"V918&U918&T918&X918","v":"2026372"},{"$f":"S918","v":"2026-03-14"}]
[null,null,null,null,null,null,null,null,null,null,null,null,null,null,null,null,null,null,"2026-03-21",{"$f":"WEEKDAY(S919)","v":7},{"$f":"MONTH(S919)","v":3},{"$f":"YEAR(S919)","v":2026},{"$f":"T919&U919","v":"73"},{"$f":"IF(V919&W919=V918&W918,X918+1,1)","v":3},{"$f":"V919&U919&T919&X919","v":"2026373"},{"$f":"S919","v":"2026-03-21"}]
[null,null,null,null,null,null,null,null,null,null,null,null,null,null,null,null,null,null,"2026-03-28",{"$f":"WEEKDAY(S920)","v":7},{"$f":"MONTH(S920)","v":3},{"$f":"YEAR(S920)","v":2026},{"$f":"T920&U920","v":"73"},{"$f":"IF(V920&W920=V919&W919,X919+1,1)","v":4},{"$f":"V920&U920&T920&X920","v":"2026374"},{"$f":"S920","v":"2026-03-28"}]
[null,null,null,null,null,null,null,null,null,null,null,null,null,null,null,null,null,null,"2026-04-05",{"$f":"WEEKDAY(S921)","v":1},{"$f":"MONTH(S921)","v":4},{"$f":"YEAR(S921)","v":2026},{"$f":"T921&U921","v":"14"},{"$f":"IF(V921&W921=V920&W920,X920+1,1)","v":1},{"$f":"V921&U921&T921&X921","v":"2026411"},{"$f":"S921","v":"2026-04-05"}]
[null,null,null,null,null,null,null,null,null,null,null,null,null,null,null,null,null,null,"2026-04-12",{"$f":"WEEKDAY(S922)","v":1},{"$f":"MONTH(S922)","v":4},{"$f":"YEAR(S922)","v":2026},{"$f":"T922&U922","v":"14"},{"$f":"IF(V922&W922=V921&W921,X921+1,1)","v":2},{"$f":"V922&U922&T922&X922","v":"2026412"},{"$f":"S922","v":"2026-04-12"}]
[null,null,null,null,null,null,null,null,null,null,null,null,null,null,null,null,null,null,"2026-04-19",{"$f":"WEEKDAY(S923)","v":1},{"$f":"MONTH(S923)","v":4},{"$f":"YEAR(S923)","v":2026},{"$f":"T923&U923","v":"14"},{"$f":"IF(V923&W923=V922&W922,X922+1,1)","v":3},{"$f":"V923&U923&T923&X923","v":"2026413"},{"$f":"S923","v":"2026-04-19"}]
[null,null,null,null,null,null,null,null,null,null,null,null,null,null,null,null,null,null,"2026-04-26",{"$f":"WEEKDAY(S924)","v":1},{"$f":"MONTH(S924)","v":4},{"$f":"YEAR(S924)","v":2026},{"$f":"T924&U924","v":"14"},{"$f":"IF(V924&W924=V923&W923,X923+1,1)","v":4},{"$f":"V924&U924&T924&X924","v":"2026414"},{"$f":"S924","v":"2026-04-26"}]
[null,null,null,null,null,null,null,null,null,null,null,null,null,null,null,null,null,null,"2026-04-06",{"$f":"WEEKDAY(S925)","v":2},{"$f":"MONTH(S925)","v":4},{"$f":"YEAR(S925)","v":2026},{"$f":"T925&U925","v":"24"},{"$f":"IF(V925&W925=V924&W924,X924+1,1)","v":1},{"$f":"V925&U925&T925&X925","v":"2026421"},{"$f":"S925","v":"2026-04-06"}]
[null,null,null,null,null,null,null,null,null,null,null,null,null,null,null,null,null,null,"2026-04-13",{"$f":"WEEKDAY(S926)","v":2},{"$f":"MONTH(S926)","v":4},{"$f":"YEAR(S926)","v":2026},{"$f":"T926&U926","v":"24"},{"$f":"IF(V926&W926=V925&W925,X925+1,1)","v":2},{"$f":"V926&U926&T926&X926","v":"2026422"},{"$f":"S926","v":"2026-04-13"}]
[null,null,null,null,null,null,null,null,null,null,null,null,null,null,null,null,null,null,"2026-04-20",{"$f":"WEEKDAY(S927)","v":2},{"$f":"MONTH(S927)","v":4},{"$f":"YEAR(S927)","v":2026},{"$f":"T927&U927","v":"24"},{"$f":"IF(V927&W927=V926&W926,X926+1,1)","v":3},{"$f":"V927&U927&T927&X927","v":"2026423"},{"$f":"S927","v":"2026-04-20"}]
[null,null,null,null,null,null,null,null,null,null,null,null,null,null,null,null,null,null,"2026-04-27",{"$f":"WEEKDAY(S928)","v":2},{"$f":"MONTH(S928)","v":4},{"$f":"YEAR(S928)","v":2026},{"$f":"T928&U928","v":"24"},{"$f":"IF(V928&W928=V927&W927,X927+1,1)","v":4},{"$f":"V928&U928&T928&X928","v":"2026424"},{"$f":"S928","v":"2026-04-27"}]
[null,null,null,null,null,null,null,null,null,null,null,null,null,null,null,null,null,null,"2026-04-07",{"$f":"WEEKDAY(S929)","v":3},{"$f":"MONTH(S929)","v":4},{"$f":"YEAR(S929)","v":2026},{"$f":"T929&U929","v":"34"},{"$f":"IF(V929&W929=V928&W928,X928+1,1)","v":1},{"$f":"V929&U929&T929&X929","v":"2026431"},{"$f":"S929","v":"2026-04-07"}]
[null,null,null,null,null,null,null,null,null,null,null,null,null,null,null,null,null,null,"2026-04-14",{"$f":"WEEKDAY(S930)","v":3},{"$f":"MONTH(S930)","v":4},{"$f":"YEAR(S930)","v":2026},{"$f":"T930&U930","v":"34"},{"$f":"IF(V930&W930=V929&W929,X929+1,1)","v":2},{"$f":"V930&U930&T930&X930","v":"2026432"},{"$f":"S930","v":"2026-04-14"}]
[null,null,null,null,null,null,null,null,null,null,null,null,null,null,null,null,null,null,"2026-04-21",{"$f":"WEEKDAY(S931)","v":3},{"$f":"MONTH(S931)","v":4},{"$f":"YEAR(S931)","v":2026},{"$f":"T931&U931","v":"34"},{"$f":"IF(V931&W931=V930&W930,X930+1,1)","v":3},{"$f":"V931&U931&T931&X931","v":"2026433"},{"$f":"S931","v":"2026-04-21"}]
[null,null,null,null,null,null,null,null,null,null,null,null,null,null,null,null,null,null,"2026-04-28",{"$f":"WEEKDAY(S932)","v":3},{"$f":"MONTH(S932)","v":4},{"$f":"YEAR(S932)","v":2026},{"$f":"T932&U932","v":"34"},{"$f":"IF(V932&W932=V931&W931,X931+1,1)","v":4},{"$f":"V932&U932&T932&X932","v":"2026434"},{"$f":"S932","v":"2026-04-28"}]
[null,null,null,null,null,null,null,null,null,null,null,null,null,null,null,null,null,null,"2026-04-01",{"$f":"WEEKDAY(S933)","v":4},{"$f":"MONTH(S933)","v":4},{"$f":"YEAR(S933)","v":2026},{"$f":"T933&U933","v":"44"},{"$f":"IF(V933&W933=V932&W932,X932+1,1)","v":1},{"$f":"V933&U933&T933&X933","v":"2026441"},{"$f":"S933","v":"2026-04-01"}]
[null,null,null,null,null,null,null,null,null,null,null,null,null,null,null,null,null,null,"2026-04-08",{"$f":"WEEKDAY(S934)","v":4},{"$f":"MONTH(S934)","v":4},{"$f":"YEAR(S934)","v":2026},{"$f":"T934&U934","v":"44"},{"$f":"IF(V934&W934=V933&W933,X933+1,1)","v":2},{"$f":"V934&U934&T934&X934","v":"2026442"},{"$f":"S934","v":"2026-04-08"}]
[null,null,null,null,null,null,null,null,null,null,null,null,null,null,null,null,null,null,"2026-04-15",{"$f":"WEEKDAY(S935)","v":4},{"$f":"MONTH(S935)","v":4},{"$f":"YEAR(S935)","v":2026},{"$f":"T935&U935","v":"44"},{"$f":"IF(V935&W935=V934&W934,X934+1,1)","v":3},{"$f":"V935&U935&T935&X935","v":"2026443"},{"$f":"S935","v":"2026-04-15"}]
[null,null,null,null,null,null,null,null,null,null,null,null,null,null,null,null,null,null,"2026-04-22",{"$f":"WEEKDAY(S936)","v":4},{"$f":"MONTH(S936)","v":4},{"$f":"YEAR(S936)","v":2026},{"$f":"T936&U936","v":"44"},{"$f":"IF(V936&W936=V935&W935,X935+1,1)","v":4},{"$f":"V936&U936&T936&X936","v":"2026444"},{"$f":"S936","v":"2026-04-22"}]
[null,null,null,null,null,null,null,null,null,null,null,null,null,null,null,null,null,null,"2026-04-29",{"$f":"WEEKDAY(S937)","v":4},{"$f":"MONTH(S937)","v":4},{"$f":"YEAR(S937)","v":2026},{"$f":"T937&U937","v":"44"},{"$f":"IF(V937&W937=V936&W936,X936+1,1)","v":5},{"$f":"V937&U937&T937&X937","v":"2026445"},{"$f":"S937","v":"2026-04-29"}]
[null,null,null,null,null,null,null,null,null,null,null,null,null,null,null,null,null,null,"2026-04-02",{"$f":"WEEKDAY(S938)","v":5},{"$f":"MONTH(S938)","v":4},{"$f":"YEAR(S938)","v":2026},{"$f":"T938&U938","v":"54"},{"$f":"IF(V938&W938=V937&W937,X937+1,1)","v":1},{"$f":"V938&U938&T938&X938","v":"2026451"},{"$f":"S938","v":"2026-04-02"}]
[null,null,null,null,null,null,null,null,null,null,null,null,null,null,null,null,null,null,"2026-04-09",{"$f":"WEEKDAY(S939)","v":5},{"$f":"MONTH(S939)","v":4},{"$f":"YEAR(S939)","v":2026},{"$f":"T939&U939","v":"54"},{"$f":"IF(V939&W939=V938&W938,X938+1,1)","v":2},{"$f":"V939&U939&T939&X939","v":"2026452"},{"$f":"S939","v":"2026-04-09"}]
[null,null,null,null,null,null,null,null,null,null,null,null,null,null,null,null,null,null,"2026-04-16",{"$f":"WEEKDAY(S940)","v":5},{"$f":"MONTH(S940)","v":4},{"$f":"YEAR(S940)","v":2026},{"$f":"T940&U940","v":"54"},{"$f":"IF(V940&W940=V939&W939,X939+1,1)","v":3},{"$f":"V940&U940&T940&X940","v":"2026453"},{"$f":"S940","v":"2026-04-16"}]
[null,null,null,null,null,null,null,null,null,null,null,null,null,null,null,null,null,null,"2026-04-23",{"$f":"WEEKDAY(S941)","v":5},{"$f":"MONTH(S941)","v":4},{"$f":"YEAR(S941)","v":2026},{"$f":"T941&U941","v":"54"},{"$f":"IF(V941&W941=V940&W940,X940+1,1)","v":4},{"$f":"V941&U941&T941&X941","v":"2026454"},{"$f":"S941","v":"2026-04-23"}]
[null,null,null,null,null,null,null,null,null,null,null,null,null,null,null,null,null,null,"2026-04-30",{"$f":"WEEKDAY(S942)","v":5},{"$f":"MONTH(S942)","v":4},{"$f":"YEAR(S942)","v":2026},{"$f":"T942&U942","v":"54"},{"$f":"IF(V942&W942=V941&W941,X941+1,1)","v":5},{"$f":"V942&U942&T942&X942","v":"2026455"},{"$f":"S942","v":"2026-04-30"}]
[null,null,null,null,null,null,null,null,null,null,null,null,null,null,null,null,null,null,"2026-04-03",{"$f":"WEEKDAY(S943)","v":6},{"$f":"MONTH(S943)","v":4},{"$f":"YEAR(S943)","v":2026},{"$f":"T943&U943","v":"64"},{"$f":"IF(V943&W943=V942&W942,X942+1,1)","v":1},{"$f":"V943&U943&T943&X943","v":"2026461"},{"$f":"S943","v":"2026-04-03"}]
[null,null,null,null,null,null,null,null,null,null,null,null,null,null,null,null,null,null,"2026-04-10",{"$f":"WEEKDAY(S944)","v":6},{"$f":"MONTH(S944)","v":4},{"$f":"YEAR(S944)","v":2026},{"$f":"T944&U944","v":"64"},{"$f":"IF(V944&W944=V943&W943,X943+1,1)","v":2},{"$f":"V944&U944&T944&X944","v":"2026462"},{"$f":"S944","v":"2026-04-10"}]
[null,null,null,null,null,null,null,null,null,null,null,null,null,null,null,null,null,null,"2026-04-17",{"$f":"WEEKDAY(S945)","v":6},{"$f":"MONTH(S945)","v":4},{"$f":"YEAR(S945)","v":2026},{"$f":"T945&U945","v":"64"},{"$f":"IF(V945&W945=V944&W944,X944+1,1)","v":3},{"$f":"V945&U945&T945&X945","v":"2026463"},{"$f":"S945","v":"2026-04-17"}]
[null,null,null,null,null,null,null,null,null,null,null,null,null,null,null,null,null,null,"2026-04-24",{"$f":"WEEKDAY(S946)","v":6},{"$f":"MONTH(S946)","v":4},{"$f":"YEAR(S946)","v":2026},{"$f":"T946&U946","v":"64"},{"$f":"IF(V946&W946=V945&W945,X945+1,1)","v":4},{"$f":"V946&U946&T946&X946","v":"2026464"},{"$f":"S946","v":"2026-04-24"}]
[null,null,null,null,null,null,null,null,null,null,null,null,null,null,null,null,null,null,"2026-04-04",{"$f":"WEEKDAY(S947)","v":7},{"$f":"MONTH(S947)","v":4},{"$f":"YEAR(S947)","v":2026},{"$f":"T947&U947","v":"74"},{"$f":"IF(V947&W947=V946&W946,X946+1,1)","v":1},{"$f":"V947&U947&T947&X947","v":"2026471"},{"$f":"S947","v":"2026-04-04"}]
[null,null,null,null,null,null,null,null,null,null,null,null,null,null,null,null,null,null,"2026-04-11",{"$f":"WEEKDAY(S948)","v":7},{"$f":"MONTH(S948)","v":4},{"$f":"YEAR(S948)","v":2026},{"$f":"T948&U948","v":"74"},{"$f":"IF(V948&W948=V947&W947,X947+1,1)","v":2},{"$f":"V948&U948&T948&X948","v":"2026472"},{"$f":"S948","v":"2026-04-11"}]
[null,null,null,null,null,null,null,null,null,null,null,null,null,null,null,null,null,null,"2026-04-18",{"$f":"WEEKDAY(S949)","v":7},{"$f":"MONTH(S949)","v":4},{"$f":"YEAR(S949)","v":2026},{"$f":"T949&U949","v":"74"},{"$f":"IF(V949&W949=V948&W948,X948+1,1)","v":3},{"$f":"V949&U949&T949&X949","v":"2026473"},{"$f":"S949","v":"2026-04-18"}]
[null,null,null,null,null,null,null,null,null,null,null,null,null,null,null,null,null,null,"2026-04-25",{"$f":"WEEKDAY(S950)","v":7},{"$f":"MONTH(S950)","v":4},{"$f":"YEAR(S950)","v":2026},{"$f":"T950&U950","v":"74"},{"$f":"IF(V950&W950=V949&W949,X949+1,1)","v":4},{"$f":"V950&U950&T950&X950","v":"2026474"},{"$f":"S950","v":"2026-04-25"}]
[null,null,null,null,null,null,null,null,null,null,null,null,null,null,null,null,null,null,"2026-05-03",{"$f":"WEEKDAY(S951)","v":1},{"$f":"MONTH(S951)","v":5},{"$f":"YEAR(S951)","v":2026},{"$f":"T951&U951","v":"15"},{"$f":"IF(V951&W951=V950&W950,X950+1,1)","v":1},{"$f":"V951&U951&T951&X951","v":"2026511"},{"$f":"S951","v":"2026-05-03"}]
[null,null,null,null,null,null,null,null,null,null,null,null,null,null,null,null,null,null,"2026-05-10",{"$f":"WEEKDAY(S952)","v":1},{"$f":"MONTH(S952)","v":5},{"$f":"YEAR(S952)","v":2026},{"$f":"T952&U952","v":"15"},{"$f":"IF(V952&W952=V951&W951,X951+1,1)","v":2},{"$f":"V952&U952&T952&X952","v":"2026512"},{"$f":"S952","v":"2026-05-10"}]
[null,null,null,null,null,null,null,null,null,null,null,null,null,null,null,null,null,null,"2026-05-17",{"$f":"WEEKDAY(S953)","v":1},{"$f":"MONTH(S953)","v":5},{"$f":"YEAR(S953)","v":2026},{"$f":"T953&U953","v":"15"},{"$f":"IF(V953&W953=V952&W952,X952+1,1)","v":3},{"$f":"V953&U953&T953&X953","v":"2026513"},{"$f":"S953","v":"2026-05-17"}]
[null,null,null,null,null,null,null,null,null,null,null,null,null,null,null,null,null,null,"2026-05-24",{"$f":"WEEKDAY(S954)","v":1},{"$f":"MONTH(S954)","v":5},{"$f":"YEAR(S954)","v":2026},{"$f":"T954&U954","v":"15"},{"$f":"IF(V954&W954=V953&W953,X953+1,1)","v":4},{"$f":"V954&U954&T954&X954","v":"2026514"},{"$f":"S954","v":"2026-05-24"}]
[null,null,null,null,null,null,null,null,null,null,null,null,null,null,null,null,null,null,"2026-05-31",{"$f":"WEEKDAY(S955)","v":1},{"$f":"MONTH(S955)","v":5},{"$f":"YEAR(S955)","v":2026},{"$f":"T955&U955","v":"15"},{"$f":"IF(V955&W955=V954&W954,X954+1,1)","v":5},{"$f":"V955&U955&T955&X955","v":"2026515"},{"$f":"S955","v":"2026-05-31"}]
[null,null,null,null,null,null,null,null,null,null,null,null,null,null,null,null,null,null,"2026-05-04",{"$f":"WEEKDAY(S956)","v":2},{"$f":"MONTH(S956)","v":5},{"$f":"YEAR(S956)","v":2026},{"$f":"T956&U956","v":"25"},{"$f":"IF(V956&W956=V955&W955,X955+1,1)","v":1},{"$f":"V956&U956&T956&X956","v":"2026521"},{"$f":"S956","v":"2026-05-04"}]
[null,null,null,null,null,null,null,null,null,null,null,null,null,null,null,null,null,null,"2026-05-11",{"$f":"WEEKDAY(S957)","v":2},{"$f":"MONTH(S957)","v":5},{"$f":"YEAR(S957)","v":2026},{"$f":"T957&U957","v":"25"},{"$f":"IF(V957&W957=V956&W956,X956+1,1)","v":2},{"$f":"V957&U957&T957&X957","v":"2026522"},{"$f":"S957","v":"2026-05-11"}]
[null,null,null,null,null,null,null,null,null,null,null,null,null,null,null,null,null,null,"2026-05-18",{"$f":"WEEKDAY(S958)","v":2},{"$f":"MONTH(S958)","v":5},{"$f":"YEAR(S958)","v":2026},{"$f":"T958&U958","v":"25"},{"$f":"IF(V958&W958=V957&W957,X957+1,1)","v":3},{"$f":"V958&U958&T958&X958","v":"2026523"},{"$f":"S958","v":"2026-05-18"}]
[null,null,null,null,null,null,null,null,null,null,null,null,null,null,null,null,null,null,"2026-05-25",{"$f":"WEEKDAY(S959)","v":2},{"$f":"MONTH(S959)","v":5},{"$f":"YEAR(S959)","v":2026},{"$f":"T959&U959","v":"25"},{"$f":"IF(V959&W959=V958&W958,X958+1,1)","v":4},{"$f":"V959&U959&T959&X959","v":"2026524"},{"$f":"S959","v":"2026-05-25"}]
[null,null,null,null,null,null,null,null,null,null,null,null,null,null,null,null,null,null,"2026-05-05",{"$f":"WEEKDAY(S960)","v":3},{"$f":"MONTH(S960)","v":5},{"$f":"YEAR(S960)","v":2026},{"$f":"T960&U960","v":"35"},{"$f":"IF(V960&W960=V959&W959,X959+1,1)","v":1},{"$f":"V960&U960&T960&X960","v":"2026531"},{"$f":"S960","v":"2026-05-05"}]
[null,null,null,null,null,null,null,null,null,null,null,null,null,null,null,null,null,null,"2026-05-12",{"$f":"WEEKDAY(S961)","v":3},{"$f":"MONTH(S961)","v":5},{"$f":"YEAR(S961)","v":2026},{"$f":"T961&U961","v":"35"},{"$f":"IF(V961&W961=V960&W960,X960+1,1)","v":2},{"$f":"V961&U961&T961&X961","v":"2026532"},{"$f":"S961","v":"2026-05-12"}]
[null,null,null,null,null,null,null,null,null,null,null,null,null,null,null,null,null,null,"2026-05-19",{"$f":"WEEKDAY(S962)","v":3},{"$f":"MONTH(S962)","v":5},{"$f":"YEAR(S962)","v":2026},{"$f":"T962&U962","v":"35"},{"$f":"IF(V962&W962=V961&W961,X961+1,1)","v":3},{"$f":"V962&U962&T962&X962","v":"2026533"},{"$f":"S962","v":"2026-05-19"}]
[null,null,null,null,null,null,null,null,null,null,null,null,null,null,null,null,null,null,"2026-05-26",{"$f":"WEEKDAY(S963)","v":3},{"$f":"MONTH(S963)","v":5},{"$f":"YEAR(S963)","v":2026},{"$f":"T963&U963","v":"35"},{"$f":"IF(V963&W963=V962&W962,X962+1,1)","v":4},{"$f":"V963&U963&T963&X963","v":"2026534"},{"$f":"S963","v":"2026-05-26"}]
[null,null,null,null,null,null,null,null,null,null,null,null,null,null,null,null,null,null,"2026-05-06",{"$f":"WEEKDAY(S964)","v":4},{"$f":"MONTH(S964)","v":5},{"$f":"YEAR(S964)","v":2026},{"$f":"T964&U964","v":"45"},{"$f":"IF(V964&W964=V963&W963,X963+1,1)","v":1},{"$f":"V964&U964&T964&X964","v":"2026541"},{"$f":"S964","v":"2026-05-06"}]
[null,null,null,null,null,null,null,null,null,null,null,null,null,null,null,null,null,null,"2026-05-13",{"$f":"WEEKDAY(S965)","v":4},{"$f":"MONTH(S965)","v":5},{"$f":"YEAR(S965)","v":2026},{"$f":"T965&U965","v":"45"},{"$f":"IF(V965&W965=V964&W964,X964+1,1)","v":2},{"$f":"V965&U965&T965&X965","v":"2026542"},{"$f":"S965","v":"2026-05-13"}]
[null,null,null,null,null,null,null,null,null,null,null,null,null,null,null,null,null,null,"2026-05-20",{"$f":"WEEKDAY(S966)","v":4},{"$f":"MONTH(S966)","v":5},{"$f":"YEAR(S966)","v":2026},{"$f":"T966&U966","v":"45"},{"$f":"IF(V966&W966=V965&W965,X965+1,1)","v":3},{"$f":"V966&U966&T966&X966","v":"2026543"},{"$f":"S966","v":"2026-05-20"}]
[null,null,null,null,null,null,null,null,null,null,null,null,null,null,null,null,null,null,"2026-05-27",{"$f":"WEEKDAY(S967)","v":4},{"$f":"MONTH(S967)","v":5},{"$f":"YEAR(S967)","v":2026},{"$f":"T967&U967","v":"45"},{"$f":"IF(V967&W967=V966&W966,X966+1,1)","v":4},{"$f":"V967&U967&T967&X967","v":"2026544"},{"$f":"S967","v":"2026-05-27"}]
[null,null,null,null,null,null,null,null,null,null,null,null,null,null,null,null,null,null,"2026-05-07",{"$f":"WEEKDAY(S968)","v":5},{"$f":"MONTH(S968)","v":5},{"$f":"YEAR(S968)","v":2026},{"$f":"T968&U968","v":"55"},{"$f":"IF(V968&W968=V967&W967,X967+1,1)","v":1},{"$f":"V968&U968&T968&X968","v":"2026551"},{"$f":"S968","v":"2026-05-07"}]
[null,null,null,null,null,null,null,null,null,null,null,null,null,null,null,null,null,null,"2026-05-14",{"$f":"WEEKDAY(S969)","v":5},{"$f":"MONTH(S969)","v":5},{"$f":"YEAR(S969)","v":2026},{"$f":"T969&U969","v":"55"},{"$f":"IF(V969&W969=V968&W968,X968+1,1)","v":2},{"$f":"V969&U969&T969&X969","v":"2026552"},{"$f":"S969","v":"2026-05-14"}]
[null,null,null,null,null,null,null,null,null,null,null,null,null,null,null,null,null,null,"2026-05-21",{"$f":"WEEKDAY(S970)","v":5},{"$f":"MONTH(S970)","v":5},{"$f":"YEAR(S970)","v":2026},{"$f":"T970&U970","v":"55"},{"$f":"IF(V970&W970=V969&W969,X969+1,1)","v":3},{"$f":"V970&U970&T970&X970","v":"2026553"},{"$f":"S970","v":"2026-05-21"}]
[null,null,null,null,null,null,null,null,null,null,null,null,null,null,null,null,null,null,"2026-05-28",{"$f":"WEEKDAY(S971)","v":5},{"$f":"MONTH(S971)","v":5},{"$f":"YEAR(S971)","v":2026},{"$f":"T971&U971","v":"55"},{"$f":"IF(V971&W971=V970&W970,X970+1,1)","v":4},{"$f":"V971&U971&T971&X971","v":"2026554"},{"$f":"S971","v":"2026-05-28"}]
[null,null,null,null,null,null,null,null,null,null,null,null,null,null,null,null,null,null,"2026-05-01",{"$f":"WEEKDAY(S972)","v":6},{"$f":"MONTH(S972)","v":5},{"$f":"YEAR(S972)","v":2026},{"$f":"T972&U972","v":"65"},{"$f":"IF(V972&W972=V971&W971,X971+1,1)","v":1},{"$f":"V972&U972&T972&X972","v":"2026561"},{"$f":"S972","v":"2026-05-01"}]
[null,null,null,null,null,null,null,null,null,null,null,null,null,null,null,null,null,null,"2026-05-08",{"$f":"WEEKDAY(S973)","v":6},{"$f":"MONTH(S973)","v":5},{"$f":"YEAR(S973)","v":2026},{"$f":"T973&U973","v":"65"},{"$f":"IF(V973&W973=V972&W972,X972+1,1)","v":2},{"$f":"V973&U973&T973&X973","v":"2026562"},{"$f":"S973","v":"2026-05-08"}]
[null,null,null,null,null,null,null,null,null,null,null,null,null,null,null,null,null,null,"2026-05-15",{"$f":"WEEKDAY(S974)","v":6},{"$f":"MONTH(S974)","v":5},{"$f":"YEAR(S974)","v":2026},{"$f":"T974&U974","v":"65"},{"$f":"IF(V974&W974=V973&W973,X973+1,1)","v":3},{"$f":"V974&U974&T974&X974","v":"2026563"},{"$f":"S974","v":"2026-05-15"}]
[null,null,null,null,null,null,null,null,null,null,null,null,null,null,null,null,null,null,"2026-05-22",{"$f":"WEEKDAY(S975)","v":6},{"$f":"MONTH(S975)","v":5},{"$f":"YEAR(S975)","v":2026},{"$f":"T975&U975","v":"65"},{"$f":"IF(V975&W975=V974&W974,X974+1,1)","v":4},{"$f":"V975&U975&T975&X975","v":"2026564"},{"$f":"S975","v":"2026-05-22"}]
[null,null,null,null,null,null,null,null,null,null,null,null,null,null,null,null,null,null,"2026-05-29",{"$f":"WEEKDAY(S976)","v":6},{"$f":"MONTH(S976)","v":5},{"$f":"YEAR(S976)","v":2026},{"$f":"T976&U976","v":"65"},{"$f":"IF(V976&W976=V975&W975,X975+1,1)","v":5},{"$f":"V976&U976&T976&X976","v":"2026565"},{"$f":"S976","v":"2026-05-29"}]
[null,null,null,null,null,null,null,null,null,null,null,null,null,null,null,null,null,null,"2026-05-02",{"$f":"WEEKDAY(S977)","v":7},{"$f":"MONTH(S977)","v":5},{"$f":"YEAR(S977)","v":2026},{"$f":"T977&U977","v":"75"},{"$f":"IF(V977&W977=V976&W976,X976+1,1)","v":1},{"$f":"V977&U977&T977&X977","v":"2026571"},{"$f":"S977","v":"2026-05-02"}]
[null,null,null,null,null,null,null,null,null,null,null,null,null,null,null,null,null,null,"2026-05-09",{"$f":"WEEKDAY(S978)","v":7},{"$f":"MONTH(S978)","v":5},{"$f":"YEAR(S978)","v":2026},{"$f":"T978&U978","v":"75"},{"$f":"IF(V978&W978=V977&W977,X977+1,1)","v":2},{"$f":"V978&U978&T978&X978","v":"2026572"},{"$f":"S978","v":"2026-05-09"}]
[null,null,null,null,null,null,null,null,null,null,null,null,null,null,null,null,null,null,"2026-05-16",{"$f":"WEEKDAY(S979)","v":7},{"$f":"MONTH(S979)","v":5},{"$f":"YEAR(S979)","v":2026},{"$f":"T979&U979","v":"75"},{"$f":"IF(V979&W979=V978&W978,X978+1,1)","v":3},{"$f":"V979&U979&T979&X979","v":"2026573"},{"$f":"S979","v":"2026-05-16"}]
[null,null,null,null,null,null,null,null,null,null,null,null,null,null,null,null,null,null,"2026-05-23",{"$f":"WEEKDAY(S980)","v":7},{"$f":"MONTH(S980)","v":5},{"$f":"YEAR(S980)","v":2026},{"$f":"T980&U980","v":"75"},{"$f":"IF(V980&W980=V979&W979,X979+1,1)","v":4},{"$f":"V980&U980&T980&X980","v":"2026574"},{"$f":"S980","v":"2026-05-23"}]
[null,null,null,null,null,null,null,null,null,null,null,null,null,null,null,null,null,null,"2026-05-30",{"$f":"WEEKDAY(S981)","v":7},{"$f":"MONTH(S981)","v":5},{"$f":"YEAR(S981)","v":2026},{"$f":"T981&U981","v":"75"},{"$f":"IF(V981&W981=V980&W980,X980+1,1)","v":5},{"$f":"V981&U981&T981&X981","v":"2026575"},{"$f":"S981","v":"2026-05-30"}]
[null,null,null,null,null,null,null,null,null,null,null,null,null,null,null,null,null,null,"2026-06-07",{"$f":"WEEKDAY(S982)","v":1},{"$f":"MONTH(S982)","v":6},{"$f":"YEAR(S982)","v":2026},{"$f":"T982&U982","v":"16"},{"$f":"IF(V982&W982=V981&W981,X981+1,1)","v":1},{"$f":"V982&U982&T982&X982","v":"2026611"},{"$f":"S982","v":"2026-06-07"}]
[null,null,null,null,null,null,null,null,null,null,null,null,null,null,null,null,null,null,"2026-06-14",{"$f":"WEEKDAY(S983)","v":1},{"$f":"MONTH(S983)","v":6},{"$f":"YEAR(S983)","v":2026},{"$f":"T983&U983","v":"16"},{"$f":"IF(V983&W983=V982&W982,X982+1,1)","v":2},{"$f":"V983&U983&T983&X983","v":"2026612"},{"$f":"S983","v":"2026-06-14"}]
[null,null,null,null,null,null,null,null,null,null,null,null,null,null,null,null,null,null,"2026-06-21",{"$f":"WEEKDAY(S984)","v":1},{"$f":"MONTH(S984)","v":6},{"$f":"YEAR(S984)","v":2026},{"$f":"T984&U984","v":"16"},{"$f":"IF(V984&W984=V983&W983,X983+1,1)","v":3},{"$f":"V984&U984&T984&X984","v":"2026613"},{"$f":"S984","v":"2026-06-21"}]
[null,null,null,null,null,null,null,null,null,null,null,null,null,null,null,null,null,null,"2026-06-28",{"$f":"WEEKDAY(S985)","v":1},{"$f":"MONTH(S985)","v":6},{"$f":"YEAR(S985)","v":2026},{"$f":"T985&U985","v":"16"},{"$f":"IF(V985&W985=V984&W984,X984+1,1)","v":4},{"$f":"V985&U985&T985&X985","v":"2026614"},{"$f":"S985","v":"2026-06-28"}]
[null,null,null,null,null,null,null,null,null,null,null,null,null,null,null,null,null,null,"2026-06-01",{"$f":"WEEKDAY(S986)","v":2},{"$f":"MONTH(S986)","v":6},{"$f":"YEAR(S986)","v":2026},{"$f":"T986&U986","v":"26"},{"$f":"IF(V986&W986=V985&W985,X985+1,1)","v":1},{"$f":"V986&U986&T986&X986","v":"2026621"},{"$f":"S986","v":"2026-06-01"}]
[null,null,null,null,null,null,null,null,null,null,null,null,null,null,null,null,null,null,"2026-06-08",{"$f":"WEEKDAY(S987)","v":2},{"$f":"MONTH(S987)","v":6},{"$f":"YEAR(S987)","v":2026},{"$f":"T987&U987","v":"26"},{"$f":"IF(V987&W987=V986&W986,X986+1,1)","v":2},{"$f":"V987&U987&T987&X987","v":"2026622"},{"$f":"S987","v":"2026-06-08"}]
[null,null,null,null,null,null,null,null,null,null,null,null,null,null,null,null,null,null,"2026-06-15",{"$f":"WEEKDAY(S988)","v":2},{"$f":"MONTH(S988)","v":6},{"$f":"YEAR(S988)","v":2026},{"$f":"T988&U988","v":"26"},{"$f":"IF(V988&W988=V987&W987,X987+1,1)","v":3},{"$f":"V988&U988&T988&X988","v":"2026623"},{"$f":"S988","v":"2026-06-15"}]
[null,null,null,null,null,null,null,null,null,null,null,null,null,null,null,null,null,null,"2026-06-22",{"$f":"WEEKDAY(S989)","v":2},{"$f":"MONTH(S989)","v":6},{"$f":"YEAR(S989)","v":2026},{"$f":"T989&U989","v":"26"},{"$f":"IF(V989&W989=V988&W988,X988+1,1)","v":4},{"$f":"V989&U989&T989&X989","v":"2026624"},{"$f":"S989","v":"2026-06-22"}]
[null,null,null,null,null,null,null,null,null,null,null,null,null,null,null,null,null,null,"2026-06-29",{"$f":"WEEKDAY(S990)","v":2},{"$f":"MONTH(S990)","v":6},{"$f":"YEAR(S990)","v":2026},{"$f":"T990&U990","v":"26"},{"$f":"IF(V990&W990=V989&W989,X989+1,1)","v":5},{"$f":"V990&U990&T990&X990","v":"2026625"},{"$f":"S990","v":"2026-06-29"}]
[null,null,null,null,null,null,null,null,null,null,null,null,null,null,null,null,null,null,"2026-06-02",{"$f":"WEEKDAY(S991)","v":3},{"$f":"MONTH(S991)","v":6},{"$f":"YEAR(S991)","v":2026},{"$f":"T991&U991","v":"36"},{"$f":"IF(V991&W991=V990&W990,X990+1,1)","v":1},{"$f":"V991&U991&T991&X991","v":"2026631"},{"$f":"S991","v":"2026-06-02"}]
[null,null,null,null,null,null,null,null,null,null,null,null,null,null,null,null,null,null,"2026-06-09",{"$f":"WEEKDAY(S992)","v":3},{"$f":"MONTH(S992)","v":6},{"$f":"YEAR(S992)","v":2026},{"$f":"T992&U992","v":"36"},{"$f":"IF(V992&W992=V991&W991,X991+1,1)","v":2},{"$f":"V992&U992&T992&X992","v":"2026632"},{"$f":"S992","v":"2026-06-09"}]
[null,null,null,null,null,null,null,null,null,null,null,null,null,null,null,null,null,null,"2026-06-16",{"$f":"WEEKDAY(S993)","v":3},{"$f":"MONTH(S993)","v":6},{"$f":"YEAR(S993)","v":2026},{"$f":"T993&U993","v":"36"},{"$f":"IF(V993&W993=V992&W992,X992+1,1)","v":3},{"$f":"V993&U993&T993&X993","v":"2026633"},{"$f":"S993","v":"2026-06-16"}]
[null,null,null,null,null,null,null,null,null,null,null,null,null,null,null,null,null,null,"2026-06-23",{"$f":"WEEKDAY(S994)","v":3},{"$f":"MONTH(S994)","v":6},{"$f":"YEAR(S994)","v":2026},{"$f":"T994&U994","v":"36"},{"$f":"IF(V994&W994=V993&W993,X993+1,1)","v":4},{"$f":"V994&U994&T994&X994","v":"2026634"},{"$f":"S994","v":"2026-06-23"}]
[null,null,null,null,null,null,null,null,null,null,null,null,null,null,null,null,null,null,"2026-06-30",{"$f":"WEEKDAY(S995)","v":3},{"$f":"MONTH(S995)","v":6},{"$f":"YEAR(S995)","v":2026},{"$f":"T995&U995","v":"36"},{"$f":"IF(V995&W995=V994&W994,X994+1,1)","v":5},{"$f":"V995&U995&T995&X995","v":"2026635"},{"$f":"S995","v":"2026-06-30"}]
[null,null,null,null,null,null,null,null,null,null,null,null,null,null,null,null,null,null,"2026-06-03",{"$f":"WEEKDAY(S996)","v":4},{"$f":"MONTH(S996)","v":6},{"$f":"YEAR(S996)","v":2026},{"$f":"T996&U996","v":"46"},{"$f":"IF(V996&W996=V995&W995,X995+1,1)","v":1},{"$f":"V996&U996&T996&X996","v":"2026641"},{"$f":"S996","v":"2026-06-03"}]
[null,null,null,null,null,null,null,null,null,null,null,null,null,null,null,null,null,null,"2026-06-10",{"$f":"WEEKDAY(S997)","v":4},{"$f":"MONTH(S997)","v":6},{"$f":"YEAR(S997)","v":2026},{"$f":"T997&U997","v":"46"},{"$f":"IF(V997&W997=V996&W996,X996+1,1)","v":2},{"$f":"V997&U997&T997&X997","v":"2026642"},{"$f":"S997","v":"2026-06-10"}]
[null,null,null,null,null,null,null,null,null,null,null,null,null,null,null,null,null,null,"2026-06-17",{"$f":"WEEKDAY(S998)","v":4},{"$f":"MONTH(S998)","v":6},{"$f":"YEAR(S998)","v":2026},{"$f":"T998&U998","v":"46"},{"$f":"IF(V998&W998=V997&W997,X997+1,1)","v":3},{"$f":"V998&U998&T998&X998","v":"2026643"},{"$f":"S998","v":"2026-06-17"}]
[null,null,null,null,null,null,null,null,null,null,null,null,null,null,null,null,null,null,"2026-06-24",{"$f":"WEEKDAY(S999)","v":4},{"$f":"MONTH(S999)","v":6},{"$f":"YEAR(S999)","v":2026},{"$f":"T999&U999","v":"46"},{"$f":"IF(V999&W999=V998&W998,X998+1,1)","v":4},{"$f":"V999&U999&T999&X999","v":"2026644"},{"$f":"S999","v":"2026-06-24"}]
[null,null,null,null,null,null,null,null,null,null,null,null,null,null,null,null,null,null,"2026-06-04",{"$f":"WEEKDAY(S1000)","v":5},{"$f":"MONTH(S1000)","v":6},{"$f":"YEAR(S1000)","v":2026},{"$f":"T1000&U1000","v":"56"},{"$f":"IF(V1000&W1000=V999&W999,X999+1,1)","v":1},{"$f":"V1000&U1000&T1000&X1000","v":"2026651"},{"$f":"S1000","v":"2026-06-04"}]
[null,null,null,null,null,null,null,null,null,null,null,null,null,null,null,null,null,null,"2026-06-11",{"$f":"WEEKDAY(S1001)","v":5},{"$f":"MONTH(S1001)","v":6},{"$f":"YEAR(S1001)","v":2026},{"$f":"T1001&U1001","v":"56"},{"$f":"IF(V1001&W1001=V1000&W1000,X1000+1,1)","v":2},{"$f":"V1001&U1001&T1001&X1001","v":"2026652"},{"$f":"S1001","v":"2026-06-11"}]
[null,null,null,null,null,null,null,null,null,null,null,null,null,null,null,null,null,null,"2026-06-18",{"$f":"WEEKDAY(S1002)","v":5},{"$f":"MONTH(S1002)","v":6},{"$f":"YEAR(S1002)","v":2026},{"$f":"T1002&U1002","v":"56"},{"$f":"IF(V1002&W1002=V1001&W1001,X1001+1,1)","v":3},{"$f":"V1002&U1002&T1002&X1002","v":"2026653"},{"$f":"S1002","v":"2026-06-18"}]
[null,null,null,null,null,null,null,null,null,null,null,null,null,null,null,null,null,null,"2026-06-25",{"$f":"WEEKDAY(S1003)","v":5},{"$f":"MONTH(S1003)","v":6},{"$f":"YEAR(S1003)","v":2026},{"$f":"T1003&U1003","v":"56"},{"$f":"IF(V1003&W1003=V1002&W1002,X1002+1,1)","v":4},{"$f":"V1003&U1003&T1003&X1003","v":"2026654"},{"$f":"S1003","v":"2026-06-25"}]
[null,null,null,null,null,null,null,null,null,null,null,null,null,null,null,null,null,null,"2026-06-05",{"$f":"WEEKDAY(S1004)","v":6},{"$f":"MONTH(S1004)","v":6},{"$f":"YEAR(S1004)","v":2026},{"$f":"T1004&U1004","v":"66"},{"$f":"IF(V1004&W1004=V1003&W1003,X1003+1,1)","v":1},{"$f":"V1004&U1004&T1004&X1004","v":"2026661"},{"$f":"S1004","v":"2026-06-05"}]
[null,null,null,null,null,null,null,null,null,null,null,null,null,null,null,null,null,null,"2026-06-12",{"$f":"WEEKDAY(S1005)","v":6},{"$f":"MONTH(S1005)","v":6},{"$f":"YEAR(S1005)","v":2026},{"$f":"T1005&U1005","v":"66"},{"$f":"IF(V1005&W1005=V1004&W1004,X1004+1,1)","v":2},{"$f":"V1005&U1005&T1005&X1005","v":"2026662"},{"$f":"S1005","v":"2026-06-12"}]
[null,null,null,null,null,null,null,null,null,null,null,null,null,null,null,null,null,null,"2026-06-19",{"$f":"WEEKDAY(S1006)","v":6},{"$f":"MONTH(S1006)","v":6},{"$f":"YEAR(S1006)","v":2026},{"$f":"T1006&U1006","v":"66"},{"$f":"IF(V1006&W1006=V1005&W1005,X1005+1,1)","v":3},{"$f":"V1006&U1006&T1006&X1006","v":"2026663"},{"$f":"S1006","v":"2026-06-19"}]
[null,null,null,null,null,null,null,null,null,null,null,null,null,null,null,null,null,null,"2026-06-26",{"$f":"WEEKDAY(S1007)","v":6},{"$f":"MONTH(S1007)","v":6},{"$f":"YEAR(S1007)","v":2026},{"$f":"T1007&U1007","v":"66"},{"$f":"IF(V1007&W1007=V1006&W1006,X1006+1,1)","v":4},{"$f":"V1007&U1007&T1007&X1007","v":"2026664"},{"$f":"S1007","v":"2026-06-26"}]
[null,null,null,null,null,null,null,null,null,null,null,null,null,null,null,null,null,null,"2026-06-06",{"$f":"WEEKDAY(S1008)","v":7},{"$f":"MONTH(S1008)","v":6},{"$f":"YEAR(S1008)","v":2026},{"$f":"T1008&U1008","v":"76"},{"$f":"IF(V1008&W1008=V1007&W1007,X1007+1,1)","v":1},{"$f":"V1008&U1008&T1008&X1008","v":"2026671"},{"$f":"S1008","v":"2026-06-06"}]
[null,null,null,null,null,null,null,null,null,null,null,null,null,null,null,null,null,null,"2026-06-13",{"$f":"WEEKDAY(S1009)","v":7},{"$f":"MONTH(S1009)","v":6},{"$f":"YEAR(S1009)","v":2026},{"$f":"T1009&U1009","v":"76"},{"$f":"IF(V1009&W1009=V1008&W1008,X1008+1,1)","v":2},{"$f":"V1009&U1009&T1009&X1009","v":"2026672"},{"$f":"S1009","v":"2026-06-13"}]
[null,null,null,null,null,null,null,null,null,null,null,null,null,null,null,null,null,null,"2026-06-20",{"$f":"WEEKDAY(S1010)","v":7},{"$f":"MONTH(S1010)","v":6},{"$f":"YEAR(S1010)","v":2026},{"$f":"T1010&U1010","v":"76"},{"$f":"IF(V1010&W1010=V1009&W1009,X1009+1,1)","v":3},{"$f":"V1010&U1010&T1010&X1010","v":"2026673"},{"$f":"S1010","v":"2026-06-20"}]
[null,null,null,null,null,null,null,null,null,null,null,null,null,null,null,null,null,null,"2026-06-27",{"$f":"WEEKDAY(S1011)","v":7},{"$f":"MONTH(S1011)","v":6},{"$f":"YEAR(S1011)","v":2026},{"$f":"T1011&U1011","v":"76"},{"$f":"IF(V1011&W1011=V1010&W1010,X1010+1,1)","v":4},{"$f":"V1011&U1011&T1011&X1011","v":"2026674"},{"$f":"S1011","v":"2026-06-27"}]
[null,null,null,null,null,null,null,null,null,null,null,null,null,null,null,null,null,null,"2026-07-05",{"$f":"WEEKDAY(S1012)","v":1},{"$f":"MONTH(S1012)","v":7},{"$f":"YEAR(S1012)","v":2026},{"$f":"T1012&U1012","v":"17"},{"$f":"IF(V1012&W1012=V1011&W1011,X1011+1,1)","v":1},{"$f":"V1012&U1012&T1012&X1012","v":"2026711"},{"$f":"S1012","v":"2026-07-05"}]
[null,null,null,null,null,null,null,null,null,null,null,null,null,null,null,null,null,null,"2026-07-12",{"$f":"WEEKDAY(S1013)","v":1},{"$f":"MONTH(S1013)","v":7},{"$f":"YEAR(S1013)","v":2026},{"$f":"T1013&U1013","v":"17"},{"$f":"IF(V1013&W1013=V1012&W1012,X1012+1,1)","v":2},{"$f":"V1013&U1013&T1013&X1013","v":"2026712"},{"$f":"S1013","v":"2026-07-12"}]
[null,null,null,null,null,null,null,null,null,null,null,null,null,null,null,null,null,null,"2026-07-19",{"$f":"WEEKDAY(S1014)","v":1},{"$f":"MONTH(S1014)","v":7},{"$f":"YEAR(S1014)","v":2026},{"$f":"T1014&U1014","v":"17"},{"$f":"IF(V1014&W1014=V1013&W1013,X1013+1,1)","v":3},{"$f":"V1014&U1014&T1014&X1014","v":"2026713"},{"$f":"S1014","v":"2026-07-19"}]
[null,null,null,null,null,null,null,null,null,null,null,null,null,null,null,null,null,null,"2026-07-26",{"$f":"WEEKDAY(S1015)","v":1},{"$f":"MONTH(S1015)","v":7},{"$f":"YEAR(S1015)","v":2026},{"$f":"T1015&U1015","v":"17"},{"$f":"IF(V1015&W1015=V1014&W1014,X1014+1,1)","v":4},{"$f":"V1015&U1015&T1015&X1015","v":"2026714"},{"$f":"S1015","v":"2026-07-26"}]
[null,null,null,null,null,null,null,null,null,null,null,null,null,null,null,null,null,null,"2026-07-06",{"$f":"WEEKDAY(S1016)","v":2},{"$f":"MONTH(S1016)","v":7},{"$f":"YEAR(S1016)","v":2026},{"$f":"T1016&U1016","v":"27"},{"$f":"IF(V1016&W1016=V1015&W1015,X1015+1,1)","v":1},{"$f":"V1016&U1016&T1016&X1016","v":"2026721"},{"$f":"S1016","v":"2026-07-06"}]
[null,null,null,null,null,null,null,null,null,null,null,null,null,null,null,null,null,null,"2026-07-13",{"$f":"WEEKDAY(S1017)","v":2},{"$f":"MONTH(S1017)","v":7},{"$f":"YEAR(S1017)","v":2026},{"$f":"T1017&U1017","v":"27"},{"$f":"IF(V1017&W1017=V1016&W1016,X1016+1,1)","v":2},{"$f":"V1017&U1017&T1017&X1017","v":"2026722"},{"$f":"S1017","v":"2026-07-13"}]
[null,null,null,null,null,null,null,null,null,null,null,null,null,null,null,null,null,null,"2026-07-20",{"$f":"WEEKDAY(S1018)","v":2},{"$f":"MONTH(S1018)","v":7},{"$f":"YEAR(S1018)","v":2026},{"$f":"T1018&U1018","v":"27"},{"$f":"IF(V1018&W1018=V1017&W1017,X1017+1,1)","v":3},{"$f":"V1018&U1018&T1018&X1018","v":"2026723"},{"$f":"S1018","v":"2026-07-20"}]
[null,null,null,null,null,null,null,null,null,null,null,null,null,null,null,null,null,null,"2026-07-27",{"$f":"WEEKDAY(S1019)","v":2},{"$f":"MONTH(S1019)","v":7},{"$f":"YEAR(S1019)","v":2026},{"$f":"T1019&U1019","v":"27"},{"$f":"IF(V1019&W1019=V1018&W1018,X1018+1,1)","v":4},{"$f":"V1019&U1019&T1019&X1019","v":"2026724"},{"$f":"S1019","v":"2026-07-27"}]
[null,null,null,null,null,null,null,null,null,null,null,null,null,null,null,null,null,null,"2026-07-07",{"$f":"WEEKDAY(S1020)","v":3},{"$f":"MONTH(S1020)","v":7},{"$f":"YEAR(S1020)","v":2026},{"$f":"T1020&U1020","v":"37"},{"$f":"IF(V1020&W1020=V1019&W1019,X1019+1,1)","v":1},{"$f":"V1020&U1020&T1020&X1020","v":"2026731"},{"$f":"S1020","v":"2026-07-07"}]
[null,null,null,null,null,null,null,null,null,null,null,null,null,null,null,null,null,null,"2026-07-14",{"$f":"WEEKDAY(S1021)","v":3},{"$f":"MONTH(S1021)","v":7},{"$f":"YEAR(S1021)","v":2026},{"$f":"T1021&U1021","v":"37"},{"$f":"IF(V1021&W1021=V1020&W1020,X1020+1,1)","v":2},{"$f":"V1021&U1021&T1021&X1021","v":"2026732"},{"$f":"S1021","v":"2026-07-14"}]
[null,null,null,null,null,null,null,null,null,null,null,null,null,null,null,null,null,null,"2026-07-21",{"$f":"WEEKDAY(S1022)","v":3},{"$f":"MONTH(S1022)","v":7},{"$f":"YEAR(S1022)","v":2026},{"$f":"T1022&U1022","v":"37"},{"$f":"IF(V1022&W1022=V1021&W1021,X1021+1,1)","v":3},{"$f":"V1022&U1022&T1022&X1022","v":"2026733"},{"$f":"S1022","v":"2026-07-21"}]
[null,null,null,null,null,null,null,null,null,null,null,null,null,null,null,null,null,null,"2026-07-28",{"$f":"WEEKDAY(S1023)","v":3},{"$f":"MONTH(S1023)","v":7},{"$f":"YEAR(S1023)","v":2026},{"$f":"T1023&U1023","v":"37"},{"$f":"IF(V1023&W1023=V1022&W1022,X1022+1,1)","v":4},{"$f":"V1023&U1023&T1023&X1023","v":"2026734"},{"$f":"S1023","v":"2026-07-28"}]
[null,null,null,null,null,null,null,null,null,null,null,null,null,null,null,null,null,null,"2026-07-01",{"$f":"WEEKDAY(S1024)","v":4},{"$f":"MONTH(S1024)","v":7},{"$f":"YEAR(S1024)","v":2026},{"$f":"T1024&U1024","v":"47"},{"$f":"IF(V1024&W1024=V1023&W1023,X1023+1,1)","v":1},{"$f":"V1024&U1024&T1024&X1024","v":"2026741"},{"$f":"S1024","v":"2026-07-01"}]
[null,null,null,null,null,null,null,null,null,null,null,null,null,null,null,null,null,null,"2026-07-08",{"$f":"WEEKDAY(S1025)","v":4},{"$f":"MONTH(S1025)","v":7},{"$f":"YEAR(S1025)","v":2026},{"$f":"T1025&U1025","v":"47"},{"$f":"IF(V1025&W1025=V1024&W1024,X1024+1,1)","v":2},{"$f":"V1025&U1025&T1025&X1025","v":"2026742"},{"$f":"S1025","v":"2026-07-08"}]
[null,null,null,null,null,null,null,null,null,null,null,null,null,null,null,null,null,null,"2026-07-15",{"$f":"WEEKDAY(S1026)","v":4},{"$f":"MONTH(S1026)","v":7},{"$f":"YEAR(S1026)","v":2026},{"$f":"T1026&U1026","v":"47"},{"$f":"IF(V1026&W1026=V1025&W1025,X1025+1,1)","v":3},{"$f":"V1026&U1026&T1026&X1026","v":"2026743"},{"$f":"S1026","v":"2026-07-15"}]
[null,null,null,null,null,null,null,null,null,null,null,null,null,null,null,null,null,null,"2026-07-22",{"$f":"WEEKDAY(S1027)","v":4},{"$f":"MONTH(S1027)","v":7},{"$f":"YEAR(S1027)","v":2026},{"$f":"T1027&U1027","v":"47"},{"$f":"IF(V1027&W1027=V1026&W1026,X1026+1,1)","v":4},{"$f":"V1027&U1027&T1027&X1027","v":"2026744"},{"$f":"S1027","v":"2026-07-22"}]
[null,null,null,null,null,null,null,null,null,null,null,null,null,null,null,null,null,null,"2026-07-29",{"$f":"WEEKDAY(S1028)","v":4},{"$f":"MONTH(S1028)","v":7},{"$f":"YEAR(S1028)","v":2026},{"$f":"T1028&U1028","v":"47"},{"$f":"IF(V1028&W1028=V1027&W1027,X1027+1,1)","v":5},{"$f":"V1028&U1028&T1028&X1028","v":"2026745"},{"$f":"S1028","v":"2026-07-29"}]
[null,null,null,null,null,null,null,null,null,null,null,null,null,null,null,null,null,null,"2026-07-02",{"$f":"WEEKDAY(S1029)","v":5},{"$f":"MONTH(S1029)","v":7},{"$f":"YEAR(S1029)","v":2026},{"$f":"T1029&U1029","v":"57"},{"$f":"IF(V1029&W1029=V1028&W1028,X1028+1,1)","v":1},{"$f":"V1029&U1029&T1029&X1029","v":"2026751"},{"$f":"S1029","v":"2026-07-02"}]
[null,null,null,null,null,null,null,null,null,null,null,null,null,null,null,null,null,null,"2026-07-09",{"$f":"WEEKDAY(S1030)","v":5},{"$f":"MONTH(S1030)","v":7},{"$f":"YEAR(S1030)","v":2026},{"$f":"T1030&U1030","v":"57"},{"$f":"IF(V1030&W1030=V1029&W1029,X1029+1,1)","v":2},{"$f":"V1030&U1030&T1030&X1030","v":"2026752"},{"$f":"S1030","v":"2026-07-09"}]
[null,null,null,null,null,null,null,null,null,null,null,null,null,null,null,null,null,null,"2026-07-16",{"$f":"WEEKDAY(S1031)","v":5},{"$f":"MONTH(S1031)","v":7},{"$f":"YEAR(S1031)","v":2026},{"$f":"T1031&U1031","v":"57"},{"$f":"IF(V1031&W1031=V1030&W1030,X1030+1,1)","v":3},{"$f":"V1031&U1031&T1031&X1031","v":"2026753"},{"$f":"S1031","v":"2026-07-16"}]
[null,null,null,null,null,null,null,null,null,null,null,null,null,null,null,null,null,null,"2026-07-23",{"$f":"WEEKDAY(S1032)","v":5},{"$f":"MONTH(S1032)","v":7},{"$f":"YEAR(S1032)","v":2026},{"$f":"T1032&U1032","v":"57"},{"$f":"IF(V1032&W1032=V1031&W1031,X1031+1,1)","v":4},{"$f":"V1032&U1032&T1032&X1032","v":"2026754"},{"$f":"S1032","v":"2026-07-23"}]
[null,null,null,null,null,null,null,null,null,null,null,null,null,null,null,null,null,null,"2026-07-30",{"$f":"WEEKDAY(S1033)","v":5},{"$f":"MONTH(S1033)","v":7},{"$f":"YEAR(S1033)","v":2026},{"$f":"T1033&U1033","v":"57"},{"$f":"IF(V1033&W1033=V1032&W1032,X1032+1,1)","v":5},{"$f":"V1033&U1033&T1033&X1033","v":"2026755"},{"$f":"S1033","v":"2026-07-30"}]
[null,null,null,null,null,null,null,null,null,null,null,null,null,null,null,null,null,null,"2026-07-03",{"$f":"WEEKDAY(S1034)","v":6},{"$f":"MONTH(S1034)","v":7},{"$f":"YEAR(S1034)","v":2026},{"$f":"T1034&U1034","v":"67"},{"$f":"IF(V1034&W1034=V1033&W1033,X1033+1,1)","v":1},{"$f":"V1034&U1034&T1034&X1034","v":"2026761"},{"$f":"S1034","v":"2026-07-03"}]
[null,null,null,null,null,null,null,null,null,null,null,null,null,null,null,null,null,null,"2026-07-10",{"$f":"WEEKDAY(S1035)","v":6},{"$f":"MONTH(S1035)","v":7},{"$f":"YEAR(S1035)","v":2026},{"$f":"T1035&U1035","v":"67"},{"$f":"IF(V1035&W1035=V1034&W1034,X1034+1,1)","v":2},{"$f":"V1035&U1035&T1035&X1035","v":"2026762"},{"$f":"S1035","v":"2026-07-10"}]
[null,null,null,null,null,null,null,null,null,null,null,null,null,null,null,null,null,null,"2026-07-17",{"$f":"WEEKDAY(S1036)","v":6},{"$f":"MONTH(S1036)","v":7},{"$f":"YEAR(S1036)","v":2026},{"$f":"T1036&U1036","v":"67"},{"$f":"IF(V1036&W1036=V1035&W1035,X1035+1,1)","v":3},{"$f":"V1036&U1036&T1036&X1036","v":"2026763"},{"$f":"S1036","v":"2026-07-17"}]
[null,null,null,null,null,null,null,null,null,null,null,null,null,null,null,null,null,null,"2026-07-24",{"$f":"WEEKDAY(S1037)","v":6},{"$f":"MONTH(S1037)","v":7},{"$f":"YEAR(S1037)","v":2026},{"$f":"T1037&U1037","v":"67"},{"$f":"IF(V1037&W1037=V1036&W1036,X1036+1,1)","v":4},{"$f":"V1037&U1037&T1037&X1037","v":"2026764"},{"$f":"S1037","v":"2026-07-24"}]
[null,null,null,null,null,null,null,null,null,null,null,null,null,null,null,null,null,null,"2026-07-31",{"$f":"WEEKDAY(S1038)","v":6},{"$f":"MONTH(S1038)","v":7},{"$f":"YEAR(S1038)","v":2026},{"$f":"T1038&U1038","v":"67"},{"$f":"IF(V1038&W1038=V1037&W1037,X1037+1,1)","v":5},{"$f":"V1038&U1038&T1038&X1038","v":"2026765"},{"$f":"S1038","v":"2026-07-31"}]
[null,null,null,null,null,null,null,null,null,null,null,null,null,null,null,null,null,null,"2026-07-04",{"$f":"WEEKDAY(S1039)","v":7},{"$f":"MONTH(S1039)","v":7},{"$f":"YEAR(S1039)","v":2026},{"$f":"T1039&U1039","v":"77"},{"$f":"IF(V1039&W1039=V1038&W1038,X1038+1,1)","v":1},{"$f":"V1039&U1039&T1039&X1039","v":"2026771"},{"$f":"S1039","v":"2026-07-04"}]
[null,null,null,null,null,null,null,null,null,null,null,null,null,null,null,null,null,null,"2026-07-11",{"$f":"WEEKDAY(S1040)","v":7},{"$f":"MONTH(S1040)","v":7},{"$f":"YEAR(S1040)","v":2026},{"$f":"T1040&U1040","v":"77"},{"$f":"IF(V1040&W1040=V1039&W1039,X1039+1,1)","v":2},{"$f":"V1040&U1040&T1040&X1040","v":"2026772"},{"$f":"S1040","v":"2026-07-11"}]
[null,null,null,null,null,null,null,null,null,null,null,null,null,null,null,null,null,null,"2026-07-18",{"$f":"WEEKDAY(S1041)","v":7},{"$f":"MONTH(S1041)","v":7},{"$f":"YEAR(S1041)","v":2026},{"$f":"T1041&U1041","v":"77"},{"$f":"IF(V1041&W1041=V1040&W1040,X1040+1,1)","v":3},{"$f":"V1041&U1041&T1041&X1041","v":"2026773"},{"$f":"S1041","v":"2026-07-18"}]
[null,null,null,null,null,null,null,null,null,null,null,null,null,null,null,null,null,null,"2026-07-25",{"$f":"WEEKDAY(S1042)","v":7},{"$f":"MONTH(S1042)","v":7},{"$f":"YEAR(S1042)","v":2026},{"$f":"T1042&U1042","v":"77"},{"$f":"IF(V1042&W1042=V1041&W1041,X1041+1,1)","v":4},{"$f":"V1042&U1042&T1042&X1042","v":"2026774"},{"$f":"S1042","v":"2026-07-25"}]
[null,null,null,null,null,null,null,null,null,null,null,null,null,null,null,null,null,null,"2026-08-02",{"$f":"WEEKDAY(S1043)","v":1},{"$f":"MONTH(S1043)","v":8},{"$f":"YEAR(S1043)","v":2026},{"$f":"T1043&U1043","v":"18"},{"$f":"IF(V1043&W1043=V1042&W1042,X1042+1,1)","v":1},{"$f":"V1043&U1043&T1043&X1043","v":"2026811"},{"$f":"S1043","v":"2026-08-02"}]
[null,null,null,null,null,null,null,null,null,null,null,null,null,null,null,null,null,null,"2026-08-09",{"$f":"WEEKDAY(S1044)","v":1},{"$f":"MONTH(S1044)","v":8},{"$f":"YEAR(S1044)","v":2026},{"$f":"T1044&U1044","v":"18"},{"$f":"IF(V1044&W1044=V1043&W1043,X1043+1,1)","v":2},{"$f":"V1044&U1044&T1044&X1044","v":"2026812"},{"$f":"S1044","v":"2026-08-09"}]
[null,null,null,null,null,null,null,null,null,null,null,null,null,null,null,null,null,null,"2026-08-16",{"$f":"WEEKDAY(S1045)","v":1},{"$f":"MONTH(S1045)","v":8},{"$f":"YEAR(S1045)","v":2026},{"$f":"T1045&U1045","v":"18"},{"$f":"IF(V1045&W1045=V1044&W1044,X1044+1,1)","v":3},{"$f":"V1045&U1045&T1045&X1045","v":"2026813"},{"$f":"S1045","v":"2026-08-16"}]
[null,null,null,null,null,null,null,null,null,null,null,null,null,null,null,null,null,null,"2026-08-23",{"$f":"WEEKDAY(S1046)","v":1},{"$f":"MONTH(S1046)","v":8},{"$f":"YEAR(S1046)","v":2026},{"$f":"T1046&U1046","v":"18"},{"$f":"IF(V1046&W1046=V1045&W1045,X1045+1,1)","v":4},{"$f":"V1046&U1046&T1046&X1046","v":"2026814"},{"$f":"S1046","v":"2026-08-23"}]
[null,null,null,null,null,null,null,null,null,null,null,null,null,null,null,null,null,null,"2026-08-30",{"$f":"WEEKDAY(S1047)","v":1},{"$f":"MONTH(S1047)","v":8},{"$f":"YEAR(S1047)","v":2026},{"$f":"T1047&U1047","v":"18"},{"$f":"IF(V1047&W1047=V1046&W1046,X1046+1,1)","v":5},{"$f":"V1047&U1047&T1047&X1047","v":"2026815"},{"$f":"S1047","v":"2026-08-30"}]
[null,null,null,null,null,null,null,null,null,null,null,null,null,null,null,null,null,null,"2026-08-03",{"$f":"WEEKDAY(S1048)","v":2},{"$f":"MONTH(S1048)","v":8},{"$f":"YEAR(S1048)","v":2026},{"$f":"T1048&U1048","v":"28"},{"$f":"IF(V1048&W1048=V1047&W1047,X1047+1,1)","v":1},{"$f":"V1048&U1048&T1048&X1048","v":"2026821"},{"$f":"S1048","v":"2026-08-03"}]
[null,null,null,null,null,null,null,null,null,null,null,null,null,null,null,null,null,null,"2026-08-10",{"$f":"WEEKDAY(S1049)","v":2},{"$f":"MONTH(S1049)","v":8},{"$f":"YEAR(S1049)","v":2026},{"$f":"T1049&U1049","v":"28"},{"$f":"IF(V1049&W1049=V1048&W1048,X1048+1,1)","v":2},{"$f":"V1049&U1049&T1049&X1049","v":"2026822"},{"$f":"S1049","v":"2026-08-10"}]
[null,null,null,null,null,null,null,null,null,null,null,null,null,null,null,null,null,null,"2026-08-17",{"$f":"WEEKDAY(S1050)","v":2},{"$f":"MONTH(S1050)","v":8},{"$f":"YEAR(S1050)","v":2026},{"$f":"T1050&U1050","v":"28"},{"$f":"IF(V1050&W1050=V1049&W1049,X1049+1,1)","v":3},{"$f":"V1050&U1050&T1050&X1050","v":"2026823"},{"$f":"S1050","v":"2026-08-17"}]
[null,null,null,null,null,null,null,null,null,null,null,null,null,null,null,null,null,null,"2026-08-24",{"$f":"WEEKDAY(S1051)","v":2},{"$f":"MONTH(S1051)","v":8},{"$f":"YEAR(S1051)","v":2026},{"$f":"T1051&U1051","v":"28"},{"$f":"IF(V1051&W1051=V1050&W1050,X1050+1,1)","v":4},{"$f":"V1051&U1051&T1051&X1051","v":"2026824"},{"$f":"S1051","v":"2026-08-24"}]
[null,null,null,null,null,null,null,null,null,null,null,null,null,null,null,null,null,null,"2026-08-31",{"$f":"WEEKDAY(S1052)","v":2},{"$f":"MONTH(S1052)","v":8},{"$f":"YEAR(S1052)","v":2026},{"$f":"T1052&U1052","v":"28"},{"$f":"IF(V1052&W1052=V1051&W1051,X1051+1,1)","v":5},{"$f":"V1052&U1052&T1052&X1052","v":"2026825"},{"$f":"S1052","v":"2026-08-31"}]
[null,null,null,null,null,null,null,null,null,null,null,null,null,null,null,null,null,null,"2026-08-04",{"$f":"WEEKDAY(S1053)","v":3},{"$f":"MONTH(S1053)","v":8},{"$f":"YEAR(S1053)","v":2026},{"$f":"T1053&U1053","v":"38"},{"$f":"IF(V1053&W1053=V1052&W1052,X1052+1,1)","v":1},{"$f":"V1053&U1053&T1053&X1053","v":"2026831"},{"$f":"S1053","v":"2026-08-04"}]
[null,null,null,null,null,null,null,null,null,null,null,null,null,null,null,null,null,null,"2026-08-11",{"$f":"WEEKDAY(S1054)","v":3},{"$f":"MONTH(S1054)","v":8},{"$f":"YEAR(S1054)","v":2026},{"$f":"T1054&U1054","v":"38"},{"$f":"IF(V1054&W1054=V1053&W1053,X1053+1,1)","v":2},{"$f":"V1054&U1054&T1054&X1054","v":"2026832"},{"$f":"S1054","v":"2026-08-11"}]
[null,null,null,null,null,null,null,null,null,null,null,null,null,null,null,null,null,null,"2026-08-18",{"$f":"WEEKDAY(S1055)","v":3},{"$f":"MONTH(S1055)","v":8},{"$f":"YEAR(S1055)","v":2026},{"$f":"T1055&U1055","v":"38"},{"$f":"IF(V1055&W1055=V1054&W1054,X1054+1,1)","v":3},{"$f":"V1055&U1055&T1055&X1055","v":"2026833"},{"$f":"S1055","v":"2026-08-18"}]
[null,null,null,null,null,null,null,null,null,null,null,null,null,null,null,null,null,null,"2026-08-25",{"$f":"WEEKDAY(S1056)","v":3},{"$f":"MONTH(S1056)","v":8},{"$f":"YEAR(S1056)","v":2026},{"$f":"T1056&U1056","v":"38"},{"$f":"IF(V1056&W1056=V1055&W1055,X1055+1,1)","v":4},{"$f":"V1056&U1056&T1056&X1056","v":"2026834"},{"$f":"S1056","v":"2026-08-25"}]
[null,null,null,null,null,null,null,null,null,null,null,null,null,null,null,null,null,null,"2026-08-05",{"$f":"WEEKDAY(S1057)","v":4},{"$f":"MONTH(S1057)","v":8},{"$f":"YEAR(S1057)","v":2026},{"$f":"T1057&U1057","v":"48"},{"$f":"IF(V1057&W1057=V1056&W1056,X1056+1,1)","v":1},{"$f":"V1057&U1057&T1057&X1057","v":"2026841"},{"$f":"S1057","v":"2026-08-05"}]
[null,null,null,null,null,null,null,null,null,null,null,null,null,null,null,null,null,null,"2026-08-12",{"$f":"WEEKDAY(S1058)","v":4},{"$f":"MONTH(S1058)","v":8},{"$f":"YEAR(S1058)","v":2026},{"$f":"T1058&U1058","v":"48"},{"$f":"IF(V1058&W1058=V1057&W1057,X1057+1,1)","v":2},{"$f":"V1058&U1058&T1058&X1058","v":"2026842"},{"$f":"S1058","v":"2026-08-12"}]
[null,null,null,null,null,null,null,null,null,null,null,null,null,null,null,null,null,null,"2026-08-19",{"$f":"WEEKDAY(S1059)","v":4},{"$f":"MONTH(S1059)","v":8},{"$f":"YEAR(S1059)","v":2026},{"$f":"T1059&U1059","v":"48"},{"$f":"IF(V1059&W1059=V1058&W1058,X1058+1,1)","v":3},{"$f":"V1059&U1059&T1059&X1059","v":"2026843"},{"$f":"S1059","v":"2026-08-19"}]
[null,null,null,null,null,null,null,null,null,null,null,null,null,null,null,null,null,null,"2026-08-26",{"$f":"WEEKDAY(S1060)","v":4},{"$f":"MONTH(S1060)","v":8},{"$f":"YEAR(S1060)","v":2026},{"$f":"T1060&U1060","v":"48"},{"$f":"IF(V1060&W1060=V1059&W1059,X1059+1,1)","v":4},{"$f":"V1060&U1060&T1060&X1060","v":"2026844"},{"$f":"S1060","v":"2026-08-26"}]
[null,null,null,null,null,null,null,null,null,null,null,null,null,null,null,null,null,null,"2026-08-06",{"$f":"WEEKDAY(S1061)","v":5},{"$f":"MONTH(S1061)","v":8},{"$f":"YEAR(S1061)","v":2026},{"$f":"T1061&U1061","v":"58"},{"$f":"IF(V1061&W1061=V1060&W1060,X1060+1,1)","v":1},{"$f":"V1061&U1061&T1061&X1061","v":"2026851"},{"$f":"S1061","v":"2026-08-06"}]
[null,null,null,null,null,null,null,null,null,null,null,null,null,null,null,null,null,null,"2026-08-13",{"$f":"WEEKDAY(S1062)","v":5},{"$f":"MONTH(S1062)","v":8},{"$f":"YEAR(S1062)","v":2026},{"$f":"T1062&U1062","v":"58"},{"$f":"IF(V1062&W1062=V1061&W1061,X1061+1,1)","v":2},{"$f":"V1062&U1062&T1062&X1062","v":"2026852"},{"$f":"S1062","v":"2026-08-13"}]
[null,null,null,null,null,null,null,null,null,null,null,null,null,null,null,null,null,null,"2026-08-20",{"$f":"WEEKDAY(S1063)","v":5},{"$f":"MONTH(S1063)","v":8},{"$f":"YEAR(S1063)","v":2026},{"$f":"T1063&U1063","v":"58"},{"$f":"IF(V1063&W1063=V1062&W1062,X1062+1,1)","v":3},{"$f":"V1063&U1063&T1063&X1063","v":"2026853"},{"$f":"S1063","v":"2026-08-20"}]
[null,null,null,null,null,null,null,null,null,null,null,null,null,null,null,null,null,null,"2026-08-27",{"$f":"WEEKDAY(S1064)","v":5},{"$f":"MONTH(S1064)","v":8},{"$f":"YEAR(S1064)","v":2026},{"$f":"T1064&U1064","v":"58"},{"$f":"IF(V1064&W1064=V1063&W1063,X1063+1,1)","v":4},{"$f":"V1064&U1064&T1064&X1064","v":"2026854"},{"$f":"S1064","v":"2026-08-27"}]
[null,null,null,null,null,null,null,null,null,null,null,null,null,null,null,null,null,null,"2026-08-07",{"$f":"WEEKDAY(S1065)","v":6},{"$f":"MONTH(S1065)","v":8},{"$f":"YEAR(S1065)","v":2026},{"$f":"T1065&U1065","v":"68"},{"$f":"IF(V1065&W1065=V1064&W1064,X1064+1,1)","v":1},{"$f":"V1065&U1065&T1065&X1065","v":"2026861"},{"$f":"S1065","v":"2026-08-07"}]
[null,null,null,null,null,null,null,null,null,null,null,null,null,null,null,null,null,null,"2026-08-14",{"$f":"WEEKDAY(S1066)","v":6},{"$f":"MONTH(S1066)","v":8},{"$f":"YEAR(S1066)","v":2026},{"$f":"T1066&U1066","v":"68"},{"$f":"IF(V1066&W1066=V1065&W1065,X1065+1,1)","v":2},{"$f":"V1066&U1066&T1066&X1066","v":"2026862"},{"$f":"S1066","v":"2026-08-14"}]
[null,null,null,null,null,null,null,null,null,null,null,null,null,null,null,null,null,null,"2026-08-21",{"$f":"WEEKDAY(S1067)","v":6},{"$f":"MONTH(S1067)","v":8},{"$f":"YEAR(S1067)","v":2026},{"$f":"T1067&U1067","v":"68"},{"$f":"IF(V1067&W1067=V1066&W1066,X1066+1,1)","v":3},{"$f":"V1067&U1067&T1067&X1067","v":"2026863"},{"$f":"S1067","v":"2026-08-21"}]
[null,null,null,null,null,null,null,null,null,null,null,null,null,null,null,null,null,null,"2026-08-28",{"$f":"WEEKDAY(S1068)","v":6},{"$f":"MONTH(S1068)","v":8},{"$f":"YEAR(S1068)","v":2026},{"$f":"T1068&U1068","v":"68"},{"$f":"IF(V1068&W1068=V1067&W1067,X1067+1,1)","v":4},{"$f":"V1068&U1068&T1068&X1068","v":"2026864"},{"$f":"S1068","v":"2026-08-28"}]
[null,null,null,null,null,null,null,null,null,null,null,null,null,null,null,null,null,null,"2026-08-01",{"$f":"WEEKDAY(S1069)","v":7},{"$f":"MONTH(S1069)","v":8},{"$f":"YEAR(S1069)","v":2026},{"$f":"T1069&U1069","v":"78"},{"$f":"IF(V1069&W1069=V1068&W1068,X1068+1,1)","v":1},{"$f":"V1069&U1069&T1069&X1069","v":"2026871"},{"$f":"S1069","v":"2026-08-01"}]
[null,null,null,null,null,null,null,null,null,null,null,null,null,null,null,null,null,null,"2026-08-08",{"$f":"WEEKDAY(S1070)","v":7},{"$f":"MONTH(S1070)","v":8},{"$f":"YEAR(S1070)","v":2026},{"$f":"T1070&U1070","v":"78"},{"$f":"IF(V1070&W1070=V1069&W1069,X1069+1,1)","v":2},{"$f":"V1070&U1070&T1070&X1070","v":"2026872"},{"$f":"S1070","v":"2026-08-08"}]
[null,null,null,null,null,null,null,null,null,null,null,null,null,null,null,null,null,null,"2026-08-15",{"$f":"WEEKDAY(S1071)","v":7},{"$f":"MONTH(S1071)","v":8},{"$f":"YEAR(S1071)","v":2026},{"$f":"T1071&U1071","v":"78"},{"$f":"IF(V1071&W1071=V1070&W1070,X1070+1,1)","v":3},{"$f":"V1071&U1071&T1071&X1071","v":"2026873"},{"$f":"S1071","v":"2026-08-15"}]
[null,null,null,null,null,null,null,null,null,null,null,null,null,null,null,null,null,null,"2026-08-22",{"$f":"WEEKDAY(S1072)","v":7},{"$f":"MONTH(S1072)","v":8},{"$f":"YEAR(S1072)","v":2026},{"$f":"T1072&U1072","v":"78"},{"$f":"IF(V1072&W1072=V1071&W1071,X1071+1,1)","v":4},{"$f":"V1072&U1072&T1072&X1072","v":"2026874"},{"$f":"S1072","v":"2026-08-22"}]
[null,null,null,null,null,null,null,null,null,null,null,null,null,null,null,null,null,null,"2026-08-29",{"$f":"WEEKDAY(S1073)","v":7},{"$f":"MONTH(S1073)","v":8},{"$f":"YEAR(S1073)","v":2026},{"$f":"T1073&U1073","v":"78"},{"$f":"IF(V1073&W1073=V1072&W1072,X1072+1,1)","v":5},{"$f":"V1073&U1073&T1073&X1073","v":"2026875"},{"$f":"S1073","v":"2026-08-29"}]
[null,null,null,null,null,null,null,null,null,null,null,null,null,null,null,null,null,null,"2026-09-06",{"$f":"WEEKDAY(S1074)","v":1},{"$f":"MONTH(S1074)","v":9},{"$f":"YEAR(S1074)","v":2026},{"$f":"T1074&U1074","v":"19"},{"$f":"IF(V1074&W1074=V1073&W1073,X1073+1,1)","v":1},{"$f":"V1074&U1074&T1074&X1074","v":"2026911"},{"$f":"S1074","v":"2026-09-06"}]
[null,null,null,null,null,null,null,null,null,null,null,null,null,null,null,null,null,null,"2026-09-13",{"$f":"WEEKDAY(S1075)","v":1},{"$f":"MONTH(S1075)","v":9},{"$f":"YEAR(S1075)","v":2026},{"$f":"T1075&U1075","v":"19"},{"$f":"IF(V1075&W1075=V1074&W1074,X1074+1,1)","v":2},{"$f":"V1075&U1075&T1075&X1075","v":"2026912"},{"$f":"S1075","v":"2026-09-13"}]
[null,null,null,null,null,null,null,null,null,null,null,null,null,null,null,null,null,null,"2026-09-20",{"$f":"WEEKDAY(S1076)","v":1},{"$f":"MONTH(S1076)","v":9},{"$f":"YEAR(S1076)","v":2026},{"$f":"T1076&U1076","v":"19"},{"$f":"IF(V1076&W1076=V1075&W1075,X1075+1,1)","v":3},{"$f":"V1076&U1076&T1076&X1076","v":"2026913"},{"$f":"S1076","v":"2026-09-20"}]
[null,null,null,null,null,null,null,null,null,null,null,null,null,null,null,null,null,null,"2026-09-27",{"$f":"WEEKDAY(S1077)","v":1},{"$f":"MONTH(S1077)","v":9},{"$f":"YEAR(S1077)","v":2026},{"$f":"T1077&U1077","v":"19"},{"$f":"IF(V1077&W1077=V1076&W1076,X1076+1,1)","v":4},{"$f":"V1077&U1077&T1077&X1077","v":"2026914"},{"$f":"S1077","v":"2026-09-27"}]
[null,null,null,null,null,null,null,null,null,null,null,null,null,null,null,null,null,null,"2026-09-07",{"$f":"WEEKDAY(S1078)","v":2},{"$f":"MONTH(S1078)","v":9},{"$f":"YEAR(S1078)","v":2026},{"$f":"T1078&U1078","v":"29"},{"$f":"IF(V1078&W1078=V1077&W1077,X1077+1,1)","v":1},{"$f":"V1078&U1078&T1078&X1078","v":"2026921"},{"$f":"S1078","v":"2026-09-07"}]
[null,null,null,null,null,null,null,null,null,null,null,null,null,null,null,null,null,null,"2026-09-14",{"$f":"WEEKDAY(S1079)","v":2},{"$f":"MONTH(S1079)","v":9},{"$f":"YEAR(S1079)","v":2026},{"$f":"T1079&U1079","v":"29"},{"$f":"IF(V1079&W1079=V1078&W1078,X1078+1,1)","v":2},{"$f":"V1079&U1079&T1079&X1079","v":"2026922"},{"$f":"S1079","v":"2026-09-14"}]
[null,null,null,null,null,null,null,null,null,null,null,null,null,null,null,null,null,null,"2026-09-21",{"$f":"WEEKDAY(S1080)","v":2},{"$f":"MONTH(S1080)","v":9},{"$f":"YEAR(S1080)","v":2026},{"$f":"T1080&U1080","v":"29"},{"$f":"IF(V1080&W1080=V1079&W1079,X1079+1,1)","v":3},{"$f":"V1080&U1080&T1080&X1080","v":"2026923"},{"$f":"S1080","v":"2026-09-21"}]
[null,null,null,null,null,null,null,null,null,null,null,null,null,null,null,null,null,null,"2026-09-28",{"$f":"WEEKDAY(S1081)","v":2},{"$f":"MONTH(S1081)","v":9},{"$f":"YEAR(S1081)","v":2026},{"$f":"T1081&U1081","v":"29"},{"$f":"IF(V1081&W1081=V1080&W1080,X1080+1,1)","v":4},{"$f":"V1081&U1081&T1081&X1081","v":"2026924"},{"$f":"S1081","v":"2026-09-28"}]
[null,null,null,null,null,null,null,null,null,null,null,null,null,null,null,null,null,null,"2026-09-01",{"$f":"WEEKDAY(S1082)","v":3},{"$f":"MONTH(S1082)","v":9},{"$f":"YEAR(S1082)","v":2026},{"$f":"T1082&U1082","v":"39"},{"$f":"IF(V1082&W1082=V1081&W1081,X1081+1,1)","v":1},{"$f":"V1082&U1082&T1082&X1082","v":"2026931"},{"$f":"S1082","v":"2026-09-01"}]
[null,null,null,null,null,null,null,null,null,null,null,null,null,null,null,null,null,null,"2026-09-08",{"$f":"WEEKDAY(S1083)","v":3},{"$f":"MONTH(S1083)","v":9},{"$f":"YEAR(S1083)","v":2026},{"$f":"T1083&U1083","v":"39"},{"$f":"IF(V1083&W1083=V1082&W1082,X1082+1,1)","v":2},{"$f":"V1083&U1083&T1083&X1083","v":"2026932"},{"$f":"S1083","v":"2026-09-08"}]
[null,null,null,null,null,null,null,null,null,null,null,null,null,null,null,null,null,null,"2026-09-15",{"$f":"WEEKDAY(S1084)","v":3},{"$f":"MONTH(S1084)","v":9},{"$f":"YEAR(S1084)","v":2026},{"$f":"T1084&U1084","v":"39"},{"$f":"IF(V1084&W1084=V1083&W1083,X1083+1,1)","v":3},{"$f":"V1084&U1084&T1084&X1084","v":"2026933"},{"$f":"S1084","v":"2026-09-15"}]
[null,null,null,null,null,null,null,null,null,null,null,null,null,null,null,null,null,null,"2026-09-22",{"$f":"WEEKDAY(S1085)","v":3},{"$f":"MONTH(S1085)","v":9},{"$f":"YEAR(S1085)","v":2026},{"$f":"T1085&U1085","v":"39"},{"$f":"IF(V1085&W1085=V1084&W1084,X1084+1,1)","v":4},{"$f":"V1085&U1085&T1085&X1085","v":"2026934"},{"$f":"S1085","v":"2026-09-22"}]
[null,null,null,null,null,null,null,null,null,null,null,null,null,null,null,null,null,null,"2026-09-29",{"$f":"WEEKDAY(S1086)","v":3},{"$f":"MONTH(S1086)","v":9},{"$f":"YEAR(S1086)","v":2026},{"$f":"T1086&U1086","v":"39"},{"$f":"IF(V1086&W1086=V1085&W1085,X1085+1,1)","v":5},{"$f":"V1086&U1086&T1086&X1086","v":"2026935"},{"$f":"S1086","v":"2026-09-29"}]
[null,null,null,null,null,null,null,null,null,null,null,null,null,null,null,null,null,null,"2026-09-02",{"$f":"WEEKDAY(S1087)","v":4},{"$f":"MONTH(S1087)","v":9},{"$f":"YEAR(S1087)","v":2026},{"$f":"T1087&U1087","v":"49"},{"$f":"IF(V1087&W1087=V1086&W1086,X1086+1,1)","v":1},{"$f":"V1087&U1087&T1087&X1087","v":"2026941"},{"$f":"S1087","v":"2026-09-02"}]
[null,null,null,null,null,null,null,null,null,null,null,null,null,null,null,null,null,null,"2026-09-09",{"$f":"WEEKDAY(S1088)","v":4},{"$f":"MONTH(S1088)","v":9},{"$f":"YEAR(S1088)","v":2026},{"$f":"T1088&U1088","v":"49"},{"$f":"IF(V1088&W1088=V1087&W1087,X1087+1,1)","v":2},{"$f":"V1088&U1088&T1088&X1088","v":"2026942"},{"$f":"S1088","v":"2026-09-09"}]
[null,null,null,null,null,null,null,null,null,null,null,null,null,null,null,null,null,null,"2026-09-16",{"$f":"WEEKDAY(S1089)","v":4},{"$f":"MONTH(S1089)","v":9},{"$f":"YEAR(S1089)","v":2026},{"$f":"T1089&U1089","v":"49"},{"$f":"IF(V1089&W1089=V1088&W1088,X1088+1,1)","v":3},{"$f":"V1089&U1089&T1089&X1089","v":"2026943"},{"$f":"S1089","v":"2026-09-16"}]
[null,null,null,null,null,null,null,null,null,null,null,null,null,null,null,null,null,null,"2026-09-23",{"$f":"WEEKDAY(S1090)","v":4},{"$f":"MONTH(S1090)","v":9},{"$f":"YEAR(S1090)","v":2026},{"$f":"T1090&U1090","v":"49"},{"$f":"IF(V1090&W1090=V1089&W1089,X1089+1,1)","v":4},{"$f":"V1090&U1090&T1090&X1090","v":"2026944"},{"$f":"S1090","v":"2026-09-23"}]
[null,null,null,null,null,null,null,null,null,null,null,null,null,null,null,null,null,null,"2026-09-30",{"$f":"WEEKDAY(S1091)","v":4},{"$f":"MONTH(S1091)","v":9},{"$f":"YEAR(S1091)","v":2026},{"$f":"T1091&U1091","v":"49"},{"$f":"IF(V1091&W1091=V1090&W1090,X1090+1,1)","v":5},{"$f":"V1091&U1091&T1091&X1091","v":"2026945"},{"$f":"S1091","v":"2026-09-30"}]
[null,null,null,null,null,null,null,null,null,null,null,null,null,null,null,null,null,null,"2026-09-03",{"$f":"WEEKDAY(S1092)","v":5},{"$f":"MONTH(S1092)","v":9},{"$f":"YEAR(S1092)","v":2026},{"$f":"T1092&U1092","v":"59"},{"$f":"IF(V1092&W1092=V1091&W1091,X1091+1,1)","v":1},{"$f":"V1092&U1092&T1092&X1092","v":"2026951"},{"$f":"S1092","v":"2026-09-03"}]
[null,null,null,null,null,null,null,null,null,null,null,null,null,null,null,null,null,null,"2026-09-10",{"$f":"WEEKDAY(S1093)","v":5},{"$f":"MONTH(S1093)","v":9},{"$f":"YEAR(S1093)","v":2026},{"$f":"T1093&U1093","v":"59"},{"$f":"IF(V1093&W1093=V1092&W1092,X1092+1,1)","v":2},{"$f":"V1093&U1093&T1093&X1093","v":"2026952"},{"$f":"S1093","v":"2026-09-10"}]
[null,null,null,null,null,null,null,null,null,null,null,null,null,null,null,null,null,null,"2026-09-17",{"$f":"WEEKDAY(S1094)","v":5},{"$f":"MONTH(S1094)","v":9},{"$f":"YEAR(S1094)","v":2026},{"$f":"T1094&U1094","v":"59"},{"$f":"IF(V1094&W1094=V1093&W1093,X1093+1,1)","v":3},{"$f":"V1094&U1094&T1094&X1094","v":"2026953"},{"$f":"S1094","v":"2026-09-17"}]
[null,null,null,null,null,null,null,null,null,null,null,null,null,null,null,null,null,null,"2026-09-24",{"$f":"WEEKDAY(S1095)","v":5},{"$f":"MONTH(S1095)","v":9},{"$f":"YEAR(S1095)","v":2026},{"$f":"T1095&U1095","v":"59"},{"$f":"IF(V1095&W1095=V1094&W1094,X1094+1,1)","v":4},{"$f":"V1095&U1095&T1095&X1095","v":"2026954"},{"$f":"S1095","v":"2026-09-24"}]
[null,null,null,null,null,null,null,null,null,null,null,null,null,null,null,null,null,null,"2026-09-04",{"$f":"WEEKDAY(S1096)","v":6},{"$f":"MONTH(S1096)","v":9},{"$f":"YEAR(S1096)","v":2026},{"$f":"T1096&U1096","v":"69"},{"$f":"IF(V1096&W1096=V1095&W1095,X1095+1,1)","v":1},{"$f":"V1096&U1096&T1096&X1096","v":"2026961"},{"$f":"S1096","v":"2026-09-04"}]
[null,null,null,null,null,null,null,null,null,null,null,null,null,null,null,null,null,null,"2026-09-11",{"$f":"WEEKDAY(S1097)","v":6},{"$f":"MONTH(S1097)","v":9},{"$f":"YEAR(S1097)","v":2026},{"$f":"T1097&U1097","v":"69"},{"$f":"IF(V1097&W1097=V1096&W1096,X1096+1,1)","v":2},{"$f":"V1097&U1097&T1097&X1097","v":"2026962"},{"$f":"S1097","v":"2026-09-11"}]
[null,null,null,null,null,null,null,null,null,null,null,null,null,null,null,null,null,null,"2026-09-18",{"$f":"WEEKDAY(S1098)","v":6},{"$f":"MONTH(S1098)","v":9},{"$f":"YEAR(S1098)","v":2026},{"$f":"T1098&U1098","v":"69"},{"$f":"IF(V1098&W1098=V1097&W1097,X1097+1,1)","v":3},{"$f":"V1098&U1098&T1098&X1098","v":"2026963"},{"$f":"S1098","v":"2026-09-18"}]
[null,null,null,null,null,null,null,null,null,null,null,null,null,null,null,null,null,null,"2026-09-25",{"$f":"WEEKDAY(S1099)","v":6},{"$f":"MONTH(S1099)","v":9},{"$f":"YEAR(S1099)","v":2026},{"$f":"T1099&U1099","v":"69"},{"$f":"IF(V1099&W1099=V1098&W1098,X1098+1,1)","v":4},{"$f":"V1099&U1099&T1099&X1099","v":"2026964"},{"$f":"S1099","v":"2026-09-25"}]
[null,null,null,null,null,null,null,null,null,null,null,null,null,null,null,null,null,null,"2026-09-05",{"$f":"WEEKDAY(S1100)","v":7},{"$f":"MONTH(S1100)","v":9},{"$f":"YEAR(S1100)","v":2026},{"$f":"T1100&U1100","v":"79"},{"$f":"IF(V1100&W1100=V1099&W1099,X1099+1,1)","v":1},{"$f":"V1100&U1100&T1100&X1100","v":"2026971"},{"$f":"S1100","v":"2026-09-05"}]
[null,null,null,null,null,null,null,null,null,null,null,null,null,null,null,null,null,null,"2026-09-12",{"$f":"WEEKDAY(S1101)","v":7},{"$f":"MONTH(S1101)","v":9},{"$f":"YEAR(S1101)","v":2026},{"$f":"T1101&U1101","v":"79"},{"$f":"IF(V1101&W1101=V1100&W1100,X1100+1,1)","v":2},{"$f":"V1101&U1101&T1101&X1101","v":"2026972"},{"$f":"S1101","v":"2026-09-12"}]
[null,null,null,null,null,null,null,null,null,null,null,null,null,null,null,null,null,null,"2026-09-19",{"$f":"WEEKDAY(S1102)","v":7},{"$f":"MONTH(S1102)","v":9},{"$f":"YEAR(S1102)","v":2026},{"$f":"T1102&U1102","v":"79"},{"$f":"IF(V1102&W1102=V1101&W1101,X1101+1,1)","v":3},{"$f":"V1102&U1102&T1102&X1102","v":"2026973"},{"$f":"S1102","v":"2026-09-19"}]
[null,null,null,null,null,null,null,null,null,null,null,null,null,null,null,null,null,null,"2026-09-26",{"$f":"WEEKDAY(S1103)","v":7},{"$f":"MONTH(S1103)","v":9},{"$f":"YEAR(S1103)","v":2026},{"$f":"T1103&U1103","v":"79"},{"$f":"IF(V1103&W1103=V1102&W1102,X1102+1,1)","v":4},{"$f":"V1103&U1103&T1103&X1103","v":"2026974"},{"$f":"S1103","v":"2026-09-26"}]
[null,null,null,null,null,null,null,null,null,null,null,null,null,null,null,null,null,null,"2027-10-03",{"$f":"WEEKDAY(S1104)","v":1},{"$f":"MONTH(S1104)","v":10},{"$f":"YEAR(S1104)","v":2027},{"$f":"T1104&U1104","v":"110"},{"$f":"IF(V1104&W1104=V1103&W1103,X1103+1,1)","v":1},{"$f":"V1104&U1104&T1104&X1104","v":"20271011"},{"$f":"S1104","v":"2027-10-03"}]
[null,null,null,null,null,null,null,null,null,null,null,null,null,null,null,null,null,null,"2027-10-10",{"$f":"WEEKDAY(S1105)","v":1},{"$f":"MONTH(S1105)","v":10},{"$f":"YEAR(S1105)","v":2027},{"$f":"T1105&U1105","v":"110"},{"$f":"IF(V1105&W1105=V1104&W1104,X1104+1,1)","v":2},{"$f":"V1105&U1105&T1105&X1105","v":"20271012"},{"$f":"S1105","v":"2027-10-10"}]
[null,null,null,null,null,null,null,null,null,null,null,null,null,null,null,null,null,null,"2027-10-17",{"$f":"WEEKDAY(S1106)","v":1},{"$f":"MONTH(S1106)","v":10},{"$f":"YEAR(S1106)","v":2027},{"$f":"T1106&U1106","v":"110"},{"$f":"IF(V1106&W1106=V1105&W1105,X1105+1,1)","v":3},{"$f":"V1106&U1106&T1106&X1106","v":"20271013"},{"$f":"S1106","v":"2027-10-17"}]
[null,null,null,null,null,null,null,null,null,null,null,null,null,null,null,null,null,null,"2027-10-24",{"$f":"WEEKDAY(S1107)","v":1},{"$f":"MONTH(S1107)","v":10},{"$f":"YEAR(S1107)","v":2027},{"$f":"T1107&U1107","v":"110"},{"$f":"IF(V1107&W1107=V1106&W1106,X1106+1,1)","v":4},{"$f":"V1107&U1107&T1107&X1107","v":"20271014"},{"$f":"S1107","v":"2027-10-24"}]
[null,null,null,null,null,null,null,null,null,null,null,null,null,null,null,null,null,null,"2027-10-31",{"$f":"WEEKDAY(S1108)","v":1},{"$f":"MONTH(S1108)","v":10},{"$f":"YEAR(S1108)","v":2027},{"$f":"T1108&U1108","v":"110"},{"$f":"IF(V1108&W1108=V1107&W1107,X1107+1,1)","v":5},{"$f":"V1108&U1108&T1108&X1108","v":"20271015"},{"$f":"S1108","v":"2027-10-31"}]
[null,null,null,null,null,null,null,null,null,null,null,null,null,null,null,null,null,null,"2027-10-04",{"$f":"WEEKDAY(S1109)","v":2},{"$f":"MONTH(S1109)","v":10},{"$f":"YEAR(S1109)","v":2027},{"$f":"T1109&U1109","v":"210"},{"$f":"IF(V1109&W1109=V1108&W1108,X1108+1,1)","v":1},{"$f":"V1109&U1109&T1109&X1109","v":"20271021"},{"$f":"S1109","v":"2027-10-04"}]
[null,null,null,null,null,null,null,null,null,null,null,null,null,null,null,null,null,null,"2027-10-11",{"$f":"WEEKDAY(S1110)","v":2},{"$f":"MONTH(S1110)","v":10},{"$f":"YEAR(S1110)","v":2027},{"$f":"T1110&U1110","v":"210"},{"$f":"IF(V1110&W1110=V1109&W1109,X1109+1,1)","v":2},{"$f":"V1110&U1110&T1110&X1110","v":"20271022"},{"$f":"S1110","v":"2027-10-11"}]
[null,null,null,null,null,null,null,null,null,null,null,null,null,null,null,null,null,null,"2027-10-18",{"$f":"WEEKDAY(S1111)","v":2},{"$f":"MONTH(S1111)","v":10},{"$f":"YEAR(S1111)","v":2027},{"$f":"T1111&U1111","v":"210"},{"$f":"IF(V1111&W1111=V1110&W1110,X1110+1,1)","v":3},{"$f":"V1111&U1111&T1111&X1111","v":"20271023"},{"$f":"S1111","v":"2027-10-18"}]
[null,null,null,null,null,null,null,null,null,null,null,null,null,null,null,null,null,null,"2027-10-25",{"$f":"WEEKDAY(S1112)","v":2},{"$f":"MONTH(S1112)","v":10},{"$f":"YEAR(S1112)","v":2027},{"$f":"T1112&U1112","v":"210"},{"$f":"IF(V1112&W1112=V1111&W1111,X1111+1,1)","v":4},{"$f":"V1112&U1112&T1112&X1112","v":"20271024"},{"$f":"S1112","v":"2027-10-25"}]
[null,null,null,null,null,null,null,null,null,null,null,null,null,null,null,null,null,null,"2027-10-05",{"$f":"WEEKDAY(S1113)","v":3},{"$f":"MONTH(S1113)","v":10},{"$f":"YEAR(S1113)","v":2027},{"$f":"T1113&U1113","v":"310"},{"$f":"IF(V1113&W1113=V1112&W1112,X1112+1,1)","v":1},{"$f":"V1113&U1113&T1113&X1113","v":"20271031"},{"$f":"S1113","v":"2027-10-05"}]
[null,null,null,null,null,null,null,null,null,null,null,null,null,null,null,null,null,null,"2027-10-12",{"$f":"WEEKDAY(S1114)","v":3},{"$f":"MONTH(S1114)","v":10},{"$f":"YEAR(S1114)","v":2027},{"$f":"T1114&U1114","v":"310"},{"$f":"IF(V1114&W1114=V1113&W1113,X1113+1,1)","v":2},{"$f":"V1114&U1114&T1114&X1114","v":"20271032"},{"$f":"S1114","v":"2027-10-12"}]
[null,null,null,null,null,null,null,null,null,null,null,null,null,null,null,null,null,null,"2027-10-19",{"$f":"WEEKDAY(S1115)","v":3},{"$f":"MONTH(S1115)","v":10},{"$f":"YEAR(S1115)","v":2027},{"$f":"T1115&U1115","v":"310"},{"$f":"IF(V1115&W1115=V1114&W1114,X1114+1,1)","v":3},{"$f":"V1115&U1115&T1115&X1115","v":"20271033"},{"$f":"S1115","v":"2027-10-19"}]
[null,null,null,null,null,null,null,null,null,null,null,null,null,null,null,null,null,null,"2027-10-26",{"$f":"WEEKDAY(S1116)","v":3},{"$f":"MONTH(S1116)","v":10},{"$f":"YEAR(S1116)","v":2027},{"$f":"T1116&U1116","v":"310"},{"$f":"IF(V1116&W1116=V1115&W1115,X1115+1,1)","v":4},{"$f":"V1116&U1116&T1116&X1116","v":"20271034"},{"$f":"S1116","v":"2027-10-26"}]
[null,null,null,null,null,null,null,null,null,null,null,null,null,null,null,null,null,null,"2027-10-06",{"$f":"WEEKDAY(S1117)","v":4},{"$f":"MONTH(S1117)","v":10},{"$f":"YEAR(S1117)","v":2027},{"$f":"T1117&U1117","v":"410"},{"$f":"IF(V1117&W1117=V1116&W1116,X1116+1,1)","v":1},{"$f":"V1117&U1117&T1117&X1117","v":"20271041"},{"$f":"S1117","v":"2027-10-06"}]
[null,null,null,null,null,null,null,null,null,null,null,null,null,null,null,null,null,null,"2027-10-13",{"$f":"WEEKDAY(S1118)","v":4},{"$f":"MONTH(S1118)","v":10},{"$f":"YEAR(S1118)","v":2027},{"$f":"T1118&U1118","v":"410"},{"$f":"IF(V1118&W1118=V1117&W1117,X1117+1,1)","v":2},{"$f":"V1118&U1118&T1118&X1118","v":"20271042"},{"$f":"S1118","v":"2027-10-13"}]
[null,null,null,null,null,null,null,null,null,null,null,null,null,null,null,null,null,null,"2027-10-20",{"$f":"WEEKDAY(S1119)","v":4},{"$f":"MONTH(S1119)","v":10},{"$f":"YEAR(S1119)","v":2027},{"$f":"T1119&U1119","v":"410"},{"$f":"IF(V1119&W1119=V1118&W1118,X1118+1,1)","v":3},{"$f":"V1119&U1119&T1119&X1119","v":"20271043"},{"$f":"S1119","v":"2027-10-20"}]
[null,null,null,null,null,null,null,null,null,null,null,null,null,null,null,null,null,null,"2027-10-27",{"$f":"WEEKDAY(S1120)","v":4},{"$f":"MONTH(S1120)","v":10},{"$f":"YEAR(S1120)","v":2027},{"$f":"T1120&U1120","v":"410"},{"$f":"IF(V1120&W1120=V1119&W1119,X1119+1,1)","v":4},{"$f":"V1120&U1120&T1120&X1120","v":"20271044"},{"$f":"S1120","v":"2027-10-27"}]
[null,null,null,null,null,null,null,null,null,null,null,null,null,null,null,null,null,null,"2027-10-07",{"$f":"WEEKDAY(S1121)","v":5},{"$f":"MONTH(S1121)","v":10},{"$f":"YEAR(S1121)","v":2027},{"$f":"T1121&U1121","v":"510"},{"$f":"IF(V1121&W1121=V1120&W1120,X1120+1,1)","v":1},{"$f":"V1121&U1121&T1121&X1121","v":"20271051"},{"$f":"S1121","v":"2027-10-07"}]
[null,null,null,null,null,null,null,null,null,null,null,null,null,null,null,null,null,null,"2027-10-14",{"$f":"WEEKDAY(S1122)","v":5},{"$f":"MONTH(S1122)","v":10},{"$f":"YEAR(S1122)","v":2027},{"$f":"T1122&U1122","v":"510"},{"$f":"IF(V1122&W1122=V1121&W1121,X1121+1,1)","v":2},{"$f":"V1122&U1122&T1122&X1122","v":"20271052"},{"$f":"S1122","v":"2027-10-14"}]
[null,null,null,null,null,null,null,null,null,null,null,null,null,null,null,null,null,null,"2027-10-21",{"$f":"WEEKDAY(S1123)","v":5},{"$f":"MONTH(S1123)","v":10},{"$f":"YEAR(S1123)","v":2027},{"$f":"T1123&U1123","v":"510"},{"$f":"IF(V1123&W1123=V1122&W1122,X1122+1,1)","v":3},{"$f":"V1123&U1123&T1123&X1123","v":"20271053"},{"$f":"S1123","v":"2027-10-21"}]
[null,null,null,null,null,null,null,null,null,null,null,null,null,null,null,null,null,null,"2027-10-28",{"$f":"WEEKDAY(S1124)","v":5},{"$f":"MONTH(S1124)","v":10},{"$f":"YEAR(S1124)","v":2027},{"$f":"T1124&U1124","v":"510"},{"$f":"IF(V1124&W1124=V1123&W1123,X1123+1,1)","v":4},{"$f":"V1124&U1124&T1124&X1124","v":"20271054"},{"$f":"S1124","v":"2027-10-28"}]
[null,null,null,null,null,null,null,null,null,null,null,null,null,null,null,null,null,null,"2027-10-01",{"$f":"WEEKDAY(S1125)","v":6},{"$f":"MONTH(S1125)","v":10},{"$f":"YEAR(S1125)","v":2027},{"$f":"T1125&U1125","v":"610"},{"$f":"IF(V1125&W1125=V1124&W1124,X1124+1,1)","v":1},{"$f":"V1125&U1125&T1125&X1125","v":"20271061"},{"$f":"S1125","v":"2027-10-01"}]
[null,null,null,null,null,null,null,null,null,null,null,null,null,null,null,null,null,null,"2027-10-08",{"$f":"WEEKDAY(S1126)","v":6},{"$f":"MONTH(S1126)","v":10},{"$f":"YEAR(S1126)","v":2027},{"$f":"T1126&U1126","v":"610"},{"$f":"IF(V1126&W1126=V1125&W1125,X1125+1,1)","v":2},{"$f":"V1126&U1126&T1126&X1126","v":"20271062"},{"$f":"S1126","v":"2027-10-08"}]
[null,null,null,null,null,null,null,null,null,null,null,null,null,null,null,null,null,null,"2027-10-15",{"$f":"WEEKDAY(S1127)","v":6},{"$f":"MONTH(S1127)","v":10},{"$f":"YEAR(S1127)","v":2027},{"$f":"T1127&U1127","v":"610"},{"$f":"IF(V1127&W1127=V1126&W1126,X1126+1,1)","v":3},{"$f":"V1127&U1127&T1127&X1127","v":"20271063"},{"$f":"S1127","v":"2027-10-15"}]
[null,null,null,null,null,null,null,null,null,null,null,null,null,null,null,null,null,null,"2027-10-22",{"$f":"WEEKDAY(S1128)","v":6},{"$f":"MONTH(S1128)","v":10},{"$f":"YEAR(S1128)","v":2027},{"$f":"T1128&U1128","v":"610"},{"$f":"IF(V1128&W1128=V1127&W1127,X1127+1,1)","v":4},{"$f":"V1128&U1128&T1128&X1128","v":"20271064"},{"$f":"S1128","v":"2027-10-22"}]
[null,null,null,null,null,null,null,null,null,null,null,null,null,null,null,null,null,null,"2027-10-29",{"$f":"WEEKDAY(S1129)","v":6},{"$f":"MONTH(S1129)","v":10},{"$f":"YEAR(S1129)","v":2027},{"$f":"T1129&U1129","v":"610"},{"$f":"IF(V1129&W1129=V1128&W1128,X1128+1,1)","v":5},{"$f":"V1129&U1129&T1129&X1129","v":"20271065"},{"$f":"S1129","v":"2027-10-29"}]
[null,null,null,null,null,null,null,null,null,null,null,null,null,null,null,null,null,null,"2027-10-02",{"$f":"WEEKDAY(S1130)","v":7},{"$f":"MONTH(S1130)","v":10},{"$f":"YEAR(S1130)","v":2027},{"$f":"T1130&U1130","v":"710"},{"$f":"IF(V1130&W1130=V1129&W1129,X1129+1,1)","v":1},{"$f":"V1130&U1130&T1130&X1130","v":"20271071"},{"$f":"S1130","v":"2027-10-02"}]
[null,null,null,null,null,null,null,null,null,null,null,null,null,null,null,null,null,null,"2027-10-09",{"$f":"WEEKDAY(S1131)","v":7},{"$f":"MONTH(S1131)","v":10},{"$f":"YEAR(S1131)","v":2027},{"$f":"T1131&U1131","v":"710"},{"$f":"IF(V1131&W1131=V1130&W1130,X1130+1,1)","v":2},{"$f":"V1131&U1131&T1131&X1131","v":"20271072"},{"$f":"S1131","v":"2027-10-09"}]
[null,null,null,null,null,null,null,null,null,null,null,null,null,null,null,null,null,null,"2027-10-16",{"$f":"WEEKDAY(S1132)","v":7},{"$f":"MONTH(S1132)","v":10},{"$f":"YEAR(S1132)","v":2027},{"$f":"T1132&U1132","v":"710"},{"$f":"IF(V1132&W1132=V1131&W1131,X1131+1,1)","v":3},{"$f":"V1132&U1132&T1132&X1132","v":"20271073"},{"$f":"S1132","v":"2027-10-16"}]
[null,null,null,null,null,null,null,null,null,null,null,null,null,null,null,null,null,null,"2027-10-23",{"$f":"WEEKDAY(S1133)","v":7},{"$f":"MONTH(S1133)","v":10},{"$f":"YEAR(S1133)","v":2027},{"$f":"T1133&U1133","v":"710"},{"$f":"IF(V1133&W1133=V1132&W1132,X1132+1,1)","v":4},{"$f":"V1133&U1133&T1133&X1133","v":"20271074"},{"$f":"S1133","v":"2027-10-23"}]
[null,null,null,null,null,null,null,null,null,null,null,null,null,null,null,null,null,null,"2027-10-30",{"$f":"WEEKDAY(S1134)","v":7},{"$f":"MONTH(S1134)","v":10},{"$f":"YEAR(S1134)","v":2027},{"$f":"T1134&U1134","v":"710"},{"$f":"IF(V1134&W1134=V1133&W1133,X1133+1,1)","v":5},{"$f":"V1134&U1134&T1134&X1134","v":"20271075"},{"$f":"S1134","v":"2027-10-30"}]
[null,null,null,null,null,null,null,null,null,null,null,null,null,null,null,null,null,null,"2027-01-03",{"$f":"WEEKDAY(S1135)","v":1},{"$f":"MONTH(S1135)","v":1},{"$f":"YEAR(S1135)","v":2027},{"$f":"T1135&U1135","v":"11"},{"$f":"IF(V1135&W1135=V1134&W1134,X1134+1,1)","v":1},{"$f":"V1135&U1135&T1135&X1135","v":"2027111"},{"$f":"S1135","v":"2027-01-03"}]
[null,null,null,null,null,null,null,null,null,null,null,null,null,null,null,null,null,null,"2027-11-07",{"$f":"WEEKDAY(S1136)","v":1},{"$f":"MONTH(S1136)","v":11},{"$f":"YEAR(S1136)","v":2027},{"$f":"T1136&U1136","v":"111"},{"$f":"IF(V1136&W1136=V1135&W1135,X1135+1,1)","v":1},{"$f":"V1136&U1136&T1136&X1136","v":"20271111"},{"$f":"S1136","v":"2027-11-07"}]
[null,null,null,null,null,null,null,null,null,null,null,null,null,null,null,null,null,null,"2027-11-14",{"$f":"WEEKDAY(S1137)","v":1},{"$f":"MONTH(S1137)","v":11},{"$f":"YEAR(S1137)","v":2027},{"$f":"T1137&U1137","v":"111"},{"$f":"IF(V1137&W1137=V1136&W1136,X1136+1,1)","v":2},{"$f":"V1137&U1137&T1137&X1137","v":"20271112"},{"$f":"S1137","v":"2027-11-14"}]
[null,null,null,null,null,null,null,null,null,null,null,null,null,null,null,null,null,null,"2027-11-21",{"$f":"WEEKDAY(S1138)","v":1},{"$f":"MONTH(S1138)","v":11},{"$f":"YEAR(S1138)","v":2027},{"$f":"T1138&U1138","v":"111"},{"$f":"IF(V1138&W1138=V1137&W1137,X1137+1,1)","v":3},{"$f":"V1138&U1138&T1138&X1138","v":"20271113"},{"$f":"S1138","v":"2027-11-21"}]
[null,null,null,null,null,null,null,null,null,null,null,null,null,null,null,null,null,null,"2027-11-28",{"$f":"WEEKDAY(S1139)","v":1},{"$f":"MONTH(S1139)","v":11},{"$f":"YEAR(S1139)","v":2027},{"$f":"T1139&U1139","v":"111"},{"$f":"IF(V1139&W1139=V1138&W1138,X1138+1,1)","v":4},{"$f":"V1139&U1139&T1139&X1139","v":"20271114"},{"$f":"S1139","v":"2027-11-28"}]
[null,null,null,null,null,null,null,null,null,null,null,null,null,null,null,null,null,null,"2027-01-10",{"$f":"WEEKDAY(S1140)","v":1},{"$f":"MONTH(S1140)","v":1},{"$f":"YEAR(S1140)","v":2027},{"$f":"T1140&U1140","v":"11"},{"$f":"IF(V1140&W1140=V1139&W1139,X1139+1,1)","v":1},{"$f":"V1140&U1140&T1140&X1140","v":"2027111"},{"$f":"S1140","v":"2027-01-10"}]
[null,null,null,null,null,null,null,null,null,null,null,null,null,null,null,null,null,null,"2027-11-01",{"$f":"WEEKDAY(S1141)","v":2},{"$f":"MONTH(S1141)","v":11},{"$f":"YEAR(S1141)","v":2027},{"$f":"T1141&U1141","v":"211"},{"$f":"IF(V1141&W1141=V1140&W1140,X1140+1,1)","v":1},{"$f":"V1141&U1141&T1141&X1141","v":"20271121"},{"$f":"S1141","v":"2027-11-01"}]
[null,null,null,null,null,null,null,null,null,null,null,null,null,null,null,null,null,null,"2027-11-08",{"$f":"WEEKDAY(S1142)","v":2},{"$f":"MONTH(S1142)","v":11},{"$f":"YEAR(S1142)","v":2027},{"$f":"T1142&U1142","v":"211"},{"$f":"IF(V1142&W1142=V1141&W1141,X1141+1,1)","v":2},{"$f":"V1142&U1142&T1142&X1142","v":"20271122"},{"$f":"S1142","v":"2027-11-08"}]
[null,null,null,null,null,null,null,null,null,null,null,null,null,null,null,null,null,null,"2027-11-15",{"$f":"WEEKDAY(S1143)","v":2},{"$f":"MONTH(S1143)","v":11},{"$f":"YEAR(S1143)","v":2027},{"$f":"T1143&U1143","v":"211"},{"$f":"IF(V1143&W1143=V1142&W1142,X1142+1,1)","v":3},{"$f":"V1143&U1143&T1143&X1143","v":"20271123"},{"$f":"S1143","v":"2027-11-15"}]
[null,null,null,null,null,null,null,null,null,null,null,null,null,null,null,null,null,null,"2027-11-22",{"$f":"WEEKDAY(S1144)","v":2},{"$f":"MONTH(S1144)","v":11},{"$f":"YEAR(S1144)","v":2027},{"$f":"T1144&U1144","v":"211"},{"$f":"IF(V1144&W1144=V1143&W1143,X1143+1,1)","v":4},{"$f":"V1144&U1144&T1144&X1144","v":"20271124"},{"$f":"S1144","v":"2027-11-22"}]
[null,null,null,null,null,null,null,null,null,null,null,null,null,null,null,null,null,null,"2027-11-29",{"$f":"WEEKDAY(S1145)","v":2},{"$f":"MONTH(S1145)","v":11},{"$f":"YEAR(S1145)","v":2027},{"$f":"T1145&U1145","v":"211"},{"$f":"IF(V1145&W1145=V1144&W1144,X1144+1,1)","v":5},{"$f":"V1145&U1145&T1145&X1145","v":"20271125"},{"$f":"S1145","v":"2027-11-29"}]
[null,null,null,null,null,null,null,null,null,null,null,null,null,null,null,null,null,null,"2027-01-17",{"$f":"WEEKDAY(S1146)","v":1},{"$f":"MONTH(S1146)","v":1},{"$f":"YEAR(S1146)","v":2027},{"$f":"T1146&U1146","v":"11"},{"$f":"IF(V1146&W1146=V1145&W1145,X1145+1,1)","v":1},{"$f":"V1146&U1146&T1146&X1146","v":"2027111"},{"$f":"S1146","v":"2027-01-17"}]
[null,null,null,null,null,null,null,null,null,null,null,null,null,null,null,null,null,null,"2027-11-02",{"$f":"WEEKDAY(S1147)","v":3},{"$f":"MONTH(S1147)","v":11},{"$f":"YEAR(S1147)","v":2027},{"$f":"T1147&U1147","v":"311"},{"$f":"IF(V1147&W1147=V1146&W1146,X1146+1,1)","v":1},{"$f":"V1147&U1147&T1147&X1147","v":"20271131"},{"$f":"S1147","v":"2027-11-02"}]
[null,null,null,null,null,null,null,null,null,null,null,null,null,null,null,null,null,null,"2027-11-09",{"$f":"WEEKDAY(S1148)","v":3},{"$f":"MONTH(S1148)","v":11},{"$f":"YEAR(S1148)","v":2027},{"$f":"T1148&U1148","v":"311"},{"$f":"IF(V1148&W1148=V1147&W1147,X1147+1,1)","v":2},{"$f":"V1148&U1148&T1148&X1148","v":"20271132"},{"$f":"S1148","v":"2027-11-09"}]
[null,null,null,null,null,null,null,null,null,null,null,null,null,null,null,null,null,null,"2027-11-16",{"$f":"WEEKDAY(S1149)","v":3},{"$f":"MONTH(S1149)","v":11},{"$f":"YEAR(S1149)","v":2027},{"$f":"T1149&U1149","v":"311"},{"$f":"IF(V1149&W1149=V1148&W1148,X1148+1,1)","v":3},{"$f":"V1149&U1149&T1149&X1149","v":"20271133"},{"$f":"S1149","v":"2027-11-16"}]
[null,null,null,null,null,null,null,null,null,null,null,null,null,null,null,null,null,null,"2027-11-23",{"$f":"WEEKDAY(S1150)","v":3},{"$f":"MONTH(S1150)","v":11},{"$f":"YEAR(S1150)","v":2027},{"$f":"T1150&U1150","v":"311"},{"$f":"IF(V1150&W1150=V1149&W1149,X1149+1,1)","v":4},{"$f":"V1150&U1150&T1150&X1150","v":"20271134"},{"$f":"S1150","v":"2027-11-23"}]
[null,null,null,null,null,null,null,null,null,null,null,null,null,null,null,null,null,null,"2027-11-30",{"$f":"WEEKDAY(S1151)","v":3},{"$f":"MONTH(S1151)","v":11},{"$f":"YEAR(S1151)","v":2027},{"$f":"T1151&U1151","v":"311"},{"$f":"IF(V1151&W1151=V1150&W1150,X1150+1,1)","v":5},{"$f":"V1151&U1151&T1151&X1151","v":"20271135"},{"$f":"S1151","v":"2027-11-30"}]
[null,null,null,null,null,null,null,null,null,null,null,null,null,null,null,null,null,null,"2027-01-24",{"$f":"WEEKDAY(S1152)","v":1},{"$f":"MONTH(S1152)","v":1},{"$f":"YEAR(S1152)","v":2027},{"$f":"T1152&U1152","v":"11"},{"$f":"IF(V1152&W1152=V1151&W1151,X1151+1,1)","v":1},{"$f":"V1152&U1152&T1152&X1152","v":"2027111"},{"$f":"S1152","v":"2027-01-24"}]
[null,null,null,null,null,null,null,null,null,null,null,null,null,null,null,null,null,null,"2027-11-03",{"$f":"WEEKDAY(S1153)","v":4},{"$f":"MONTH(S1153)","v":11},{"$f":"YEAR(S1153)","v":2027},{"$f":"T1153&U1153","v":"411"},{"$f":"IF(V1153&W1153=V1152&W1152,X1152+1,1)","v":1},{"$f":"V1153&U1153&T1153&X1153","v":"20271141"},{"$f":"S1153","v":"2027-11-03"}]
[null,null,null,null,null,null,null,null,null,null,null,null,null,null,null,null,null,null,"2027-11-10",{"$f":"WEEKDAY(S1154)","v":4},{"$f":"MONTH(S1154)","v":11},{"$f":"YEAR(S1154)","v":2027},{"$f":"T1154&U1154","v":"411"},{"$f":"IF(V1154&W1154=V1153&W1153,X1153+1,1)","v":2},{"$f":"V1154&U1154&T1154&X1154","v":"20271142"},{"$f":"S1154","v":"2027-11-10"}]
[null,null,null,null,null,null,null,null,null,null,null,null,null,null,null,null,null,null,"2027-11-17",{"$f":"WEEKDAY(S1155)","v":4},{"$f":"MONTH(S1155)","v":11},{"$f":"YEAR(S1155)","v":2027},{"$f":"T1155&U1155","v":"411"},{"$f":"IF(V1155&W1155=V1154&W1154,X1154+1,1)","v":3},{"$f":"V1155&U1155&T1155&X1155","v":"20271143"},{"$f":"S1155","v":"2027-11-17"}]
[null,null,null,null,null,null,null,null,null,null,null,null,null,null,null,null,null,null,"2027-11-24",{"$f":"WEEKDAY(S1156)","v":4},{"$f":"MONTH(S1156)","v":11},{"$f":"YEAR(S1156)","v":2027},{"$f":"T1156&U1156","v":"411"},{"$f":"IF(V1156&W1156=V1155&W1155,X1155+1,1)","v":4},{"$f":"V1156&U1156&T1156&X1156","v":"20271144"},{"$f":"S1156","v":"2027-11-24"}]
[null,null,null,null,null,null,null,null,null,null,null,null,null,null,null,null,null,null,"2027-01-31",{"$f":"WEEKDAY(S1157)","v":1},{"$f":"MONTH(S1157)","v":1},{"$f":"YEAR(S1157)","v":2027},{"$f":"T1157&U1157","v":"11"},{"$f":"IF(V1157&W1157=V1156&W1156,X1156+1,1)","v":1},{"$f":"V1157&U1157&T1157&X1157","v":"2027111"},{"$f":"S1157","v":"2027-01-31"}]
[null,null,null,null,null,null,null,null,null,null,null,null,null,null,null,null,null,null,"2027-11-04",{"$f":"WEEKDAY(S1158)","v":5},{"$f":"MONTH(S1158)","v":11},{"$f":"YEAR(S1158)","v":2027},{"$f":"T1158&U1158","v":"511"},{"$f":"IF(V1158&W1158=V1157&W1157,X1157+1,1)","v":1},{"$f":"V1158&U1158&T1158&X1158","v":"20271151"},{"$f":"S1158","v":"2027-11-04"}]
[null,null,null,null,null,null,null,null,null,null,null,null,null,null,null,null,null,null,"2027-11-11",{"$f":"WEEKDAY(S1159)","v":5},{"$f":"MONTH(S1159)","v":11},{"$f":"YEAR(S1159)","v":2027},{"$f":"T1159&U1159","v":"511"},{"$f":"IF(V1159&W1159=V1158&W1158,X1158+1,1)","v":2},{"$f":"V1159&U1159&T1159&X1159","v":"20271152"},{"$f":"S1159","v":"2027-11-11"}]
[null,null,null,null,null,null,null,null,null,null,null,null,null,null,null,null,null,null,"2027-11-18",{"$f":"WEEKDAY(S1160)","v":5},{"$f":"MONTH(S1160)","v":11},{"$f":"YEAR(S1160)","v":2027},{"$f":"T1160&U1160","v":"511"},{"$f":"IF(V1160&W1160=V1159&W1159,X1159+1,1)","v":3},{"$f":"V1160&U1160&T1160&X1160","v":"20271153"},{"$f":"S1160","v":"2027-11-18"}]
[null,null,null,null,null,null,null,null,null,null,null,null,null,null,null,null,null,null,"2027-11-25",{"$f":"WEEKDAY(S1161)","v":5},{"$f":"MONTH(S1161)","v":11},{"$f":"YEAR(S1161)","v":2027},{"$f":"T1161&U1161","v":"511"},{"$f":"IF(V1161&W1161=V1160&W1160,X1160+1,1)","v":4},{"$f":"V1161&U1161&T1161&X1161","v":"20271154"},{"$f":"S1161","v":"2027-11-25"}]
[null,null,null,null,null,null,null,null,null,null,null,null,null,null,null,null,null,null,"2027-11-05",{"$f":"WEEKDAY(S1162)","v":6},{"$f":"MONTH(S1162)","v":11},{"$f":"YEAR(S1162)","v":2027},{"$f":"T1162&U1162","v":"611"},{"$f":"IF(V1162&W1162=V1161&W1161,X1161+1,1)","v":1},{"$f":"V1162&U1162&T1162&X1162","v":"20271161"},{"$f":"S1162","v":"2027-11-05"}]
[null,null,null,null,null,null,null,null,null,null,null,null,null,null,null,null,null,null,"2027-11-12",{"$f":"WEEKDAY(S1163)","v":6},{"$f":"MONTH(S1163)","v":11},{"$f":"YEAR(S1163)","v":2027},{"$f":"T1163&U1163","v":"611"},{"$f":"IF(V1163&W1163=V1162&W1162,X1162+1,1)","v":2},{"$f":"V1163&U1163&T1163&X1163","v":"20271162"},{"$f":"S1163","v":"2027-11-12"}]
[null,null,null,null,null,null,null,null,null,null,null,null,null,null,null,null,null,null,"2027-11-19",{"$f":"WEEKDAY(S1164)","v":6},{"$f":"MONTH(S1164)","v":11},{"$f":"YEAR(S1164)","v":2027},{"$f":"T1164&U1164","v":"611"},{"$f":"IF(V1164&W1164=V1163&W1163,X1163+1,1)","v":3},{"$f":"V1164&U1164&T1164&X1164","v":"20271163"},{"$f":"S1164","v":"2027-11-19"}]
[null,null,null,null,null,null,null,null,null,null,null,null,null,null,null,null,null,null,"2027-11-26",{"$f":"WEEKDAY(S1165)","v":6},{"$f":"MONTH(S1165)","v":11},{"$f":"YEAR(S1165)","v":2027},{"$f":"T1165&U1165","v":"611"},{"$f":"IF(V1165&W1165=V1164&W1164,X1164+1,1)","v":4},{"$f":"V1165&U1165&T1165&X1165","v":"20271164"},{"$f":"S1165","v":"2027-11-26"}]
[null,null,null,null,null,null,null,null,null,null,null,null,null,null,null,null,null,null,"2027-11-06",{"$f":"WEEKDAY(S1166)","v":7},{"$f":"MONTH(S1166)","v":11},{"$f":"YEAR(S1166)","v":2027},{"$f":"T1166&U1166","v":"711"},{"$f":"IF(V1166&W1166=V1165&W1165,X1165+1,1)","v":1},{"$f":"V1166&U1166&T1166&X1166","v":"20271171"},{"$f":"S1166","v":"2027-11-06"}]
[null,null,null,null,null,null,null,null,null,null,null,null,null,null,null,null,null,null,"2027-11-13",{"$f":"WEEKDAY(S1167)","v":7},{"$f":"MONTH(S1167)","v":11},{"$f":"YEAR(S1167)","v":2027},{"$f":"T1167&U1167","v":"711"},{"$f":"IF(V1167&W1167=V1166&W1166,X1166+1,1)","v":2},{"$f":"V1167&U1167&T1167&X1167","v":"20271172"},{"$f":"S1167","v":"2027-11-13"}]
[null,null,null,null,null,null,null,null,null,null,null,null,null,null,null,null,null,null,"2027-11-20",{"$f":"WEEKDAY(S1168)","v":7},{"$f":"MONTH(S1168)","v":11},{"$f":"YEAR(S1168)","v":2027},{"$f":"T1168&U1168","v":"711"},{"$f":"IF(V1168&W1168=V1167&W1167,X1167+1,1)","v":3},{"$f":"V1168&U1168&T1168&X1168","v":"20271173"},{"$f":"S1168","v":"2027-11-20"}]
[null,null,null,null,null,null,null,null,null,null,null,null,null,null,null,null,null,null,"2027-11-27",{"$f":"WEEKDAY(S1169)","v":7},{"$f":"MONTH(S1169)","v":11},{"$f":"YEAR(S1169)","v":2027},{"$f":"T1169&U1169","v":"711"},{"$f":"IF(V1169&W1169=V1168&W1168,X1168+1,1)","v":4},{"$f":"V1169&U1169&T1169&X1169","v":"20271174"},{"$f":"S1169","v":"2027-11-27"}]
[null,null,null,null,null,null,null,null,null,null,null,null,null,null,null,null,null,null,"2027-01-04",{"$f":"WEEKDAY(S1170)","v":2},{"$f":"MONTH(S1170)","v":1},{"$f":"YEAR(S1170)","v":2027},{"$f":"T1170&U1170","v":"21"},{"$f":"IF(V1170&W1170=V1169&W1169,X1169+1,1)","v":1},{"$f":"V1170&U1170&T1170&X1170","v":"2027121"},{"$f":"S1170","v":"2027-01-04"}]
[null,null,null,null,null,null,null,null,null,null,null,null,null,null,null,null,null,null,"2027-12-05",{"$f":"WEEKDAY(S1171)","v":1},{"$f":"MONTH(S1171)","v":12},{"$f":"YEAR(S1171)","v":2027},{"$f":"T1171&U1171","v":"112"},{"$f":"IF(V1171&W1171=V1170&W1170,X1170+1,1)","v":1},{"$f":"V1171&U1171&T1171&X1171","v":"20271211"},{"$f":"S1171","v":"2027-12-05"}]
[null,null,null,null,null,null,null,null,null,null,null,null,null,null,null,null,null,null,"2027-12-12",{"$f":"WEEKDAY(S1172)","v":1},{"$f":"MONTH(S1172)","v":12},{"$f":"YEAR(S1172)","v":2027},{"$f":"T1172&U1172","v":"112"},{"$f":"IF(V1172&W1172=V1171&W1171,X1171+1,1)","v":2},{"$f":"V1172&U1172&T1172&X1172","v":"20271212"},{"$f":"S1172","v":"2027-12-12"}]
[null,null,null,null,null,null,null,null,null,null,null,null,null,null,null,null,null,null,"2027-12-19",{"$f":"WEEKDAY(S1173)","v":1},{"$f":"MONTH(S1173)","v":12},{"$f":"YEAR(S1173)","v":2027},{"$f":"T1173&U1173","v":"112"},{"$f":"IF(V1173&W1173=V1172&W1172,X1172+1,1)","v":3},{"$f":"V1173&U1173&T1173&X1173","v":"20271213"},{"$f":"S1173","v":"2027-12-19"}]
[null,null,null,null,null,null,null,null,null,null,null,null,null,null,null,null,null,null,"2027-12-26",{"$f":"WEEKDAY(S1174)","v":1},{"$f":"MONTH(S1174)","v":12},{"$f":"YEAR(S1174)","v":2027},{"$f":"T1174&U1174","v":"112"},{"$f":"IF(V1174&W1174=V1173&W1173,X1173+1,1)","v":4},{"$f":"V1174&U1174&T1174&X1174","v":"20271214"},{"$f":"S1174","v":"2027-12-26"}]
[null,null,null,null,null,null,null,null,null,null,null,null,null,null,null,null,null,null,"2027-01-11",{"$f":"WEEKDAY(S1175)","v":2},{"$f":"MONTH(S1175)","v":1},{"$f":"YEAR(S1175)","v":2027},{"$f":"T1175&U1175","v":"21"},{"$f":"IF(V1175&W1175=V1174&W1174,X1174+1,1)","v":1},{"$f":"V1175&U1175&T1175&X1175","v":"2027121"},{"$f":"S1175","v":"2027-01-11"}]
[null,null,null,null,null,null,null,null,null,null,null,null,null,null,null,null,null,null,"2027-12-06",{"$f":"WEEKDAY(S1176)","v":2},{"$f":"MONTH(S1176)","v":12},{"$f":"YEAR(S1176)","v":2027},{"$f":"T1176&U1176","v":"212"},{"$f":"IF(V1176&W1176=V1175&W1175,X1175+1,1)","v":1},{"$f":"V1176&U1176&T1176&X1176","v":"20271221"},{"$f":"S1176","v":"2027-12-06"}]
[null,null,null,null,null,null,null,null,null,null,null,null,null,null,null,null,null,null,"2027-12-13",{"$f":"WEEKDAY(S1177)","v":2},{"$f":"MONTH(S1177)","v":12},{"$f":"YEAR(S1177)","v":2027},{"$f":"T1177&U1177","v":"212"},{"$f":"IF(V1177&W1177=V1176&W1176,X1176+1,1)","v":2},{"$f":"V1177&U1177&T1177&X1177","v":"20271222"},{"$f":"S1177","v":"2027-12-13"}]
[null,null,null,null,null,null,null,null,null,null,null,null,null,null,null,null,null,null,"2027-12-20",{"$f":"WEEKDAY(S1178)","v":2},{"$f":"MONTH(S1178)","v":12},{"$f":"YEAR(S1178)","v":2027},{"$f":"T1178&U1178","v":"212"},{"$f":"IF(V1178&W1178=V1177&W1177,X1177+1,1)","v":3},{"$f":"V1178&U1178&T1178&X1178","v":"20271223"},{"$f":"S1178","v":"2027-12-20"}]
[null,null,null,null,null,null,null,null,null,null,null,null,null,null,null,null,null,null,"2027-12-27",{"$f":"WEEKDAY(S1179)","v":2},{"$f":"MONTH(S1179)","v":12},{"$f":"YEAR(S1179)","v":2027},{"$f":"T1179&U1179","v":"212"},{"$f":"IF(V1179&W1179=V1178&W1178,X1178+1,1)","v":4},{"$f":"V1179&U1179&T1179&X1179","v":"20271224"},{"$f":"S1179","v":"2027-12-27"}]
[null,null,null,null,null,null,null,null,null,null,null,null,null,null,null,null,null,null,"2027-01-18",{"$f":"WEEKDAY(S1180)","v":2},{"$f":"MONTH(S1180)","v":1},{"$f":"YEAR(S1180)","v":2027},{"$f":"T1180&U1180","v":"21"},{"$f":"IF(V1180&W1180=V1179&W1179,X1179+1,1)","v":1},{"$f":"V1180&U1180&T1180&X1180","v":"2027121"},{"$f":"S1180","v":"2027-01-18"}]
[null,null,null,null,null,null,null,null,null,null,null,null,null,null,null,null,null,null,"2027-12-07",{"$f":"WEEKDAY(S1181)","v":3},{"$f":"MONTH(S1181)","v":12},{"$f":"YEAR(S1181)","v":2027},{"$f":"T1181&U1181","v":"312"},{"$f":"IF(V1181&W1181=V1180&W1180,X1180+1,1)","v":1},{"$f":"V1181&U1181&T1181&X1181","v":"20271231"},{"$f":"S1181","v":"2027-12-07"}]
[null,null,null,null,null,null,null,null,null,null,null,null,null,null,null,null,null,null,"2027-12-14",{"$f":"WEEKDAY(S1182)","v":3},{"$f":"MONTH(S1182)","v":12},{"$f":"YEAR(S1182)","v":2027},{"$f":"T1182&U1182","v":"312"},{"$f":"IF(V1182&W1182=V1181&W1181,X1181+1,1)","v":2},{"$f":"V1182&U1182&T1182&X1182","v":"20271232"},{"$f":"S1182","v":"2027-12-14"}]
[null,null,null,null,null,null,null,null,null,null,null,null,null,null,null,null,null,null,"2027-12-21",{"$f":"WEEKDAY(S1183)","v":3},{"$f":"MONTH(S1183)","v":12},{"$f":"YEAR(S1183)","v":2027},{"$f":"T1183&U1183","v":"312"},{"$f":"IF(V1183&W1183=V1182&W1182,X1182+1,1)","v":3},{"$f":"V1183&U1183&T1183&X1183","v":"20271233"},{"$f":"S1183","v":"2027-12-21"}]
[null,null,null,null,null,null,null,null,null,null,null,null,null,null,null,null,null,null,"2027-12-28",{"$f":"WEEKDAY(S1184)","v":3},{"$f":"MONTH(S1184)","v":12},{"$f":"YEAR(S1184)","v":2027},{"$f":"T1184&U1184","v":"312"},{"$f":"IF(V1184&W1184=V1183&W1183,X1183+1,1)","v":4},{"$f":"V1184&U1184&T1184&X1184","v":"20271234"},{"$f":"S1184","v":"2027-12-28"}]
[null,null,null,null,null,null,null,null,null,null,null,null,null,null,null,null,null,null,"2027-01-25",{"$f":"WEEKDAY(S1185)","v":2},{"$f":"MONTH(S1185)","v":1},{"$f":"YEAR(S1185)","v":2027},{"$f":"T1185&U1185","v":"21"},{"$f":"IF(V1185&W1185=V1184&W1184,X1184+1,1)","v":1},{"$f":"V1185&U1185&T1185&X1185","v":"2027121"},{"$f":"S1185","v":"2027-01-25"}]
[null,null,null,null,null,null,null,null,null,null,null,null,null,null,null,null,null,null,"2027-12-01",{"$f":"WEEKDAY(S1186)","v":4},{"$f":"MONTH(S1186)","v":12},{"$f":"YEAR(S1186)","v":2027},{"$f":"T1186&U1186","v":"412"},{"$f":"IF(V1186&W1186=V1185&W1185,X1185+1,1)","v":1},{"$f":"V1186&U1186&T1186&X1186","v":"20271241"},{"$f":"S1186","v":"2027-12-01"}]
[null,null,null,null,null,null,null,null,null,null,null,null,null,null,null,null,null,null,"2027-12-08",{"$f":"WEEKDAY(S1187)","v":4},{"$f":"MONTH(S1187)","v":12},{"$f":"YEAR(S1187)","v":2027},{"$f":"T1187&U1187","v":"412"},{"$f":"IF(V1187&W1187=V1186&W1186,X1186+1,1)","v":2},{"$f":"V1187&U1187&T1187&X1187","v":"20271242"},{"$f":"S1187","v":"2027-12-08"}]
[null,null,null,null,null,null,null,null,null,null,null,null,null,null,null,null,null,null,"2027-12-15",{"$f":"WEEKDAY(S1188)","v":4},{"$f":"MONTH(S1188)","v":12},{"$f":"YEAR(S1188)","v":2027},{"$f":"T1188&U1188","v":"412"},{"$f":"IF(V1188&W1188=V1187&W1187,X1187+1,1)","v":3},{"$f":"V1188&U1188&T1188&X1188","v":"20271243"},{"$f":"S1188","v":"2027-12-15"}]
[null,null,null,null,null,null,null,null,null,null,null,null,null,null,null,null,null,null,"2027-12-22",{"$f":"WEEKDAY(S1189)","v":4},{"$f":"MONTH(S1189)","v":12},{"$f":"YEAR(S1189)","v":2027},{"$f":"T1189&U1189","v":"412"},{"$f":"IF(V1189&W1189=V1188&W1188,X1188+1,1)","v":4},{"$f":"V1189&U1189&T1189&X1189","v":"20271244"},{"$f":"S1189","v":"2027-12-22"}]
[null,null,null,null,null,null,null,null,null,null,null,null,null,null,null,null,null,null,"2027-12-29",{"$f":"WEEKDAY(S1190)","v":4},{"$f":"MONTH(S1190)","v":12},{"$f":"YEAR(S1190)","v":2027},{"$f":"T1190&U1190","v":"412"},{"$f":"IF(V1190&W1190=V1189&W1189,X1189+1,1)","v":5},{"$f":"V1190&U1190&T1190&X1190","v":"20271245"},{"$f":"S1190","v":"2027-12-29"}]
[null,null,null,null,null,null,null,null,null,null,null,null,null,null,null,null,null,null,"2027-12-02",{"$f":"WEEKDAY(S1191)","v":5},{"$f":"MONTH(S1191)","v":12},{"$f":"YEAR(S1191)","v":2027},{"$f":"T1191&U1191","v":"512"},{"$f":"IF(V1191&W1191=V1190&W1190,X1190+1,1)","v":1},{"$f":"V1191&U1191&T1191&X1191","v":"20271251"},{"$f":"S1191","v":"2027-12-02"}]
[null,null,null,null,null,null,null,null,null,null,null,null,null,null,null,null,null,null,"2027-12-09",{"$f":"WEEKDAY(S1192)","v":5},{"$f":"MONTH(S1192)","v":12},{"$f":"YEAR(S1192)","v":2027},{"$f":"T1192&U1192","v":"512"},{"$f":"IF(V1192&W1192=V1191&W1191,X1191+1,1)","v":2},{"$f":"V1192&U1192&T1192&X1192","v":"20271252"},{"$f":"S1192","v":"2027-12-09"}]
[null,null,null,null,null,null,null,null,null,null,null,null,null,null,null,null,null,null,"2027-12-16",{"$f":"WEEKDAY(S1193)","v":5},{"$f":"MONTH(S1193)","v":12},{"$f":"YEAR(S1193)","v":2027},{"$f":"T1193&U1193","v":"512"},{"$f":"IF(V1193&W1193=V1192&W1192,X1192+1,1)","v":3},{"$f":"V1193&U1193&T1193&X1193","v":"20271253"},{"$f":"S1193","v":"2027-12-16"}]
[null,null,null,null,null,null,null,null,null,null,null,null,null,null,null,null,null,null,"2027-12-23",{"$f":"WEEKDAY(S1194)","v":5},{"$f":"MONTH(S1194)","v":12},{"$f":"YEAR(S1194)","v":2027},{"$f":"T1194&U1194","v":"512"},{"$f":"IF(V1194&W1194=V1193&W1193,X1193+1,1)","v":4},{"$f":"V1194&U1194&T1194&X1194","v":"20271254"},{"$f":"S1194","v":"2027-12-23"}]
[null,null,null,null,null,null,null,null,null,null,null,null,null,null,null,null,null,null,"2027-12-30",{"$f":"WEEKDAY(S1195)","v":5},{"$f":"MONTH(S1195)","v":12},{"$f":"YEAR(S1195)","v":2027},{"$f":"T1195&U1195","v":"512"},{"$f":"IF(V1195&W1195=V1194&W1194,X1194+1,1)","v":5},{"$f":"V1195&U1195&T1195&X1195","v":"20271255"},{"$f":"S1195","v":"2027-12-30"}]
[null,null,null,null,null,null,null,null,null,null,null,null,null,null,null,null,null,null,"2027-12-03",{"$f":"WEEKDAY(S1196)","v":6},{"$f":"MONTH(S1196)","v":12},{"$f":"YEAR(S1196)","v":2027},{"$f":"T1196&U1196","v":"612"},{"$f":"IF(V1196&W1196=V1195&W1195,X1195+1,1)","v":1},{"$f":"V1196&U1196&T1196&X1196","v":"20271261"},{"$f":"S1196","v":"2027-12-03"}]
[null,null,null,null,null,null,null,null,null,null,null,null,null,null,null,null,null,null,"2027-12-10",{"$f":"WEEKDAY(S1197)","v":6},{"$f":"MONTH(S1197)","v":12},{"$f":"YEAR(S1197)","v":2027},{"$f":"T1197&U1197","v":"612"},{"$f":"IF(V1197&W1197=V1196&W1196,X1196+1,1)","v":2},{"$f":"V1197&U1197&T1197&X1197","v":"20271262"},{"$f":"S1197","v":"2027-12-10"}]
[null,null,null,null,null,null,null,null,null,null,null,null,null,null,null,null,null,null,"2027-12-17",{"$f":"WEEKDAY(S1198)","v":6},{"$f":"MONTH(S1198)","v":12},{"$f":"YEAR(S1198)","v":2027},{"$f":"T1198&U1198","v":"612"},{"$f":"IF(V1198&W1198=V1197&W1197,X1197+1,1)","v":3},{"$f":"V1198&U1198&T1198&X1198","v":"20271263"},{"$f":"S1198","v":"2027-12-17"}]
[null,null,null,null,null,null,null,null,null,null,null,null,null,null,null,null,null,null,"2027-12-24",{"$f":"WEEKDAY(S1199)","v":6},{"$f":"MONTH(S1199)","v":12},{"$f":"YEAR(S1199)","v":2027},{"$f":"T1199&U1199","v":"612"},{"$f":"IF(V1199&W1199=V1198&W1198,X1198+1,1)","v":4},{"$f":"V1199&U1199&T1199&X1199","v":"20271264"},{"$f":"S1199","v":"2027-12-24"}]
[null,null,null,null,null,null,null,null,null,null,null,null,null,null,null,null,null,null,"2027-12-31",{"$f":"WEEKDAY(S1200)","v":6},{"$f":"MONTH(S1200)","v":12},{"$f":"YEAR(S1200)","v":2027},{"$f":"T1200&U1200","v":"612"},{"$f":"IF(V1200&W1200=V1199&W1199,X1199+1,1)","v":5},{"$f":"V1200&U1200&T1200&X1200","v":"20271265"},{"$f":"S1200","v":"2027-12-31"}]
[null,null,null,null,null,null,null,null,null,null,null,null,null,null,null,null,null,null,"2027-12-04",{"$f":"WEEKDAY(S1201)","v":7},{"$f":"MONTH(S1201)","v":12},{"$f":"YEAR(S1201)","v":2027},{"$f":"T1201&U1201","v":"712"},{"$f":"IF(V1201&W1201=V1200&W1200,X1200+1,1)","v":1},{"$f":"V1201&U1201&T1201&X1201","v":"20271271"},{"$f":"S1201","v":"2027-12-04"}]
[null,null,null,null,null,null,null,null,null,null,null,null,null,null,null,null,null,null,"2027-12-11",{"$f":"WEEKDAY(S1202)","v":7},{"$f":"MONTH(S1202)","v":12},{"$f":"YEAR(S1202)","v":2027},{"$f":"T1202&U1202","v":"712"},{"$f":"IF(V1202&W1202=V1201&W1201,X1201+1,1)","v":2},{"$f":"V1202&U1202&T1202&X1202","v":"20271272"},{"$f":"S1202","v":"2027-12-11"}]
[null,null,null,null,null,null,null,null,null,null,null,null,null,null,null,null,null,null,"2027-12-18",{"$f":"WEEKDAY(S1203)","v":7},{"$f":"MONTH(S1203)","v":12},{"$f":"YEAR(S1203)","v":2027},{"$f":"T1203&U1203","v":"712"},{"$f":"IF(V1203&W1203=V1202&W1202,X1202+1,1)","v":3},{"$f":"V1203&U1203&T1203&X1203","v":"20271273"},{"$f":"S1203","v":"2027-12-18"}]
[null,null,null,null,null,null,null,null,null,null,null,null,null,null,null,null,null,null,"2027-12-25",{"$f":"WEEKDAY(S1204)","v":7},{"$f":"MONTH(S1204)","v":12},{"$f":"YEAR(S1204)","v":2027},{"$f":"T1204&U1204","v":"712"},{"$f":"IF(V1204&W1204=V1203&W1203,X1203+1,1)","v":4},{"$f":"V1204&U1204&T1204&X1204","v":"20271274"},{"$f":"S1204","v":"2027-12-25"}]
[null,null,null,null,null,null,null,null,null,null,null,null,null,null,null,null,null,null,"2027-01-05",{"$f":"WEEKDAY(S1205)","v":3},{"$f":"MONTH(S1205)","v":1},{"$f":"YEAR(S1205)","v":2027},{"$f":"T1205&U1205","v":"31"},{"$f":"IF(V1205&W1205=V1204&W1204,X1204+1,1)","v":1},{"$f":"V1205&U1205&T1205&X1205","v":"2027131"},{"$f":"S1205","v":"2027-01-05"}]
[null,null,null,null,null,null,null,null,null,null,null,null,null,null,null,null,null,null,"2027-01-12",{"$f":"WEEKDAY(S1206)","v":3},{"$f":"MONTH(S1206)","v":1},{"$f":"YEAR(S1206)","v":2027},{"$f":"T1206&U1206","v":"31"},{"$f":"IF(V1206&W1206=V1205&W1205,X1205+1,1)","v":2},{"$f":"V1206&U1206&T1206&X1206","v":"2027132"},{"$f":"S1206","v":"2027-01-12"}]
[null,null,null,null,null,null,null,null,null,null,null,null,null,null,null,null,null,null,"2027-01-19",{"$f":"WEEKDAY(S1207)","v":3},{"$f":"MONTH(S1207)","v":1},{"$f":"YEAR(S1207)","v":2027},{"$f":"T1207&U1207","v":"31"},{"$f":"IF(V1207&W1207=V1206&W1206,X1206+1,1)","v":3},{"$f":"V1207&U1207&T1207&X1207","v":"2027133"},{"$f":"S1207","v":"2027-01-19"}]
[null,null,null,null,null,null,null,null,null,null,null,null,null,null,null,null,null,null,"2027-01-26",{"$f":"WEEKDAY(S1208)","v":3},{"$f":"MONTH(S1208)","v":1},{"$f":"YEAR(S1208)","v":2027},{"$f":"T1208&U1208","v":"31"},{"$f":"IF(V1208&W1208=V1207&W1207,X1207+1,1)","v":4},{"$f":"V1208&U1208&T1208&X1208","v":"2027134"},{"$f":"S1208","v":"2027-01-26"}]
[null,null,null,null,null,null,null,null,null,null,null,null,null,null,null,null,null,null,"2027-01-06",{"$f":"WEEKDAY(S1209)","v":4},{"$f":"MONTH(S1209)","v":1},{"$f":"YEAR(S1209)","v":2027},{"$f":"T1209&U1209","v":"41"},{"$f":"IF(V1209&W1209=V1208&W1208,X1208+1,1)","v":1},{"$f":"V1209&U1209&T1209&X1209","v":"2027141"},{"$f":"S1209","v":"2027-01-06"}]
[null,null,null,null,null,null,null,null,null,null,null,null,null,null,null,null,null,null,"2027-01-13",{"$f":"WEEKDAY(S1210)","v":4},{"$f":"MONTH(S1210)","v":1},{"$f":"YEAR(S1210)","v":2027},{"$f":"T1210&U1210","v":"41"},{"$f":"IF(V1210&W1210=V1209&W1209,X1209+1,1)","v":2},{"$f":"V1210&U1210&T1210&X1210","v":"2027142"},{"$f":"S1210","v":"2027-01-13"}]
[null,null,null,null,null,null,null,null,null,null,null,null,null,null,null,null,null,null,"2027-01-20",{"$f":"WEEKDAY(S1211)","v":4},{"$f":"MONTH(S1211)","v":1},{"$f":"YEAR(S1211)","v":2027},{"$f":"T1211&U1211","v":"41"},{"$f":"IF(V1211&W1211=V1210&W1210,X1210+1,1)","v":3},{"$f":"V1211&U1211&T1211&X1211","v":"2027143"},{"$f":"S1211","v":"2027-01-20"}]
[null,null,null,null,null,null,null,null,null,null,null,null,null,null,null,null,null,null,"2027-01-27",{"$f":"WEEKDAY(S1212)","v":4},{"$f":"MONTH(S1212)","v":1},{"$f":"YEAR(S1212)","v":2027},{"$f":"T1212&U1212","v":"41"},{"$f":"IF(V1212&W1212=V1211&W1211,X1211+1,1)","v":4},{"$f":"V1212&U1212&T1212&X1212","v":"2027144"},{"$f":"S1212","v":"2027-01-27"}]
[null,null,null,null,null,null,null,null,null,null,null,null,null,null,null,null,null,null,"2027-01-07",{"$f":"WEEKDAY(S1213)","v":5},{"$f":"MONTH(S1213)","v":1},{"$f":"YEAR(S1213)","v":2027},{"$f":"T1213&U1213","v":"51"},{"$f":"IF(V1213&W1213=V1212&W1212,X1212+1,1)","v":1},{"$f":"V1213&U1213&T1213&X1213","v":"2027151"},{"$f":"S1213","v":"2027-01-07"}]
[null,null,null,null,null,null,null,null,null,null,null,null,null,null,null,null,null,null,"2027-01-14",{"$f":"WEEKDAY(S1214)","v":5},{"$f":"MONTH(S1214)","v":1},{"$f":"YEAR(S1214)","v":2027},{"$f":"T1214&U1214","v":"51"},{"$f":"IF(V1214&W1214=V1213&W1213,X1213+1,1)","v":2},{"$f":"V1214&U1214&T1214&X1214","v":"2027152"},{"$f":"S1214","v":"2027-01-14"}]
[null,null,null,null,null,null,null,null,null,null,null,null,null,null,null,null,null,null,"2027-01-21",{"$f":"WEEKDAY(S1215)","v":5},{"$f":"MONTH(S1215)","v":1},{"$f":"YEAR(S1215)","v":2027},{"$f":"T1215&U1215","v":"51"},{"$f":"IF(V1215&W1215=V1214&W1214,X1214+1,1)","v":3},{"$f":"V1215&U1215&T1215&X1215","v":"2027153"},{"$f":"S1215","v":"2027-01-21"}]
[null,null,null,null,null,null,null,null,null,null,null,null,null,null,null,null,null,null,"2027-01-28",{"$f":"WEEKDAY(S1216)","v":5},{"$f":"MONTH(S1216)","v":1},{"$f":"YEAR(S1216)","v":2027},{"$f":"T1216&U1216","v":"51"},{"$f":"IF(V1216&W1216=V1215&W1215,X1215+1,1)","v":4},{"$f":"V1216&U1216&T1216&X1216","v":"2027154"},{"$f":"S1216","v":"2027-01-28"}]
[null,null,null,null,null,null,null,null,null,null,null,null,null,null,null,null,null,null,"2027-01-01",{"$f":"WEEKDAY(S1217)","v":6},{"$f":"MONTH(S1217)","v":1},{"$f":"YEAR(S1217)","v":2027},{"$f":"T1217&U1217","v":"61"},{"$f":"IF(V1217&W1217=V1216&W1216,X1216+1,1)","v":1},{"$f":"V1217&U1217&T1217&X1217","v":"2027161"},{"$f":"S1217","v":"2027-01-01"}]
[null,null,null,null,null,null,null,null,null,null,null,null,null,null,null,null,null,null,"2027-01-08",{"$f":"WEEKDAY(S1218)","v":6},{"$f":"MONTH(S1218)","v":1},{"$f":"YEAR(S1218)","v":2027},{"$f":"T1218&U1218","v":"61"},{"$f":"IF(V1218&W1218=V1217&W1217,X1217+1,1)","v":2},{"$f":"V1218&U1218&T1218&X1218","v":"2027162"},{"$f":"S1218","v":"2027-01-08"}]
[null,null,null,null,null,null,null,null,null,null,null,null,null,null,null,null,null,null,"2027-01-15",{"$f":"WEEKDAY(S1219)","v":6},{"$f":"MONTH(S1219)","v":1},{"$f":"YEAR(S1219)","v":2027},{"$f":"T1219&U1219","v":"61"},{"$f":"IF(V1219&W1219=V1218&W1218,X1218+1,1)","v":3},{"$f":"V1219&U1219&T1219&X1219","v":"2027163"},{"$f":"S1219","v":"2027-01-15"}]
[null,null,null,null,null,null,null,null,null,null,null,null,null,null,null,null,null,null,"2027-01-22",{"$f":"WEEKDAY(S1220)","v":6},{"$f":"MONTH(S1220)","v":1},{"$f":"YEAR(S1220)","v":2027},{"$f":"T1220&U1220","v":"61"},{"$f":"IF(V1220&W1220=V1219&W1219,X1219+1,1)","v":4},{"$f":"V1220&U1220&T1220&X1220","v":"2027164"},{"$f":"S1220","v":"2027-01-22"}]
[null,null,null,null,null,null,null,null,null,null,null,null,null,null,null,null,null,null,"2027-01-29",{"$f":"WEEKDAY(S1221)","v":6},{"$f":"MONTH(S1221)","v":1},{"$f":"YEAR(S1221)","v":2027},{"$f":"T1221&U1221","v":"61"},{"$f":"IF(V1221&W1221=V1220&W1220,X1220+1,1)","v":5},{"$f":"V1221&U1221&T1221&X1221","v":"2027165"},{"$f":"S1221","v":"2027-01-29"}]
[null,null,null,null,null,null,null,null,null,null,null,null,null,null,null,null,null,null,"2027-01-02",{"$f":"WEEKDAY(S1222)","v":7},{"$f":"MONTH(S1222)","v":1},{"$f":"YEAR(S1222)","v":2027},{"$f":"T1222&U1222","v":"71"},{"$f":"IF(V1222&W1222=V1221&W1221,X1221+1,1)","v":1},{"$f":"V1222&U1222&T1222&X1222","v":"2027171"},{"$f":"S1222","v":"2027-01-02"}]
[null,null,null,null,null,null,null,null,null,null,null,null,null,null,null,null,null,null,"2027-01-09",{"$f":"WEEKDAY(S1223)","v":7},{"$f":"MONTH(S1223)","v":1},{"$f":"YEAR(S1223)","v":2027},{"$f":"T1223&U1223","v":"71"},{"$f":"IF(V1223&W1223=V1222&W1222,X1222+1,1)","v":2},{"$f":"V1223&U1223&T1223&X1223","v":"2027172"},{"$f":"S1223","v":"2027-01-09"}]
[null,null,null,null,null,null,null,null,null,null,null,null,null,null,null,null,null,null,"2027-01-16",{"$f":"WEEKDAY(S1224)","v":7},{"$f":"MONTH(S1224)","v":1},{"$f":"YEAR(S1224)","v":2027},{"$f":"T1224&U1224","v":"71"},{"$f":"IF(V1224&W1224=V1223&W1223,X1223+1,1)","v":3},{"$f":"V1224&U1224&T1224&X1224","v":"2027173"},{"$f":"S1224","v":"2027-01-16"}]
[null,null,null,null,null,null,null,null,null,null,null,null,null,null,null,null,null,null,"2027-01-23",{"$f":"WEEKDAY(S1225)","v":7},{"$f":"MONTH(S1225)","v":1},{"$f":"YEAR(S1225)","v":2027},{"$f":"T1225&U1225","v":"71"},{"$f":"IF(V1225&W1225=V1224&W1224,X1224+1,1)","v":4},{"$f":"V1225&U1225&T1225&X1225","v":"2027174"},{"$f":"S1225","v":"2027-01-23"}]
[null,null,null,null,null,null,null,null,null,null,null,null,null,null,null,null,null,null,"2027-01-30",{"$f":"WEEKDAY(S1226)","v":7},{"$f":"MONTH(S1226)","v":1},{"$f":"YEAR(S1226)","v":2027},{"$f":"T1226&U1226","v":"71"},{"$f":"IF(V1226&W1226=V1225&W1225,X1225+1,1)","v":5},{"$f":"V1226&U1226&T1226&X1226","v":"2027175"},{"$f":"S1226","v":"2027-01-30"}]
[null,null,null,null,null,null,null,null,null,null,null,null,null,null,null,null,null,null,"2027-02-07",{"$f":"WEEKDAY(S1227)","v":1},{"$f":"MONTH(S1227)","v":2},{"$f":"YEAR(S1227)","v":2027},{"$f":"T1227&U1227","v":"12"},{"$f":"IF(V1227&W1227=V1226&W1226,X1226+1,1)","v":1},{"$f":"V1227&U1227&T1227&X1227","v":"2027211"},{"$f":"S1227","v":"2027-02-07"}]
[null,null,null,null,null,null,null,null,null,null,null,null,null,null,null,null,null,null,"2027-02-14",{"$f":"WEEKDAY(S1228)","v":1},{"$f":"MONTH(S1228)","v":2},{"$f":"YEAR(S1228)","v":2027},{"$f":"T1228&U1228","v":"12"},{"$f":"IF(V1228&W1228=V1227&W1227,X1227+1,1)","v":2},{"$f":"V1228&U1228&T1228&X1228","v":"2027212"},{"$f":"S1228","v":"2027-02-14"}]
[null,null,null,null,null,null,null,null,null,null,null,null,null,null,null,null,null,null,"2027-02-21",{"$f":"WEEKDAY(S1229)","v":1},{"$f":"MONTH(S1229)","v":2},{"$f":"YEAR(S1229)","v":2027},{"$f":"T1229&U1229","v":"12"},{"$f":"IF(V1229&W1229=V1228&W1228,X1228+1,1)","v":3},{"$f":"V1229&U1229&T1229&X1229","v":"2027213"},{"$f":"S1229","v":"2027-02-21"}]
[null,null,null,null,null,null,null,null,null,null,null,null,null,null,null,null,null,null,"2027-02-28",{"$f":"WEEKDAY(S1230)","v":1},{"$f":"MONTH(S1230)","v":2},{"$f":"YEAR(S1230)","v":2027},{"$f":"T1230&U1230","v":"12"},{"$f":"IF(V1230&W1230=V1229&W1229,X1229+1,1)","v":4},{"$f":"V1230&U1230&T1230&X1230","v":"2027214"},{"$f":"S1230","v":"2027-02-28"}]
[null,null,null,null,null,null,null,null,null,null,null,null,null,null,null,null,null,null,"2027-02-01",{"$f":"WEEKDAY(S1231)","v":2},{"$f":"MONTH(S1231)","v":2},{"$f":"YEAR(S1231)","v":2027},{"$f":"T1231&U1231","v":"22"},{"$f":"IF(V1231&W1231=V1230&W1230,X1230+1,1)","v":1},{"$f":"V1231&U1231&T1231&X1231","v":"2027221"},{"$f":"S1231","v":"2027-02-01"}]
[null,null,null,null,null,null,null,null,null,null,null,null,null,null,null,null,null,null,"2027-02-08",{"$f":"WEEKDAY(S1232)","v":2},{"$f":"MONTH(S1232)","v":2},{"$f":"YEAR(S1232)","v":2027},{"$f":"T1232&U1232","v":"22"},{"$f":"IF(V1232&W1232=V1231&W1231,X1231+1,1)","v":2},{"$f":"V1232&U1232&T1232&X1232","v":"2027222"},{"$f":"S1232","v":"2027-02-08"}]
[null,null,null,null,null,null,null,null,null,null,null,null,null,null,null,null,null,null,"2027-02-15",{"$f":"WEEKDAY(S1233)","v":2},{"$f":"MONTH(S1233)","v":2},{"$f":"YEAR(S1233)","v":2027},{"$f":"T1233&U1233","v":"22"},{"$f":"IF(V1233&W1233=V1232&W1232,X1232+1,1)","v":3},{"$f":"V1233&U1233&T1233&X1233","v":"2027223"},{"$f":"S1233","v":"2027-02-15"}]
[null,null,null,null,null,null,null,null,null,null,null,null,null,null,null,null,null,null,"2027-02-22",{"$f":"WEEKDAY(S1234)","v":2},{"$f":"MONTH(S1234)","v":2},{"$f":"YEAR(S1234)","v":2027},{"$f":"T1234&U1234","v":"22"},{"$f":"IF(V1234&W1234=V1233&W1233,X1233+1,1)","v":4},{"$f":"V1234&U1234&T1234&X1234","v":"2027224"},{"$f":"S1234","v":"2027-02-22"}]
[null,null,null,null,null,null,null,null,null,null,null,null,null,null,null,null,null,null,"2027-02-02",{"$f":"WEEKDAY(S1235)","v":3},{"$f":"MONTH(S1235)","v":2},{"$f":"YEAR(S1235)","v":2027},{"$f":"T1235&U1235","v":"32"},{"$f":"IF(V1235&W1235=V1234&W1234,X1234+1,1)","v":1},{"$f":"V1235&U1235&T1235&X1235","v":"2027231"},{"$f":"S1235","v":"2027-02-02"}]
[null,null,null,null,null,null,null,null,null,null,null,null,null,null,null,null,null,null,"2027-02-09",{"$f":"WEEKDAY(S1236)","v":3},{"$f":"MONTH(S1236)","v":2},{"$f":"YEAR(S1236)","v":2027},{"$f":"T1236&U1236","v":"32"},{"$f":"IF(V1236&W1236=V1235&W1235,X1235+1,1)","v":2},{"$f":"V1236&U1236&T1236&X1236","v":"2027232"},{"$f":"S1236","v":"2027-02-09"}]
[null,null,null,null,null,null,null,null,null,null,null,null,null,null,null,null,null,null,"2027-02-16",{"$f":"WEEKDAY(S1237)","v":3},{"$f":"MONTH(S1237)","v":2},{"$f":"YEAR(S1237)","v":2027},{"$f":"T1237&U1237","v":"32"},{"$f":"IF(V1237&W1237=V1236&W1236,X1236+1,1)","v":3},{"$f":"V1237&U1237&T1237&X1237","v":"2027233"},{"$f":"S1237","v":"2027-02-16"}]
[null,null,null,null,null,null,null,null,null,null,null,null,null,null,null,null,null,null,"2027-02-23",{"$f":"WEEKDAY(S1238)","v":3},{"$f":"MONTH(S1238)","v":2},{"$f":"YEAR(S1238)","v":2027},{"$f":"T1238&U1238","v":"32"},{"$f":"IF(V1238&W1238=V1237&W1237,X1237+1,1)","v":4},{"$f":"V1238&U1238&T1238&X1238","v":"2027234"},{"$f":"S1238","v":"2027-02-23"}]
[null,null,null,null,null,null,null,null,null,null,null,null,null,null,null,null,null,null,"2027-02-03",{"$f":"WEEKDAY(S1239)","v":4},{"$f":"MONTH(S1239)","v":2},{"$f":"YEAR(S1239)","v":2027},{"$f":"T1239&U1239","v":"42"},{"$f":"IF(V1239&W1239=V1238&W1238,X1238+1,1)","v":1},{"$f":"V1239&U1239&T1239&X1239","v":"2027241"},{"$f":"S1239","v":"2027-02-03"}]
[null,null,null,null,null,null,null,null,null,null,null,null,null,null,null,null,null,null,"2027-02-10",{"$f":"WEEKDAY(S1240)","v":4},{"$f":"MONTH(S1240)","v":2},{"$f":"YEAR(S1240)","v":2027},{"$f":"T1240&U1240","v":"42"},{"$f":"IF(V1240&W1240=V1239&W1239,X1239+1,1)","v":2},{"$f":"V1240&U1240&T1240&X1240","v":"2027242"},{"$f":"S1240","v":"2027-02-10"}]
[null,null,null,null,null,null,null,null,null,null,null,null,null,null,null,null,null,null,"2027-02-17",{"$f":"WEEKDAY(S1241)","v":4},{"$f":"MONTH(S1241)","v":2},{"$f":"YEAR(S1241)","v":2027},{"$f":"T1241&U1241","v":"42"},{"$f":"IF(V1241&W1241=V1240&W1240,X1240+1,1)","v":3},{"$f":"V1241&U1241&T1241&X1241","v":"2027243"},{"$f":"S1241","v":"2027-02-17"}]
[null,null,null,null,null,null,null,null,null,null,null,null,null,null,null,null,null,null,"2027-02-24",{"$f":"WEEKDAY(S1242)","v":4},{"$f":"MONTH(S1242)","v":2},{"$f":"YEAR(S1242)","v":2027},{"$f":"T1242&U1242","v":"42"},{"$f":"IF(V1242&W1242=V1241&W1241,X1241+1,1)","v":4},{"$f":"V1242&U1242&T1242&X1242","v":"2027244"},{"$f":"S1242","v":"2027-02-24"}]
[null,null,null,null,null,null,null,null,null,null,null,null,null,null,null,null,null,null,"2027-02-04",{"$f":"WEEKDAY(S1243)","v":5},{"$f":"MONTH(S1243)","v":2},{"$f":"YEAR(S1243)","v":2027},{"$f":"T1243&U1243","v":"52"},{"$f":"IF(V1243&W1243=V1242&W1242,X1242+1,1)","v":1},{"$f":"V1243&U1243&T1243&X1243","v":"2027251"},{"$f":"S1243","v":"2027-02-04"}]
[null,null,null,null,null,null,null,null,null,null,null,null,null,null,null,null,null,null,"2027-02-11",{"$f":"WEEKDAY(S1244)","v":5},{"$f":"MONTH(S1244)","v":2},{"$f":"YEAR(S1244)","v":2027},{"$f":"T1244&U1244","v":"52"},{"$f":"IF(V1244&W1244=V1243&W1243,X1243+1,1)","v":2},{"$f":"V1244&U1244&T1244&X1244","v":"2027252"},{"$f":"S1244","v":"2027-02-11"}]
[null,null,null,null,null,null,null,null,null,null,null,null,null,null,null,null,null,null,"2027-02-18",{"$f":"WEEKDAY(S1245)","v":5},{"$f":"MONTH(S1245)","v":2},{"$f":"YEAR(S1245)","v":2027},{"$f":"T1245&U1245","v":"52"},{"$f":"IF(V1245&W1245=V1244&W1244,X1244+1,1)","v":3},{"$f":"V1245&U1245&T1245&X1245","v":"2027253"},{"$f":"S1245","v":"2027-02-18"}]
[null,null,null,null,null,null,null,null,null,null,null,null,null,null,null,null,null,null,"2027-02-25",{"$f":"WEEKDAY(S1246)","v":5},{"$f":"MONTH(S1246)","v":2},{"$f":"YEAR(S1246)","v":2027},{"$f":"T1246&U1246","v":"52"},{"$f":"IF(V1246&W1246=V1245&W1245,X1245+1,1)","v":4},{"$f":"V1246&U1246&T1246&X1246","v":"2027254"},{"$f":"S1246","v":"2027-02-25"}]
[null,null,null,null,null,null,null,null,null,null,null,null,null,null,null,null,null,null,"2027-02-05",{"$f":"WEEKDAY(S1247)","v":6},{"$f":"MONTH(S1247)","v":2},{"$f":"YEAR(S1247)","v":2027},{"$f":"T1247&U1247","v":"62"},{"$f":"IF(V1247&W1247=V1246&W1246,X1246+1,1)","v":1},{"$f":"V1247&U1247&T1247&X1247","v":"2027261"},{"$f":"S1247","v":"2027-02-05"}]
[null,null,null,null,null,null,null,null,null,null,null,null,null,null,null,null,null,null,"2027-02-12",{"$f":"WEEKDAY(S1248)","v":6},{"$f":"MONTH(S1248)","v":2},{"$f":"YEAR(S1248)","v":2027},{"$f":"T1248&U1248","v":"62"},{"$f":"IF(V1248&W1248=V1247&W1247,X1247+1,1)","v":2},{"$f":"V1248&U1248&T1248&X1248","v":"2027262"},{"$f":"S1248","v":"2027-02-12"}]
[null,null,null,null,null,null,null,null,null,null,null,null,null,null,null,null,null,null,"2027-02-19",{"$f":"WEEKDAY(S1249)","v":6},{"$f":"MONTH(S1249)","v":2},{"$f":"YEAR(S1249)","v":2027},{"$f":"T1249&U1249","v":"62"},{"$f":"IF(V1249&W1249=V1248&W1248,X1248+1,1)","v":3},{"$f":"V1249&U1249&T1249&X1249","v":"2027263"},{"$f":"S1249","v":"2027-02-19"}]
[null,null,null,null,null,null,null,null,null,null,null,null,null,null,null,null,null,null,"2027-02-26",{"$f":"WEEKDAY(S1250)","v":6},{"$f":"MONTH(S1250)","v":2},{"$f":"YEAR(S1250)","v":2027},{"$f":"T1250&U1250","v":"62"},{"$f":"IF(V1250&W1250=V1249&W1249,X1249+1,1)","v":4},{"$f":"V1250&U1250&T1250&X1250","v":"2027264"},{"$f":"S1250","v":"2027-02-26"}]
[null,null,null,null,null,null,null,null,null,null,null,null,null,null,null,null,null,null,"2027-02-06",{"$f":"WEEKDAY(S1251)","v":7},{"$f":"MONTH(S1251)","v":2},{"$f":"YEAR(S1251)","v":2027},{"$f":"T1251&U1251","v":"72"},{"$f":"IF(V1251&W1251=V1250&W1250,X1250+1,1)","v":1},{"$f":"V1251&U1251&T1251&X1251","v":"2027271"},{"$f":"S1251","v":"2027-02-06"}]
[null,null,null,null,null,null,null,null,null,null,null,null,null,null,null,null,null,null,"2027-02-13",{"$f":"WEEKDAY(S1252)","v":7},{"$f":"MONTH(S1252)","v":2},{"$f":"YEAR(S1252)","v":2027},{"$f":"T1252&U1252","v":"72"},{"$f":"IF(V1252&W1252=V1251&W1251,X1251+1,1)","v":2},{"$f":"V1252&U1252&T1252&X1252","v":"2027272"},{"$f":"S1252","v":"2027-02-13"}]
[null,null,null,null,null,null,null,null,null,null,null,null,null,null,null,null,null,null,"2027-02-20",{"$f":"WEEKDAY(S1253)","v":7},{"$f":"MONTH(S1253)","v":2},{"$f":"YEAR(S1253)","v":2027},{"$f":"T1253&U1253","v":"72"},{"$f":"IF(V1253&W1253=V1252&W1252,X1252+1,1)","v":3},{"$f":"V1253&U1253&T1253&X1253","v":"2027273"},{"$f":"S1253","v":"2027-02-20"}]
[null,null,null,null,null,null,null,null,null,null,null,null,null,null,null,null,null,null,"2027-02-27",{"$f":"WEEKDAY(S1254)","v":7},{"$f":"MONTH(S1254)","v":2},{"$f":"YEAR(S1254)","v":2027},{"$f":"T1254&U1254","v":"72"},{"$f":"IF(V1254&W1254=V1253&W1253,X1253+1,1)","v":4},{"$f":"V1254&U1254&T1254&X1254","v":"2027274"},{"$f":"S1254","v":"2027-02-27"}]
[null,null,null,null,null,null,null,null,null,null,null,null,null,null,null,null,null,null,"2027-03-07",{"$f":"WEEKDAY(S1255)","v":1},{"$f":"MONTH(S1255)","v":3},{"$f":"YEAR(S1255)","v":2027},{"$f":"T1255&U1255","v":"13"},{"$f":"IF(V1255&W1255=V1254&W1254,X1254+1,1)","v":1},{"$f":"V1255&U1255&T1255&X1255","v":"2027311"},{"$f":"S1255","v":"2027-03-07"}]
[null,null,null,null,null,null,null,null,null,null,null,null,null,null,null,null,null,null,"2027-03-14",{"$f":"WEEKDAY(S1256)","v":1},{"$f":"MONTH(S1256)","v":3},{"$f":"YEAR(S1256)","v":2027},{"$f":"T1256&U1256","v":"13"},{"$f":"IF(V1256&W1256=V1255&W1255,X1255+1,1)","v":2},{"$f":"V1256&U1256&T1256&X1256","v":"2027312"},{"$f":"S1256","v":"2027-03-14"}]
[null,null,null,null,null,null,null,null,null,null,null,null,null,null,null,null,null,null,"2027-03-21",{"$f":"WEEKDAY(S1257)","v":1},{"$f":"MONTH(S1257)","v":3},{"$f":"YEAR(S1257)","v":2027},{"$f":"T1257&U1257","v":"13"},{"$f":"IF(V1257&W1257=V1256&W1256,X1256+1,1)","v":3},{"$f":"V1257&U1257&T1257&X1257","v":"2027313"},{"$f":"S1257","v":"2027-03-21"}]
[null,null,null,null,null,null,null,null,null,null,null,null,null,null,null,null,null,null,"2027-03-28",{"$f":"WEEKDAY(S1258)","v":1},{"$f":"MONTH(S1258)","v":3},{"$f":"YEAR(S1258)","v":2027},{"$f":"T1258&U1258","v":"13"},{"$f":"IF(V1258&W1258=V1257&W1257,X1257+1,1)","v":4},{"$f":"V1258&U1258&T1258&X1258","v":"2027314"},{"$f":"S1258","v":"2027-03-28"}]
[null,null,null,null,null,null,null,null,null,null,null,null,null,null,null,null,null,null,"2027-03-01",{"$f":"WEEKDAY(S1259)","v":2},{"$f":"MONTH(S1259)","v":3},{"$f":"YEAR(S1259)","v":2027},{"$f":"T1259&U1259","v":"23"},{"$f":"IF(V1259&W1259=V1258&W1258,X1258+1,1)","v":1},{"$f":"V1259&U1259&T1259&X1259","v":"2027321"},{"$f":"S1259","v":"2027-03-01"}]
[null,null,null,null,null,null,null,null,null,null,null,null,null,null,null,null,null,null,"2027-03-08",{"$f":"WEEKDAY(S1260)","v":2},{"$f":"MONTH(S1260)","v":3},{"$f":"YEAR(S1260)","v":2027},{"$f":"T1260&U1260","v":"23"},{"$f":"IF(V1260&W1260=V1259&W1259,X1259+1,1)","v":2},{"$f":"V1260&U1260&T1260&X1260","v":"2027322"},{"$f":"S1260","v":"2027-03-08"}]
[null,null,null,null,null,null,null,null,null,null,null,null,null,null,null,null,null,null,"2027-03-15",{"$f":"WEEKDAY(S1261)","v":2},{"$f":"MONTH(S1261)","v":3},{"$f":"YEAR(S1261)","v":2027},{"$f":"T1261&U1261","v":"23"},{"$f":"IF(V1261&W1261=V1260&W1260,X1260+1,1)","v":3},{"$f":"V1261&U1261&T1261&X1261","v":"2027323"},{"$f":"S1261","v":"2027-03-15"}]
[null,null,null,null,null,null,null,null,null,null,null,null,null,null,null,null,null,null,"2027-03-22",{"$f":"WEEKDAY(S1262)","v":2},{"$f":"MONTH(S1262)","v":3},{"$f":"YEAR(S1262)","v":2027},{"$f":"T1262&U1262","v":"23"},{"$f":"IF(V1262&W1262=V1261&W1261,X1261+1,1)","v":4},{"$f":"V1262&U1262&T1262&X1262","v":"2027324"},{"$f":"S1262","v":"2027-03-22"}]
[null,null,null,null,null,null,null,null,null,null,null,null,null,null,null,null,null,null,"2027-03-29",{"$f":"WEEKDAY(S1263)","v":2},{"$f":"MONTH(S1263)","v":3},{"$f":"YEAR(S1263)","v":2027},{"$f":"T1263&U1263","v":"23"},{"$f":"IF(V1263&W1263=V1262&W1262,X1262+1,1)","v":5},{"$f":"V1263&U1263&T1263&X1263","v":"2027325"},{"$f":"S1263","v":"2027-03-29"}]
[null,null,null,null,null,null,null,null,null,null,null,null,null,null,null,null,null,null,"2027-03-02",{"$f":"WEEKDAY(S1264)","v":3},{"$f":"MONTH(S1264)","v":3},{"$f":"YEAR(S1264)","v":2027},{"$f":"T1264&U1264","v":"33"},{"$f":"IF(V1264&W1264=V1263&W1263,X1263+1,1)","v":1},{"$f":"V1264&U1264&T1264&X1264","v":"2027331"},{"$f":"S1264","v":"2027-03-02"}]
[null,null,null,null,null,null,null,null,null,null,null,null,null,null,null,null,null,null,"2027-03-09",{"$f":"WEEKDAY(S1265)","v":3},{"$f":"MONTH(S1265)","v":3},{"$f":"YEAR(S1265)","v":2027},{"$f":"T1265&U1265","v":"33"},{"$f":"IF(V1265&W1265=V1264&W1264,X1264+1,1)","v":2},{"$f":"V1265&U1265&T1265&X1265","v":"2027332"},{"$f":"S1265","v":"2027-03-09"}]
[null,null,null,null,null,null,null,null,null,null,null,null,null,null,null,null,null,null,"2027-03-16",{"$f":"WEEKDAY(S1266)","v":3},{"$f":"MONTH(S1266)","v":3},{"$f":"YEAR(S1266)","v":2027},{"$f":"T1266&U1266","v":"33"},{"$f":"IF(V1266&W1266=V1265&W1265,X1265+1,1)","v":3},{"$f":"V1266&U1266&T1266&X1266","v":"2027333"},{"$f":"S1266","v":"2027-03-16"}]
[null,null,null,null,null,null,null,null,null,null,null,null,null,null,null,null,null,null,"2027-03-23",{"$f":"WEEKDAY(S1267)","v":3},{"$f":"MONTH(S1267)","v":3},{"$f":"YEAR(S1267)","v":2027},{"$f":"T1267&U1267","v":"33"},{"$f":"IF(V1267&W1267=V1266&W1266,X1266+1,1)","v":4},{"$f":"V1267&U1267&T1267&X1267","v":"2027334"},{"$f":"S1267","v":"2027-03-23"}]
[null,null,null,null,null,null,null,null,null,null,null,null,null,null,null,null,null,null,"2027-03-30",{"$f":"WEEKDAY(S1268)","v":3},{"$f":"MONTH(S1268)","v":3},{"$f":"YEAR(S1268)","v":2027},{"$f":"T1268&U1268","v":"33"},{"$f":"IF(V1268&W1268=V1267&W1267,X1267+1,1)","v":5},{"$f":"V1268&U1268&T1268&X1268","v":"2027335"},{"$f":"S1268","v":"2027-03-30"}]
[null,null,null,null,null,null,null,null,null,null,null,null,null,null,null,null,null,null,"2027-03-03",{"$f":"WEEKDAY(S1269)","v":4},{"$f":"MONTH(S1269)","v":3},{"$f":"YEAR(S1269)","v":2027},{"$f":"T1269&U1269","v":"43"},{"$f":"IF(V1269&W1269=V1268&W1268,X1268+1,1)","v":1},{"$f":"V1269&U1269&T1269&X1269","v":"2027341"},{"$f":"S1269","v":"2027-03-03"}]
[null,null,null,null,null,null,null,null,null,null,null,null,null,null,null,null,null,null,"2027-03-10",{"$f":"WEEKDAY(S1270)","v":4},{"$f":"MONTH(S1270)","v":3},{"$f":"YEAR(S1270)","v":2027},{"$f":"T1270&U1270","v":"43"},{"$f":"IF(V1270&W1270=V1269&W1269,X1269+1,1)","v":2},{"$f":"V1270&U1270&T1270&X1270","v":"2027342"},{"$f":"S1270","v":"2027-03-10"}]
[null,null,null,null,null,null,null,null,null,null,null,null,null,null,null,null,null,null,"2027-03-17",{"$f":"WEEKDAY(S1271)","v":4},{"$f":"MONTH(S1271)","v":3},{"$f":"YEAR(S1271)","v":2027},{"$f":"T1271&U1271","v":"43"},{"$f":"IF(V1271&W1271=V1270&W1270,X1270+1,1)","v":3},{"$f":"V1271&U1271&T1271&X1271","v":"2027343"},{"$f":"S1271","v":"2027-03-17"}]
[null,null,null,null,null,null,null,null,null,null,null,null,null,null,null,null,null,null,"2027-03-24",{"$f":"WEEKDAY(S1272)","v":4},{"$f":"MONTH(S1272)","v":3},{"$f":"YEAR(S1272)","v":2027},{"$f":"T1272&U1272","v":"43"},{"$f":"IF(V1272&W1272=V1271&W1271,X1271+1,1)","v":4},{"$f":"V1272&U1272&T1272&X1272","v":"2027344"},{"$f":"S1272","v":"2027-03-24"}]
[null,null,null,null,null,null,null,null,null,null,null,null,null,null,null,null,null,null,"2027-03-31",{"$f":"WEEKDAY(S1273)","v":4},{"$f":"MONTH(S1273)","v":3},{"$f":"YEAR(S1273)","v":2027},{"$f":"T1273&U1273","v":"43"},{"$f":"IF(V1273&W1273=V1272&W1272,X1272+1,1)","v":5},{"$f":"V1273&U1273&T1273&X1273","v":"2027345"},{"$f":"S1273","v":"2027-03-31"}]
[null,null,null,null,null,null,null,null,null,null,null,null,null,null,null,null,null,null,"2027-03-04",{"$f":"WEEKDAY(S1274)","v":5},{"$f":"MONTH(S1274)","v":3},{"$f":"YEAR(S1274)","v":2027},{"$f":"T1274&U1274","v":"53"},{"$f":"IF(V1274&W1274=V1273&W1273,X1273+1,1)","v":1},{"$f":"V1274&U1274&T1274&X1274","v":"2027351"},{"$f":"S1274","v":"2027-03-04"}]
[null,null,null,null,null,null,null,null,null,null,null,null,null,null,null,null,null,null,"2027-03-11",{"$f":"WEEKDAY(S1275)","v":5},{"$f":"MONTH(S1275)","v":3},{"$f":"YEAR(S1275)","v":2027},{"$f":"T1275&U1275","v":"53"},{"$f":"IF(V1275&W1275=V1274&W1274,X1274+1,1)","v":2},{"$f":"V1275&U1275&T1275&X1275","v":"2027352"},{"$f":"S1275","v":"2027-03-11"}]
[null,null,null,null,null,null,null,null,null,null,null,null,null,null,null,null,null,null,"2027-03-18",{"$f":"WEEKDAY(S1276)","v":5},{"$f":"MONTH(S1276)","v":3},{"$f":"YEAR(S1276)","v":2027},{"$f":"T1276&U1276","v":"53"},{"$f":"IF(V1276&W1276=V1275&W1275,X1275+1,1)","v":3},{"$f":"V1276&U1276&T1276&X1276","v":"2027353"},{"$f":"S1276","v":"2027-03-18"}]
[null,null,null,null,null,null,null,null,null,null,null,null,null,null,null,null,null,null,"2027-03-25",{"$f":"WEEKDAY(S1277)","v":5},{"$f":"MONTH(S1277)","v":3},{"$f":"YEAR(S1277)","v":2027},{"$f":"T1277&U1277","v":"53"},{"$f":"IF(V1277&W1277=V1276&W1276,X1276+1,1)","v":4},{"$f":"V1277&U1277&T1277&X1277","v":"2027354"},{"$f":"S1277","v":"2027-03-25"}]
[null,null,null,null,null,null,null,null,null,null,null,null,null,null,null,null,null,null,"2027-03-05",{"$f":"WEEKDAY(S1278)","v":6},{"$f":"MONTH(S1278)","v":3},{"$f":"YEAR(S1278)","v":2027},{"$f":"T1278&U1278","v":"63"},{"$f":"IF(V1278&W1278=V1277&W1277,X1277+1,1)","v":1},{"$f":"V1278&U1278&T1278&X1278","v":"2027361"},{"$f":"S1278","v":"2027-03-05"}]
[null,null,null,null,null,null,null,null,null,null,null,null,null,null,null,null,null,null,"2027-03-12",{"$f":"WEEKDAY(S1279)","v":6},{"$f":"MONTH(S1279)","v":3},{"$f":"YEAR(S1279)","v":2027},{"$f":"T1279&U1279","v":"63"},{"$f":"IF(V1279&W1279=V1278&W1278,X1278+1,1)","v":2},{"$f":"V1279&U1279&T1279&X1279","v":"2027362"},{"$f":"S1279","v":"2027-03-12"}]
[null,null,null,null,null,null,null,null,null,null,null,null,null,null,null,null,null,null,"2027-03-19",{"$f":"WEEKDAY(S1280)","v":6},{"$f":"MONTH(S1280)","v":3},{"$f":"YEAR(S1280)","v":2027},{"$f":"T1280&U1280","v":"63"},{"$f":"IF(V1280&W1280=V1279&W1279,X1279+1,1)","v":3},{"$f":"V1280&U1280&T1280&X1280","v":"2027363"},{"$f":"S1280","v":"2027-03-19"}]
[null,null,null,null,null,null,null,null,null,null,null,null,null,null,null,null,null,null,"2027-03-26",{"$f":"WEEKDAY(S1281)","v":6},{"$f":"MONTH(S1281)","v":3},{"$f":"YEAR(S1281)","v":2027},{"$f":"T1281&U1281","v":"63"},{"$f":"IF(V1281&W1281=V1280&W1280,X1280+1,1)","v":4},{"$f":"V1281&U1281&T1281&X1281","v":"2027364"},{"$f":"S1281","v":"2027-03-26"}]
[null,null,null,null,null,null,null,null,null,null,null,null,null,null,null,null,null,null,"2027-03-06",{"$f":"WEEKDAY(S1282)","v":7},{"$f":"MONTH(S1282)","v":3},{"$f":"YEAR(S1282)","v":2027},{"$f":"T1282&U1282","v":"73"},{"$f":"IF(V1282&W1282=V1281&W1281,X1281+1,1)","v":1},{"$f":"V1282&U1282&T1282&X1282","v":"2027371"},{"$f":"S1282","v":"2027-03-06"}]
[null,null,null,null,null,null,null,null,null,null,null,null,null,null,null,null,null,null,"2027-03-13",{"$f":"WEEKDAY(S1283)","v":7},{"$f":"MONTH(S1283)","v":3},{"$f":"YEAR(S1283)","v":2027},{"$f":"T1283&U1283","v":"73"},{"$f":"IF(V1283&W1283=V1282&W1282,X1282+1,1)","v":2},{"$f":"V1283&U1283&T1283&X1283","v":"2027372"},{"$f":"S1283","v":"2027-03-13"}]
[null,null,null,null,null,null,null,null,null,null,null,null,null,null,null,null,null,null,"2027-03-20",{"$f":"WEEKDAY(S1284)","v":7},{"$f":"MONTH(S1284)","v":3},{"$f":"YEAR(S1284)","v":2027},{"$f":"T1284&U1284","v":"73"},{"$f":"IF(V1284&W1284=V1283&W1283,X1283+1,1)","v":3},{"$f":"V1284&U1284&T1284&X1284","v":"2027373"},{"$f":"S1284","v":"2027-03-20"}]
[null,null,null,null,null,null,null,null,null,null,null,null,null,null,null,null,null,null,"2027-03-27",{"$f":"WEEKDAY(S1285)","v":7},{"$f":"MONTH(S1285)","v":3},{"$f":"YEAR(S1285)","v":2027},{"$f":"T1285&U1285","v":"73"},{"$f":"IF(V1285&W1285=V1284&W1284,X1284+1,1)","v":4},{"$f":"V1285&U1285&T1285&X1285","v":"2027374"},{"$f":"S1285","v":"2027-03-27"}]
[null,null,null,null,null,null,null,null,null,null,null,null,null,null,null,null,null,null,"2027-04-04",{"$f":"WEEKDAY(S1286)","v":1},{"$f":"MONTH(S1286)","v":4},{"$f":"YEAR(S1286)","v":2027},{"$f":"T1286&U1286","v":"14"},{"$f":"IF(V1286&W1286=V1285&W1285,X1285+1,1)","v":1},{"$f":"V1286&U1286&T1286&X1286","v":"2027411"},{"$f":"S1286","v":"2027-04-04"}]
[null,null,null,null,null,null,null,null,null,null,null,null,null,null,null,null,null,null,"2027-04-11",{"$f":"WEEKDAY(S1287)","v":1},{"$f":"MONTH(S1287)","v":4},{"$f":"YEAR(S1287)","v":2027},{"$f":"T1287&U1287","v":"14"},{"$f":"IF(V1287&W1287=V1286&W1286,X1286+1,1)","v":2},{"$f":"V1287&U1287&T1287&X1287","v":"2027412"},{"$f":"S1287","v":"2027-04-11"}]
[null,null,null,null,null,null,null,null,null,null,null,null,null,null,null,null,null,null,"2027-04-18",{"$f":"WEEKDAY(S1288)","v":1},{"$f":"MONTH(S1288)","v":4},{"$f":"YEAR(S1288)","v":2027},{"$f":"T1288&U1288","v":"14"},{"$f":"IF(V1288&W1288=V1287&W1287,X1287+1,1)","v":3},{"$f":"V1288&U1288&T1288&X1288","v":"2027413"},{"$f":"S1288","v":"2027-04-18"}]
[null,null,null,null,null,null,null,null,null,null,null,null,null,null,null,null,null,null,"2027-04-25",{"$f":"WEEKDAY(S1289)","v":1},{"$f":"MONTH(S1289)","v":4},{"$f":"YEAR(S1289)","v":2027},{"$f":"T1289&U1289","v":"14"},{"$f":"IF(V1289&W1289=V1288&W1288,X1288+1,1)","v":4},{"$f":"V1289&U1289&T1289&X1289","v":"2027414"},{"$f":"S1289","v":"2027-04-25"}]
[null,null,null,null,null,null,null,null,null,null,null,null,null,null,null,null,null,null,"2027-04-05",{"$f":"WEEKDAY(S1290)","v":2},{"$f":"MONTH(S1290)","v":4},{"$f":"YEAR(S1290)","v":2027},{"$f":"T1290&U1290","v":"24"},{"$f":"IF(V1290&W1290=V1289&W1289,X1289+1,1)","v":1},{"$f":"V1290&U1290&T1290&X1290","v":"2027421"},{"$f":"S1290","v":"2027-04-05"}]
[null,null,null,null,null,null,null,null,null,null,null,null,null,null,null,null,null,null,"2027-04-12",{"$f":"WEEKDAY(S1291)","v":2},{"$f":"MONTH(S1291)","v":4},{"$f":"YEAR(S1291)","v":2027},{"$f":"T1291&U1291","v":"24"},{"$f":"IF(V1291&W1291=V1290&W1290,X1290+1,1)","v":2},{"$f":"V1291&U1291&T1291&X1291","v":"2027422"},{"$f":"S1291","v":"2027-04-12"}]
[null,null,null,null,null,null,null,null,null,null,null,null,null,null,null,null,null,null,"2027-04-19",{"$f":"WEEKDAY(S1292)","v":2},{"$f":"MONTH(S1292)","v":4},{"$f":"YEAR(S1292)","v":2027},{"$f":"T1292&U1292","v":"24"},{"$f":"IF(V1292&W1292=V1291&W1291,X1291+1,1)","v":3},{"$f":"V1292&U1292&T1292&X1292","v":"2027423"},{"$f":"S1292","v":"2027-04-19"}]
[null,null,null,null,null,null,null,null,null,null,null,null,null,null,null,null,null,null,"2027-04-26",{"$f":"WEEKDAY(S1293)","v":2},{"$f":"MONTH(S1293)","v":4},{"$f":"YEAR(S1293)","v":2027},{"$f":"T1293&U1293","v":"24"},{"$f":"IF(V1293&W1293=V1292&W1292,X1292+1,1)","v":4},{"$f":"V1293&U1293&T1293&X1293","v":"2027424"},{"$f":"S1293","v":"2027-04-26"}]
[null,null,null,null,null,null,null,null,null,null,null,null,null,null,null,null,null,null,"2027-04-06",{"$f":"WEEKDAY(S1294)","v":3},{"$f":"MONTH(S1294)","v":4},{"$f":"YEAR(S1294)","v":2027},{"$f":"T1294&U1294","v":"34"},{"$f":"IF(V1294&W1294=V1293&W1293,X1293+1,1)","v":1},{"$f":"V1294&U1294&T1294&X1294","v":"2027431"},{"$f":"S1294","v":"2027-04-06"}]
[null,null,null,null,null,null,null,null,null,null,null,null,null,null,null,null,null,null,"2027-04-13",{"$f":"WEEKDAY(S1295)","v":3},{"$f":"MONTH(S1295)","v":4},{"$f":"YEAR(S1295)","v":2027},{"$f":"T1295&U1295","v":"34"},{"$f":"IF(V1295&W1295=V1294&W1294,X1294+1,1)","v":2},{"$f":"V1295&U1295&T1295&X1295","v":"2027432"},{"$f":"S1295","v":"2027-04-13"}]
[null,null,null,null,null,null,null,null,null,null,null,null,null,null,null,null,null,null,"2027-04-20",{"$f":"WEEKDAY(S1296)","v":3},{"$f":"MONTH(S1296)","v":4},{"$f":"YEAR(S1296)","v":2027},{"$f":"T1296&U1296","v":"34"},{"$f":"IF(V1296&W1296=V1295&W1295,X1295+1,1)","v":3},{"$f":"V1296&U1296&T1296&X1296","v":"2027433"},{"$f":"S1296","v":"2027-04-20"}]
[null,null,null,null,null,null,null,null,null,null,null,null,null,null,null,null,null,null,"2027-04-27",{"$f":"WEEKDAY(S1297)","v":3},{"$f":"MONTH(S1297)","v":4},{"$f":"YEAR(S1297)","v":2027},{"$f":"T1297&U1297","v":"34"},{"$f":"IF(V1297&W1297=V1296&W1296,X1296+1,1)","v":4},{"$f":"V1297&U1297&T1297&X1297","v":"2027434"},{"$f":"S1297","v":"2027-04-27"}]
[null,null,null,null,null,null,null,null,null,null,null,null,null,null,null,null,null,null,"2027-04-07",{"$f":"WEEKDAY(S1298)","v":4},{"$f":"MONTH(S1298)","v":4},{"$f":"YEAR(S1298)","v":2027},{"$f":"T1298&U1298","v":"44"},{"$f":"IF(V1298&W1298=V1297&W1297,X1297+1,1)","v":1},{"$f":"V1298&U1298&T1298&X1298","v":"2027441"},{"$f":"S1298","v":"2027-04-07"}]
[null,null,null,null,null,null,null,null,null,null,null,null,null,null,null,null,null,null,"2027-04-14",{"$f":"WEEKDAY(S1299)","v":4},{"$f":"MONTH(S1299)","v":4},{"$f":"YEAR(S1299)","v":2027},{"$f":"T1299&U1299","v":"44"},{"$f":"IF(V1299&W1299=V1298&W1298,X1298+1,1)","v":2},{"$f":"V1299&U1299&T1299&X1299","v":"2027442"},{"$f":"S1299","v":"2027-04-14"}]
[null,null,null,null,null,null,null,null,null,null,null,null,null,null,null,null,null,null,"2027-04-21",{"$f":"WEEKDAY(S1300)","v":4},{"$f":"MONTH(S1300)","v":4},{"$f":"YEAR(S1300)","v":2027},{"$f":"T1300&U1300","v":"44"},{"$f":"IF(V1300&W1300=V1299&W1299,X1299+1,1)","v":3},{"$f":"V1300&U1300&T1300&X1300","v":"2027443"},{"$f":"S1300","v":"2027-04-21"}]
[null,null,null,null,null,null,null,null,null,null,null,null,null,null,null,null,null,null,"2027-04-28",{"$f":"WEEKDAY(S1301)","v":4},{"$f":"MONTH(S1301)","v":4},{"$f":"YEAR(S1301)","v":2027},{"$f":"T1301&U1301","v":"44"},{"$f":"IF(V1301&W1301=V1300&W1300,X1300+1,1)","v":4},{"$f":"V1301&U1301&T1301&X1301","v":"2027444"},{"$f":"S1301","v":"2027-04-28"}]
[null,null,null,null,null,null,null,null,null,null,null,null,null,null,null,null,null,null,"2027-04-01",{"$f":"WEEKDAY(S1302)","v":5},{"$f":"MONTH(S1302)","v":4},{"$f":"YEAR(S1302)","v":2027},{"$f":"T1302&U1302","v":"54"},{"$f":"IF(V1302&W1302=V1301&W1301,X1301+1,1)","v":1},{"$f":"V1302&U1302&T1302&X1302","v":"2027451"},{"$f":"S1302","v":"2027-04-01"}]
[null,null,null,null,null,null,null,null,null,null,null,null,null,null,null,null,null,null,"2027-04-08",{"$f":"WEEKDAY(S1303)","v":5},{"$f":"MONTH(S1303)","v":4},{"$f":"YEAR(S1303)","v":2027},{"$f":"T1303&U1303","v":"54"},{"$f":"IF(V1303&W1303=V1302&W1302,X1302+1,1)","v":2},{"$f":"V1303&U1303&T1303&X1303","v":"2027452"},{"$f":"S1303","v":"2027-04-08"}]
[null,null,null,null,null,null,null,null,null,null,null,null,null,null,null,null,null,null,"2027-04-15",{"$f":"WEEKDAY(S1304)","v":5},{"$f":"MONTH(S1304)","v":4},{"$f":"YEAR(S1304)","v":2027},{"$f":"T1304&U1304","v":"54"},{"$f":"IF(V1304&W1304=V1303&W1303,X1303+1,1)","v":3},{"$f":"V1304&U1304&T1304&X1304","v":"2027453"},{"$f":"S1304","v":"2027-04-15"}]
[null,null,null,null,null,null,null,null,null,null,null,null,null,null,null,null,null,null,"2027-04-22",{"$f":"WEEKDAY(S1305)","v":5},{"$f":"MONTH(S1305)","v":4},{"$f":"YEAR(S1305)","v":2027},{"$f":"T1305&U1305","v":"54"},{"$f":"IF(V1305&W1305=V1304&W1304,X1304+1,1)","v":4},{"$f":"V1305&U1305&T1305&X1305","v":"2027454"},{"$f":"S1305","v":"2027-04-22"}]
[null,null,null,null,null,null,null,null,null,null,null,null,null,null,null,null,null,null,"2027-04-29",{"$f":"WEEKDAY(S1306)","v":5},{"$f":"MONTH(S1306)","v":4},{"$f":"YEAR(S1306)","v":2027},{"$f":"T1306&U1306","v":"54"},{"$f":"IF(V1306&W1306=V1305&W1305,X1305+1,1)","v":5},{"$f":"V1306&U1306&T1306&X1306","v":"2027455"},{"$f":"S1306","v":"2027-04-29"}]
[null,null,null,null,null,null,null,null,null,null,null,null,null,null,null,null,null,null,"2027-04-02",{"$f":"WEEKDAY(S1307)","v":6},{"$f":"MONTH(S1307)","v":4},{"$f":"YEAR(S1307)","v":2027},{"$f":"T1307&U1307","v":"64"},{"$f":"IF(V1307&W1307=V1306&W1306,X1306+1,1)","v":1},{"$f":"V1307&U1307&T1307&X1307","v":"2027461"},{"$f":"S1307","v":"2027-04-02"}]
[null,null,null,null,null,null,null,null,null,null,null,null,null,null,null,null,null,null,"2027-04-09",{"$f":"WEEKDAY(S1308)","v":6},{"$f":"MONTH(S1308)","v":4},{"$f":"YEAR(S1308)","v":2027},{"$f":"T1308&U1308","v":"64"},{"$f":"IF(V1308&W1308=V1307&W1307,X1307+1,1)","v":2},{"$f":"V1308&U1308&T1308&X1308","v":"2027462"},{"$f":"S1308","v":"2027-04-09"}]
[null,null,null,null,null,null,null,null,null,null,null,null,null,null,null,null,null,null,"2027-04-16",{"$f":"WEEKDAY(S1309)","v":6},{"$f":"MONTH(S1309)","v":4},{"$f":"YEAR(S1309)","v":2027},{"$f":"T1309&U1309","v":"64"},{"$f":"IF(V1309&W1309=V1308&W1308,X1308+1,1)","v":3},{"$f":"V1309&U1309&T1309&X1309","v":"2027463"},{"$f":"S1309","v":"2027-04-16"}]
[null,null,null,null,null,null,null,null,null,null,null,null,null,null,null,null,null,null,"2027-04-23",{"$f":"WEEKDAY(S1310)","v":6},{"$f":"MONTH(S1310)","v":4},{"$f":"YEAR(S1310)","v":2027},{"$f":"T1310&U1310","v":"64"},{"$f":"IF(V1310&W1310=V1309&W1309,X1309+1,1)","v":4},{"$f":"V1310&U1310&T1310&X1310","v":"2027464"},{"$f":"S1310","v":"2027-04-23"}]
[null,null,null,null,null,null,null,null,null,null,null,null,null,null,null,null,null,null,"2027-04-30",{"$f":"WEEKDAY(S1311)","v":6},{"$f":"MONTH(S1311)","v":4},{"$f":"YEAR(S1311)","v":2027},{"$f":"T1311&U1311","v":"64"},{"$f":"IF(V1311&W1311=V1310&W1310,X1310+1,1)","v":5},{"$f":"V1311&U1311&T1311&X1311","v":"2027465"},{"$f":"S1311","v":"2027-04-30"}]
[null,null,null,null,null,null,null,null,null,null,null,null,null,null,null,null,null,null,"2027-04-03",{"$f":"WEEKDAY(S1312)","v":7},{"$f":"MONTH(S1312)","v":4},{"$f":"YEAR(S1312)","v":2027},{"$f":"T1312&U1312","v":"74"},{"$f":"IF(V1312&W1312=V1311&W1311,X1311+1,1)","v":1},{"$f":"V1312&U1312&T1312&X1312","v":"2027471"},{"$f":"S1312","v":"2027-04-03"}]
[null,null,null,null,null,null,null,null,null,null,null,null,null,null,null,null,null,null,"2027-04-10",{"$f":"WEEKDAY(S1313)","v":7},{"$f":"MONTH(S1313)","v":4},{"$f":"YEAR(S1313)","v":2027},{"$f":"T1313&U1313","v":"74"},{"$f":"IF(V1313&W1313=V1312&W1312,X1312+1,1)","v":2},{"$f":"V1313&U1313&T1313&X1313","v":"2027472"},{"$f":"S1313","v":"2027-04-10"}]
[null,null,null,null,null,null,null,null,null,null,null,null,null,null,null,null,null,null,"2027-04-17",{"$f":"WEEKDAY(S1314)","v":7},{"$f":"MONTH(S1314)","v":4},{"$f":"YEAR(S1314)","v":2027},{"$f":"T1314&U1314","v":"74"},{"$f":"IF(V1314&W1314=V1313&W1313,X1313+1,1)","v":3},{"$f":"V1314&U1314&T1314&X1314","v":"2027473"},{"$f":"S1314","v":"2027-04-17"}]
[null,null,null,null,null,null,null,null,null,null,null,null,null,null,null,null,null,null,"2027-04-24",{"$f":"WEEKDAY(S1315)","v":7},{"$f":"MONTH(S1315)","v":4},{"$f":"YEAR(S1315)","v":2027},{"$f":"T1315&U1315","v":"74"},{"$f":"IF(V1315&W1315=V1314&W1314,X1314+1,1)","v":4},{"$f":"V1315&U1315&T1315&X1315","v":"2027474"},{"$f":"S1315","v":"2027-04-24"}]
[null,null,null,null,null,null,null,null,null,null,null,null,null,null,null,null,null,null,"2027-05-02",{"$f":"WEEKDAY(S1316)","v":1},{"$f":"MONTH(S1316)","v":5},{"$f":"YEAR(S1316)","v":2027},{"$f":"T1316&U1316","v":"15"},{"$f":"IF(V1316&W1316=V1315&W1315,X1315+1,1)","v":1},{"$f":"V1316&U1316&T1316&X1316","v":"2027511"},{"$f":"S1316","v":"2027-05-02"}]
[null,null,null,null,null,null,null,null,null,null,null,null,null,null,null,null,null,null,"2027-05-09",{"$f":"WEEKDAY(S1317)","v":1},{"$f":"MONTH(S1317)","v":5},{"$f":"YEAR(S1317)","v":2027},{"$f":"T1317&U1317","v":"15"},{"$f":"IF(V1317&W1317=V1316&W1316,X1316+1,1)","v":2},{"$f":"V1317&U1317&T1317&X1317","v":"2027512"},{"$f":"S1317","v":"2027-05-09"}]
[null,null,null,null,null,null,null,null,null,null,null,null,null,null,null,null,null,null,"2027-05-16",{"$f":"WEEKDAY(S1318)","v":1},{"$f":"MONTH(S1318)","v":5},{"$f":"YEAR(S1318)","v":2027},{"$f":"T1318&U1318","v":"15"},{"$f":"IF(V1318&W1318=V1317&W1317,X1317+1,1)","v":3},{"$f":"V1318&U1318&T1318&X1318","v":"2027513"},{"$f":"S1318","v":"2027-05-16"}]
[null,null,null,null,null,null,null,null,null,null,null,null,null,null,null,null,null,null,"2027-05-23",{"$f":"WEEKDAY(S1319)","v":1},{"$f":"MONTH(S1319)","v":5},{"$f":"YEAR(S1319)","v":2027},{"$f":"T1319&U1319","v":"15"},{"$f":"IF(V1319&W1319=V1318&W1318,X1318+1,1)","v":4},{"$f":"V1319&U1319&T1319&X1319","v":"2027514"},{"$f":"S1319","v":"2027-05-23"}]
[null,null,null,null,null,null,null,null,null,null,null,null,null,null,null,null,null,null,"2027-05-30",{"$f":"WEEKDAY(S1320)","v":1},{"$f":"MONTH(S1320)","v":5},{"$f":"YEAR(S1320)","v":2027},{"$f":"T1320&U1320","v":"15"},{"$f":"IF(V1320&W1320=V1319&W1319,X1319+1,1)","v":5},{"$f":"V1320&U1320&T1320&X1320","v":"2027515"},{"$f":"S1320","v":"2027-05-30"}]
[null,null,null,null,null,null,null,null,null,null,null,null,null,null,null,null,null,null,"2027-05-03",{"$f":"WEEKDAY(S1321)","v":2},{"$f":"MONTH(S1321)","v":5},{"$f":"YEAR(S1321)","v":2027},{"$f":"T1321&U1321","v":"25"},{"$f":"IF(V1321&W1321=V1320&W1320,X1320+1,1)","v":1},{"$f":"V1321&U1321&T1321&X1321","v":"2027521"},{"$f":"S1321","v":"2027-05-03"}]
[null,null,null,null,null,null,null,null,null,null,null,null,null,null,null,null,null,null,"2027-05-10",{"$f":"WEEKDAY(S1322)","v":2},{"$f":"MONTH(S1322)","v":5},{"$f":"YEAR(S1322)","v":2027},{"$f":"T1322&U1322","v":"25"},{"$f":"IF(V1322&W1322=V1321&W1321,X1321+1,1)","v":2},{"$f":"V1322&U1322&T1322&X1322","v":"2027522"},{"$f":"S1322","v":"2027-05-10"}]
[null,null,null,null,null,null,null,null,null,null,null,null,null,null,null,null,null,null,"2027-05-17",{"$f":"WEEKDAY(S1323)","v":2},{"$f":"MONTH(S1323)","v":5},{"$f":"YEAR(S1323)","v":2027},{"$f":"T1323&U1323","v":"25"},{"$f":"IF(V1323&W1323=V1322&W1322,X1322+1,1)","v":3},{"$f":"V1323&U1323&T1323&X1323","v":"2027523"},{"$f":"S1323","v":"2027-05-17"}]
[null,null,null,null,null,null,null,null,null,null,null,null,null,null,null,null,null,null,"2027-05-24",{"$f":"WEEKDAY(S1324)","v":2},{"$f":"MONTH(S1324)","v":5},{"$f":"YEAR(S1324)","v":2027},{"$f":"T1324&U1324","v":"25"},{"$f":"IF(V1324&W1324=V1323&W1323,X1323+1,1)","v":4},{"$f":"V1324&U1324&T1324&X1324","v":"2027524"},{"$f":"S1324","v":"2027-05-24"}]
[null,null,null,null,null,null,null,null,null,null,null,null,null,null,null,null,null,null,"2027-05-31",{"$f":"WEEKDAY(S1325)","v":2},{"$f":"MONTH(S1325)","v":5},{"$f":"YEAR(S1325)","v":2027},{"$f":"T1325&U1325","v":"25"},{"$f":"IF(V1325&W1325=V1324&W1324,X1324+1,1)","v":5},{"$f":"V1325&U1325&T1325&X1325","v":"2027525"},{"$f":"S1325","v":"2027-05-31"}]
[null,null,null,null,null,null,null,null,null,null,null,null,null,null,null,null,null,null,"2027-05-04",{"$f":"WEEKDAY(S1326)","v":3},{"$f":"MONTH(S1326)","v":5},{"$f":"YEAR(S1326)","v":2027},{"$f":"T1326&U1326","v":"35"},{"$f":"IF(V1326&W1326=V1325&W1325,X1325+1,1)","v":1},{"$f":"V1326&U1326&T1326&X1326","v":"2027531"},{"$f":"S1326","v":"2027-05-04"}]
[null,null,null,null,null,null,null,null,null,null,null,null,null,null,null,null,null,null,"2027-05-11",{"$f":"WEEKDAY(S1327)","v":3},{"$f":"MONTH(S1327)","v":5},{"$f":"YEAR(S1327)","v":2027},{"$f":"T1327&U1327","v":"35"},{"$f":"IF(V1327&W1327=V1326&W1326,X1326+1,1)","v":2},{"$f":"V1327&U1327&T1327&X1327","v":"2027532"},{"$f":"S1327","v":"2027-05-11"}]
[null,null,null,null,null,null,null,null,null,null,null,null,null,null,null,null,null,null,"2027-05-18",{"$f":"WEEKDAY(S1328)","v":3},{"$f":"MONTH(S1328)","v":5},{"$f":"YEAR(S1328)","v":2027},{"$f":"T1328&U1328","v":"35"},{"$f":"IF(V1328&W1328=V1327&W1327,X1327+1,1)","v":3},{"$f":"V1328&U1328&T1328&X1328","v":"2027533"},{"$f":"S1328","v":"2027-05-18"}]
[null,null,null,null,null,null,null,null,null,null,null,null,null,null,null,null,null,null,"2027-05-25",{"$f":"WEEKDAY(S1329)","v":3},{"$f":"MONTH(S1329)","v":5},{"$f":"YEAR(S1329)","v":2027},{"$f":"T1329&U1329","v":"35"},{"$f":"IF(V1329&W1329=V1328&W1328,X1328+1,1)","v":4},{"$f":"V1329&U1329&T1329&X1329","v":"2027534"},{"$f":"S1329","v":"2027-05-25"}]
[null,null,null,null,null,null,null,null,null,null,null,null,null,null,null,null,null,null,"2027-05-05",{"$f":"WEEKDAY(S1330)","v":4},{"$f":"MONTH(S1330)","v":5},{"$f":"YEAR(S1330)","v":2027},{"$f":"T1330&U1330","v":"45"},{"$f":"IF(V1330&W1330=V1329&W1329,X1329+1,1)","v":1},{"$f":"V1330&U1330&T1330&X1330","v":"2027541"},{"$f":"S1330","v":"2027-05-05"}]
[null,null,null,null,null,null,null,null,null,null,null,null,null,null,null,null,null,null,"2027-05-12",{"$f":"WEEKDAY(S1331)","v":4},{"$f":"MONTH(S1331)","v":5},{"$f":"YEAR(S1331)","v":2027},{"$f":"T1331&U1331","v":"45"},{"$f":"IF(V1331&W1331=V1330&W1330,X1330+1,1)","v":2},{"$f":"V1331&U1331&T1331&X1331","v":"2027542"},{"$f":"S1331","v":"2027-05-12"}]
[null,null,null,null,null,null,null,null,null,null,null,null,null,null,null,null,null,null,"2027-05-19",{"$f":"WEEKDAY(S1332)","v":4},{"$f":"MONTH(S1332)","v":5},{"$f":"YEAR(S1332)","v":2027},{"$f":"T1332&U1332","v":"45"},{"$f":"IF(V1332&W1332=V1331&W1331,X1331+1,1)","v":3},{"$f":"V1332&U1332&T1332&X1332","v":"2027543"},{"$f":"S1332","v":"2027-05-19"}]
[null,null,null,null,null,null,null,null,null,null,null,null,null,null,null,null,null,null,"2027-05-26",{"$f":"WEEKDAY(S1333)","v":4},{"$f":"MONTH(S1333)","v":5},{"$f":"YEAR(S1333)","v":2027},{"$f":"T1333&U1333","v":"45"},{"$f":"IF(V1333&W1333=V1332&W1332,X1332+1,1)","v":4},{"$f":"V1333&U1333&T1333&X1333","v":"2027544"},{"$f":"S1333","v":"2027-05-26"}]
[null,null,null,null,null,null,null,null,null,null,null,null,null,null,null,null,null,null,"2027-05-06",{"$f":"WEEKDAY(S1334)","v":5},{"$f":"MONTH(S1334)","v":5},{"$f":"YEAR(S1334)","v":2027},{"$f":"T1334&U1334","v":"55"},{"$f":"IF(V1334&W1334=V1333&W1333,X1333+1,1)","v":1},{"$f":"V1334&U1334&T1334&X1334","v":"2027551"},{"$f":"S1334","v":"2027-05-06"}]
[null,null,null,null,null,null,null,null,null,null,null,null,null,null,null,null,null,null,"2027-05-13",{"$f":"WEEKDAY(S1335)","v":5},{"$f":"MONTH(S1335)","v":5},{"$f":"YEAR(S1335)","v":2027},{"$f":"T1335&U1335","v":"55"},{"$f":"IF(V1335&W1335=V1334&W1334,X1334+1,1)","v":2},{"$f":"V1335&U1335&T1335&X1335","v":"2027552"},{"$f":"S1335","v":"2027-05-13"}]
[null,null,null,null,null,null,null,null,null,null,null,null,null,null,null,null,null,null,"2027-05-20",{"$f":"WEEKDAY(S1336)","v":5},{"$f":"MONTH(S1336)","v":5},{"$f":"YEAR(S1336)","v":2027},{"$f":"T1336&U1336","v":"55"},{"$f":"IF(V1336&W1336=V1335&W1335,X1335+1,1)","v":3},{"$f":"V1336&U1336&T1336&X1336","v":"2027553"},{"$f":"S1336","v":"2027-05-20"}]
[null,null,null,null,null,null,null,null,null,null,null,null,null,null,null,null,null,null,"2027-05-27",{"$f":"WEEKDAY(S1337)","v":5},{"$f":"MONTH(S1337)","v":5},{"$f":"YEAR(S1337)","v":2027},{"$f":"T1337&U1337","v":"55"},{"$f":"IF(V1337&W1337=V1336&W1336,X1336+1,1)","v":4},{"$f":"V1337&U1337&T1337&X1337","v":"2027554"},{"$f":"S1337","v":"2027-05-27"}]
[null,null,null,null,null,null,null,null,null,null,null,null,null,null,null,null,null,null,"2027-05-07",{"$f":"WEEKDAY(S1338)","v":6},{"$f":"MONTH(S1338)","v":5},{"$f":"YEAR(S1338)","v":2027},{"$f":"T1338&U1338","v":"65"},{"$f":"IF(V1338&W1338=V1337&W1337,X1337+1,1)","v":1},{"$f":"V1338&U1338&T1338&X1338","v":"2027561"},{"$f":"S1338","v":"2027-05-07"}]
[null,null,null,null,null,null,null,null,null,null,null,null,null,null,null,null,null,null,"2027-05-14",{"$f":"WEEKDAY(S1339)","v":6},{"$f":"MONTH(S1339)","v":5},{"$f":"YEAR(S1339)","v":2027},{"$f":"T1339&U1339","v":"65"},{"$f":"IF(V1339&W1339=V1338&W1338,X1338+1,1)","v":2},{"$f":"V1339&U1339&T1339&X1339","v":"2027562"},{"$f":"S1339","v":"2027-05-14"}]
[null,null,null,null,null,null,null,null,null,null,null,null,null,null,null,null,null,null,"2027-05-21",{"$f":"WEEKDAY(S1340)","v":6},{"$f":"MONTH(S1340)","v":5},{"$f":"YEAR(S1340)","v":2027},{"$f":"T1340&U1340","v":"65"},{"$f":"IF(V1340&W1340=V1339&W1339,X1339+1,1)","v":3},{"$f":"V1340&U1340&T1340&X1340","v":"2027563"},{"$f":"S1340","v":"2027-05-21"}]
[null,null,null,null,null,null,null,null,null,null,null,null,null,null,null,null,null,null,"2027-05-28",{"$f":"WEEKDAY(S1341)","v":6},{"$f":"MONTH(S1341)","v":5},{"$f":"YEAR(S1341)","v":2027},{"$f":"T1341&U1341","v":"65"},{"$f":"IF(V1341&W1341=V1340&W1340,X1340+1,1)","v":4},{"$f":"V1341&U1341&T1341&X1341","v":"2027564"},{"$f":"S1341","v":"2027-05-28"}]
[null,null,null,null,null,null,null,null,null,null,null,null,null,null,null,null,null,null,"2027-05-01",{"$f":"WEEKDAY(S1342)","v":7},{"$f":"MONTH(S1342)","v":5},{"$f":"YEAR(S1342)","v":2027},{"$f":"T1342&U1342","v":"75"},{"$f":"IF(V1342&W1342=V1341&W1341,X1341+1,1)","v":1},{"$f":"V1342&U1342&T1342&X1342","v":"2027571"},{"$f":"S1342","v":"2027-05-01"}]
[null,null,null,null,null,null,null,null,null,null,null,null,null,null,null,null,null,null,"2027-05-08",{"$f":"WEEKDAY(S1343)","v":7},{"$f":"MONTH(S1343)","v":5},{"$f":"YEAR(S1343)","v":2027},{"$f":"T1343&U1343","v":"75"},{"$f":"IF(V1343&W1343=V1342&W1342,X1342+1,1)","v":2},{"$f":"V1343&U1343&T1343&X1343","v":"2027572"},{"$f":"S1343","v":"2027-05-08"}]
[null,null,null,null,null,null,null,null,null,null,null,null,null,null,null,null,null,null,"2027-05-15",{"$f":"WEEKDAY(S1344)","v":7},{"$f":"MONTH(S1344)","v":5},{"$f":"YEAR(S1344)","v":2027},{"$f":"T1344&U1344","v":"75"},{"$f":"IF(V1344&W1344=V1343&W1343,X1343+1,1)","v":3},{"$f":"V1344&U1344&T1344&X1344","v":"2027573"},{"$f":"S1344","v":"2027-05-15"}]
[null,null,null,null,null,null,null,null,null,null,null,null,null,null,null,null,null,null,"2027-05-22",{"$f":"WEEKDAY(S1345)","v":7},{"$f":"MONTH(S1345)","v":5},{"$f":"YEAR(S1345)","v":2027},{"$f":"T1345&U1345","v":"75"},{"$f":"IF(V1345&W1345=V1344&W1344,X1344+1,1)","v":4},{"$f":"V1345&U1345&T1345&X1345","v":"2027574"},{"$f":"S1345","v":"2027-05-22"}]
[null,null,null,null,null,null,null,null,null,null,null,null,null,null,null,null,null,null,"2027-05-29",{"$f":"WEEKDAY(S1346)","v":7},{"$f":"MONTH(S1346)","v":5},{"$f":"YEAR(S1346)","v":2027},{"$f":"T1346&U1346","v":"75"},{"$f":"IF(V1346&W1346=V1345&W1345,X1345+1,1)","v":5},{"$f":"V1346&U1346&T1346&X1346","v":"2027575"},{"$f":"S1346","v":"2027-05-29"}]
[null,null,null,null,null,null,null,null,null,null,null,null,null,null,null,null,null,null,"2027-06-06",{"$f":"WEEKDAY(S1347)","v":1},{"$f":"MONTH(S1347)","v":6},{"$f":"YEAR(S1347)","v":2027},{"$f":"T1347&U1347","v":"16"},{"$f":"IF(V1347&W1347=V1346&W1346,X1346+1,1)","v":1},{"$f":"V1347&U1347&T1347&X1347","v":"2027611"},{"$f":"S1347","v":"2027-06-06"}]
[null,null,null,null,null,null,null,null,null,null,null,null,null,null,null,null,null,null,"2027-06-13",{"$f":"WEEKDAY(S1348)","v":1},{"$f":"MONTH(S1348)","v":6},{"$f":"YEAR(S1348)","v":2027},{"$f":"T1348&U1348","v":"16"},{"$f":"IF(V1348&W1348=V1347&W1347,X1347+1,1)","v":2},{"$f":"V1348&U1348&T1348&X1348","v":"2027612"},{"$f":"S1348","v":"2027-06-13"}]
[null,null,null,null,null,null,null,null,null,null,null,null,null,null,null,null,null,null,"2027-06-20",{"$f":"WEEKDAY(S1349)","v":1},{"$f":"MONTH(S1349)","v":6},{"$f":"YEAR(S1349)","v":2027},{"$f":"T1349&U1349","v":"16"},{"$f":"IF(V1349&W1349=V1348&W1348,X1348+1,1)","v":3},{"$f":"V1349&U1349&T1349&X1349","v":"2027613"},{"$f":"S1349","v":"2027-06-20"}]
[null,null,null,null,null,null,null,null,null,null,null,null,null,null,null,null,null,null,"2027-06-27",{"$f":"WEEKDAY(S1350)","v":1},{"$f":"MONTH(S1350)","v":6},{"$f":"YEAR(S1350)","v":2027},{"$f":"T1350&U1350","v":"16"},{"$f":"IF(V1350&W1350=V1349&W1349,X1349+1,1)","v":4},{"$f":"V1350&U1350&T1350&X1350","v":"2027614"},{"$f":"S1350","v":"2027-06-27"}]
[null,null,null,null,null,null,null,null,null,null,null,null,null,null,null,null,null,null,"2027-06-07",{"$f":"WEEKDAY(S1351)","v":2},{"$f":"MONTH(S1351)","v":6},{"$f":"YEAR(S1351)","v":2027},{"$f":"T1351&U1351","v":"26"},{"$f":"IF(V1351&W1351=V1350&W1350,X1350+1,1)","v":1},{"$f":"V1351&U1351&T1351&X1351","v":"2027621"},{"$f":"S1351","v":"2027-06-07"}]
[null,null,null,null,null,null,null,null,null,null,null,null,null,null,null,null,null,null,"2027-06-14",{"$f":"WEEKDAY(S1352)","v":2},{"$f":"MONTH(S1352)","v":6},{"$f":"YEAR(S1352)","v":2027},{"$f":"T1352&U1352","v":"26"},{"$f":"IF(V1352&W1352=V1351&W1351,X1351+1,1)","v":2},{"$f":"V1352&U1352&T1352&X1352","v":"2027622"},{"$f":"S1352","v":"2027-06-14"}]
[null,null,null,null,null,null,null,null,null,null,null,null,null,null,null,null,null,null,"2027-06-21",{"$f":"WEEKDAY(S1353)","v":2},{"$f":"MONTH(S1353)","v":6},{"$f":"YEAR(S1353)","v":2027},{"$f":"T1353&U1353","v":"26"},{"$f":"IF(V1353&W1353=V1352&W1352,X1352+1,1)","v":3},{"$f":"V1353&U1353&T1353&X1353","v":"2027623"},{"$f":"S1353","v":"2027-06-21"}]
[null,null,null,null,null,null,null,null,null,null,null,null,null,null,null,null,null,null,"2027-06-28",{"$f":"WEEKDAY(S1354)","v":2},{"$f":"MONTH(S1354)","v":6},{"$f":"YEAR(S1354)","v":2027},{"$f":"T1354&U1354","v":"26"},{"$f":"IF(V1354&W1354=V1353&W1353,X1353+1,1)","v":4},{"$f":"V1354&U1354&T1354&X1354","v":"2027624"},{"$f":"S1354","v":"2027-06-28"}]
[null,null,null,null,null,null,null,null,null,null,null,null,null,null,null,null,null,null,"2027-06-01",{"$f":"WEEKDAY(S1355)","v":3},{"$f":"MONTH(S1355)","v":6},{"$f":"YEAR(S1355)","v":2027},{"$f":"T1355&U1355","v":"36"},{"$f":"IF(V1355&W1355=V1354&W1354,X1354+1,1)","v":1},{"$f":"V1355&U1355&T1355&X1355","v":"2027631"},{"$f":"S1355","v":"2027-06-01"}]
[null,null,null,null,null,null,null,null,null,null,null,null,null,null,null,null,null,null,"2027-06-08",{"$f":"WEEKDAY(S1356)","v":3},{"$f":"MONTH(S1356)","v":6},{"$f":"YEAR(S1356)","v":2027},{"$f":"T1356&U1356","v":"36"},{"$f":"IF(V1356&W1356=V1355&W1355,X1355+1,1)","v":2},{"$f":"V1356&U1356&T1356&X1356","v":"2027632"},{"$f":"S1356","v":"2027-06-08"}]
[null,null,null,null,null,null,null,null,null,null,null,null,null,null,null,null,null,null,"2027-06-15",{"$f":"WEEKDAY(S1357)","v":3},{"$f":"MONTH(S1357)","v":6},{"$f":"YEAR(S1357)","v":2027},{"$f":"T1357&U1357","v":"36"},{"$f":"IF(V1357&W1357=V1356&W1356,X1356+1,1)","v":3},{"$f":"V1357&U1357&T1357&X1357","v":"2027633"},{"$f":"S1357","v":"2027-06-15"}]
[null,null,null,null,null,null,null,null,null,null,null,null,null,null,null,null,null,null,"2027-06-22",{"$f":"WEEKDAY(S1358)","v":3},{"$f":"MONTH(S1358)","v":6},{"$f":"YEAR(S1358)","v":2027},{"$f":"T1358&U1358","v":"36"},{"$f":"IF(V1358&W1358=V1357&W1357,X1357+1,1)","v":4},{"$f":"V1358&U1358&T1358&X1358","v":"2027634"},{"$f":"S1358","v":"2027-06-22"}]
[null,null,null,null,null,null,null,null,null,null,null,null,null,null,null,null,null,null,"2027-06-29",{"$f":"WEEKDAY(S1359)","v":3},{"$f":"MONTH(S1359)","v":6},{"$f":"YEAR(S1359)","v":2027},{"$f":"T1359&U1359","v":"36"},{"$f":"IF(V1359&W1359=V1358&W1358,X1358+1,1)","v":5},{"$f":"V1359&U1359&T1359&X1359","v":"2027635"},{"$f":"S1359","v":"2027-06-29"}]
[null,null,null,null,null,null,null,null,null,null,null,null,null,null,null,null,null,null,"2027-06-02",{"$f":"WEEKDAY(S1360)","v":4},{"$f":"MONTH(S1360)","v":6},{"$f":"YEAR(S1360)","v":2027},{"$f":"T1360&U1360","v":"46"},{"$f":"IF(V1360&W1360=V1359&W1359,X1359+1,1)","v":1},{"$f":"V1360&U1360&T1360&X1360","v":"2027641"},{"$f":"S1360","v":"2027-06-02"}]
[null,null,null,null,null,null,null,null,null,null,null,null,null,null,null,null,null,null,"2027-06-09",{"$f":"WEEKDAY(S1361)","v":4},{"$f":"MONTH(S1361)","v":6},{"$f":"YEAR(S1361)","v":2027},{"$f":"T1361&U1361","v":"46"},{"$f":"IF(V1361&W1361=V1360&W1360,X1360+1,1)","v":2},{"$f":"V1361&U1361&T1361&X1361","v":"2027642"},{"$f":"S1361","v":"2027-06-09"}]
[null,null,null,null,null,null,null,null,null,null,null,null,null,null,null,null,null,null,"2027-06-16",{"$f":"WEEKDAY(S1362)","v":4},{"$f":"MONTH(S1362)","v":6},{"$f":"YEAR(S1362)","v":2027},{"$f":"T1362&U1362","v":"46"},{"$f":"IF(V1362&W1362=V1361&W1361,X1361+1,1)","v":3},{"$f":"V1362&U1362&T1362&X1362","v":"2027643"},{"$f":"S1362","v":"2027-06-16"}]
[null,null,null,null,null,null,null,null,null,null,null,null,null,null,null,null,null,null,"2027-06-23",{"$f":"WEEKDAY(S1363)","v":4},{"$f":"MONTH(S1363)","v":6},{"$f":"YEAR(S1363)","v":2027},{"$f":"T1363&U1363","v":"46"},{"$f":"IF(V1363&W1363=V1362&W1362,X1362+1,1)","v":4},{"$f":"V1363&U1363&T1363&X1363","v":"2027644"},{"$f":"S1363","v":"2027-06-23"}]
[null,null,null,null,null,null,null,null,null,null,null,null,null,null,null,null,null,null,"2027-06-30",{"$f":"WEEKDAY(S1364)","v":4},{"$f":"MONTH(S1364)","v":6},{"$f":"YEAR(S1364)","v":2027},{"$f":"T1364&U1364","v":"46"},{"$f":"IF(V1364&W1364=V1363&W1363,X1363+1,1)","v":5},{"$f":"V1364&U1364&T1364&X1364","v":"2027645"},{"$f":"S1364","v":"2027-06-30"}]
[null,null,null,null,null,null,null,null,null,null,null,null,null,null,null,null,null,null,"2027-06-03",{"$f":"WEEKDAY(S1365)","v":5},{"$f":"MONTH(S1365)","v":6},{"$f":"YEAR(S1365)","v":2027},{"$f":"T1365&U1365","v":"56"},{"$f":"IF(V1365&W1365=V1364&W1364,X1364+1,1)","v":1},{"$f":"V1365&U1365&T1365&X1365","v":"2027651"},{"$f":"S1365","v":"2027-06-03"}]
[null,null,null,null,null,null,null,null,null,null,null,null,null,null,null,null,null,null,"2027-06-10",{"$f":"WEEKDAY(S1366)","v":5},{"$f":"MONTH(S1366)","v":6},{"$f":"YEAR(S1366)","v":2027},{"$f":"T1366&U1366","v":"56"},{"$f":"IF(V1366&W1366=V1365&W1365,X1365+1,1)","v":2},{"$f":"V1366&U1366&T1366&X1366","v":"2027652"},{"$f":"S1366","v":"2027-06-10"}]
[null,null,null,null,null,null,null,null,null,null,null,null,null,null,null,null,null,null,"2027-06-17",{"$f":"WEEKDAY(S1367)","v":5},{"$f":"MONTH(S1367)","v":6},{"$f":"YEAR(S1367)","v":2027},{"$f":"T1367&U1367","v":"56"},{"$f":"IF(V1367&W1367=V1366&W1366,X1366+1,1)","v":3},{"$f":"V1367&U1367&T1367&X1367","v":"2027653"},{"$f":"S1367","v":"2027-06-17"}]
[null,null,null,null,null,null,null,null,null,null,null,null,null,null,null,null,null,null,"2027-06-24",{"$f":"WEEKDAY(S1368)","v":5},{"$f":"MONTH(S1368)","v":6},{"$f":"YEAR(S1368)","v":2027},{"$f":"T1368&U1368","v":"56"},{"$f":"IF(V1368&W1368=V1367&W1367,X1367+1,1)","v":4},{"$f":"V1368&U1368&T1368&X1368","v":"2027654"},{"$f":"S1368","v":"2027-06-24"}]
[null,null,null,null,null,null,null,null,null,null,null,null,null,null,null,null,null,null,"2027-06-04",{"$f":"WEEKDAY(S1369)","v":6},{"$f":"MONTH(S1369)","v":6},{"$f":"YEAR(S1369)","v":2027},{"$f":"T1369&U1369","v":"66"},{"$f":"IF(V1369&W1369=V1368&W1368,X1368+1,1)","v":1},{"$f":"V1369&U1369&T1369&X1369","v":"2027661"},{"$f":"S1369","v":"2027-06-04"}]
[null,null,null,null,null,null,null,null,null,null,null,null,null,null,null,null,null,null,"2027-06-11",{"$f":"WEEKDAY(S1370)","v":6},{"$f":"MONTH(S1370)","v":6},{"$f":"YEAR(S1370)","v":2027},{"$f":"T1370&U1370","v":"66"},{"$f":"IF(V1370&W1370=V1369&W1369,X1369+1,1)","v":2},{"$f":"V1370&U1370&T1370&X1370","v":"2027662"},{"$f":"S1370","v":"2027-06-11"}]
[null,null,null,null,null,null,null,null,null,null,null,null,null,null,null,null,null,null,"2027-06-18",{"$f":"WEEKDAY(S1371)","v":6},{"$f":"MONTH(S1371)","v":6},{"$f":"YEAR(S1371)","v":2027},{"$f":"T1371&U1371","v":"66"},{"$f":"IF(V1371&W1371=V1370&W1370,X1370+1,1)","v":3},{"$f":"V1371&U1371&T1371&X1371","v":"2027663"},{"$f":"S1371","v":"2027-06-18"}]
[null,null,null,null,null,null,null,null,null,null,null,null,null,null,null,null,null,null,"2027-06-25",{"$f":"WEEKDAY(S1372)","v":6},{"$f":"MONTH(S1372)","v":6},{"$f":"YEAR(S1372)","v":2027},{"$f":"T1372&U1372","v":"66"},{"$f":"IF(V1372&W1372=V1371&W1371,X1371+1,1)","v":4},{"$f":"V1372&U1372&T1372&X1372","v":"2027664"},{"$f":"S1372","v":"2027-06-25"}]
[null,null,null,null,null,null,null,null,null,null,null,null,null,null,null,null,null,null,"2027-06-05",{"$f":"WEEKDAY(S1373)","v":7},{"$f":"MONTH(S1373)","v":6},{"$f":"YEAR(S1373)","v":2027},{"$f":"T1373&U1373","v":"76"},{"$f":"IF(V1373&W1373=V1372&W1372,X1372+1,1)","v":1},{"$f":"V1373&U1373&T1373&X1373","v":"2027671"},{"$f":"S1373","v":"2027-06-05"}]
[null,null,null,null,null,null,null,null,null,null,null,null,null,null,null,null,null,null,"2027-06-12",{"$f":"WEEKDAY(S1374)","v":7},{"$f":"MONTH(S1374)","v":6},{"$f":"YEAR(S1374)","v":2027},{"$f":"T1374&U1374","v":"76"},{"$f":"IF(V1374&W1374=V1373&W1373,X1373+1,1)","v":2},{"$f":"V1374&U1374&T1374&X1374","v":"2027672"},{"$f":"S1374","v":"2027-06-12"}]
[null,null,null,null,null,null,null,null,null,null,null,null,null,null,null,null,null,null,"2027-06-19",{"$f":"WEEKDAY(S1375)","v":7},{"$f":"MONTH(S1375)","v":6},{"$f":"YEAR(S1375)","v":2027},{"$f":"T1375&U1375","v":"76"},{"$f":"IF(V1375&W1375=V1374&W1374,X1374+1,1)","v":3},{"$f":"V1375&U1375&T1375&X1375","v":"2027673"},{"$f":"S1375","v":"2027-06-19"}]
[null,null,null,null,null,null,null,null,null,null,null,null,null,null,null,null,null,null,"2027-06-26",{"$f":"WEEKDAY(S1376)","v":7},{"$f":"MONTH(S1376)","v":6},{"$f":"YEAR(S1376)","v":2027},{"$f":"T1376&U1376","v":"76"},{"$f":"IF(V1376&W1376=V1375&W1375,X1375+1,1)","v":4},{"$f":"V1376&U1376&T1376&X1376","v":"2027674"},{"$f":"S1376","v":"2027-06-26"}]
[null,null,null,null,null,null,null,null,null,null,null,null,null,null,null,null,null,null,"2027-07-04",{"$f":"WEEKDAY(S1377)","v":1},{"$f":"MONTH(S1377)","v":7},{"$f":"YEAR(S1377)","v":2027},{"$f":"T1377&U1377","v":"17"},{"$f":"IF(V1377&W1377=V1376&W1376,X1376+1,1)","v":1},{"$f":"V1377&U1377&T1377&X1377","v":"2027711"},{"$f":"S1377","v":"2027-07-04"}]
[null,null,null,null,null,null,null,null,null,null,null,null,null,null,null,null,null,null,"2027-07-11",{"$f":"WEEKDAY(S1378)","v":1},{"$f":"MONTH(S1378)","v":7},{"$f":"YEAR(S1378)","v":2027},{"$f":"T1378&U1378","v":"17"},{"$f":"IF(V1378&W1378=V1377&W1377,X1377+1,1)","v":2},{"$f":"V1378&U1378&T1378&X1378","v":"2027712"},{"$f":"S1378","v":"2027-07-11"}]
[null,null,null,null,null,null,null,null,null,null,null,null,null,null,null,null,null,null,"2027-07-18",{"$f":"WEEKDAY(S1379)","v":1},{"$f":"MONTH(S1379)","v":7},{"$f":"YEAR(S1379)","v":2027},{"$f":"T1379&U1379","v":"17"},{"$f":"IF(V1379&W1379=V1378&W1378,X1378+1,1)","v":3},{"$f":"V1379&U1379&T1379&X1379","v":"2027713"},{"$f":"S1379","v":"2027-07-18"}]
[null,null,null,null,null,null,null,null,null,null,null,null,null,null,null,null,null,null,"2027-07-25",{"$f":"WEEKDAY(S1380)","v":1},{"$f":"MONTH(S1380)","v":7},{"$f":"YEAR(S1380)","v":2027},{"$f":"T1380&U1380","v":"17"},{"$f":"IF(V1380&W1380=V1379&W1379,X1379+1,1)","v":4},{"$f":"V1380&U1380&T1380&X1380","v":"2027714"},{"$f":"S1380","v":"2027-07-25"}]
[null,null,null,null,null,null,null,null,null,null,null,null,null,null,null,null,null,null,"2027-07-05",{"$f":"WEEKDAY(S1381)","v":2},{"$f":"MONTH(S1381)","v":7},{"$f":"YEAR(S1381)","v":2027},{"$f":"T1381&U1381","v":"27"},{"$f":"IF(V1381&W1381=V1380&W1380,X1380+1,1)","v":1},{"$f":"V1381&U1381&T1381&X1381","v":"2027721"},{"$f":"S1381","v":"2027-07-05"}]
[null,null,null,null,null,null,null,null,null,null,null,null,null,null,null,null,null,null,"2027-07-12",{"$f":"WEEKDAY(S1382)","v":2},{"$f":"MONTH(S1382)","v":7},{"$f":"YEAR(S1382)","v":2027},{"$f":"T1382&U1382","v":"27"},{"$f":"IF(V1382&W1382=V1381&W1381,X1381+1,1)","v":2},{"$f":"V1382&U1382&T1382&X1382","v":"2027722"},{"$f":"S1382","v":"2027-07-12"}]
[null,null,null,null,null,null,null,null,null,null,null,null,null,null,null,null,null,null,"2027-07-19",{"$f":"WEEKDAY(S1383)","v":2},{"$f":"MONTH(S1383)","v":7},{"$f":"YEAR(S1383)","v":2027},{"$f":"T1383&U1383","v":"27"},{"$f":"IF(V1383&W1383=V1382&W1382,X1382+1,1)","v":3},{"$f":"V1383&U1383&T1383&X1383","v":"2027723"},{"$f":"S1383","v":"2027-07-19"}]
[null,null,null,null,null,null,null,null,null,null,null,null,null,null,null,null,null,null,"2027-07-26",{"$f":"WEEKDAY(S1384)","v":2},{"$f":"MONTH(S1384)","v":7},{"$f":"YEAR(S1384)","v":2027},{"$f":"T1384&U1384","v":"27"},{"$f":"IF(V1384&W1384=V1383&W1383,X1383+1,1)","v":4},{"$f":"V1384&U1384&T1384&X1384","v":"2027724"},{"$f":"S1384","v":"2027-07-26"}]
[null,null,null,null,null,null,null,null,null,null,null,null,null,null,null,null,null,null,"2027-07-06",{"$f":"WEEKDAY(S1385)","v":3},{"$f":"MONTH(S1385)","v":7},{"$f":"YEAR(S1385)","v":2027},{"$f":"T1385&U1385","v":"37"},{"$f":"IF(V1385&W1385=V1384&W1384,X1384+1,1)","v":1},{"$f":"V1385&U1385&T1385&X1385","v":"2027731"},{"$f":"S1385","v":"2027-07-06"}]
[null,null,null,null,null,null,null,null,null,null,null,null,null,null,null,null,null,null,"2027-07-13",{"$f":"WEEKDAY(S1386)","v":3},{"$f":"MONTH(S1386)","v":7},{"$f":"YEAR(S1386)","v":2027},{"$f":"T1386&U1386","v":"37"},{"$f":"IF(V1386&W1386=V1385&W1385,X1385+1,1)","v":2},{"$f":"V1386&U1386&T1386&X1386","v":"2027732"},{"$f":"S1386","v":"2027-07-13"}]
[null,null,null,null,null,null,null,null,null,null,null,null,null,null,null,null,null,null,"2027-07-20",{"$f":"WEEKDAY(S1387)","v":3},{"$f":"MONTH(S1387)","v":7},{"$f":"YEAR(S1387)","v":2027},{"$f":"T1387&U1387","v":"37"},{"$f":"IF(V1387&W1387=V1386&W1386,X1386+1,1)","v":3},{"$f":"V1387&U1387&T1387&X1387","v":"2027733"},{"$f":"S1387","v":"2027-07-20"}]
[null,null,null,null,null,null,null,null,null,null,null,null,null,null,null,null,null,null,"2027-07-27",{"$f":"WEEKDAY(S1388)","v":3},{"$f":"MONTH(S1388)","v":7},{"$f":"YEAR(S1388)","v":2027},{"$f":"T1388&U1388","v":"37"},{"$f":"IF(V1388&W1388=V1387&W1387,X1387+1,1)","v":4},{"$f":"V1388&U1388&T1388&X1388","v":"2027734"},{"$f":"S1388","v":"2027-07-27"}]
[null,null,null,null,null,null,null,null,null,null,null,null,null,null,null,null,null,null,"2027-07-07",{"$f":"WEEKDAY(S1389)","v":4},{"$f":"MONTH(S1389)","v":7},{"$f":"YEAR(S1389)","v":2027},{"$f":"T1389&U1389","v":"47"},{"$f":"IF(V1389&W1389=V1388&W1388,X1388+1,1)","v":1},{"$f":"V1389&U1389&T1389&X1389","v":"2027741"},{"$f":"S1389","v":"2027-07-07"}]
[null,null,null,null,null,null,null,null,null,null,null,null,null,null,null,null,null,null,"2027-07-14",{"$f":"WEEKDAY(S1390)","v":4},{"$f":"MONTH(S1390)","v":7},{"$f":"YEAR(S1390)","v":2027},{"$f":"T1390&U1390","v":"47"},{"$f":"IF(V1390&W1390=V1389&W1389,X1389+1,1)","v":2},{"$f":"V1390&U1390&T1390&X1390","v":"2027742"},{"$f":"S1390","v":"2027-07-14"}]
[null,null,null,null,null,null,null,null,null,null,null,null,null,null,null,null,null,null,"2027-07-21",{"$f":"WEEKDAY(S1391)","v":4},{"$f":"MONTH(S1391)","v":7},{"$f":"YEAR(S1391)","v":2027},{"$f":"T1391&U1391","v":"47"},{"$f":"IF(V1391&W1391=V1390&W1390,X1390+1,1)","v":3},{"$f":"V1391&U1391&T1391&X1391","v":"2027743"},{"$f":"S1391","v":"2027-07-21"}]
[null,null,null,null,null,null,null,null,null,null,null,null,null,null,null,null,null,null,"2027-07-28",{"$f":"WEEKDAY(S1392)","v":4},{"$f":"MONTH(S1392)","v":7},{"$f":"YEAR(S1392)","v":2027},{"$f":"T1392&U1392","v":"47"},{"$f":"IF(V1392&W1392=V1391&W1391,X1391+1,1)","v":4},{"$f":"V1392&U1392&T1392&X1392","v":"2027744"},{"$f":"S1392","v":"2027-07-28"}]
[null,null,null,null,null,null,null,null,null,null,null,null,null,null,null,null,null,null,"2027-07-01",{"$f":"WEEKDAY(S1393)","v":5},{"$f":"MONTH(S1393)","v":7},{"$f":"YEAR(S1393)","v":2027},{"$f":"T1393&U1393","v":"57"},{"$f":"IF(V1393&W1393=V1392&W1392,X1392+1,1)","v":1},{"$f":"V1393&U1393&T1393&X1393","v":"2027751"},{"$f":"S1393","v":"2027-07-01"}]
[null,null,null,null,null,null,null,null,null,null,null,null,null,null,null,null,null,null,"2027-07-08",{"$f":"WEEKDAY(S1394)","v":5},{"$f":"MONTH(S1394)","v":7},{"$f":"YEAR(S1394)","v":2027},{"$f":"T1394&U1394","v":"57"},{"$f":"IF(V1394&W1394=V1393&W1393,X1393+1,1)","v":2},{"$f":"V1394&U1394&T1394&X1394","v":"2027752"},{"$f":"S1394","v":"2027-07-08"}]
[null,null,null,null,null,null,null,null,null,null,null,null,null,null,null,null,null,null,"2027-07-15",{"$f":"WEEKDAY(S1395)","v":5},{"$f":"MONTH(S1395)","v":7},{"$f":"YEAR(S1395)","v":2027},{"$f":"T1395&U1395","v":"57"},{"$f":"IF(V1395&W1395=V1394&W1394,X1394+1,1)","v":3},{"$f":"V1395&U1395&T1395&X1395","v":"2027753"},{"$f":"S1395","v":"2027-07-15"}]
[null,null,null,null,null,null,null,null,null,null,null,null,null,null,null,null,null,null,"2027-07-22",{"$f":"WEEKDAY(S1396)","v":5},{"$f":"MONTH(S1396)","v":7},{"$f":"YEAR(S1396)","v":2027},{"$f":"T1396&U1396","v":"57"},{"$f":"IF(V1396&W1396=V1395&W1395,X1395+1,1)","v":4},{"$f":"V1396&U1396&T1396&X1396","v":"2027754"},{"$f":"S1396","v":"2027-07-22"}]
[null,null,null,null,null,null,null,null,null,null,null,null,null,null,null,null,null,null,"2027-07-29",{"$f":"WEEKDAY(S1397)","v":5},{"$f":"MONTH(S1397)","v":7},{"$f":"YEAR(S1397)","v":2027},{"$f":"T1397&U1397","v":"57"},{"$f":"IF(V1397&W1397=V1396&W1396,X1396+1,1)","v":5},{"$f":"V1397&U1397&T1397&X1397","v":"2027755"},{"$f":"S1397","v":"2027-07-29"}]
[null,null,null,null,null,null,null,null,null,null,null,null,null,null,null,null,null,null,"2027-07-02",{"$f":"WEEKDAY(S1398)","v":6},{"$f":"MONTH(S1398)","v":7},{"$f":"YEAR(S1398)","v":2027},{"$f":"T1398&U1398","v":"67"},{"$f":"IF(V1398&W1398=V1397&W1397,X1397+1,1)","v":1},{"$f":"V1398&U1398&T1398&X1398","v":"2027761"},{"$f":"S1398","v":"2027-07-02"}]
[null,null,null,null,null,null,null,null,null,null,null,null,null,null,null,null,null,null,"2027-07-09",{"$f":"WEEKDAY(S1399)","v":6},{"$f":"MONTH(S1399)","v":7},{"$f":"YEAR(S1399)","v":2027},{"$f":"T1399&U1399","v":"67"},{"$f":"IF(V1399&W1399=V1398&W1398,X1398+1,1)","v":2},{"$f":"V1399&U1399&T1399&X1399","v":"2027762"},{"$f":"S1399","v":"2027-07-09"}]
[null,null,null,null,null,null,null,null,null,null,null,null,null,null,null,null,null,null,"2027-07-16",{"$f":"WEEKDAY(S1400)","v":6},{"$f":"MONTH(S1400)","v":7},{"$f":"YEAR(S1400)","v":2027},{"$f":"T1400&U1400","v":"67"},{"$f":"IF(V1400&W1400=V1399&W1399,X1399+1,1)","v":3},{"$f":"V1400&U1400&T1400&X1400","v":"2027763"},{"$f":"S1400","v":"2027-07-16"}]
[null,null,null,null,null,null,null,null,null,null,null,null,null,null,null,null,null,null,"2027-07-23",{"$f":"WEEKDAY(S1401)","v":6},{"$f":"MONTH(S1401)","v":7},{"$f":"YEAR(S1401)","v":2027},{"$f":"T1401&U1401","v":"67"},{"$f":"IF(V1401&W1401=V1400&W1400,X1400+1,1)","v":4},{"$f":"V1401&U1401&T1401&X1401","v":"2027764"},{"$f":"S1401","v":"2027-07-23"}]
[null,null,null,null,null,null,null,null,null,null,null,null,null,null,null,null,null,null,"2027-07-30",{"$f":"WEEKDAY(S1402)","v":6},{"$f":"MONTH(S1402)","v":7},{"$f":"YEAR(S1402)","v":2027},{"$f":"T1402&U1402","v":"67"},{"$f":"IF(V1402&W1402=V1401&W1401,X1401+1,1)","v":5},{"$f":"V1402&U1402&T1402&X1402","v":"2027765"},{"$f":"S1402","v":"2027-07-30"}]
[null,null,null,null,null,null,null,null,null,null,null,null,null,null,null,null,null,null,"2027-07-03",{"$f":"WEEKDAY(S1403)","v":7},{"$f":"MONTH(S1403)","v":7},{"$f":"YEAR(S1403)","v":2027},{"$f":"T1403&U1403","v":"77"},{"$f":"IF(V1403&W1403=V1402&W1402,X1402+1,1)","v":1},{"$f":"V1403&U1403&T1403&X1403","v":"2027771"},{"$f":"S1403","v":"2027-07-03"}]
[null,null,null,null,null,null,null,null,null,null,null,null,null,null,null,null,null,null,"2027-07-10",{"$f":"WEEKDAY(S1404)","v":7},{"$f":"MONTH(S1404)","v":7},{"$f":"YEAR(S1404)","v":2027},{"$f":"T1404&U1404","v":"77"},{"$f":"IF(V1404&W1404=V1403&W1403,X1403+1,1)","v":2},{"$f":"V1404&U1404&T1404&X1404","v":"2027772"},{"$f":"S1404","v":"2027-07-10"}]
[null,null,null,null,null,null,null,null,null,null,null,null,null,null,null,null,null,null,"2027-07-17",{"$f":"WEEKDAY(S1405)","v":7},{"$f":"MONTH(S1405)","v":7},{"$f":"YEAR(S1405)","v":2027},{"$f":"T1405&U1405","v":"77"},{"$f":"IF(V1405&W1405=V1404&W1404,X1404+1,1)","v":3},{"$f":"V1405&U1405&T1405&X1405","v":"2027773"},{"$f":"S1405","v":"2027-07-17"}]
[null,null,null,null,null,null,null,null,null,null,null,null,null,null,null,null,null,null,"2027-07-24",{"$f":"WEEKDAY(S1406)","v":7},{"$f":"MONTH(S1406)","v":7},{"$f":"YEAR(S1406)","v":2027},{"$f":"T1406&U1406","v":"77"},{"$f":"IF(V1406&W1406=V1405&W1405,X1405+1,1)","v":4},{"$f":"V1406&U1406&T1406&X1406","v":"2027774"},{"$f":"S1406","v":"2027-07-24"}]
[null,null,null,null,null,null,null,null,null,null,null,null,null,null,null,null,null,null,"2027-07-31",{"$f":"WEEKDAY(S1407)","v":7},{"$f":"MONTH(S1407)","v":7},{"$f":"YEAR(S1407)","v":2027},{"$f":"T1407&U1407","v":"77"},{"$f":"IF(V1407&W1407=V1406&W1406,X1406+1,1)","v":5},{"$f":"V1407&U1407&T1407&X1407","v":"2027775"},{"$f":"S1407","v":"2027-07-31"}]
[null,null,null,null,null,null,null,null,null,null,null,null,null,null,null,null,null,null,"2027-08-01",{"$f":"WEEKDAY(S1408)","v":1},{"$f":"MONTH(S1408)","v":8},{"$f":"YEAR(S1408)","v":2027},{"$f":"T1408&U1408","v":"18"},{"$f":"IF(V1408&W1408=V1407&W1407,X1407+1,1)","v":1},{"$f":"V1408&U1408&T1408&X1408","v":"2027811"},{"$f":"S1408","v":"2027-08-01"}]
[null,null,null,null,null,null,null,null,null,null,null,null,null,null,null,null,null,null,"2027-08-08",{"$f":"WEEKDAY(S1409)","v":1},{"$f":"MONTH(S1409)","v":8},{"$f":"YEAR(S1409)","v":2027},{"$f":"T1409&U1409","v":"18"},{"$f":"IF(V1409&W1409=V1408&W1408,X1408+1,1)","v":2},{"$f":"V1409&U1409&T1409&X1409","v":"2027812"},{"$f":"S1409","v":"2027-08-08"}]
[null,null,null,null,null,null,null,null,null,null,null,null,null,null,null,null,null,null,"2027-08-15",{"$f":"WEEKDAY(S1410)","v":1},{"$f":"MONTH(S1410)","v":8},{"$f":"YEAR(S1410)","v":2027},{"$f":"T1410&U1410","v":"18"},{"$f":"IF(V1410&W1410=V1409&W1409,X1409+1,1)","v":3},{"$f":"V1410&U1410&T1410&X1410","v":"2027813"},{"$f":"S1410","v":"2027-08-15"}]
[null,null,null,null,null,null,null,null,null,null,null,null,null,null,null,null,null,null,"2027-08-22",{"$f":"WEEKDAY(S1411)","v":1},{"$f":"MONTH(S1411)","v":8},{"$f":"YEAR(S1411)","v":2027},{"$f":"T1411&U1411","v":"18"},{"$f":"IF(V1411&W1411=V1410&W1410,X1410+1,1)","v":4},{"$f":"V1411&U1411&T1411&X1411","v":"2027814"},{"$f":"S1411","v":"2027-08-22"}]
[null,null,null,null,null,null,null,null,null,null,null,null,null,null,null,null,null,null,"2027-08-29",{"$f":"WEEKDAY(S1412)","v":1},{"$f":"MONTH(S1412)","v":8},{"$f":"YEAR(S1412)","v":2027},{"$f":"T1412&U1412","v":"18"},{"$f":"IF(V1412&W1412=V1411&W1411,X1411+1,1)","v":5},{"$f":"V1412&U1412&T1412&X1412","v":"2027815"},{"$f":"S1412","v":"2027-08-29"}]
[null,null,null,null,null,null,null,null,null,null,null,null,null,null,null,null,null,null,"2027-08-02",{"$f":"WEEKDAY(S1413)","v":2},{"$f":"MONTH(S1413)","v":8},{"$f":"YEAR(S1413)","v":2027},{"$f":"T1413&U1413","v":"28"},{"$f":"IF(V1413&W1413=V1412&W1412,X1412+1,1)","v":1},{"$f":"V1413&U1413&T1413&X1413","v":"2027821"},{"$f":"S1413","v":"2027-08-02"}]
[null,null,null,null,null,null,null,null,null,null,null,null,null,null,null,null,null,null,"2027-08-09",{"$f":"WEEKDAY(S1414)","v":2},{"$f":"MONTH(S1414)","v":8},{"$f":"YEAR(S1414)","v":2027},{"$f":"T1414&U1414","v":"28"},{"$f":"IF(V1414&W1414=V1413&W1413,X1413+1,1)","v":2},{"$f":"V1414&U1414&T1414&X1414","v":"2027822"},{"$f":"S1414","v":"2027-08-09"}]
[null,null,null,null,null,null,null,null,null,null,null,null,null,null,null,null,null,null,"2027-08-16",{"$f":"WEEKDAY(S1415)","v":2},{"$f":"MONTH(S1415)","v":8},{"$f":"YEAR(S1415)","v":2027},{"$f":"T1415&U1415","v":"28"},{"$f":"IF(V1415&W1415=V1414&W1414,X1414+1,1)","v":3},{"$f":"V1415&U1415&T1415&X1415","v":"2027823"},{"$f":"S1415","v":"2027-08-16"}]
[null,null,null,null,null,null,null,null,null,null,null,null,null,null,null,null,null,null,"2027-08-23",{"$f":"WEEKDAY(S1416)","v":2},{"$f":"MONTH(S1416)","v":8},{"$f":"YEAR(S1416)","v":2027},{"$f":"T1416&U1416","v":"28"},{"$f":"IF(V1416&W1416=V1415&W1415,X1415+1,1)","v":4},{"$f":"V1416&U1416&T1416&X1416","v":"2027824"},{"$f":"S1416","v":"2027-08-23"}]
[null,null,null,null,null,null,null,null,null,null,null,null,null,null,null,null,null,null,"2027-08-30",{"$f":"WEEKDAY(S1417)","v":2},{"$f":"MONTH(S1417)","v":8},{"$f":"YEAR(S1417)","v":2027},{"$f":"T1417&U1417","v":"28"},{"$f":"IF(V1417&W1417=V1416&W1416,X1416+1,1)","v":5},{"$f":"V1417&U1417&T1417&X1417","v":"2027825"},{"$f":"S1417","v":"2027-08-30"}]
[null,null,null,null,null,null,null,null,null,null,null,null,null,null,null,null,null,null,"2027-08-03",{"$f":"WEEKDAY(S1418)","v":3},{"$f":"MONTH(S1418)","v":8},{"$f":"YEAR(S1418)","v":2027},{"$f":"T1418&U1418","v":"38"},{"$f":"IF(V1418&W1418=V1417&W1417,X1417+1,1)","v":1},{"$f":"V1418&U1418&T1418&X1418","v":"2027831"},{"$f":"S1418","v":"2027-08-03"}]
[null,null,null,null,null,null,null,null,null,null,null,null,null,null,null,null,null,null,"2027-08-10",{"$f":"WEEKDAY(S1419)","v":3},{"$f":"MONTH(S1419)","v":8},{"$f":"YEAR(S1419)","v":2027},{"$f":"T1419&U1419","v":"38"},{"$f":"IF(V1419&W1419=V1418&W1418,X1418+1,1)","v":2},{"$f":"V1419&U1419&T1419&X1419","v":"2027832"},{"$f":"S1419","v":"2027-08-10"}]
[null,null,null,null,null,null,null,null,null,null,null,null,null,null,null,null,null,null,"2027-08-17",{"$f":"WEEKDAY(S1420)","v":3},{"$f":"MONTH(S1420)","v":8},{"$f":"YEAR(S1420)","v":2027},{"$f":"T1420&U1420","v":"38"},{"$f":"IF(V1420&W1420=V1419&W1419,X1419+1,1)","v":3},{"$f":"V1420&U1420&T1420&X1420","v":"2027833"},{"$f":"S1420","v":"2027-08-17"}]
[null,null,null,null,null,null,null,null,null,null,null,null,null,null,null,null,null,null,"2027-08-24",{"$f":"WEEKDAY(S1421)","v":3},{"$f":"MONTH(S1421)","v":8},{"$f":"YEAR(S1421)","v":2027},{"$f":"T1421&U1421","v":"38"},{"$f":"IF(V1421&W1421=V1420&W1420,X1420+1,1)","v":4},{"$f":"V1421&U1421&T1421&X1421","v":"2027834"},{"$f":"S1421","v":"2027-08-24"}]
[null,null,null,null,null,null,null,null,null,null,null,null,null,null,null,null,null,null,"2027-08-31",{"$f":"WEEKDAY(S1422)","v":3},{"$f":"MONTH(S1422)","v":8},{"$f":"YEAR(S1422)","v":2027},{"$f":"T1422&U1422","v":"38"},{"$f":"IF(V1422&W1422=V1421&W1421,X1421+1,1)","v":5},{"$f":"V1422&U1422&T1422&X1422","v":"2027835"},{"$f":"S1422","v":"2027-08-31"}]
[null,null,null,null,null,null,null,null,null,null,null,null,null,null,null,null,null,null,"2027-08-04",{"$f":"WEEKDAY(S1423)","v":4},{"$f":"MONTH(S1423)","v":8},{"$f":"YEAR(S1423)","v":2027},{"$f":"T1423&U1423","v":"48"},{"$f":"IF(V1423&W1423=V1422&W1422,X1422+1,1)","v":1},{"$f":"V1423&U1423&T1423&X1423","v":"2027841"},{"$f":"S1423","v":"2027-08-04"}]
[null,null,null,null,null,null,null,null,null,null,null,null,null,null,null,null,null,null,"2027-08-11",{"$f":"WEEKDAY(S1424)","v":4},{"$f":"MONTH(S1424)","v":8},{"$f":"YEAR(S1424)","v":2027},{"$f":"T1424&U1424","v":"48"},{"$f":"IF(V1424&W1424=V1423&W1423,X1423+1,1)","v":2},{"$f":"V1424&U1424&T1424&X1424","v":"2027842"},{"$f":"S1424","v":"2027-08-11"}]
[null,null,null,null,null,null,null,null,null,null,null,null,null,null,null,null,null,null,"2027-08-18",{"$f":"WEEKDAY(S1425)","v":4},{"$f":"MONTH(S1425)","v":8},{"$f":"YEAR(S1425)","v":2027},{"$f":"T1425&U1425","v":"48"},{"$f":"IF(V1425&W1425=V1424&W1424,X1424+1,1)","v":3},{"$f":"V1425&U1425&T1425&X1425","v":"2027843"},{"$f":"S1425","v":"2027-08-18"}]
[null,null,null,null,null,null,null,null,null,null,null,null,null,null,null,null,null,null,"2027-08-25",{"$f":"WEEKDAY(S1426)","v":4},{"$f":"MONTH(S1426)","v":8},{"$f":"YEAR(S1426)","v":2027},{"$f":"T1426&U1426","v":"48"},{"$f":"IF(V1426&W1426=V1425&W1425,X1425+1,1)","v":4},{"$f":"V1426&U1426&T1426&X1426","v":"2027844"},{"$f":"S1426","v":"2027-08-25"}]
[null,null,null,null,null,null,null,null,null,null,null,null,null,null,null,null,null,null,"2027-08-05",{"$f":"WEEKDAY(S1427)","v":5},{"$f":"MONTH(S1427)","v":8},{"$f":"YEAR(S1427)","v":2027},{"$f":"T1427&U1427","v":"58"},{"$f":"IF(V1427&W1427=V1426&W1426,X1426+1,1)","v":1},{"$f":"V1427&U1427&T1427&X1427","v":"2027851"},{"$f":"S1427","v":"2027-08-05"}]
[null,null,null,null,null,null,null,null,null,null,null,null,null,null,null,null,null,null,"2027-08-12",{"$f":"WEEKDAY(S1428)","v":5},{"$f":"MONTH(S1428)","v":8},{"$f":"YEAR(S1428)","v":2027},{"$f":"T1428&U1428","v":"58"},{"$f":"IF(V1428&W1428=V1427&W1427,X1427+1,1)","v":2},{"$f":"V1428&U1428&T1428&X1428","v":"2027852"},{"$f":"S1428","v":"2027-08-12"}]
[null,null,null,null,null,null,null,null,null,null,null,null,null,null,null,null,null,null,"2027-08-19",{"$f":"WEEKDAY(S1429)","v":5},{"$f":"MONTH(S1429)","v":8},{"$f":"YEAR(S1429)","v":2027},{"$f":"T1429&U1429","v":"58"},{"$f":"IF(V1429&W1429=V1428&W1428,X1428+1,1)","v":3},{"$f":"V1429&U1429&T1429&X1429","v":"2027853"},{"$f":"S1429","v":"2027-08-19"}]
[null,null,null,null,null,null,null,null,null,null,null,null,null,null,null,null,null,null,"2027-08-26",{"$f":"WEEKDAY(S1430)","v":5},{"$f":"MONTH(S1430)","v":8},{"$f":"YEAR(S1430)","v":2027},{"$f":"T1430&U1430","v":"58"},{"$f":"IF(V1430&W1430=V1429&W1429,X1429+1,1)","v":4},{"$f":"V1430&U1430&T1430&X1430","v":"2027854"},{"$f":"S1430","v":"2027-08-26"}]
[null,null,null,null,null,null,null,null,null,null,null,null,null,null,null,null,null,null,"2027-08-06",{"$f":"WEEKDAY(S1431)","v":6},{"$f":"MONTH(S1431)","v":8},{"$f":"YEAR(S1431)","v":2027},{"$f":"T1431&U1431","v":"68"},{"$f":"IF(V1431&W1431=V1430&W1430,X1430+1,1)","v":1},{"$f":"V1431&U1431&T1431&X1431","v":"2027861"},{"$f":"S1431","v":"2027-08-06"}]
[null,null,null,null,null,null,null,null,null,null,null,null,null,null,null,null,null,null,"2027-08-13",{"$f":"WEEKDAY(S1432)","v":6},{"$f":"MONTH(S1432)","v":8},{"$f":"YEAR(S1432)","v":2027},{"$f":"T1432&U1432","v":"68"},{"$f":"IF(V1432&W1432=V1431&W1431,X1431+1,1)","v":2},{"$f":"V1432&U1432&T1432&X1432","v":"2027862"},{"$f":"S1432","v":"2027-08-13"}]
[null,null,null,null,null,null,null,null,null,null,null,null,null,null,null,null,null,null,"2027-08-20",{"$f":"WEEKDAY(S1433)","v":6},{"$f":"MONTH(S1433)","v":8},{"$f":"YEAR(S1433)","v":2027},{"$f":"T1433&U1433","v":"68"},{"$f":"IF(V1433&W1433=V1432&W1432,X1432+1,1)","v":3},{"$f":"V1433&U1433&T1433&X1433","v":"2027863"},{"$f":"S1433","v":"2027-08-20"}]
[null,null,null,null,null,null,null,null,null,null,null,null,null,null,null,null,null,null,"2027-08-27",{"$f":"WEEKDAY(S1434)","v":6},{"$f":"MONTH(S1434)","v":8},{"$f":"YEAR(S1434)","v":2027},{"$f":"T1434&U1434","v":"68"},{"$f":"IF(V1434&W1434=V1433&W1433,X1433+1,1)","v":4},{"$f":"V1434&U1434&T1434&X1434","v":"2027864"},{"$f":"S1434","v":"2027-08-27"}]
[null,null,null,null,null,null,null,null,null,null,null,null,null,null,null,null,null,null,"2027-08-07",{"$f":"WEEKDAY(S1435)","v":7},{"$f":"MONTH(S1435)","v":8},{"$f":"YEAR(S1435)","v":2027},{"$f":"T1435&U1435","v":"78"},{"$f":"IF(V1435&W1435=V1434&W1434,X1434+1,1)","v":1},{"$f":"V1435&U1435&T1435&X1435","v":"2027871"},{"$f":"S1435","v":"2027-08-07"}]
[null,null,null,null,null,null,null,null,null,null,null,null,null,null,null,null,null,null,"2027-08-14",{"$f":"WEEKDAY(S1436)","v":7},{"$f":"MONTH(S1436)","v":8},{"$f":"YEAR(S1436)","v":2027},{"$f":"T1436&U1436","v":"78"},{"$f":"IF(V1436&W1436=V1435&W1435,X1435+1,1)","v":2},{"$f":"V1436&U1436&T1436&X1436","v":"2027872"},{"$f":"S1436","v":"2027-08-14"}]
[null,null,null,null,null,null,null,null,null,null,null,null,null,null,null,null,null,null,"2027-08-21",{"$f":"WEEKDAY(S1437)","v":7},{"$f":"MONTH(S1437)","v":8},{"$f":"YEAR(S1437)","v":2027},{"$f":"T1437&U1437","v":"78"},{"$f":"IF(V1437&W1437=V1436&W1436,X1436+1,1)","v":3},{"$f":"V1437&U1437&T1437&X1437","v":"2027873"},{"$f":"S1437","v":"2027-08-21"}]
[null,null,null,null,null,null,null,null,null,null,null,null,null,null,null,null,null,null,"2027-08-28",{"$f":"WEEKDAY(S1438)","v":7},{"$f":"MONTH(S1438)","v":8},{"$f":"YEAR(S1438)","v":2027},{"$f":"T1438&U1438","v":"78"},{"$f":"IF(V1438&W1438=V1437&W1437,X1437+1,1)","v":4},{"$f":"V1438&U1438&T1438&X1438","v":"2027874"},{"$f":"S1438","v":"2027-08-28"}]
[null,null,null,null,null,null,null,null,null,null,null,null,null,null,null,null,null,null,"2027-09-05",{"$f":"WEEKDAY(S1439)","v":1},{"$f":"MONTH(S1439)","v":9},{"$f":"YEAR(S1439)","v":2027},{"$f":"T1439&U1439","v":"19"},{"$f":"IF(V1439&W1439=V1438&W1438,X1438+1,1)","v":1},{"$f":"V1439&U1439&T1439&X1439","v":"2027911"},{"$f":"S1439","v":"2027-09-05"}]
[null,null,null,null,null,null,null,null,null,null,null,null,null,null,null,null,null,null,"2027-09-12",{"$f":"WEEKDAY(S1440)","v":1},{"$f":"MONTH(S1440)","v":9},{"$f":"YEAR(S1440)","v":2027},{"$f":"T1440&U1440","v":"19"},{"$f":"IF(V1440&W1440=V1439&W1439,X1439+1,1)","v":2},{"$f":"V1440&U1440&T1440&X1440","v":"2027912"},{"$f":"S1440","v":"2027-09-12"}]
[null,null,null,null,null,null,null,null,null,null,null,null,null,null,null,null,null,null,"2027-09-19",{"$f":"WEEKDAY(S1441)","v":1},{"$f":"MONTH(S1441)","v":9},{"$f":"YEAR(S1441)","v":2027},{"$f":"T1441&U1441","v":"19"},{"$f":"IF(V1441&W1441=V1440&W1440,X1440+1,1)","v":3},{"$f":"V1441&U1441&T1441&X1441","v":"2027913"},{"$f":"S1441","v":"2027-09-19"}]
[null,null,null,null,null,null,null,null,null,null,null,null,null,null,null,null,null,null,"2027-09-26",{"$f":"WEEKDAY(S1442)","v":1},{"$f":"MONTH(S1442)","v":9},{"$f":"YEAR(S1442)","v":2027},{"$f":"T1442&U1442","v":"19"},{"$f":"IF(V1442&W1442=V1441&W1441,X1441+1,1)","v":4},{"$f":"V1442&U1442&T1442&X1442","v":"2027914"},{"$f":"S1442","v":"2027-09-26"}]
[null,null,null,null,null,null,null,null,null,null,null,null,null,null,null,null,null,null,"2027-09-06",{"$f":"WEEKDAY(S1443)","v":2},{"$f":"MONTH(S1443)","v":9},{"$f":"YEAR(S1443)","v":2027},{"$f":"T1443&U1443","v":"29"},{"$f":"IF(V1443&W1443=V1442&W1442,X1442+1,1)","v":1},{"$f":"V1443&U1443&T1443&X1443","v":"2027921"},{"$f":"S1443","v":"2027-09-06"}]
[null,null,null,null,null,null,null,null,null,null,null,null,null,null,null,null,null,null,"2027-09-13",{"$f":"WEEKDAY(S1444)","v":2},{"$f":"MONTH(S1444)","v":9},{"$f":"YEAR(S1444)","v":2027},{"$f":"T1444&U1444","v":"29"},{"$f":"IF(V1444&W1444=V1443&W1443,X1443+1,1)","v":2},{"$f":"V1444&U1444&T1444&X1444","v":"2027922"},{"$f":"S1444","v":"2027-09-13"}]
[null,null,null,null,null,null,null,null,null,null,null,null,null,null,null,null,null,null,"2027-09-20",{"$f":"WEEKDAY(S1445)","v":2},{"$f":"MONTH(S1445)","v":9},{"$f":"YEAR(S1445)","v":2027},{"$f":"T1445&U1445","v":"29"},{"$f":"IF(V1445&W1445=V1444&W1444,X1444+1,1)","v":3},{"$f":"V1445&U1445&T1445&X1445","v":"2027923"},{"$f":"S1445","v":"2027-09-20"}]
[null,null,null,null,null,null,null,null,null,null,null,null,null,null,null,null,null,null,"2027-09-27",{"$f":"WEEKDAY(S1446)","v":2},{"$f":"MONTH(S1446)","v":9},{"$f":"YEAR(S1446)","v":2027},{"$f":"T1446&U1446","v":"29"},{"$f":"IF(V1446&W1446=V1445&W1445,X1445+1,1)","v":4},{"$f":"V1446&U1446&T1446&X1446","v":"2027924"},{"$f":"S1446","v":"2027-09-27"}]
[null,null,null,null,null,null,null,null,null,null,null,null,null,null,null,null,null,null,"2027-09-07",{"$f":"WEEKDAY(S1447)","v":3},{"$f":"MONTH(S1447)","v":9},{"$f":"YEAR(S1447)","v":2027},{"$f":"T1447&U1447","v":"39"},{"$f":"IF(V1447&W1447=V1446&W1446,X1446+1,1)","v":1},{"$f":"V1447&U1447&T1447&X1447","v":"2027931"},{"$f":"S1447","v":"2027-09-07"}]
[null,null,null,null,null,null,null,null,null,null,null,null,null,null,null,null,null,null,"2027-09-14",{"$f":"WEEKDAY(S1448)","v":3},{"$f":"MONTH(S1448)","v":9},{"$f":"YEAR(S1448)","v":2027},{"$f":"T1448&U1448","v":"39"},{"$f":"IF(V1448&W1448=V1447&W1447,X1447+1,1)","v":2},{"$f":"V1448&U1448&T1448&X1448","v":"2027932"},{"$f":"S1448","v":"2027-09-14"}]
[null,null,null,null,null,null,null,null,null,null,null,null,null,null,null,null,null,null,"2027-09-21",{"$f":"WEEKDAY(S1449)","v":3},{"$f":"MONTH(S1449)","v":9},{"$f":"YEAR(S1449)","v":2027},{"$f":"T1449&U1449","v":"39"},{"$f":"IF(V1449&W1449=V1448&W1448,X1448+1,1)","v":3},{"$f":"V1449&U1449&T1449&X1449","v":"2027933"},{"$f":"S1449","v":"2027-09-21"}]
[null,null,null,null,null,null,null,null,null,null,null,null,null,null,null,null,null,null,"2027-09-28",{"$f":"WEEKDAY(S1450)","v":3},{"$f":"MONTH(S1450)","v":9},{"$f":"YEAR(S1450)","v":2027},{"$f":"T1450&U1450","v":"39"},{"$f":"IF(V1450&W1450=V1449&W1449,X1449+1,1)","v":4},{"$f":"V1450&U1450&T1450&X1450","v":"2027934"},{"$f":"S1450","v":"2027-09-28"}]
[null,null,null,null,null,null,null,null,null,null,null,null,null,null,null,null,null,null,"2027-09-01",{"$f":"WEEKDAY(S1451)","v":4},{"$f":"MONTH(S1451)","v":9},{"$f":"YEAR(S1451)","v":2027},{"$f":"T1451&U1451","v":"49"},{"$f":"IF(V1451&W1451=V1450&W1450,X1450+1,1)","v":1},{"$f":"V1451&U1451&T1451&X1451","v":"2027941"},{"$f":"S1451","v":"2027-09-01"}]
[null,null,null,null,null,null,null,null,null,null,null,null,null,null,null,null,null,null,"2027-09-08",{"$f":"WEEKDAY(S1452)","v":4},{"$f":"MONTH(S1452)","v":9},{"$f":"YEAR(S1452)","v":2027},{"$f":"T1452&U1452","v":"49"},{"$f":"IF(V1452&W1452=V1451&W1451,X1451+1,1)","v":2},{"$f":"V1452&U1452&T1452&X1452","v":"2027942"},{"$f":"S1452","v":"2027-09-08"}]
[null,null,null,null,null,null,null,null,null,null,null,null,null,null,null,null,null,null,"2027-09-15",{"$f":"WEEKDAY(S1453)","v":4},{"$f":"MONTH(S1453)","v":9},{"$f":"YEAR(S1453)","v":2027},{"$f":"T1453&U1453","v":"49"},{"$f":"IF(V1453&W1453=V1452&W1452,X1452+1,1)","v":3},{"$f":"V1453&U1453&T1453&X1453","v":"2027943"},{"$f":"S1453","v":"2027-09-15"}]
[null,null,null,null,null,null,null,null,null,null,null,null,null,null,null,null,null,null,"2027-09-22",{"$f":"WEEKDAY(S1454)","v":4},{"$f":"MONTH(S1454)","v":9},{"$f":"YEAR(S1454)","v":2027},{"$f":"T1454&U1454","v":"49"},{"$f":"IF(V1454&W1454=V1453&W1453,X1453+1,1)","v":4},{"$f":"V1454&U1454&T1454&X1454","v":"2027944"},{"$f":"S1454","v":"2027-09-22"}]
[null,null,null,null,null,null,null,null,null,null,null,null,null,null,null,null,null,null,"2027-09-29",{"$f":"WEEKDAY(S1455)","v":4},{"$f":"MONTH(S1455)","v":9},{"$f":"YEAR(S1455)","v":2027},{"$f":"T1455&U1455","v":"49"},{"$f":"IF(V1455&W1455=V1454&W1454,X1454+1,1)","v":5},{"$f":"V1455&U1455&T1455&X1455","v":"2027945"},{"$f":"S1455","v":"2027-09-29"}]
[null,null,null,null,null,null,null,null,null,null,null,null,null,null,null,null,null,null,"2027-09-02",{"$f":"WEEKDAY(S1456)","v":5},{"$f":"MONTH(S1456)","v":9},{"$f":"YEAR(S1456)","v":2027},{"$f":"T1456&U1456","v":"59"},{"$f":"IF(V1456&W1456=V1455&W1455,X1455+1,1)","v":1},{"$f":"V1456&U1456&T1456&X1456","v":"2027951"},{"$f":"S1456","v":"2027-09-02"}]
[null,null,null,null,null,null,null,null,null,null,null,null,null,null,null,null,null,null,"2027-09-09",{"$f":"WEEKDAY(S1457)","v":5},{"$f":"MONTH(S1457)","v":9},{"$f":"YEAR(S1457)","v":2027},{"$f":"T1457&U1457","v":"59"},{"$f":"IF(V1457&W1457=V1456&W1456,X1456+1,1)","v":2},{"$f":"V1457&U1457&T1457&X1457","v":"2027952"},{"$f":"S1457","v":"2027-09-09"}]
[null,null,null,null,null,null,null,null,null,null,null,null,null,null,null,null,null,null,"2027-09-16",{"$f":"WEEKDAY(S1458)","v":5},{"$f":"MONTH(S1458)","v":9},{"$f":"YEAR(S1458)","v":2027},{"$f":"T1458&U1458","v":"59"},{"$f":"IF(V1458&W1458=V1457&W1457,X1457+1,1)","v":3},{"$f":"V1458&U1458&T1458&X1458","v":"2027953"},{"$f":"S1458","v":"2027-09-16"}]
[null,null,null,null,null,null,null,null,null,null,null,null,null,null,null,null,null,null,"2027-09-23",{"$f":"WEEKDAY(S1459)","v":5},{"$f":"MONTH(S1459)","v":9},{"$f":"YEAR(S1459)","v":2027},{"$f":"T1459&U1459","v":"59"},{"$f":"IF(V1459&W1459=V1458&W1458,X1458+1,1)","v":4},{"$f":"V1459&U1459&T1459&X1459","v":"2027954"},{"$f":"S1459","v":"2027-09-23"}]
[null,null,null,null,null,null,null,null,null,null,null,null,null,null,null,null,null,null,"2027-09-30",{"$f":"WEEKDAY(S1460)","v":5},{"$f":"MONTH(S1460)","v":9},{"$f":"YEAR(S1460)","v":2027},{"$f":"T1460&U1460","v":"59"},{"$f":"IF(V1460&W1460=V1459&W1459,X1459+1,1)","v":5},{"$f":"V1460&U1460&T1460&X1460","v":"2027955"},{"$f":"S1460","v":"2027-09-30"}]
[null,null,null,null,null,null,null,null,null,null,null,null,null,null,null,null,null,null,"2027-09-03",{"$f":"WEEKDAY(S1461)","v":6},{"$f":"MONTH(S1461)","v":9},{"$f":"YEAR(S1461)","v":2027},{"$f":"T1461&U1461","v":"69"},{"$f":"IF(V1461&W1461=V1460&W1460,X1460+1,1)","v":1},{"$f":"V1461&U1461&T1461&X1461","v":"2027961"},{"$f":"S1461","v":"2027-09-03"}]
[null,null,null,null,null,null,null,null,null,null,null,null,null,null,null,null,null,null,"2027-09-10",{"$f":"WEEKDAY(S1462)","v":6},{"$f":"MONTH(S1462)","v":9},{"$f":"YEAR(S1462)","v":2027},{"$f":"T1462&U1462","v":"69"},{"$f":"IF(V1462&W1462=V1461&W1461,X1461+1,1)","v":2},{"$f":"V1462&U1462&T1462&X1462","v":"2027962"},{"$f":"S1462","v":"2027-09-10"}]
[null,null,null,null,null,null,null,null,null,null,null,null,null,null,null,null,null,null,"2027-09-17",{"$f":"WEEKDAY(S1463)","v":6},{"$f":"MONTH(S1463)","v":9},{"$f":"YEAR(S1463)","v":2027},{"$f":"T1463&U1463","v":"69"},{"$f":"IF(V1463&W1463=V1462&W1462,X1462+1,1)","v":3},{"$f":"V1463&U1463&T1463&X1463","v":"2027963"},{"$f":"S1463","v":"2027-09-17"}]
[null,null,null,null,null,null,null,null,null,null,null,null,null,null,null,null,null,null,"2027-09-24",{"$f":"WEEKDAY(S1464)","v":6},{"$f":"MONTH(S1464)","v":9},{"$f":"YEAR(S1464)","v":2027},{"$f":"T1464&U1464","v":"69"},{"$f":"IF(V1464&W1464=V1463&W1463,X1463+1,1)","v":4},{"$f":"V1464&U1464&T1464&X1464","v":"2027964"},{"$f":"S1464","v":"2027-09-24"}]
[null,null,null,null,null,null,null,null,null,null,null,null,null,null,null,null,null,null,"2027-09-04",{"$f":"WEEKDAY(S1465)","v":7},{"$f":"MONTH(S1465)","v":9},{"$f":"YEAR(S1465)","v":2027},{"$f":"T1465&U1465","v":"79"},{"$f":"IF(V1465&W1465=V1464&W1464,X1464+1,1)","v":1},{"$f":"V1465&U1465&T1465&X1465","v":"2027971"},{"$f":"S1465","v":"2027-09-04"}]
[null,null,null,null,null,null,null,null,null,null,null,null,null,null,null,null,null,null,"2027-09-11",{"$f":"WEEKDAY(S1466)","v":7},{"$f":"MONTH(S1466)","v":9},{"$f":"YEAR(S1466)","v":2027},{"$f":"T1466&U1466","v":"79"},{"$f":"IF(V1466&W1466=V1465&W1465,X1465+1,1)","v":2},{"$f":"V1466&U1466&T1466&X1466","v":"2027972"},{"$f":"S1466","v":"2027-09-11"}]
[null,null,null,null,null,null,null,null,null,null,null,null,null,null,null,null,null,null,"2027-09-18",{"$f":"WEEKDAY(S1467)","v":7},{"$f":"MONTH(S1467)","v":9},{"$f":"YEAR(S1467)","v":2027},{"$f":"T1467&U1467","v":"79"},{"$f":"IF(V1467&W1467=V1466&W1466,X1466+1,1)","v":3},{"$f":"V1467&U1467&T1467&X1467","v":"2027973"},{"$f":"S1467","v":"2027-09-18"}]
[null,null,null,null,null,null,null,null,null,null,null,null,null,null,null,null,null,null,"2027-09-25",{"$f":"WEEKDAY(S1468)","v":7},{"$f":"MONTH(S1468)","v":9},{"$f":"YEAR(S1468)","v":2027},{"$f":"T1468&U1468","v":"79"},{"$f":"IF(V1468&W1468=V1467&W1467,X1467+1,1)","v":4},{"$f":"V1468&U1468&T1468&X1468","v":"2027974"},{"$f":"S1468","v":"2027-09-25"}]
[null,null,null,null,null,null,null,null,null,null,null,null,null,null,null,null,null,null,"2028-10-01",{"$f":"WEEKDAY(S1469)","v":1},{"$f":"MONTH(S1469)","v":10},{"$f":"YEAR(S1469)","v":2028},{"$f":"T1469&U1469","v":"110"},{"$f":"IF(V1469&W1469=V1468&W1468,X1468+1,1)","v":1},{"$f":"V1469&U1469&T1469&X1469","v":"20281011"},{"$f":"S1469","v":"2028-10-01"}]
[null,null,null,null,null,null,null,null,null,null,null,null,null,null,null,null,null,null,"2028-10-08",{"$f":"WEEKDAY(S1470)","v":1},{"$f":"MONTH(S1470)","v":10},{"$f":"YEAR(S1470)","v":2028},{"$f":"T1470&U1470","v":"110"},{"$f":"IF(V1470&W1470=V1469&W1469,X1469+1,1)","v":2},{"$f":"V1470&U1470&T1470&X1470","v":"20281012"},{"$f":"S1470","v":"2028-10-08"}]
[null,null,null,null,null,null,null,null,null,null,null,null,null,null,null,null,null,null,"2028-10-15",{"$f":"WEEKDAY(S1471)","v":1},{"$f":"MONTH(S1471)","v":10},{"$f":"YEAR(S1471)","v":2028},{"$f":"T1471&U1471","v":"110"},{"$f":"IF(V1471&W1471=V1470&W1470,X1470+1,1)","v":3},{"$f":"V1471&U1471&T1471&X1471","v":"20281013"},{"$f":"S1471","v":"2028-10-15"}]
[null,null,null,null,null,null,null,null,null,null,null,null,null,null,null,null,null,null,"2028-10-22",{"$f":"WEEKDAY(S1472)","v":1},{"$f":"MONTH(S1472)","v":10},{"$f":"YEAR(S1472)","v":2028},{"$f":"T1472&U1472","v":"110"},{"$f":"IF(V1472&W1472=V1471&W1471,X1471+1,1)","v":4},{"$f":"V1472&U1472&T1472&X1472","v":"20281014"},{"$f":"S1472","v":"2028-10-22"}]
[null,null,null,null,null,null,null,null,null,null,null,null,null,null,null,null,null,null,"2028-10-29",{"$f":"WEEKDAY(S1473)","v":1},{"$f":"MONTH(S1473)","v":10},{"$f":"YEAR(S1473)","v":2028},{"$f":"T1473&U1473","v":"110"},{"$f":"IF(V1473&W1473=V1472&W1472,X1472+1,1)","v":5},{"$f":"V1473&U1473&T1473&X1473","v":"20281015"},{"$f":"S1473","v":"2028-10-29"}]
[null,null,null,null,null,null,null,null,null,null,null,null,null,null,null,null,null,null,"2028-10-02",{"$f":"WEEKDAY(S1474)","v":2},{"$f":"MONTH(S1474)","v":10},{"$f":"YEAR(S1474)","v":2028},{"$f":"T1474&U1474","v":"210"},{"$f":"IF(V1474&W1474=V1473&W1473,X1473+1,1)","v":1},{"$f":"V1474&U1474&T1474&X1474","v":"20281021"},{"$f":"S1474","v":"2028-10-02"}]
[null,null,null,null,null,null,null,null,null,null,null,null,null,null,null,null,null,null,"2028-10-09",{"$f":"WEEKDAY(S1475)","v":2},{"$f":"MONTH(S1475)","v":10},{"$f":"YEAR(S1475)","v":2028},{"$f":"T1475&U1475","v":"210"},{"$f":"IF(V1475&W1475=V1474&W1474,X1474+1,1)","v":2},{"$f":"V1475&U1475&T1475&X1475","v":"20281022"},{"$f":"S1475","v":"2028-10-09"}]
[null,null,null,null,null,null,null,null,null,null,null,null,null,null,null,null,null,null,"2028-10-16",{"$f":"WEEKDAY(S1476)","v":2},{"$f":"MONTH(S1476)","v":10},{"$f":"YEAR(S1476)","v":2028},{"$f":"T1476&U1476","v":"210"},{"$f":"IF(V1476&W1476=V1475&W1475,X1475+1,1)","v":3},{"$f":"V1476&U1476&T1476&X1476","v":"20281023"},{"$f":"S1476","v":"2028-10-16"}]
[null,null,null,null,null,null,null,null,null,null,null,null,null,null,null,null,null,null,"2028-10-23",{"$f":"WEEKDAY(S1477)","v":2},{"$f":"MONTH(S1477)","v":10},{"$f":"YEAR(S1477)","v":2028},{"$f":"T1477&U1477","v":"210"},{"$f":"IF(V1477&W1477=V1476&W1476,X1476+1,1)","v":4},{"$f":"V1477&U1477&T1477&X1477","v":"20281024"},{"$f":"S1477","v":"2028-10-23"}]
[null,null,null,null,null,null,null,null,null,null,null,null,null,null,null,null,null,null,"2028-10-30",{"$f":"WEEKDAY(S1478)","v":2},{"$f":"MONTH(S1478)","v":10},{"$f":"YEAR(S1478)","v":2028},{"$f":"T1478&U1478","v":"210"},{"$f":"IF(V1478&W1478=V1477&W1477,X1477+1,1)","v":5},{"$f":"V1478&U1478&T1478&X1478","v":"20281025"},{"$f":"S1478","v":"2028-10-30"}]
[null,null,null,null,null,null,null,null,null,null,null,null,null,null,null,null,null,null,"2028-10-03",{"$f":"WEEKDAY(S1479)","v":3},{"$f":"MONTH(S1479)","v":10},{"$f":"YEAR(S1479)","v":2028},{"$f":"T1479&U1479","v":"310"},{"$f":"IF(V1479&W1479=V1478&W1478,X1478+1,1)","v":1},{"$f":"V1479&U1479&T1479&X1479","v":"20281031"},{"$f":"S1479","v":"2028-10-03"}]
[null,null,null,null,null,null,null,null,null,null,null,null,null,null,null,null,null,null,"2028-10-10",{"$f":"WEEKDAY(S1480)","v":3},{"$f":"MONTH(S1480)","v":10},{"$f":"YEAR(S1480)","v":2028},{"$f":"T1480&U1480","v":"310"},{"$f":"IF(V1480&W1480=V1479&W1479,X1479+1,1)","v":2},{"$f":"V1480&U1480&T1480&X1480","v":"20281032"},{"$f":"S1480","v":"2028-10-10"}]
[null,null,null,null,null,null,null,null,null,null,null,null,null,null,null,null,null,null,"2028-10-17",{"$f":"WEEKDAY(S1481)","v":3},{"$f":"MONTH(S1481)","v":10},{"$f":"YEAR(S1481)","v":2028},{"$f":"T1481&U1481","v":"310"},{"$f":"IF(V1481&W1481=V1480&W1480,X1480+1,1)","v":3},{"$f":"V1481&U1481&T1481&X1481","v":"20281033"},{"$f":"S1481","v":"2028-10-17"}]
[null,null,null,null,null,null,null,null,null,null,null,null,null,null,null,null,null,null,"2028-10-24",{"$f":"WEEKDAY(S1482)","v":3},{"$f":"MONTH(S1482)","v":10},{"$f":"YEAR(S1482)","v":2028},{"$f":"T1482&U1482","v":"310"},{"$f":"IF(V1482&W1482=V1481&W1481,X1481+1,1)","v":4},{"$f":"V1482&U1482&T1482&X1482","v":"20281034"},{"$f":"S1482","v":"2028-10-24"}]
[null,null,null,null,null,null,null,null,null,null,null,null,null,null,null,null,null,null,"2028-10-31",{"$f":"WEEKDAY(S1483)","v":3},{"$f":"MONTH(S1483)","v":10},{"$f":"YEAR(S1483)","v":2028},{"$f":"T1483&U1483","v":"310"},{"$f":"IF(V1483&W1483=V1482&W1482,X1482+1,1)","v":5},{"$f":"V1483&U1483&T1483&X1483","v":"20281035"},{"$f":"S1483","v":"2028-10-31"}]
[null,null,null,null,null,null,null,null,null,null,null,null,null,null,null,null,null,null,"2028-10-04",{"$f":"WEEKDAY(S1484)","v":4},{"$f":"MONTH(S1484)","v":10},{"$f":"YEAR(S1484)","v":2028},{"$f":"T1484&U1484","v":"410"},{"$f":"IF(V1484&W1484=V1483&W1483,X1483+1,1)","v":1},{"$f":"V1484&U1484&T1484&X1484","v":"20281041"},{"$f":"S1484","v":"2028-10-04"}]
[null,null,null,null,null,null,null,null,null,null,null,null,null,null,null,null,null,null,"2028-10-11",{"$f":"WEEKDAY(S1485)","v":4},{"$f":"MONTH(S1485)","v":10},{"$f":"YEAR(S1485)","v":2028},{"$f":"T1485&U1485","v":"410"},{"$f":"IF(V1485&W1485=V1484&W1484,X1484+1,1)","v":2},{"$f":"V1485&U1485&T1485&X1485","v":"20281042"},{"$f":"S1485","v":"2028-10-11"}]
[null,null,null,null,null,null,null,null,null,null,null,null,null,null,null,null,null,null,"2028-10-18",{"$f":"WEEKDAY(S1486)","v":4},{"$f":"MONTH(S1486)","v":10},{"$f":"YEAR(S1486)","v":2028},{"$f":"T1486&U1486","v":"410"},{"$f":"IF(V1486&W1486=V1485&W1485,X1485+1,1)","v":3},{"$f":"V1486&U1486&T1486&X1486","v":"20281043"},{"$f":"S1486","v":"2028-10-18"}]
[null,null,null,null,null,null,null,null,null,null,null,null,null,null,null,null,null,null,"2028-10-25",{"$f":"WEEKDAY(S1487)","v":4},{"$f":"MONTH(S1487)","v":10},{"$f":"YEAR(S1487)","v":2028},{"$f":"T1487&U1487","v":"410"},{"$f":"IF(V1487&W1487=V1486&W1486,X1486+1,1)","v":4},{"$f":"V1487&U1487&T1487&X1487","v":"20281044"},{"$f":"S1487","v":"2028-10-25"}]
[null,null,null,null,null,null,null,null,null,null,null,null,null,null,null,null,null,null,"2028-10-05",{"$f":"WEEKDAY(S1488)","v":5},{"$f":"MONTH(S1488)","v":10},{"$f":"YEAR(S1488)","v":2028},{"$f":"T1488&U1488","v":"510"},{"$f":"IF(V1488&W1488=V1487&W1487,X1487+1,1)","v":1},{"$f":"V1488&U1488&T1488&X1488","v":"20281051"},{"$f":"S1488","v":"2028-10-05"}]
[null,null,null,null,null,null,null,null,null,null,null,null,null,null,null,null,null,null,"2028-10-12",{"$f":"WEEKDAY(S1489)","v":5},{"$f":"MONTH(S1489)","v":10},{"$f":"YEAR(S1489)","v":2028},{"$f":"T1489&U1489","v":"510"},{"$f":"IF(V1489&W1489=V1488&W1488,X1488+1,1)","v":2},{"$f":"V1489&U1489&T1489&X1489","v":"20281052"},{"$f":"S1489","v":"2028-10-12"}]
[null,null,null,null,null,null,null,null,null,null,null,null,null,null,null,null,null,null,"2028-10-19",{"$f":"WEEKDAY(S1490)","v":5},{"$f":"MONTH(S1490)","v":10},{"$f":"YEAR(S1490)","v":2028},{"$f":"T1490&U1490","v":"510"},{"$f":"IF(V1490&W1490=V1489&W1489,X1489+1,1)","v":3},{"$f":"V1490&U1490&T1490&X1490","v":"20281053"},{"$f":"S1490","v":"2028-10-19"}]
[null,null,null,null,null,null,null,null,null,null,null,null,null,null,null,null,null,null,"2028-10-26",{"$f":"WEEKDAY(S1491)","v":5},{"$f":"MONTH(S1491)","v":10},{"$f":"YEAR(S1491)","v":2028},{"$f":"T1491&U1491","v":"510"},{"$f":"IF(V1491&W1491=V1490&W1490,X1490+1,1)","v":4},{"$f":"V1491&U1491&T1491&X1491","v":"20281054"},{"$f":"S1491","v":"2028-10-26"}]
[null,null,null,null,null,null,null,null,null,null,null,null,null,null,null,null,null,null,"2028-10-06",{"$f":"WEEKDAY(S1492)","v":6},{"$f":"MONTH(S1492)","v":10},{"$f":"YEAR(S1492)","v":2028},{"$f":"T1492&U1492","v":"610"},{"$f":"IF(V1492&W1492=V1491&W1491,X1491+1,1)","v":1},{"$f":"V1492&U1492&T1492&X1492","v":"20281061"},{"$f":"S1492","v":"2028-10-06"}]
[null,null,null,null,null,null,null,null,null,null,null,null,null,null,null,null,null,null,"2028-10-13",{"$f":"WEEKDAY(S1493)","v":6},{"$f":"MONTH(S1493)","v":10},{"$f":"YEAR(S1493)","v":2028},{"$f":"T1493&U1493","v":"610"},{"$f":"IF(V1493&W1493=V1492&W1492,X1492+1,1)","v":2},{"$f":"V1493&U1493&T1493&X1493","v":"20281062"},{"$f":"S1493","v":"2028-10-13"}]
[null,null,null,null,null,null,null,null,null,null,null,null,null,null,null,null,null,null,"2028-10-20",{"$f":"WEEKDAY(S1494)","v":6},{"$f":"MONTH(S1494)","v":10},{"$f":"YEAR(S1494)","v":2028},{"$f":"T1494&U1494","v":"610"},{"$f":"IF(V1494&W1494=V1493&W1493,X1493+1,1)","v":3},{"$f":"V1494&U1494&T1494&X1494","v":"20281063"},{"$f":"S1494","v":"2028-10-20"}]
[null,null,null,null,null,null,null,null,null,null,null,null,null,null,null,null,null,null,"2028-10-27",{"$f":"WEEKDAY(S1495)","v":6},{"$f":"MONTH(S1495)","v":10},{"$f":"YEAR(S1495)","v":2028},{"$f":"T1495&U1495","v":"610"},{"$f":"IF(V1495&W1495=V1494&W1494,X1494+1,1)","v":4},{"$f":"V1495&U1495&T1495&X1495","v":"20281064"},{"$f":"S1495","v":"2028-10-27"}]
[null,null,null,null,null,null,null,null,null,null,null,null,null,null,null,null,null,null,"2028-10-07",{"$f":"WEEKDAY(S1496)","v":7},{"$f":"MONTH(S1496)","v":10},{"$f":"YEAR(S1496)","v":2028},{"$f":"T1496&U1496","v":"710"},{"$f":"IF(V1496&W1496=V1495&W1495,X1495+1,1)","v":1},{"$f":"V1496&U1496&T1496&X1496","v":"20281071"},{"$f":"S1496","v":"2028-10-07"}]
[null,null,null,null,null,null,null,null,null,null,null,null,null,null,null,null,null,null,"2028-10-14",{"$f":"WEEKDAY(S1497)","v":7},{"$f":"MONTH(S1497)","v":10},{"$f":"YEAR(S1497)","v":2028},{"$f":"T1497&U1497","v":"710"},{"$f":"IF(V1497&W1497=V1496&W1496,X1496+1,1)","v":2},{"$f":"V1497&U1497&T1497&X1497","v":"20281072"},{"$f":"S1497","v":"2028-10-14"}]
[null,null,null,null,null,null,null,null,null,null,null,null,null,null,null,null,null,null,"2028-10-21",{"$f":"WEEKDAY(S1498)","v":7},{"$f":"MONTH(S1498)","v":10},{"$f":"YEAR(S1498)","v":2028},{"$f":"T1498&U1498","v":"710"},{"$f":"IF(V1498&W1498=V1497&W1497,X1497+1,1)","v":3},{"$f":"V1498&U1498&T1498&X1498","v":"20281073"},{"$f":"S1498","v":"2028-10-21"}]
[null,null,null,null,null,null,null,null,null,null,null,null,null,null,null,null,null,null,"2028-10-28",{"$f":"WEEKDAY(S1499)","v":7},{"$f":"MONTH(S1499)","v":10},{"$f":"YEAR(S1499)","v":2028},{"$f":"T1499&U1499","v":"710"},{"$f":"IF(V1499&W1499=V1498&W1498,X1498+1,1)","v":4},{"$f":"V1499&U1499&T1499&X1499","v":"20281074"},{"$f":"S1499","v":"2028-10-28"}]
[null,null,null,null,null,null,null,null,null,null,null,null,null,null,null,null,null,null,"2028-01-02",{"$f":"WEEKDAY(S1500)","v":1},{"$f":"MONTH(S1500)","v":1},{"$f":"YEAR(S1500)","v":2028},{"$f":"T1500&U1500","v":"11"},{"$f":"IF(V1500&W1500=V1499&W1499,X1499+1,1)","v":1},{"$f":"V1500&U1500&T1500&X1500","v":"2028111"},{"$f":"S1500","v":"2028-01-02"}]
[null,null,null,null,null,null,null,null,null,null,null,null,null,null,null,null,null,null,"2028-11-05",{"$f":"WEEKDAY(S1501)","v":1},{"$f":"MONTH(S1501)","v":11},{"$f":"YEAR(S1501)","v":2028},{"$f":"T1501&U1501","v":"111"},{"$f":"IF(V1501&W1501=V1500&W1500,X1500+1,1)","v":1},{"$f":"V1501&U1501&T1501&X1501","v":"20281111"},{"$f":"S1501","v":"2028-11-05"}]
[null,null,null,null,null,null,null,null,null,null,null,null,null,null,null,null,null,null,"2028-11-12",{"$f":"WEEKDAY(S1502)","v":1},{"$f":"MONTH(S1502)","v":11},{"$f":"YEAR(S1502)","v":2028},{"$f":"T1502&U1502","v":"111"},{"$f":"IF(V1502&W1502=V1501&W1501,X1501+1,1)","v":2},{"$f":"V1502&U1502&T1502&X1502","v":"20281112"},{"$f":"S1502","v":"2028-11-12"}]
[null,null,null,null,null,null,null,null,null,null,null,null,null,null,null,null,null,null,"2028-11-19",{"$f":"WEEKDAY(S1503)","v":1},{"$f":"MONTH(S1503)","v":11},{"$f":"YEAR(S1503)","v":2028},{"$f":"T1503&U1503","v":"111"},{"$f":"IF(V1503&W1503=V1502&W1502,X1502+1,1)","v":3},{"$f":"V1503&U1503&T1503&X1503","v":"20281113"},{"$f":"S1503","v":"2028-11-19"}]
[null,null,null,null,null,null,null,null,null,null,null,null,null,null,null,null,null,null,"2028-11-26",{"$f":"WEEKDAY(S1504)","v":1},{"$f":"MONTH(S1504)","v":11},{"$f":"YEAR(S1504)","v":2028},{"$f":"T1504&U1504","v":"111"},{"$f":"IF(V1504&W1504=V1503&W1503,X1503+1,1)","v":4},{"$f":"V1504&U1504&T1504&X1504","v":"20281114"},{"$f":"S1504","v":"2028-11-26"}]
[null,null,null,null,null,null,null,null,null,null,null,null,null,null,null,null,null,null,"2028-01-09",{"$f":"WEEKDAY(S1505)","v":1},{"$f":"MONTH(S1505)","v":1},{"$f":"YEAR(S1505)","v":2028},{"$f":"T1505&U1505","v":"11"},{"$f":"IF(V1505&W1505=V1504&W1504,X1504+1,1)","v":1},{"$f":"V1505&U1505&T1505&X1505","v":"2028111"},{"$f":"S1505","v":"2028-01-09"}]
[null,null,null,null,null,null,null,null,null,null,null,null,null,null,null,null,null,null,"2028-11-06",{"$f":"WEEKDAY(S1506)","v":2},{"$f":"MONTH(S1506)","v":11},{"$f":"YEAR(S1506)","v":2028},{"$f":"T1506&U1506","v":"211"},{"$f":"IF(V1506&W1506=V1505&W1505,X1505+1,1)","v":1},{"$f":"V1506&U1506&T1506&X1506","v":"20281121"},{"$f":"S1506","v":"2028-11-06"}]
[null,null,null,null,null,null,null,null,null,null,null,null,null,null,null,null,null,null,"2028-11-13",{"$f":"WEEKDAY(S1507)","v":2},{"$f":"MONTH(S1507)","v":11},{"$f":"YEAR(S1507)","v":2028},{"$f":"T1507&U1507","v":"211"},{"$f":"IF(V1507&W1507=V1506&W1506,X1506+1,1)","v":2},{"$f":"V1507&U1507&T1507&X1507","v":"20281122"},{"$f":"S1507","v":"2028-11-13"}]
[null,null,null,null,null,null,null,null,null,null,null,null,null,null,null,null,null,null,"2028-11-20",{"$f":"WEEKDAY(S1508)","v":2},{"$f":"MONTH(S1508)","v":11},{"$f":"YEAR(S1508)","v":2028},{"$f":"T1508&U1508","v":"211"},{"$f":"IF(V1508&W1508=V1507&W1507,X1507+1,1)","v":3},{"$f":"V1508&U1508&T1508&X1508","v":"20281123"},{"$f":"S1508","v":"2028-11-20"}]
[null,null,null,null,null,null,null,null,null,null,null,null,null,null,null,null,null,null,"2028-11-27",{"$f":"WEEKDAY(S1509)","v":2},{"$f":"MONTH(S1509)","v":11},{"$f":"YEAR(S1509)","v":2028},{"$f":"T1509&U1509","v":"211"},{"$f":"IF(V1509&W1509=V1508&W1508,X1508+1,1)","v":4},{"$f":"V1509&U1509&T1509&X1509","v":"20281124"},{"$f":"S1509","v":"2028-11-27"}]
[null,null,null,null,null,null,null,null,null,null,null,null,null,null,null,null,null,null,"2028-01-16",{"$f":"WEEKDAY(S1510)","v":1},{"$f":"MONTH(S1510)","v":1},{"$f":"YEAR(S1510)","v":2028},{"$f":"T1510&U1510","v":"11"},{"$f":"IF(V1510&W1510=V1509&W1509,X1509+1,1)","v":1},{"$f":"V1510&U1510&T1510&X1510","v":"2028111"},{"$f":"S1510","v":"2028-01-16"}]
[null,null,null,null,null,null,null,null,null,null,null,null,null,null,null,null,null,null,"2028-11-07",{"$f":"WEEKDAY(S1511)","v":3},{"$f":"MONTH(S1511)","v":11},{"$f":"YEAR(S1511)","v":2028},{"$f":"T1511&U1511","v":"311"},{"$f":"IF(V1511&W1511=V1510&W1510,X1510+1,1)","v":1},{"$f":"V1511&U1511&T1511&X1511","v":"20281131"},{"$f":"S1511","v":"2028-11-07"}]
[null,null,null,null,null,null,null,null,null,null,null,null,null,null,null,null,null,null,"2028-11-14",{"$f":"WEEKDAY(S1512)","v":3},{"$f":"MONTH(S1512)","v":11},{"$f":"YEAR(S1512)","v":2028},{"$f":"T1512&U1512","v":"311"},{"$f":"IF(V1512&W1512=V1511&W1511,X1511+1,1)","v":2},{"$f":"V1512&U1512&T1512&X1512","v":"20281132"},{"$f":"S1512","v":"2028-11-14"}]
[null,null,null,null,null,null,null,null,null,null,null,null,null,null,null,null,null,null,"2028-11-21",{"$f":"WEEKDAY(S1513)","v":3},{"$f":"MONTH(S1513)","v":11},{"$f":"YEAR(S1513)","v":2028},{"$f":"T1513&U1513","v":"311"},{"$f":"IF(V1513&W1513=V1512&W1512,X1512+1,1)","v":3},{"$f":"V1513&U1513&T1513&X1513","v":"20281133"},{"$f":"S1513","v":"2028-11-21"}]
[null,null,null,null,null,null,null,null,null,null,null,null,null,null,null,null,null,null,"2028-11-28",{"$f":"WEEKDAY(S1514)","v":3},{"$f":"MONTH(S1514)","v":11},{"$f":"YEAR(S1514)","v":2028},{"$f":"T1514&U1514","v":"311"},{"$f":"IF(V1514&W1514=V1513&W1513,X1513+1,1)","v":4},{"$f":"V1514&U1514&T1514&X1514","v":"20281134"},{"$f":"S1514","v":"2028-11-28"}]
[null,null,null,null,null,null,null,null,null,null,null,null,null,null,null,null,null,null,"2028-01-23",{"$f":"WEEKDAY(S1515)","v":1},{"$f":"MONTH(S1515)","v":1},{"$f":"YEAR(S1515)","v":2028},{"$f":"T1515&U1515","v":"11"},{"$f":"IF(V1515&W1515=V1514&W1514,X1514+1,1)","v":1},{"$f":"V1515&U1515&T1515&X1515","v":"2028111"},{"$f":"S1515","v":"2028-01-23"}]
[null,null,null,null,null,null,null,null,null,null,null,null,null,null,null,null,null,null,"2028-11-01",{"$f":"WEEKDAY(S1516)","v":4},{"$f":"MONTH(S1516)","v":11},{"$f":"YEAR(S1516)","v":2028},{"$f":"T1516&U1516","v":"411"},{"$f":"IF(V1516&W1516=V1515&W1515,X1515+1,1)","v":1},{"$f":"V1516&U1516&T1516&X1516","v":"20281141"},{"$f":"S1516","v":"2028-11-01"}]
[null,null,null,null,null,null,null,null,null,null,null,null,null,null,null,null,null,null,"2028-11-08",{"$f":"WEEKDAY(S1517)","v":4},{"$f":"MONTH(S1517)","v":11},{"$f":"YEAR(S1517)","v":2028},{"$f":"T1517&U1517","v":"411"},{"$f":"IF(V1517&W1517=V1516&W1516,X1516+1,1)","v":2},{"$f":"V1517&U1517&T1517&X1517","v":"20281142"},{"$f":"S1517","v":"2028-11-08"}]
[null,null,null,null,null,null,null,null,null,null,null,null,null,null,null,null,null,null,"2028-11-15",{"$f":"WEEKDAY(S1518)","v":4},{"$f":"MONTH(S1518)","v":11},{"$f":"YEAR(S1518)","v":2028},{"$f":"T1518&U1518","v":"411"},{"$f":"IF(V1518&W1518=V1517&W1517,X1517+1,1)","v":3},{"$f":"V1518&U1518&T1518&X1518","v":"20281143"},{"$f":"S1518","v":"2028-11-15"}]
[null,null,null,null,null,null,null,null,null,null,null,null,null,null,null,null,null,null,"2028-11-22",{"$f":"WEEKDAY(S1519)","v":4},{"$f":"MONTH(S1519)","v":11},{"$f":"YEAR(S1519)","v":2028},{"$f":"T1519&U1519","v":"411"},{"$f":"IF(V1519&W1519=V1518&W1518,X1518+1,1)","v":4},{"$f":"V1519&U1519&T1519&X1519","v":"20281144"},{"$f":"S1519","v":"2028-11-22"}]
[null,null,null,null,null,null,null,null,null,null,null,null,null,null,null,null,null,null,"2028-11-29",{"$f":"WEEKDAY(S1520)","v":4},{"$f":"MONTH(S1520)","v":11},{"$f":"YEAR(S1520)","v":2028},{"$f":"T1520&U1520","v":"411"},{"$f":"IF(V1520&W1520=V1519&W1519,X1519+1,1)","v":5},{"$f":"V1520&U1520&T1520&X1520","v":"20281145"},{"$f":"S1520","v":"2028-11-29"}]
[null,null,null,null,null,null,null,null,null,null,null,null,null,null,null,null,null,null,"2028-01-30",{"$f":"WEEKDAY(S1521)","v":1},{"$f":"MONTH(S1521)","v":1},{"$f":"YEAR(S1521)","v":2028},{"$f":"T1521&U1521","v":"11"},{"$f":"IF(V1521&W1521=V1520&W1520,X1520+1,1)","v":1},{"$f":"V1521&U1521&T1521&X1521","v":"2028111"},{"$f":"S1521","v":"2028-01-30"}]
[null,null,null,null,null,null,null,null,null,null,null,null,null,null,null,null,null,null,"2028-11-02",{"$f":"WEEKDAY(S1522)","v":5},{"$f":"MONTH(S1522)","v":11},{"$f":"YEAR(S1522)","v":2028},{"$f":"T1522&U1522","v":"511"},{"$f":"IF(V1522&W1522=V1521&W1521,X1521+1,1)","v":1},{"$f":"V1522&U1522&T1522&X1522","v":"20281151"},{"$f":"S1522","v":"2028-11-02"}]
[null,null,null,null,null,null,null,null,null,null,null,null,null,null,null,null,null,null,"2028-11-09",{"$f":"WEEKDAY(S1523)","v":5},{"$f":"MONTH(S1523)","v":11},{"$f":"YEAR(S1523)","v":2028},{"$f":"T1523&U1523","v":"511"},{"$f":"IF(V1523&W1523=V1522&W1522,X1522+1,1)","v":2},{"$f":"V1523&U1523&T1523&X1523","v":"20281152"},{"$f":"S1523","v":"2028-11-09"}]
[null,null,null,null,null,null,null,null,null,null,null,null,null,null,null,null,null,null,"2028-11-16",{"$f":"WEEKDAY(S1524)","v":5},{"$f":"MONTH(S1524)","v":11},{"$f":"YEAR(S1524)","v":2028},{"$f":"T1524&U1524","v":"511"},{"$f":"IF(V1524&W1524=V1523&W1523,X1523+1,1)","v":3},{"$f":"V1524&U1524&T1524&X1524","v":"20281153"},{"$f":"S1524","v":"2028-11-16"}]
[null,null,null,null,null,null,null,null,null,null,null,null,null,null,null,null,null,null,"2028-11-23",{"$f":"WEEKDAY(S1525)","v":5},{"$f":"MONTH(S1525)","v":11},{"$f":"YEAR(S1525)","v":2028},{"$f":"T1525&U1525","v":"511"},{"$f":"IF(V1525&W1525=V1524&W1524,X1524+1,1)","v":4},{"$f":"V1525&U1525&T1525&X1525","v":"20281154"},{"$f":"S1525","v":"2028-11-23"}]
[null,null,null,null,null,null,null,null,null,null,null,null,null,null,null,null,null,null,"2028-11-30",{"$f":"WEEKDAY(S1526)","v":5},{"$f":"MONTH(S1526)","v":11},{"$f":"YEAR(S1526)","v":2028},{"$f":"T1526&U1526","v":"511"},{"$f":"IF(V1526&W1526=V1525&W1525,X1525+1,1)","v":5},{"$f":"V1526&U1526&T1526&X1526","v":"20281155"},{"$f":"S1526","v":"2028-11-30"}]
[null,null,null,null,null,null,null,null,null,null,null,null,null,null,null,null,null,null,"2028-11-03",{"$f":"WEEKDAY(S1527)","v":6},{"$f":"MONTH(S1527)","v":11},{"$f":"YEAR(S1527)","v":2028},{"$f":"T1527&U1527","v":"611"},{"$f":"IF(V1527&W1527=V1526&W1526,X1526+1,1)","v":1},{"$f":"V1527&U1527&T1527&X1527","v":"20281161"},{"$f":"S1527","v":"2028-11-03"}]
[null,null,null,null,null,null,null,null,null,null,null,null,null,null,null,null,null,null,"2028-11-10",{"$f":"WEEKDAY(S1528)","v":6},{"$f":"MONTH(S1528)","v":11},{"$f":"YEAR(S1528)","v":2028},{"$f":"T1528&U1528","v":"611"},{"$f":"IF(V1528&W1528=V1527&W1527,X1527+1,1)","v":2},{"$f":"V1528&U1528&T1528&X1528","v":"20281162"},{"$f":"S1528","v":"2028-11-10"}]
[null,null,null,null,null,null,null,null,null,null,null,null,null,null,null,null,null,null,"2028-11-17",{"$f":"WEEKDAY(S1529)","v":6},{"$f":"MONTH(S1529)","v":11},{"$f":"YEAR(S1529)","v":2028},{"$f":"T1529&U1529","v":"611"},{"$f":"IF(V1529&W1529=V1528&W1528,X1528+1,1)","v":3},{"$f":"V1529&U1529&T1529&X1529","v":"20281163"},{"$f":"S1529","v":"2028-11-17"}]
[null,null,null,null,null,null,null,null,null,null,null,null,null,null,null,null,null,null,"2028-11-24",{"$f":"WEEKDAY(S1530)","v":6},{"$f":"MONTH(S1530)","v":11},{"$f":"YEAR(S1530)","v":2028},{"$f":"T1530&U1530","v":"611"},{"$f":"IF(V1530&W1530=V1529&W1529,X1529+1,1)","v":4},{"$f":"V1530&U1530&T1530&X1530","v":"20281164"},{"$f":"S1530","v":"2028-11-24"}]
[null,null,null,null,null,null,null,null,null,null,null,null,null,null,null,null,null,null,"2028-11-04",{"$f":"WEEKDAY(S1531)","v":7},{"$f":"MONTH(S1531)","v":11},{"$f":"YEAR(S1531)","v":2028},{"$f":"T1531&U1531","v":"711"},{"$f":"IF(V1531&W1531=V1530&W1530,X1530+1,1)","v":1},{"$f":"V1531&U1531&T1531&X1531","v":"20281171"},{"$f":"S1531","v":"2028-11-04"}]
[null,null,null,null,null,null,null,null,null,null,null,null,null,null,null,null,null,null,"2028-11-11",{"$f":"WEEKDAY(S1532)","v":7},{"$f":"MONTH(S1532)","v":11},{"$f":"YEAR(S1532)","v":2028},{"$f":"T1532&U1532","v":"711"},{"$f":"IF(V1532&W1532=V1531&W1531,X1531+1,1)","v":2},{"$f":"V1532&U1532&T1532&X1532","v":"20281172"},{"$f":"S1532","v":"2028-11-11"}]
[null,null,null,null,null,null,null,null,null,null,null,null,null,null,null,null,null,null,"2028-11-18",{"$f":"WEEKDAY(S1533)","v":7},{"$f":"MONTH(S1533)","v":11},{"$f":"YEAR(S1533)","v":2028},{"$f":"T1533&U1533","v":"711"},{"$f":"IF(V1533&W1533=V1532&W1532,X1532+1,1)","v":3},{"$f":"V1533&U1533&T1533&X1533","v":"20281173"},{"$f":"S1533","v":"2028-11-18"}]
[null,null,null,null,null,null,null,null,null,null,null,null,null,null,null,null,null,null,"2028-11-25",{"$f":"WEEKDAY(S1534)","v":7},{"$f":"MONTH(S1534)","v":11},{"$f":"YEAR(S1534)","v":2028},{"$f":"T1534&U1534","v":"711"},{"$f":"IF(V1534&W1534=V1533&W1533,X1533+1,1)","v":4},{"$f":"V1534&U1534&T1534&X1534","v":"20281174"},{"$f":"S1534","v":"2028-11-25"}]
[null,null,null,null,null,null,null,null,null,null,null,null,null,null,null,null,null,null,"2028-01-03",{"$f":"WEEKDAY(S1535)","v":2},{"$f":"MONTH(S1535)","v":1},{"$f":"YEAR(S1535)","v":2028},{"$f":"T1535&U1535","v":"21"},{"$f":"IF(V1535&W1535=V1534&W1534,X1534+1,1)","v":1},{"$f":"V1535&U1535&T1535&X1535","v":"2028121"},{"$f":"S1535","v":"2028-01-03"}]
[null,null,null,null,null,null,null,null,null,null,null,null,null,null,null,null,null,null,"2028-12-03",{"$f":"WEEKDAY(S1536)","v":1},{"$f":"MONTH(S1536)","v":12},{"$f":"YEAR(S1536)","v":2028},{"$f":"T1536&U1536","v":"112"},{"$f":"IF(V1536&W1536=V1535&W1535,X1535+1,1)","v":1},{"$f":"V1536&U1536&T1536&X1536","v":"20281211"},{"$f":"S1536","v":"2028-12-03"}]
[null,null,null,null,null,null,null,null,null,null,null,null,null,null,null,null,null,null,"2028-12-10",{"$f":"WEEKDAY(S1537)","v":1},{"$f":"MONTH(S1537)","v":12},{"$f":"YEAR(S1537)","v":2028},{"$f":"T1537&U1537","v":"112"},{"$f":"IF(V1537&W1537=V1536&W1536,X1536+1,1)","v":2},{"$f":"V1537&U1537&T1537&X1537","v":"20281212"},{"$f":"S1537","v":"2028-12-10"}]
[null,null,null,null,null,null,null,null,null,null,null,null,null,null,null,null,null,null,"2028-12-17",{"$f":"WEEKDAY(S1538)","v":1},{"$f":"MONTH(S1538)","v":12},{"$f":"YEAR(S1538)","v":2028},{"$f":"T1538&U1538","v":"112"},{"$f":"IF(V1538&W1538=V1537&W1537,X1537+1,1)","v":3},{"$f":"V1538&U1538&T1538&X1538","v":"20281213"},{"$f":"S1538","v":"2028-12-17"}]
[null,null,null,null,null,null,null,null,null,null,null,null,null,null,null,null,null,null,"2028-12-24",{"$f":"WEEKDAY(S1539)","v":1},{"$f":"MONTH(S1539)","v":12},{"$f":"YEAR(S1539)","v":2028},{"$f":"T1539&U1539","v":"112"},{"$f":"IF(V1539&W1539=V1538&W1538,X1538+1,1)","v":4},{"$f":"V1539&U1539&T1539&X1539","v":"20281214"},{"$f":"S1539","v":"2028-12-24"}]
[null,null,null,null,null,null,null,null,null,null,null,null,null,null,null,null,null,null,"2028-12-31",{"$f":"WEEKDAY(S1540)","v":1},{"$f":"MONTH(S1540)","v":12},{"$f":"YEAR(S1540)","v":2028},{"$f":"T1540&U1540","v":"112"},{"$f":"IF(V1540&W1540=V1539&W1539,X1539+1,1)","v":5},{"$f":"V1540&U1540&T1540&X1540","v":"20281215"},{"$f":"S1540","v":"2028-12-31"}]
[null,null,null,null,null,null,null,null,null,null,null,null,null,null,null,null,null,null,"2028-01-10",{"$f":"WEEKDAY(S1541)","v":2},{"$f":"MONTH(S1541)","v":1},{"$f":"YEAR(S1541)","v":2028},{"$f":"T1541&U1541","v":"21"},{"$f":"IF(V1541&W1541=V1540&W1540,X1540+1,1)","v":1},{"$f":"V1541&U1541&T1541&X1541","v":"2028121"},{"$f":"S1541","v":"2028-01-10"}]
[null,null,null,null,null,null,null,null,null,null,null,null,null,null,null,null,null,null,"2028-12-04",{"$f":"WEEKDAY(S1542)","v":2},{"$f":"MONTH(S1542)","v":12},{"$f":"YEAR(S1542)","v":2028},{"$f":"T1542&U1542","v":"212"},{"$f":"IF(V1542&W1542=V1541&W1541,X1541+1,1)","v":1},{"$f":"V1542&U1542&T1542&X1542","v":"20281221"},{"$f":"S1542","v":"2028-12-04"}]
[null,null,null,null,null,null,null,null,null,null,null,null,null,null,null,null,null,null,"2028-12-11",{"$f":"WEEKDAY(S1543)","v":2},{"$f":"MONTH(S1543)","v":12},{"$f":"YEAR(S1543)","v":2028},{"$f":"T1543&U1543","v":"212"},{"$f":"IF(V1543&W1543=V1542&W1542,X1542+1,1)","v":2},{"$f":"V1543&U1543&T1543&X1543","v":"20281222"},{"$f":"S1543","v":"2028-12-11"}]
[null,null,null,null,null,null,null,null,null,null,null,null,null,null,null,null,null,null,"2028-12-18",{"$f":"WEEKDAY(S1544)","v":2},{"$f":"MONTH(S1544)","v":12},{"$f":"YEAR(S1544)","v":2028},{"$f":"T1544&U1544","v":"212"},{"$f":"IF(V1544&W1544=V1543&W1543,X1543+1,1)","v":3},{"$f":"V1544&U1544&T1544&X1544","v":"20281223"},{"$f":"S1544","v":"2028-12-18"}]
[null,null,null,null,null,null,null,null,null,null,null,null,null,null,null,null,null,null,"2028-12-25",{"$f":"WEEKDAY(S1545)","v":2},{"$f":"MONTH(S1545)","v":12},{"$f":"YEAR(S1545)","v":2028},{"$f":"T1545&U1545","v":"212"},{"$f":"IF(V1545&W1545=V1544&W1544,X1544+1,1)","v":4},{"$f":"V1545&U1545&T1545&X1545","v":"20281224"},{"$f":"S1545","v":"2028-12-25"}]
[null,null,null,null,null,null,null,null,null,null,null,null,null,null,null,null,null,null,"2028-01-17",{"$f":"WEEKDAY(S1546)","v":2},{"$f":"MONTH(S1546)","v":1},{"$f":"YEAR(S1546)","v":2028},{"$f":"T1546&U1546","v":"21"},{"$f":"IF(V1546&W1546=V1545&W1545,X1545+1,1)","v":1},{"$f":"V1546&U1546&T1546&X1546","v":"2028121"},{"$f":"S1546","v":"2028-01-17"}]
[null,null,null,null,null,null,null,null,null,null,null,null,null,null,null,null,null,null,"2028-12-05",{"$f":"WEEKDAY(S1547)","v":3},{"$f":"MONTH(S1547)","v":12},{"$f":"YEAR(S1547)","v":2028},{"$f":"T1547&U1547","v":"312"},{"$f":"IF(V1547&W1547=V1546&W1546,X1546+1,1)","v":1},{"$f":"V1547&U1547&T1547&X1547","v":"20281231"},{"$f":"S1547","v":"2028-12-05"}]
[null,null,null,null,null,null,null,null,null,null,null,null,null,null,null,null,null,null,"2028-12-12",{"$f":"WEEKDAY(S1548)","v":3},{"$f":"MONTH(S1548)","v":12},{"$f":"YEAR(S1548)","v":2028},{"$f":"T1548&U1548","v":"312"},{"$f":"IF(V1548&W1548=V1547&W1547,X1547+1,1)","v":2},{"$f":"V1548&U1548&T1548&X1548","v":"20281232"},{"$f":"S1548","v":"2028-12-12"}]
[null,null,null,null,null,null,null,null,null,null,null,null,null,null,null,null,null,null,"2028-12-19",{"$f":"WEEKDAY(S1549)","v":3},{"$f":"MONTH(S1549)","v":12},{"$f":"YEAR(S1549)","v":2028},{"$f":"T1549&U1549","v":"312"},{"$f":"IF(V1549&W1549=V1548&W1548,X1548+1,1)","v":3},{"$f":"V1549&U1549&T1549&X1549","v":"20281233"},{"$f":"S1549","v":"2028-12-19"}]
[null,null,null,null,null,null,null,null,null,null,null,null,null,null,null,null,null,null,"2028-12-26",{"$f":"WEEKDAY(S1550)","v":3},{"$f":"MONTH(S1550)","v":12},{"$f":"YEAR(S1550)","v":2028},{"$f":"T1550&U1550","v":"312"},{"$f":"IF(V1550&W1550=V1549&W1549,X1549+1,1)","v":4},{"$f":"V1550&U1550&T1550&X1550","v":"20281234"},{"$f":"S1550","v":"2028-12-26"}]
[null,null,null,null,null,null,null,null,null,null,null,null,null,null,null,null,null,null,"2028-01-24",{"$f":"WEEKDAY(S1551)","v":2},{"$f":"MONTH(S1551)","v":1},{"$f":"YEAR(S1551)","v":2028},{"$f":"T1551&U1551","v":"21"},{"$f":"IF(V1551&W1551=V1550&W1550,X1550+1,1)","v":1},{"$f":"V1551&U1551&T1551&X1551","v":"2028121"},{"$f":"S1551","v":"2028-01-24"}]
[null,null,null,null,null,null,null,null,null,null,null,null,null,null,null,null,null,null,"2028-12-06",{"$f":"WEEKDAY(S1552)","v":4},{"$f":"MONTH(S1552)","v":12},{"$f":"YEAR(S1552)","v":2028},{"$f":"T1552&U1552","v":"412"},{"$f":"IF(V1552&W1552=V1551&W1551,X1551+1,1)","v":1},{"$f":"V1552&U1552&T1552&X1552","v":"20281241"},{"$f":"S1552","v":"2028-12-06"}]
[null,null,null,null,null,null,null,null,null,null,null,null,null,null,null,null,null,null,"2028-12-13",{"$f":"WEEKDAY(S1553)","v":4},{"$f":"MONTH(S1553)","v":12},{"$f":"YEAR(S1553)","v":2028},{"$f":"T1553&U1553","v":"412"},{"$f":"IF(V1553&W1553=V1552&W1552,X1552+1,1)","v":2},{"$f":"V1553&U1553&T1553&X1553","v":"20281242"},{"$f":"S1553","v":"2028-12-13"}]
[null,null,null,null,null,null,null,null,null,null,null,null,null,null,null,null,null,null,"2028-12-20",{"$f":"WEEKDAY(S1554)","v":4},{"$f":"MONTH(S1554)","v":12},{"$f":"YEAR(S1554)","v":2028},{"$f":"T1554&U1554","v":"412"},{"$f":"IF(V1554&W1554=V1553&W1553,X1553+1,1)","v":3},{"$f":"V1554&U1554&T1554&X1554","v":"20281243"},{"$f":"S1554","v":"2028-12-20"}]
[null,null,null,null,null,null,null,null,null,null,null,null,null,null,null,null,null,null,"2028-12-27",{"$f":"WEEKDAY(S1555)","v":4},{"$f":"MONTH(S1555)","v":12},{"$f":"YEAR(S1555)","v":2028},{"$f":"T1555&U1555","v":"412"},{"$f":"IF(V1555&W1555=V1554&W1554,X1554+1,1)","v":4},{"$f":"V1555&U1555&T1555&X1555","v":"20281244"},{"$f":"S1555","v":"2028-12-27"}]
[null,null,null,null,null,null,null,null,null,null,null,null,null,null,null,null,null,null,"2028-01-31",{"$f":"WEEKDAY(S1556)","v":2},{"$f":"MONTH(S1556)","v":1},{"$f":"YEAR(S1556)","v":2028},{"$f":"T1556&U1556","v":"21"},{"$f":"IF(V1556&W1556=V1555&W1555,X1555+1,1)","v":1},{"$f":"V1556&U1556&T1556&X1556","v":"2028121"},{"$f":"S1556","v":"2028-01-31"}]
[null,null,null,null,null,null,null,null,null,null,null,null,null,null,null,null,null,null,"2028-12-07",{"$f":"WEEKDAY(S1557)","v":5},{"$f":"MONTH(S1557)","v":12},{"$f":"YEAR(S1557)","v":2028},{"$f":"T1557&U1557","v":"512"},{"$f":"IF(V1557&W1557=V1556&W1556,X1556+1,1)","v":1},{"$f":"V1557&U1557&T1557&X1557","v":"20281251"},{"$f":"S1557","v":"2028-12-07"}]
[null,null,null,null,null,null,null,null,null,null,null,null,null,null,null,null,null,null,"2028-12-14",{"$f":"WEEKDAY(S1558)","v":5},{"$f":"MONTH(S1558)","v":12},{"$f":"YEAR(S1558)","v":2028},{"$f":"T1558&U1558","v":"512"},{"$f":"IF(V1558&W1558=V1557&W1557,X1557+1,1)","v":2},{"$f":"V1558&U1558&T1558&X1558","v":"20281252"},{"$f":"S1558","v":"2028-12-14"}]
[null,null,null,null,null,null,null,null,null,null,null,null,null,null,null,null,null,null,"2028-12-21",{"$f":"WEEKDAY(S1559)","v":5},{"$f":"MONTH(S1559)","v":12},{"$f":"YEAR(S1559)","v":2028},{"$f":"T1559&U1559","v":"512"},{"$f":"IF(V1559&W1559=V1558&W1558,X1558+1,1)","v":3},{"$f":"V1559&U1559&T1559&X1559","v":"20281253"},{"$f":"S1559","v":"2028-12-21"}]
[null,null,null,null,null,null,null,null,null,null,null,null,null,null,null,null,null,null,"2028-12-28",{"$f":"WEEKDAY(S1560)","v":5},{"$f":"MONTH(S1560)","v":12},{"$f":"YEAR(S1560)","v":2028},{"$f":"T1560&U1560","v":"512"},{"$f":"IF(V1560&W1560=V1559&W1559,X1559+1,1)","v":4},{"$f":"V1560&U1560&T1560&X1560","v":"20281254"},{"$f":"S1560","v":"2028-12-28"}]
[null,null,null,null,null,null,null,null,null,null,null,null,null,null,null,null,null,null,"2028-12-01",{"$f":"WEEKDAY(S1561)","v":6},{"$f":"MONTH(S1561)","v":12},{"$f":"YEAR(S1561)","v":2028},{"$f":"T1561&U1561","v":"612"},{"$f":"IF(V1561&W1561=V1560&W1560,X1560+1,1)","v":1},{"$f":"V1561&U1561&T1561&X1561","v":"20281261"},{"$f":"S1561","v":"2028-12-01"}]
[null,null,null,null,null,null,null,null,null,null,null,null,null,null,null,null,null,null,"2028-12-08",{"$f":"WEEKDAY(S1562)","v":6},{"$f":"MONTH(S1562)","v":12},{"$f":"YEAR(S1562)","v":2028},{"$f":"T1562&U1562","v":"612"},{"$f":"IF(V1562&W1562=V1561&W1561,X1561+1,1)","v":2},{"$f":"V1562&U1562&T1562&X1562","v":"20281262"},{"$f":"S1562","v":"2028-12-08"}]
[null,null,null,null,null,null,null,null,null,null,null,null,null,null,null,null,null,null,"2028-12-15",{"$f":"WEEKDAY(S1563)","v":6},{"$f":"MONTH(S1563)","v":12},{"$f":"YEAR(S1563)","v":2028},{"$f":"T1563&U1563","v":"612"},{"$f":"IF(V1563&W1563=V1562&W1562,X1562+1,1)","v":3},{"$f":"V1563&U1563&T1563&X1563","v":"20281263"},{"$f":"S1563","v":"2028-12-15"}]
[null,null,null,null,null,null,null,null,null,null,null,null,null,null,null,null,null,null,"2028-12-22",{"$f":"WEEKDAY(S1564)","v":6},{"$f":"MONTH(S1564)","v":12},{"$f":"YEAR(S1564)","v":2028},{"$f":"T1564&U1564","v":"612"},{"$f":"IF(V1564&W1564=V1563&W1563,X1563+1,1)","v":4},{"$f":"V1564&U1564&T1564&X1564","v":"20281264"},{"$f":"S1564","v":"2028-12-22"}]
[null,null,null,null,null,null,null,null,null,null,null,null,null,null,null,null,null,null,"2028-12-29",{"$f":"WEEKDAY(S1565)","v":6},{"$f":"MONTH(S1565)","v":12},{"$f":"YEAR(S1565)","v":2028},{"$f":"T1565&U1565","v":"612"},{"$f":"IF(V1565&W1565=V1564&W1564,X1564+1,1)","v":5},{"$f":"V1565&U1565&T1565&X1565","v":"20281265"},{"$f":"S1565","v":"2028-12-29"}]
[null,null,null,null,null,null,null,null,null,null,null,null,null,null,null,null,null,null,"2028-12-02",{"$f":"WEEKDAY(S1566)","v":7},{"$f":"MONTH(S1566)","v":12},{"$f":"YEAR(S1566)","v":2028},{"$f":"T1566&U1566","v":"712"},{"$f":"IF(V1566&W1566=V1565&W1565,X1565+1,1)","v":1},{"$f":"V1566&U1566&T1566&X1566","v":"20281271"},{"$f":"S1566","v":"2028-12-02"}]
[null,null,null,null,null,null,null,null,null,null,null,null,null,null,null,null,null,null,"2028-12-09",{"$f":"WEEKDAY(S1567)","v":7},{"$f":"MONTH(S1567)","v":12},{"$f":"YEAR(S1567)","v":2028},{"$f":"T1567&U1567","v":"712"},{"$f":"IF(V1567&W1567=V1566&W1566,X1566+1,1)","v":2},{"$f":"V1567&U1567&T1567&X1567","v":"20281272"},{"$f":"S1567","v":"2028-12-09"}]
[null,null,null,null,null,null,null,null,null,null,null,null,null,null,null,null,null,null,"2028-12-16",{"$f":"WEEKDAY(S1568)","v":7},{"$f":"MONTH(S1568)","v":12},{"$f":"YEAR(S1568)","v":2028},{"$f":"T1568&U1568","v":"712"},{"$f":"IF(V1568&W1568=V1567&W1567,X1567+1,1)","v":3},{"$f":"V1568&U1568&T1568&X1568","v":"20281273"},{"$f":"S1568","v":"2028-12-16"}]
[null,null,null,null,null,null,null,null,null,null,null,null,null,null,null,null,null,null,"2028-12-23",{"$f":"WEEKDAY(S1569)","v":7},{"$f":"MONTH(S1569)","v":12},{"$f":"YEAR(S1569)","v":2028},{"$f":"T1569&U1569","v":"712"},{"$f":"IF(V1569&W1569=V1568&W1568,X1568+1,1)","v":4},{"$f":"V1569&U1569&T1569&X1569","v":"20281274"},{"$f":"S1569","v":"2028-12-23"}]
[null,null,null,null,null,null,null,null,null,null,null,null,null,null,null,null,null,null,"2028-12-30",{"$f":"WEEKDAY(S1570)","v":7},{"$f":"MONTH(S1570)","v":12},{"$f":"YEAR(S1570)","v":2028},{"$f":"T1570&U1570","v":"712"},{"$f":"IF(V1570&W1570=V1569&W1569,X1569+1,1)","v":5},{"$f":"V1570&U1570&T1570&X1570","v":"20281275"},{"$f":"S1570","v":"2028-12-30"}]
[null,null,null,null,null,null,null,null,null,null,null,null,null,null,null,null,null,null,"2028-01-04",{"$f":"WEEKDAY(S1571)","v":3},{"$f":"MONTH(S1571)","v":1},{"$f":"YEAR(S1571)","v":2028},{"$f":"T1571&U1571","v":"31"},{"$f":"IF(V1571&W1571=V1570&W1570,X1570+1,1)","v":1},{"$f":"V1571&U1571&T1571&X1571","v":"2028131"},{"$f":"S1571","v":"2028-01-04"}]
[null,null,null,null,null,null,null,null,null,null,null,null,null,null,null,null,null,null,"2028-01-11",{"$f":"WEEKDAY(S1572)","v":3},{"$f":"MONTH(S1572)","v":1},{"$f":"YEAR(S1572)","v":2028},{"$f":"T1572&U1572","v":"31"},{"$f":"IF(V1572&W1572=V1571&W1571,X1571+1,1)","v":2},{"$f":"V1572&U1572&T1572&X1572","v":"2028132"},{"$f":"S1572","v":"2028-01-11"}]
[null,null,null,null,null,null,null,null,null,null,null,null,null,null,null,null,null,null,"2028-01-18",{"$f":"WEEKDAY(S1573)","v":3},{"$f":"MONTH(S1573)","v":1},{"$f":"YEAR(S1573)","v":2028},{"$f":"T1573&U1573","v":"31"},{"$f":"IF(V1573&W1573=V1572&W1572,X1572+1,1)","v":3},{"$f":"V1573&U1573&T1573&X1573","v":"2028133"},{"$f":"S1573","v":"2028-01-18"}]
[null,null,null,null,null,null,null,null,null,null,null,null,null,null,null,null,null,null,"2028-01-25",{"$f":"WEEKDAY(S1574)","v":3},{"$f":"MONTH(S1574)","v":1},{"$f":"YEAR(S1574)","v":2028},{"$f":"T1574&U1574","v":"31"},{"$f":"IF(V1574&W1574=V1573&W1573,X1573+1,1)","v":4},{"$f":"V1574&U1574&T1574&X1574","v":"2028134"},{"$f":"S1574","v":"2028-01-25"}]
[null,null,null,null,null,null,null,null,null,null,null,null,null,null,null,null,null,null,"2028-01-05",{"$f":"WEEKDAY(S1575)","v":4},{"$f":"MONTH(S1575)","v":1},{"$f":"YEAR(S1575)","v":2028},{"$f":"T1575&U1575","v":"41"},{"$f":"IF(V1575&W1575=V1574&W1574,X1574+1,1)","v":1},{"$f":"V1575&U1575&T1575&X1575","v":"2028141"},{"$f":"S1575","v":"2028-01-05"}]
[null,null,null,null,null,null,null,null,null,null,null,null,null,null,null,null,null,null,"2028-01-12",{"$f":"WEEKDAY(S1576)","v":4},{"$f":"MONTH(S1576)","v":1},{"$f":"YEAR(S1576)","v":2028},{"$f":"T1576&U1576","v":"41"},{"$f":"IF(V1576&W1576=V1575&W1575,X1575+1,1)","v":2},{"$f":"V1576&U1576&T1576&X1576","v":"2028142"},{"$f":"S1576","v":"2028-01-12"}]
[null,null,null,null,null,null,null,null,null,null,null,null,null,null,null,null,null,null,"2028-01-19",{"$f":"WEEKDAY(S1577)","v":4},{"$f":"MONTH(S1577)","v":1},{"$f":"YEAR(S1577)","v":2028},{"$f":"T1577&U1577","v":"41"},{"$f":"IF(V1577&W1577=V1576&W1576,X1576+1,1)","v":3},{"$f":"V1577&U1577&T1577&X1577","v":"2028143"},{"$f":"S1577","v":"2028-01-19"}]
[null,null,null,null,null,null,null,null,null,null,null,null,null,null,null,null,null,null,"2028-01-26",{"$f":"WEEKDAY(S1578)","v":4},{"$f":"MONTH(S1578)","v":1},{"$f":"YEAR(S1578)","v":2028},{"$f":"T1578&U1578","v":"41"},{"$f":"IF(V1578&W1578=V1577&W1577,X1577+1,1)","v":4},{"$f":"V1578&U1578&T1578&X1578","v":"2028144"},{"$f":"S1578","v":"2028-01-26"}]
[null,null,null,null,null,null,null,null,null,null,null,null,null,null,null,null,null,null,"2028-01-06",{"$f":"WEEKDAY(S1579)","v":5},{"$f":"MONTH(S1579)","v":1},{"$f":"YEAR(S1579)","v":2028},{"$f":"T1579&U1579","v":"51"},{"$f":"IF(V1579&W1579=V1578&W1578,X1578+1,1)","v":1},{"$f":"V1579&U1579&T1579&X1579","v":"2028151"},{"$f":"S1579","v":"2028-01-06"}]
[null,null,null,null,null,null,null,null,null,null,null,null,null,null,null,null,null,null,"2028-01-13",{"$f":"WEEKDAY(S1580)","v":5},{"$f":"MONTH(S1580)","v":1},{"$f":"YEAR(S1580)","v":2028},{"$f":"T1580&U1580","v":"51"},{"$f":"IF(V1580&W1580=V1579&W1579,X1579+1,1)","v":2},{"$f":"V1580&U1580&T1580&X1580","v":"2028152"},{"$f":"S1580","v":"2028-01-13"}]
[null,null,null,null,null,null,null,null,null,null,null,null,null,null,null,null,null,null,"2028-01-20",{"$f":"WEEKDAY(S1581)","v":5},{"$f":"MONTH(S1581)","v":1},{"$f":"YEAR(S1581)","v":2028},{"$f":"T1581&U1581","v":"51"},{"$f":"IF(V1581&W1581=V1580&W1580,X1580+1,1)","v":3},{"$f":"V1581&U1581&T1581&X1581","v":"2028153"},{"$f":"S1581","v":"2028-01-20"}]
[null,null,null,null,null,null,null,null,null,null,null,null,null,null,null,null,null,null,"2028-01-27",{"$f":"WEEKDAY(S1582)","v":5},{"$f":"MONTH(S1582)","v":1},{"$f":"YEAR(S1582)","v":2028},{"$f":"T1582&U1582","v":"51"},{"$f":"IF(V1582&W1582=V1581&W1581,X1581+1,1)","v":4},{"$f":"V1582&U1582&T1582&X1582","v":"2028154"},{"$f":"S1582","v":"2028-01-27"}]
[null,null,null,null,null,null,null,null,null,null,null,null,null,null,null,null,null,null,"2028-01-07",{"$f":"WEEKDAY(S1583)","v":6},{"$f":"MONTH(S1583)","v":1},{"$f":"YEAR(S1583)","v":2028},{"$f":"T1583&U1583","v":"61"},{"$f":"IF(V1583&W1583=V1582&W1582,X1582+1,1)","v":1},{"$f":"V1583&U1583&T1583&X1583","v":"2028161"},{"$f":"S1583","v":"2028-01-07"}]
[null,null,null,null,null,null,null,null,null,null,null,null,null,null,null,null,null,null,"2028-01-14",{"$f":"WEEKDAY(S1584)","v":6},{"$f":"MONTH(S1584)","v":1},{"$f":"YEAR(S1584)","v":2028},{"$f":"T1584&U1584","v":"61"},{"$f":"IF(V1584&W1584=V1583&W1583,X1583+1,1)","v":2},{"$f":"V1584&U1584&T1584&X1584","v":"2028162"},{"$f":"S1584","v":"2028-01-14"}]
[null,null,null,null,null,null,null,null,null,null,null,null,null,null,null,null,null,null,"2028-01-21",{"$f":"WEEKDAY(S1585)","v":6},{"$f":"MONTH(S1585)","v":1},{"$f":"YEAR(S1585)","v":2028},{"$f":"T1585&U1585","v":"61"},{"$f":"IF(V1585&W1585=V1584&W1584,X1584+1,1)","v":3},{"$f":"V1585&U1585&T1585&X1585","v":"2028163"},{"$f":"S1585","v":"2028-01-21"}]
[null,null,null,null,null,null,null,null,null,null,null,null,null,null,null,null,null,null,"2028-01-28",{"$f":"WEEKDAY(S1586)","v":6},{"$f":"MONTH(S1586)","v":1},{"$f":"YEAR(S1586)","v":2028},{"$f":"T1586&U1586","v":"61"},{"$f":"IF(V1586&W1586=V1585&W1585,X1585+1,1)","v":4},{"$f":"V1586&U1586&T1586&X1586","v":"2028164"},{"$f":"S1586","v":"2028-01-28"}]
[null,null,null,null,null,null,null,null,null,null,null,null,null,null,null,null,null,null,"2028-01-01",{"$f":"WEEKDAY(S1587)","v":7},{"$f":"MONTH(S1587)","v":1},{"$f":"YEAR(S1587)","v":2028},{"$f":"T1587&U1587","v":"71"},{"$f":"IF(V1587&W1587=V1586&W1586,X1586+1,1)","v":1},{"$f":"V1587&U1587&T1587&X1587","v":"2028171"},{"$f":"S1587","v":"2028-01-01"}]
[null,null,null,null,null,null,null,null,null,null,null,null,null,null,null,null,null,null,"2028-01-08",{"$f":"WEEKDAY(S1588)","v":7},{"$f":"MONTH(S1588)","v":1},{"$f":"YEAR(S1588)","v":2028},{"$f":"T1588&U1588","v":"71"},{"$f":"IF(V1588&W1588=V1587&W1587,X1587+1,1)","v":2},{"$f":"V1588&U1588&T1588&X1588","v":"2028172"},{"$f":"S1588","v":"2028-01-08"}]
[null,null,null,null,null,null,null,null,null,null,null,null,null,null,null,null,null,null,"2028-01-15",{"$f":"WEEKDAY(S1589)","v":7},{"$f":"MONTH(S1589)","v":1},{"$f":"YEAR(S1589)","v":2028},{"$f":"T1589&U1589","v":"71"},{"$f":"IF(V1589&W1589=V1588&W1588,X1588+1,1)","v":3},{"$f":"V1589&U1589&T1589&X1589","v":"2028173"},{"$f":"S1589","v":"2028-01-15"}]
[null,null,null,null,null,null,null,null,null,null,null,null,null,null,null,null,null,null,"2028-01-22",{"$f":"WEEKDAY(S1590)","v":7},{"$f":"MONTH(S1590)","v":1},{"$f":"YEAR(S1590)","v":2028},{"$f":"T1590&U1590","v":"71"},{"$f":"IF(V1590&W1590=V1589&W1589,X1589+1,1)","v":4},{"$f":"V1590&U1590&T1590&X1590","v":"2028174"},{"$f":"S1590","v":"2028-01-22"}]
[null,null,null,null,null,null,null,null,null,null,null,null,null,null,null,null,null,null,"2028-01-29",{"$f":"WEEKDAY(S1591)","v":7},{"$f":"MONTH(S1591)","v":1},{"$f":"YEAR(S1591)","v":2028},{"$f":"T1591&U1591","v":"71"},{"$f":"IF(V1591&W1591=V1590&W1590,X1590+1,1)","v":5},{"$f":"V1591&U1591&T1591&X1591","v":"2028175"},{"$f":"S1591","v":"2028-01-29"}]
[null,null,null,null,null,null,null,null,null,null,null,null,null,null,null,null,null,null,"2028-02-06",{"$f":"WEEKDAY(S1592)","v":1},{"$f":"MONTH(S1592)","v":2},{"$f":"YEAR(S1592)","v":2028},{"$f":"T1592&U1592","v":"12"},{"$f":"IF(V1592&W1592=V1591&W1591,X1591+1,1)","v":1},{"$f":"V1592&U1592&T1592&X1592","v":"2028211"},{"$f":"S1592","v":"2028-02-06"}]
[null,null,null,null,null,null,null,null,null,null,null,null,null,null,null,null,null,null,"2028-02-13",{"$f":"WEEKDAY(S1593)","v":1},{"$f":"MONTH(S1593)","v":2},{"$f":"YEAR(S1593)","v":2028},{"$f":"T1593&U1593","v":"12"},{"$f":"IF(V1593&W1593=V1592&W1592,X1592+1,1)","v":2},{"$f":"V1593&U1593&T1593&X1593","v":"2028212"},{"$f":"S1593","v":"2028-02-13"}]
[null,null,null,null,null,null,null,null,null,null,null,null,null,null,null,null,null,null,"2028-02-20",{"$f":"WEEKDAY(S1594)","v":1},{"$f":"MONTH(S1594)","v":2},{"$f":"YEAR(S1594)","v":2028},{"$f":"T1594&U1594","v":"12"},{"$f":"IF(V1594&W1594=V1593&W1593,X1593+1,1)","v":3},{"$f":"V1594&U1594&T1594&X1594","v":"2028213"},{"$f":"S1594","v":"2028-02-20"}]
[null,null,null,null,null,null,null,null,null,null,null,null,null,null,null,null,null,null,"2028-02-27",{"$f":"WEEKDAY(S1595)","v":1},{"$f":"MONTH(S1595)","v":2},{"$f":"YEAR(S1595)","v":2028},{"$f":"T1595&U1595","v":"12"},{"$f":"IF(V1595&W1595=V1594&W1594,X1594+1,1)","v":4},{"$f":"V1595&U1595&T1595&X1595","v":"2028214"},{"$f":"S1595","v":"2028-02-27"}]
[null,null,null,null,null,null,null,null,null,null,null,null,null,null,null,null,null,null,"2028-02-07",{"$f":"WEEKDAY(S1596)","v":2},{"$f":"MONTH(S1596)","v":2},{"$f":"YEAR(S1596)","v":2028},{"$f":"T1596&U1596","v":"22"},{"$f":"IF(V1596&W1596=V1595&W1595,X1595+1,1)","v":1},{"$f":"V1596&U1596&T1596&X1596","v":"2028221"},{"$f":"S1596","v":"2028-02-07"}]
[null,null,null,null,null,null,null,null,null,null,null,null,null,null,null,null,null,null,"2028-02-14",{"$f":"WEEKDAY(S1597)","v":2},{"$f":"MONTH(S1597)","v":2},{"$f":"YEAR(S1597)","v":2028},{"$f":"T1597&U1597","v":"22"},{"$f":"IF(V1597&W1597=V1596&W1596,X1596+1,1)","v":2},{"$f":"V1597&U1597&T1597&X1597","v":"2028222"},{"$f":"S1597","v":"2028-02-14"}]
[null,null,null,null,null,null,null,null,null,null,null,null,null,null,null,null,null,null,"2028-02-21",{"$f":"WEEKDAY(S1598)","v":2},{"$f":"MONTH(S1598)","v":2},{"$f":"YEAR(S1598)","v":2028},{"$f":"T1598&U1598","v":"22"},{"$f":"IF(V1598&W1598=V1597&W1597,X1597+1,1)","v":3},{"$f":"V1598&U1598&T1598&X1598","v":"2028223"},{"$f":"S1598","v":"2028-02-21"}]
[null,null,null,null,null,null,null,null,null,null,null,null,null,null,null,null,null,null,"2028-02-28",{"$f":"WEEKDAY(S1599)","v":2},{"$f":"MONTH(S1599)","v":2},{"$f":"YEAR(S1599)","v":2028},{"$f":"T1599&U1599","v":"22"},{"$f":"IF(V1599&W1599=V1598&W1598,X1598+1,1)","v":4},{"$f":"V1599&U1599&T1599&X1599","v":"2028224"},{"$f":"S1599","v":"2028-02-28"}]
[null,null,null,null,null,null,null,null,null,null,null,null,null,null,null,null,null,null,"2028-02-01",{"$f":"WEEKDAY(S1600)","v":3},{"$f":"MONTH(S1600)","v":2},{"$f":"YEAR(S1600)","v":2028},{"$f":"T1600&U1600","v":"32"},{"$f":"IF(V1600&W1600=V1599&W1599,X1599+1,1)","v":1},{"$f":"V1600&U1600&T1600&X1600","v":"2028231"},{"$f":"S1600","v":"2028-02-01"}]
[null,null,null,null,null,null,null,null,null,null,null,null,null,null,null,null,null,null,"2028-02-08",{"$f":"WEEKDAY(S1601)","v":3},{"$f":"MONTH(S1601)","v":2},{"$f":"YEAR(S1601)","v":2028},{"$f":"T1601&U1601","v":"32"},{"$f":"IF(V1601&W1601=V1600&W1600,X1600+1,1)","v":2},{"$f":"V1601&U1601&T1601&X1601","v":"2028232"},{"$f":"S1601","v":"2028-02-08"}]
[null,null,null,null,null,null,null,null,null,null,null,null,null,null,null,null,null,null,"2028-02-15",{"$f":"WEEKDAY(S1602)","v":3},{"$f":"MONTH(S1602)","v":2},{"$f":"YEAR(S1602)","v":2028},{"$f":"T1602&U1602","v":"32"},{"$f":"IF(V1602&W1602=V1601&W1601,X1601+1,1)","v":3},{"$f":"V1602&U1602&T1602&X1602","v":"2028233"},{"$f":"S1602","v":"2028-02-15"}]
[null,null,null,null,null,null,null,null,null,null,null,null,null,null,null,null,null,null,"2028-02-22",{"$f":"WEEKDAY(S1603)","v":3},{"$f":"MONTH(S1603)","v":2},{"$f":"YEAR(S1603)","v":2028},{"$f":"T1603&U1603","v":"32"},{"$f":"IF(V1603&W1603=V1602&W1602,X1602+1,1)","v":4},{"$f":"V1603&U1603&T1603&X1603","v":"2028234"},{"$f":"S1603","v":"2028-02-22"}]
[null,null,null,null,null,null,null,null,null,null,null,null,null,null,null,null,null,null,"2028-02-29",{"$f":"WEEKDAY(S1604)","v":3},{"$f":"MONTH(S1604)","v":2},{"$f":"YEAR(S1604)","v":2028},{"$f":"T1604&U1604","v":"32"},{"$f":"IF(V1604&W1604=V1603&W1603,X1603+1,1)","v":5},{"$f":"V1604&U1604&T1604&X1604","v":"2028235"},{"$f":"S1604","v":"2028-02-29"}]
[null,null,null,null,null,null,null,null,null,null,null,null,null,null,null,null,null,null,"2028-02-02",{"$f":"WEEKDAY(S1605)","v":4},{"$f":"MONTH(S1605)","v":2},{"$f":"YEAR(S1605)","v":2028},{"$f":"T1605&U1605","v":"42"},{"$f":"IF(V1605&W1605=V1604&W1604,X1604+1,1)","v":1},{"$f":"V1605&U1605&T1605&X1605","v":"2028241"},{"$f":"S1605","v":"2028-02-02"}]
[null,null,null,null,null,null,null,null,null,null,null,null,null,null,null,null,null,null,"2028-02-09",{"$f":"WEEKDAY(S1606)","v":4},{"$f":"MONTH(S1606)","v":2},{"$f":"YEAR(S1606)","v":2028},{"$f":"T1606&U1606","v":"42"},{"$f":"IF(V1606&W1606=V1605&W1605,X1605+1,1)","v":2},{"$f":"V1606&U1606&T1606&X1606","v":"2028242"},{"$f":"S1606","v":"2028-02-09"}]
[null,null,null,null,null,null,null,null,null,null,null,null,null,null,null,null,null,null,"2028-02-16",{"$f":"WEEKDAY(S1607)","v":4},{"$f":"MONTH(S1607)","v":2},{"$f":"YEAR(S1607)","v":2028},{"$f":"T1607&U1607","v":"42"},{"$f":"IF(V1607&W1607=V1606&W1606,X1606+1,1)","v":3},{"$f":"V1607&U1607&T1607&X1607","v":"2028243"},{"$f":"S1607","v":"2028-02-16"}]
[null,null,null,null,null,null,null,null,null,null,null,null,null,null,null,null,null,null,"2028-02-23",{"$f":"WEEKDAY(S1608)","v":4},{"$f":"MONTH(S1608)","v":2},{"$f":"YEAR(S1608)","v":2028},{"$f":"T1608&U1608","v":"42"},{"$f":"IF(V1608&W1608=V1607&W1607,X1607+1,1)","v":4},{"$f":"V1608&U1608&T1608&X1608","v":"2028244"},{"$f":"S1608","v":"2028-02-23"}]
[null,null,null,null,null,null,null,null,null,null,null,null,null,null,null,null,null,null,"2028-02-03",{"$f":"WEEKDAY(S1609)","v":5},{"$f":"MONTH(S1609)","v":2},{"$f":"YEAR(S1609)","v":2028},{"$f":"T1609&U1609","v":"52"},{"$f":"IF(V1609&W1609=V1608&W1608,X1608+1,1)","v":1},{"$f":"V1609&U1609&T1609&X1609","v":"2028251"},{"$f":"S1609","v":"2028-02-03"}]
[null,null,null,null,null,null,null,null,null,null,null,null,null,null,null,null,null,null,"2028-02-10",{"$f":"WEEKDAY(S1610)","v":5},{"$f":"MONTH(S1610)","v":2},{"$f":"YEAR(S1610)","v":2028},{"$f":"T1610&U1610","v":"52"},{"$f":"IF(V1610&W1610=V1609&W1609,X1609+1,1)","v":2},{"$f":"V1610&U1610&T1610&X1610","v":"2028252"},{"$f":"S1610","v":"2028-02-10"}]
[null,null,null,null,null,null,null,null,null,null,null,null,null,null,null,null,null,null,"2028-02-17",{"$f":"WEEKDAY(S1611)","v":5},{"$f":"MONTH(S1611)","v":2},{"$f":"YEAR(S1611)","v":2028},{"$f":"T1611&U1611","v":"52"},{"$f":"IF(V1611&W1611=V1610&W1610,X1610+1,1)","v":3},{"$f":"V1611&U1611&T1611&X1611","v":"2028253"},{"$f":"S1611","v":"2028-02-17"}]
[null,null,null,null,null,null,null,null,null,null,null,null,null,null,null,null,null,null,"2028-02-24",{"$f":"WEEKDAY(S1612)","v":5},{"$f":"MONTH(S1612)","v":2},{"$f":"YEAR(S1612)","v":2028},{"$f":"T1612&U1612","v":"52"},{"$f":"IF(V1612&W1612=V1611&W1611,X1611+1,1)","v":4},{"$f":"V1612&U1612&T1612&X1612","v":"2028254"},{"$f":"S1612","v":"2028-02-24"}]
[null,null,null,null,null,null,null,null,null,null,null,null,null,null,null,null,null,null,"2028-02-04",{"$f":"WEEKDAY(S1613)","v":6},{"$f":"MONTH(S1613)","v":2},{"$f":"YEAR(S1613)","v":2028},{"$f":"T1613&U1613","v":"62"},{"$f":"IF(V1613&W1613=V1612&W1612,X1612+1,1)","v":1},{"$f":"V1613&U1613&T1613&X1613","v":"2028261"},{"$f":"S1613","v":"2028-02-04"}]
[null,null,null,null,null,null,null,null,null,null,null,null,null,null,null,null,null,null,"2028-02-11",{"$f":"WEEKDAY(S1614)","v":6},{"$f":"MONTH(S1614)","v":2},{"$f":"YEAR(S1614)","v":2028},{"$f":"T1614&U1614","v":"62"},{"$f":"IF(V1614&W1614=V1613&W1613,X1613+1,1)","v":2},{"$f":"V1614&U1614&T1614&X1614","v":"2028262"},{"$f":"S1614","v":"2028-02-11"}]
[null,null,null,null,null,null,null,null,null,null,null,null,null,null,null,null,null,null,"2028-02-18",{"$f":"WEEKDAY(S1615)","v":6},{"$f":"MONTH(S1615)","v":2},{"$f":"YEAR(S1615)","v":2028},{"$f":"T1615&U1615","v":"62"},{"$f":"IF(V1615&W1615=V1614&W1614,X1614+1,1)","v":3},{"$f":"V1615&U1615&T1615&X1615","v":"2028263"},{"$f":"S1615","v":"2028-02-18"}]
[null,null,null,null,null,null,null,null,null,null,null,null,null,null,null,null,null,null,"2028-02-25",{"$f":"WEEKDAY(S1616)","v":6},{"$f":"MONTH(S1616)","v":2},{"$f":"YEAR(S1616)","v":2028},{"$f":"T1616&U1616","v":"62"},{"$f":"IF(V1616&W1616=V1615&W1615,X1615+1,1)","v":4},{"$f":"V1616&U1616&T1616&X1616","v":"2028264"},{"$f":"S1616","v":"2028-02-25"}]
[null,null,null,null,null,null,null,null,null,null,null,null,null,null,null,null,null,null,"2028-02-05",{"$f":"WEEKDAY(S1617)","v":7},{"$f":"MONTH(S1617)","v":2},{"$f":"YEAR(S1617)","v":2028},{"$f":"T1617&U1617","v":"72"},{"$f":"IF(V1617&W1617=V1616&W1616,X1616+1,1)","v":1},{"$f":"V1617&U1617&T1617&X1617","v":"2028271"},{"$f":"S1617","v":"2028-02-05"}]
[null,null,null,null,null,null,null,null,null,null,null,null,null,null,null,null,null,null,"2028-02-12",{"$f":"WEEKDAY(S1618)","v":7},{"$f":"MONTH(S1618)","v":2},{"$f":"YEAR(S1618)","v":2028},{"$f":"T1618&U1618","v":"72"},{"$f":"IF(V1618&W1618=V1617&W1617,X1617+1,1)","v":2},{"$f":"V1618&U1618&T1618&X1618","v":"2028272"},{"$f":"S1618","v":"2028-02-12"}]
[null,null,null,null,null,null,null,null,null,null,null,null,null,null,null,null,null,null,"2028-02-19",{"$f":"WEEKDAY(S1619)","v":7},{"$f":"MONTH(S1619)","v":2},{"$f":"YEAR(S1619)","v":2028},{"$f":"T1619&U1619","v":"72"},{"$f":"IF(V1619&W1619=V1618&W1618,X1618+1,1)","v":3},{"$f":"V1619&U1619&T1619&X1619","v":"2028273"},{"$f":"S1619","v":"2028-02-19"}]
[null,null,null,null,null,null,null,null,null,null,null,null,null,null,null,null,null,null,"2028-02-26",{"$f":"WEEKDAY(S1620)","v":7},{"$f":"MONTH(S1620)","v":2},{"$f":"YEAR(S1620)","v":2028},{"$f":"T1620&U1620","v":"72"},{"$f":"IF(V1620&W1620=V1619&W1619,X1619+1,1)","v":4},{"$f":"V1620&U1620&T1620&X1620","v":"2028274"},{"$f":"S1620","v":"2028-02-26"}]
[null,null,null,null,null,null,null,null,null,null,null,null,null,null,null,null,null,null,"2028-03-05",{"$f":"WEEKDAY(S1621)","v":1},{"$f":"MONTH(S1621)","v":3},{"$f":"YEAR(S1621)","v":2028},{"$f":"T1621&U1621","v":"13"},{"$f":"IF(V1621&W1621=V1620&W1620,X1620+1,1)","v":1},{"$f":"V1621&U1621&T1621&X1621","v":"2028311"},{"$f":"S1621","v":"2028-03-05"}]
[null,null,null,null,null,null,null,null,null,null,null,null,null,null,null,null,null,null,"2028-03-12",{"$f":"WEEKDAY(S1622)","v":1},{"$f":"MONTH(S1622)","v":3},{"$f":"YEAR(S1622)","v":2028},{"$f":"T1622&U1622","v":"13"},{"$f":"IF(V1622&W1622=V1621&W1621,X1621+1,1)","v":2},{"$f":"V1622&U1622&T1622&X1622","v":"2028312"},{"$f":"S1622","v":"2028-03-12"}]
[null,null,null,null,null,null,null,null,null,null,null,null,null,null,null,null,null,null,"2028-03-19",{"$f":"WEEKDAY(S1623)","v":1},{"$f":"MONTH(S1623)","v":3},{"$f":"YEAR(S1623)","v":2028},{"$f":"T1623&U1623","v":"13"},{"$f":"IF(V1623&W1623=V1622&W1622,X1622+1,1)","v":3},{"$f":"V1623&U1623&T1623&X1623","v":"2028313"},{"$f":"S1623","v":"2028-03-19"}]
[null,null,null,null,null,null,null,null,null,null,null,null,null,null,null,null,null,null,"2028-03-26",{"$f":"WEEKDAY(S1624)","v":1},{"$f":"MONTH(S1624)","v":3},{"$f":"YEAR(S1624)","v":2028},{"$f":"T1624&U1624","v":"13"},{"$f":"IF(V1624&W1624=V1623&W1623,X1623+1,1)","v":4},{"$f":"V1624&U1624&T1624&X1624","v":"2028314"},{"$f":"S1624","v":"2028-03-26"}]
[null,null,null,null,null,null,null,null,null,null,null,null,null,null,null,null,null,null,"2028-03-06",{"$f":"WEEKDAY(S1625)","v":2},{"$f":"MONTH(S1625)","v":3},{"$f":"YEAR(S1625)","v":2028},{"$f":"T1625&U1625","v":"23"},{"$f":"IF(V1625&W1625=V1624&W1624,X1624+1,1)","v":1},{"$f":"V1625&U1625&T1625&X1625","v":"2028321"},{"$f":"S1625","v":"2028-03-06"}]
[null,null,null,null,null,null,null,null,null,null,null,null,null,null,null,null,null,null,"2028-03-13",{"$f":"WEEKDAY(S1626)","v":2},{"$f":"MONTH(S1626)","v":3},{"$f":"YEAR(S1626)","v":2028},{"$f":"T1626&U1626","v":"23"},{"$f":"IF(V1626&W1626=V1625&W1625,X1625+1,1)","v":2},{"$f":"V1626&U1626&T1626&X1626","v":"2028322"},{"$f":"S1626","v":"2028-03-13"}]
[null,null,null,null,null,null,null,null,null,null,null,null,null,null,null,null,null,null,"2028-03-20",{"$f":"WEEKDAY(S1627)","v":2},{"$f":"MONTH(S1627)","v":3},{"$f":"YEAR(S1627)","v":2028},{"$f":"T1627&U1627","v":"23"},{"$f":"IF(V1627&W1627=V1626&W1626,X1626+1,1)","v":3},{"$f":"V1627&U1627&T1627&X1627","v":"2028323"},{"$f":"S1627","v":"2028-03-20"}]
[null,null,null,null,null,null,null,null,null,null,null,null,null,null,null,null,null,null,"2028-03-27",{"$f":"WEEKDAY(S1628)","v":2},{"$f":"MONTH(S1628)","v":3},{"$f":"YEAR(S1628)","v":2028},{"$f":"T1628&U1628","v":"23"},{"$f":"IF(V1628&W1628=V1627&W1627,X1627+1,1)","v":4},{"$f":"V1628&U1628&T1628&X1628","v":"2028324"},{"$f":"S1628","v":"2028-03-27"}]
[null,null,null,null,null,null,null,null,null,null,null,null,null,null,null,null,null,null,"2028-03-07",{"$f":"WEEKDAY(S1629)","v":3},{"$f":"MONTH(S1629)","v":3},{"$f":"YEAR(S1629)","v":2028},{"$f":"T1629&U1629","v":"33"},{"$f":"IF(V1629&W1629=V1628&W1628,X1628+1,1)","v":1},{"$f":"V1629&U1629&T1629&X1629","v":"2028331"},{"$f":"S1629","v":"2028-03-07"}]
[null,null,null,null,null,null,null,null,null,null,null,null,null,null,null,null,null,null,"2028-03-14",{"$f":"WEEKDAY(S1630)","v":3},{"$f":"MONTH(S1630)","v":3},{"$f":"YEAR(S1630)","v":2028},{"$f":"T1630&U1630","v":"33"},{"$f":"IF(V1630&W1630=V1629&W1629,X1629+1,1)","v":2},{"$f":"V1630&U1630&T1630&X1630","v":"2028332"},{"$f":"S1630","v":"2028-03-14"}]
[null,null,null,null,null,null,null,null,null,null,null,null,null,null,null,null,null,null,"2028-03-21",{"$f":"WEEKDAY(S1631)","v":3},{"$f":"MONTH(S1631)","v":3},{"$f":"YEAR(S1631)","v":2028},{"$f":"T1631&U1631","v":"33"},{"$f":"IF(V1631&W1631=V1630&W1630,X1630+1,1)","v":3},{"$f":"V1631&U1631&T1631&X1631","v":"2028333"},{"$f":"S1631","v":"2028-03-21"}]
[null,null,null,null,null,null,null,null,null,null,null,null,null,null,null,null,null,null,"2028-03-28",{"$f":"WEEKDAY(S1632)","v":3},{"$f":"MONTH(S1632)","v":3},{"$f":"YEAR(S1632)","v":2028},{"$f":"T1632&U1632","v":"33"},{"$f":"IF(V1632&W1632=V1631&W1631,X1631+1,1)","v":4},{"$f":"V1632&U1632&T1632&X1632","v":"2028334"},{"$f":"S1632","v":"2028-03-28"}]
[null,null,null,null,null,null,null,null,null,null,null,null,null,null,null,null,null,null,"2028-03-01",{"$f":"WEEKDAY(S1633)","v":4},{"$f":"MONTH(S1633)","v":3},{"$f":"YEAR(S1633)","v":2028},{"$f":"T1633&U1633","v":"43"},{"$f":"IF(V1633&W1633=V1632&W1632,X1632+1,1)","v":1},{"$f":"V1633&U1633&T1633&X1633","v":"2028341"},{"$f":"S1633","v":"2028-03-01"}]
[null,null,null,null,null,null,null,null,null,null,null,null,null,null,null,null,null,null,"2028-03-08",{"$f":"WEEKDAY(S1634)","v":4},{"$f":"MONTH(S1634)","v":3},{"$f":"YEAR(S1634)","v":2028},{"$f":"T1634&U1634","v":"43"},{"$f":"IF(V1634&W1634=V1633&W1633,X1633+1,1)","v":2},{"$f":"V1634&U1634&T1634&X1634","v":"2028342"},{"$f":"S1634","v":"2028-03-08"}]
[null,null,null,null,null,null,null,null,null,null,null,null,null,null,null,null,null,null,"2028-03-15",{"$f":"WEEKDAY(S1635)","v":4},{"$f":"MONTH(S1635)","v":3},{"$f":"YEAR(S1635)","v":2028},{"$f":"T1635&U1635","v":"43"},{"$f":"IF(V1635&W1635=V1634&W1634,X1634+1,1)","v":3},{"$f":"V1635&U1635&T1635&X1635","v":"2028343"},{"$f":"S1635","v":"2028-03-15"}]
[null,null,null,null,null,null,null,null,null,null,null,null,null,null,null,null,null,null,"2028-03-22",{"$f":"WEEKDAY(S1636)","v":4},{"$f":"MONTH(S1636)","v":3},{"$f":"YEAR(S1636)","v":2028},{"$f":"T1636&U1636","v":"43"},{"$f":"IF(V1636&W1636=V1635&W1635,X1635+1,1)","v":4},{"$f":"V1636&U1636&T1636&X1636","v":"2028344"},{"$f":"S1636","v":"2028-03-22"}]
[null,null,null,null,null,null,null,null,null,null,null,null,null,null,null,null,null,null,"2028-03-29",{"$f":"WEEKDAY(S1637)","v":4},{"$f":"MONTH(S1637)","v":3},{"$f":"YEAR(S1637)","v":2028},{"$f":"T1637&U1637","v":"43"},{"$f":"IF(V1637&W1637=V1636&W1636,X1636+1,1)","v":5},{"$f":"V1637&U1637&T1637&X1637","v":"2028345"},{"$f":"S1637","v":"2028-03-29"}]
[null,null,null,null,null,null,null,null,null,null,null,null,null,null,null,null,null,null,"2028-03-02",{"$f":"WEEKDAY(S1638)","v":5},{"$f":"MONTH(S1638)","v":3},{"$f":"YEAR(S1638)","v":2028},{"$f":"T1638&U1638","v":"53"},{"$f":"IF(V1638&W1638=V1637&W1637,X1637+1,1)","v":1},{"$f":"V1638&U1638&T1638&X1638","v":"2028351"},{"$f":"S1638","v":"2028-03-02"}]
[null,null,null,null,null,null,null,null,null,null,null,null,null,null,null,null,null,null,"2028-03-09",{"$f":"WEEKDAY(S1639)","v":5},{"$f":"MONTH(S1639)","v":3},{"$f":"YEAR(S1639)","v":2028},{"$f":"T1639&U1639","v":"53"},{"$f":"IF(V1639&W1639=V1638&W1638,X1638+1,1)","v":2},{"$f":"V1639&U1639&T1639&X1639","v":"2028352"},{"$f":"S1639","v":"2028-03-09"}]
[null,null,null,null,null,null,null,null,null,null,null,null,null,null,null,null,null,null,"2028-03-16",{"$f":"WEEKDAY(S1640)","v":5},{"$f":"MONTH(S1640)","v":3},{"$f":"YEAR(S1640)","v":2028},{"$f":"T1640&U1640","v":"53"},{"$f":"IF(V1640&W1640=V1639&W1639,X1639+1,1)","v":3},{"$f":"V1640&U1640&T1640&X1640","v":"2028353"},{"$f":"S1640","v":"2028-03-16"}]
[null,null,null,null,null,null,null,null,null,null,null,null,null,null,null,null,null,null,"2028-03-23",{"$f":"WEEKDAY(S1641)","v":5},{"$f":"MONTH(S1641)","v":3},{"$f":"YEAR(S1641)","v":2028},{"$f":"T1641&U1641","v":"53"},{"$f":"IF(V1641&W1641=V1640&W1640,X1640+1,1)","v":4},{"$f":"V1641&U1641&T1641&X1641","v":"2028354"},{"$f":"S1641","v":"2028-03-23"}]
[null,null,null,null,null,null,null,null,null,null,null,null,null,null,null,null,null,null,"2028-03-30",{"$f":"WEEKDAY(S1642)","v":5},{"$f":"MONTH(S1642)","v":3},{"$f":"YEAR(S1642)","v":2028},{"$f":"T1642&U1642","v":"53"},{"$f":"IF(V1642&W1642=V1641&W1641,X1641+1,1)","v":5},{"$f":"V1642&U1642&T1642&X1642","v":"2028355"},{"$f":"S1642","v":"2028-03-30"}]
[null,null,null,null,null,null,null,null,null,null,null,null,null,null,null,null,null,null,"2028-03-03",{"$f":"WEEKDAY(S1643)","v":6},{"$f":"MONTH(S1643)","v":3},{"$f":"YEAR(S1643)","v":2028},{"$f":"T1643&U1643","v":"63"},{"$f":"IF(V1643&W1643=V1642&W1642,X1642+1,1)","v":1},{"$f":"V1643&U1643&T1643&X1643","v":"2028361"},{"$f":"S1643","v":"2028-03-03"}]
[null,null,null,null,null,null,null,null,null,null,null,null,null,null,null,null,null,null,"2028-03-10",{"$f":"WEEKDAY(S1644)","v":6},{"$f":"MONTH(S1644)","v":3},{"$f":"YEAR(S1644)","v":2028},{"$f":"T1644&U1644","v":"63"},{"$f":"IF(V1644&W1644=V1643&W1643,X1643+1,1)","v":2},{"$f":"V1644&U1644&T1644&X1644","v":"2028362"},{"$f":"S1644","v":"2028-03-10"}]
[null,null,null,null,null,null,null,null,null,null,null,null,null,null,null,null,null,null,"2028-03-17",{"$f":"WEEKDAY(S1645)","v":6},{"$f":"MONTH(S1645)","v":3},{"$f":"YEAR(S1645)","v":2028},{"$f":"T1645&U1645","v":"63"},{"$f":"IF(V1645&W1645=V1644&W1644,X1644+1,1)","v":3},{"$f":"V1645&U1645&T1645&X1645","v":"2028363"},{"$f":"S1645","v":"2028-03-17"}]
[null,null,null,null,null,null,null,null,null,null,null,null,null,null,null,null,null,null,"2028-03-24",{"$f":"WEEKDAY(S1646)","v":6},{"$f":"MONTH(S1646)","v":3},{"$f":"YEAR(S1646)","v":2028},{"$f":"T1646&U1646","v":"63"},{"$f":"IF(V1646&W1646=V1645&W1645,X1645+1,1)","v":4},{"$f":"V1646&U1646&T1646&X1646","v":"2028364"},{"$f":"S1646","v":"2028-03-24"}]
[null,null,null,null,null,null,null,null,null,null,null,null,null,null,null,null,null,null,"2028-03-31",{"$f":"WEEKDAY(S1647)","v":6},{"$f":"MONTH(S1647)","v":3},{"$f":"YEAR(S1647)","v":2028},{"$f":"T1647&U1647","v":"63"},{"$f":"IF(V1647&W1647=V1646&W1646,X1646+1,1)","v":5},{"$f":"V1647&U1647&T1647&X1647","v":"2028365"},{"$f":"S1647","v":"2028-03-31"}]
[null,null,null,null,null,null,null,null,null,null,null,null,null,null,null,null,null,null,"2028-03-04",{"$f":"WEEKDAY(S1648)","v":7},{"$f":"MONTH(S1648)","v":3},{"$f":"YEAR(S1648)","v":2028},{"$f":"T1648&U1648","v":"73"},{"$f":"IF(V1648&W1648=V1647&W1647,X1647+1,1)","v":1},{"$f":"V1648&U1648&T1648&X1648","v":"2028371"},{"$f":"S1648","v":"2028-03-04"}]
[null,null,null,null,null,null,null,null,null,null,null,null,null,null,null,null,null,null,"2028-03-11",{"$f":"WEEKDAY(S1649)","v":7},{"$f":"MONTH(S1649)","v":3},{"$f":"YEAR(S1649)","v":2028},{"$f":"T1649&U1649","v":"73"},{"$f":"IF(V1649&W1649=V1648&W1648,X1648+1,1)","v":2},{"$f":"V1649&U1649&T1649&X1649","v":"2028372"},{"$f":"S1649","v":"2028-03-11"}]
[null,null,null,null,null,null,null,null,null,null,null,null,null,null,null,null,null,null,"2028-03-18",{"$f":"WEEKDAY(S1650)","v":7},{"$f":"MONTH(S1650)","v":3},{"$f":"YEAR(S1650)","v":2028},{"$f":"T1650&U1650","v":"73"},{"$f":"IF(V1650&W1650=V1649&W1649,X1649+1,1)","v":3},{"$f":"V1650&U1650&T1650&X1650","v":"2028373"},{"$f":"S1650","v":"2028-03-18"}]
[null,null,null,null,null,null,null,null,null,null,null,null,null,null,null,null,null,null,"2028-03-25",{"$f":"WEEKDAY(S1651)","v":7},{"$f":"MONTH(S1651)","v":3},{"$f":"YEAR(S1651)","v":2028},{"$f":"T1651&U1651","v":"73"},{"$f":"IF(V1651&W1651=V1650&W1650,X1650+1,1)","v":4},{"$f":"V1651&U1651&T1651&X1651","v":"2028374"},{"$f":"S1651","v":"2028-03-25"}]
[null,null,null,null,null,null,null,null,null,null,null,null,null,null,null,null,null,null,"2028-04-02",{"$f":"WEEKDAY(S1652)","v":1},{"$f":"MONTH(S1652)","v":4},{"$f":"YEAR(S1652)","v":2028},{"$f":"T1652&U1652","v":"14"},{"$f":"IF(V1652&W1652=V1651&W1651,X1651+1,1)","v":1},{"$f":"V1652&U1652&T1652&X1652","v":"2028411"},{"$f":"S1652","v":"2028-04-02"}]
[null,null,null,null,null,null,null,null,null,null,null,null,null,null,null,null,null,null,"2028-04-09",{"$f":"WEEKDAY(S1653)","v":1},{"$f":"MONTH(S1653)","v":4},{"$f":"YEAR(S1653)","v":2028},{"$f":"T1653&U1653","v":"14"},{"$f":"IF(V1653&W1653=V1652&W1652,X1652+1,1)","v":2},{"$f":"V1653&U1653&T1653&X1653","v":"2028412"},{"$f":"S1653","v":"2028-04-09"}]
[null,null,null,null,null,null,null,null,null,null,null,null,null,null,null,null,null,null,"2028-04-16",{"$f":"WEEKDAY(S1654)","v":1},{"$f":"MONTH(S1654)","v":4},{"$f":"YEAR(S1654)","v":2028},{"$f":"T1654&U1654","v":"14"},{"$f":"IF(V1654&W1654=V1653&W1653,X1653+1,1)","v":3},{"$f":"V1654&U1654&T1654&X1654","v":"2028413"},{"$f":"S1654","v":"2028-04-16"}]
[null,null,null,null,null,null,null,null,null,null,null,null,null,null,null,null,null,null,"2028-04-23",{"$f":"WEEKDAY(S1655)","v":1},{"$f":"MONTH(S1655)","v":4},{"$f":"YEAR(S1655)","v":2028},{"$f":"T1655&U1655","v":"14"},{"$f":"IF(V1655&W1655=V1654&W1654,X1654+1,1)","v":4},{"$f":"V1655&U1655&T1655&X1655","v":"2028414"},{"$f":"S1655","v":"2028-04-23"}]
[null,null,null,null,null,null,null,null,null,null,null,null,null,null,null,null,null,null,"2028-04-30",{"$f":"WEEKDAY(S1656)","v":1},{"$f":"MONTH(S1656)","v":4},{"$f":"YEAR(S1656)","v":2028},{"$f":"T1656&U1656","v":"14"},{"$f":"IF(V1656&W1656=V1655&W1655,X1655+1,1)","v":5},{"$f":"V1656&U1656&T1656&X1656","v":"2028415"},{"$f":"S1656","v":"2028-04-30"}]
[null,null,null,null,null,null,null,null,null,null,null,null,null,null,null,null,null,null,"2028-04-03",{"$f":"WEEKDAY(S1657)","v":2},{"$f":"MONTH(S1657)","v":4},{"$f":"YEAR(S1657)","v":2028},{"$f":"T1657&U1657","v":"24"},{"$f":"IF(V1657&W1657=V1656&W1656,X1656+1,1)","v":1},{"$f":"V1657&U1657&T1657&X1657","v":"2028421"},{"$f":"S1657","v":"2028-04-03"}]
[null,null,null,null,null,null,null,null,null,null,null,null,null,null,null,null,null,null,"2028-04-10",{"$f":"WEEKDAY(S1658)","v":2},{"$f":"MONTH(S1658)","v":4},{"$f":"YEAR(S1658)","v":2028},{"$f":"T1658&U1658","v":"24"},{"$f":"IF(V1658&W1658=V1657&W1657,X1657+1,1)","v":2},{"$f":"V1658&U1658&T1658&X1658","v":"2028422"},{"$f":"S1658","v":"2028-04-10"}]
[null,null,null,null,null,null,null,null,null,null,null,null,null,null,null,null,null,null,"2028-04-17",{"$f":"WEEKDAY(S1659)","v":2},{"$f":"MONTH(S1659)","v":4},{"$f":"YEAR(S1659)","v":2028},{"$f":"T1659&U1659","v":"24"},{"$f":"IF(V1659&W1659=V1658&W1658,X1658+1,1)","v":3},{"$f":"V1659&U1659&T1659&X1659","v":"2028423"},{"$f":"S1659","v":"2028-04-17"}]
[null,null,null,null,null,null,null,null,null,null,null,null,null,null,null,null,null,null,"2028-04-24",{"$f":"WEEKDAY(S1660)","v":2},{"$f":"MONTH(S1660)","v":4},{"$f":"YEAR(S1660)","v":2028},{"$f":"T1660&U1660","v":"24"},{"$f":"IF(V1660&W1660=V1659&W1659,X1659+1,1)","v":4},{"$f":"V1660&U1660&T1660&X1660","v":"2028424"},{"$f":"S1660","v":"2028-04-24"}]
[null,null,null,null,null,null,null,null,null,null,null,null,null,null,null,null,null,null,"2028-04-04",{"$f":"WEEKDAY(S1661)","v":3},{"$f":"MONTH(S1661)","v":4},{"$f":"YEAR(S1661)","v":2028},{"$f":"T1661&U1661","v":"34"},{"$f":"IF(V1661&W1661=V1660&W1660,X1660+1,1)","v":1},{"$f":"V1661&U1661&T1661&X1661","v":"2028431"},{"$f":"S1661","v":"2028-04-04"}]
[null,null,null,null,null,null,null,null,null,null,null,null,null,null,null,null,null,null,"2028-04-11",{"$f":"WEEKDAY(S1662)","v":3},{"$f":"MONTH(S1662)","v":4},{"$f":"YEAR(S1662)","v":2028},{"$f":"T1662&U1662","v":"34"},{"$f":"IF(V1662&W1662=V1661&W1661,X1661+1,1)","v":2},{"$f":"V1662&U1662&T1662&X1662","v":"2028432"},{"$f":"S1662","v":"2028-04-11"}]
[null,null,null,null,null,null,null,null,null,null,null,null,null,null,null,null,null,null,"2028-04-18",{"$f":"WEEKDAY(S1663)","v":3},{"$f":"MONTH(S1663)","v":4},{"$f":"YEAR(S1663)","v":2028},{"$f":"T1663&U1663","v":"34"},{"$f":"IF(V1663&W1663=V1662&W1662,X1662+1,1)","v":3},{"$f":"V1663&U1663&T1663&X1663","v":"2028433"},{"$f":"S1663","v":"2028-04-18"}]
[null,null,null,null,null,null,null,null,null,null,null,null,null,null,null,null,null,null,"2028-04-25",{"$f":"WEEKDAY(S1664)","v":3},{"$f":"MONTH(S1664)","v":4},{"$f":"YEAR(S1664)","v":2028},{"$f":"T1664&U1664","v":"34"},{"$f":"IF(V1664&W1664=V1663&W1663,X1663+1,1)","v":4},{"$f":"V1664&U1664&T1664&X1664","v":"2028434"},{"$f":"S1664","v":"2028-04-25"}]
[null,null,null,null,null,null,null,null,null,null,null,null,null,null,null,null,null,null,"2028-04-05",{"$f":"WEEKDAY(S1665)","v":4},{"$f":"MONTH(S1665)","v":4},{"$f":"YEAR(S1665)","v":2028},{"$f":"T1665&U1665","v":"44"},{"$f":"IF(V1665&W1665=V1664&W1664,X1664+1,1)","v":1},{"$f":"V1665&U1665&T1665&X1665","v":"2028441"},{"$f":"S1665","v":"2028-04-05"}]
[null,null,null,null,null,null,null,null,null,null,null,null,null,null,null,null,null,null,"2028-04-12",{"$f":"WEEKDAY(S1666)","v":4},{"$f":"MONTH(S1666)","v":4},{"$f":"YEAR(S1666)","v":2028},{"$f":"T1666&U1666","v":"44"},{"$f":"IF(V1666&W1666=V1665&W1665,X1665+1,1)","v":2},{"$f":"V1666&U1666&T1666&X1666","v":"2028442"},{"$f":"S1666","v":"2028-04-12"}]
[null,null,null,null,null,null,null,null,null,null,null,null,null,null,null,null,null,null,"2028-04-19",{"$f":"WEEKDAY(S1667)","v":4},{"$f":"MONTH(S1667)","v":4},{"$f":"YEAR(S1667)","v":2028},{"$f":"T1667&U1667","v":"44"},{"$f":"IF(V1667&W1667=V1666&W1666,X1666+1,1)","v":3},{"$f":"V1667&U1667&T1667&X1667","v":"2028443"},{"$f":"S1667","v":"2028-04-19"}]
[null,null,null,null,null,null,null,null,null,null,null,null,null,null,null,null,null,null,"2028-04-26",{"$f":"WEEKDAY(S1668)","v":4},{"$f":"MONTH(S1668)","v":4},{"$f":"YEAR(S1668)","v":2028},{"$f":"T1668&U1668","v":"44"},{"$f":"IF(V1668&W1668=V1667&W1667,X1667+1,1)","v":4},{"$f":"V1668&U1668&T1668&X1668","v":"2028444"},{"$f":"S1668","v":"2028-04-26"}]
[null,null,null,null,null,null,null,null,null,null,null,null,null,null,null,null,null,null,"2028-04-06",{"$f":"WEEKDAY(S1669)","v":5},{"$f":"MONTH(S1669)","v":4},{"$f":"YEAR(S1669)","v":2028},{"$f":"T1669&U1669","v":"54"},{"$f":"IF(V1669&W1669=V1668&W1668,X1668+1,1)","v":1},{"$f":"V1669&U1669&T1669&X1669","v":"2028451"},{"$f":"S1669","v":"2028-04-06"}]
[null,null,null,null,null,null,null,null,null,null,null,null,null,null,null,null,null,null,"2028-04-13",{"$f":"WEEKDAY(S1670)","v":5},{"$f":"MONTH(S1670)","v":4},{"$f":"YEAR(S1670)","v":2028},{"$f":"T1670&U1670","v":"54"},{"$f":"IF(V1670&W1670=V1669&W1669,X1669+1,1)","v":2},{"$f":"V1670&U1670&T1670&X1670","v":"2028452"},{"$f":"S1670","v":"2028-04-13"}]
[null,null,null,null,null,null,null,null,null,null,null,null,null,null,null,null,null,null,"2028-04-20",{"$f":"WEEKDAY(S1671)","v":5},{"$f":"MONTH(S1671)","v":4},{"$f":"YEAR(S1671)","v":2028},{"$f":"T1671&U1671","v":"54"},{"$f":"IF(V1671&W1671=V1670&W1670,X1670+1,1)","v":3},{"$f":"V1671&U1671&T1671&X1671","v":"2028453"},{"$f":"S1671","v":"2028-04-20"}]
[null,null,null,null,null,null,null,null,null,null,null,null,null,null,null,null,null,null,"2028-04-27",{"$f":"WEEKDAY(S1672)","v":5},{"$f":"MONTH(S1672)","v":4},{"$f":"YEAR(S1672)","v":2028},{"$f":"T1672&U1672","v":"54"},{"$f":"IF(V1672&W1672=V1671&W1671,X1671+1,1)","v":4},{"$f":"V1672&U1672&T1672&X1672","v":"2028454"},{"$f":"S1672","v":"2028-04-27"}]
[null,null,null,null,null,null,null,null,null,null,null,null,null,null,null,null,null,null,"2028-04-07",{"$f":"WEEKDAY(S1673)","v":6},{"$f":"MONTH(S1673)","v":4},{"$f":"YEAR(S1673)","v":2028},{"$f":"T1673&U1673","v":"64"},{"$f":"IF(V1673&W1673=V1672&W1672,X1672+1,1)","v":1},{"$f":"V1673&U1673&T1673&X1673","v":"2028461"},{"$f":"S1673","v":"2028-04-07"}]
[null,null,null,null,null,null,null,null,null,null,null,null,null,null,null,null,null,null,"2028-04-14",{"$f":"WEEKDAY(S1674)","v":6},{"$f":"MONTH(S1674)","v":4},{"$f":"YEAR(S1674)","v":2028},{"$f":"T1674&U1674","v":"64"},{"$f":"IF(V1674&W1674=V1673&W1673,X1673+1,1)","v":2},{"$f":"V1674&U1674&T1674&X1674","v":"2028462"},{"$f":"S1674","v":"2028-04-14"}]
[null,null,null,null,null,null,null,null,null,null,null,null,null,null,null,null,null,null,"2028-04-21",{"$f":"WEEKDAY(S1675)","v":6},{"$f":"MONTH(S1675)","v":4},{"$f":"YEAR(S1675)","v":2028},{"$f":"T1675&U1675","v":"64"},{"$f":"IF(V1675&W1675=V1674&W1674,X1674+1,1)","v":3},{"$f":"V1675&U1675&T1675&X1675","v":"2028463"},{"$f":"S1675","v":"2028-04-21"}]
[null,null,null,null,null,null,null,null,null,null,null,null,null,null,null,null,null,null,"2028-04-28",{"$f":"WEEKDAY(S1676)","v":6},{"$f":"MONTH(S1676)","v":4},{"$f":"YEAR(S1676)","v":2028},{"$f":"T1676&U1676","v":"64"},{"$f":"IF(V1676&W1676=V1675&W1675,X1675+1,1)","v":4},{"$f":"V1676&U1676&T1676&X1676","v":"2028464"},{"$f":"S1676","v":"2028-04-28"}]
[null,null,null,null,null,null,null,null,null,null,null,null,null,null,null,null,null,null,"2028-04-01",{"$f":"WEEKDAY(S1677)","v":7},{"$f":"MONTH(S1677)","v":4},{"$f":"YEAR(S1677)","v":2028},{"$f":"T1677&U1677","v":"74"},{"$f":"IF(V1677&W1677=V1676&W1676,X1676+1,1)","v":1},{"$f":"V1677&U1677&T1677&X1677","v":"2028471"},{"$f":"S1677","v":"2028-04-01"}]
[null,null,null,null,null,null,null,null,null,null,null,null,null,null,null,null,null,null,"2028-04-08",{"$f":"WEEKDAY(S1678)","v":7},{"$f":"MONTH(S1678)","v":4},{"$f":"YEAR(S1678)","v":2028},{"$f":"T1678&U1678","v":"74"},{"$f":"IF(V1678&W1678=V1677&W1677,X1677+1,1)","v":2},{"$f":"V1678&U1678&T1678&X1678","v":"2028472"},{"$f":"S1678","v":"2028-04-08"}]
[null,null,null,null,null,null,null,null,null,null,null,null,null,null,null,null,null,null,"2028-04-15",{"$f":"WEEKDAY(S1679)","v":7},{"$f":"MONTH(S1679)","v":4},{"$f":"YEAR(S1679)","v":2028},{"$f":"T1679&U1679","v":"74"},{"$f":"IF(V1679&W1679=V1678&W1678,X1678+1,1)","v":3},{"$f":"V1679&U1679&T1679&X1679","v":"2028473"},{"$f":"S1679","v":"2028-04-15"}]
[null,null,null,null,null,null,null,null,null,null,null,null,null,null,null,null,null,null,"2028-04-22",{"$f":"WEEKDAY(S1680)","v":7},{"$f":"MONTH(S1680)","v":4},{"$f":"YEAR(S1680)","v":2028},{"$f":"T1680&U1680","v":"74"},{"$f":"IF(V1680&W1680=V1679&W1679,X1679+1,1)","v":4},{"$f":"V1680&U1680&T1680&X1680","v":"2028474"},{"$f":"S1680","v":"2028-04-22"}]
[null,null,null,null,null,null,null,null,null,null,null,null,null,null,null,null,null,null,"2028-04-29",{"$f":"WEEKDAY(S1681)","v":7},{"$f":"MONTH(S1681)","v":4},{"$f":"YEAR(S1681)","v":2028},{"$f":"T1681&U1681","v":"74"},{"$f":"IF(V1681&W1681=V1680&W1680,X1680+1,1)","v":5},{"$f":"V1681&U1681&T1681&X1681","v":"2028475"},{"$f":"S1681","v":"2028-04-29"}]
[null,null,null,null,null,null,null,null,null,null,null,null,null,null,null,null,null,null,"2028-05-07",{"$f":"WEEKDAY(S1682)","v":1},{"$f":"MONTH(S1682)","v":5},{"$f":"YEAR(S1682)","v":2028},{"$f":"T1682&U1682","v":"15"},{"$f":"IF(V1682&W1682=V1681&W1681,X1681+1,1)","v":1},{"$f":"V1682&U1682&T1682&X1682","v":"2028511"},{"$f":"S1682","v":"2028-05-07"}]
[null,null,null,null,null,null,null,null,null,null,null,null,null,null,null,null,null,null,"2028-05-14",{"$f":"WEEKDAY(S1683)","v":1},{"$f":"MONTH(S1683)","v":5},{"$f":"YEAR(S1683)","v":2028},{"$f":"T1683&U1683","v":"15"},{"$f":"IF(V1683&W1683=V1682&W1682,X1682+1,1)","v":2},{"$f":"V1683&U1683&T1683&X1683","v":"2028512"},{"$f":"S1683","v":"2028-05-14"}]
[null,null,null,null,null,null,null,null,null,null,null,null,null,null,null,null,null,null,"2028-05-21",{"$f":"WEEKDAY(S1684)","v":1},{"$f":"MONTH(S1684)","v":5},{"$f":"YEAR(S1684)","v":2028},{"$f":"T1684&U1684","v":"15"},{"$f":"IF(V1684&W1684=V1683&W1683,X1683+1,1)","v":3},{"$f":"V1684&U1684&T1684&X1684","v":"2028513"},{"$f":"S1684","v":"2028-05-21"}]
[null,null,null,null,null,null,null,null,null,null,null,null,null,null,null,null,null,null,"2028-05-28",{"$f":"WEEKDAY(S1685)","v":1},{"$f":"MONTH(S1685)","v":5},{"$f":"YEAR(S1685)","v":2028},{"$f":"T1685&U1685","v":"15"},{"$f":"IF(V1685&W1685=V1684&W1684,X1684+1,1)","v":4},{"$f":"V1685&U1685&T1685&X1685","v":"2028514"},{"$f":"S1685","v":"2028-05-28"}]
[null,null,null,null,null,null,null,null,null,null,null,null,null,null,null,null,null,null,"2028-05-01",{"$f":"WEEKDAY(S1686)","v":2},{"$f":"MONTH(S1686)","v":5},{"$f":"YEAR(S1686)","v":2028},{"$f":"T1686&U1686","v":"25"},{"$f":"IF(V1686&W1686=V1685&W1685,X1685+1,1)","v":1},{"$f":"V1686&U1686&T1686&X1686","v":"2028521"},{"$f":"S1686","v":"2028-05-01"}]
[null,null,null,null,null,null,null,null,null,null,null,null,null,null,null,null,null,null,"2028-05-08",{"$f":"WEEKDAY(S1687)","v":2},{"$f":"MONTH(S1687)","v":5},{"$f":"YEAR(S1687)","v":2028},{"$f":"T1687&U1687","v":"25"},{"$f":"IF(V1687&W1687=V1686&W1686,X1686+1,1)","v":2},{"$f":"V1687&U1687&T1687&X1687","v":"2028522"},{"$f":"S1687","v":"2028-05-08"}]
[null,null,null,null,null,null,null,null,null,null,null,null,null,null,null,null,null,null,"2028-05-15",{"$f":"WEEKDAY(S1688)","v":2},{"$f":"MONTH(S1688)","v":5},{"$f":"YEAR(S1688)","v":2028},{"$f":"T1688&U1688","v":"25"},{"$f":"IF(V1688&W1688=V1687&W1687,X1687+1,1)","v":3},{"$f":"V1688&U1688&T1688&X1688","v":"2028523"},{"$f":"S1688","v":"2028-05-15"}]
[null,null,null,null,null,null,null,null,null,null,null,null,null,null,null,null,null,null,"2028-05-22",{"$f":"WEEKDAY(S1689)","v":2},{"$f":"MONTH(S1689)","v":5},{"$f":"YEAR(S1689)","v":2028},{"$f":"T1689&U1689","v":"25"},{"$f":"IF(V1689&W1689=V1688&W1688,X1688+1,1)","v":4},{"$f":"V1689&U1689&T1689&X1689","v":"2028524"},{"$f":"S1689","v":"2028-05-22"}]
[null,null,null,null,null,null,null,null,null,null,null,null,null,null,null,null,null,null,"2028-05-29",{"$f":"WEEKDAY(S1690)","v":2},{"$f":"MONTH(S1690)","v":5},{"$f":"YEAR(S1690)","v":2028},{"$f":"T1690&U1690","v":"25"},{"$f":"IF(V1690&W1690=V1689&W1689,X1689+1,1)","v":5},{"$f":"V1690&U1690&T1690&X1690","v":"2028525"},{"$f":"S1690","v":"2028-05-29"}]
[null,null,null,null,null,null,null,null,null,null,null,null,null,null,null,null,null,null,"2028-05-02",{"$f":"WEEKDAY(S1691)","v":3},{"$f":"MONTH(S1691)","v":5},{"$f":"YEAR(S1691)","v":2028},{"$f":"T1691&U1691","v":"35"},{"$f":"IF(V1691&W1691=V1690&W1690,X1690+1,1)","v":1},{"$f":"V1691&U1691&T1691&X1691","v":"2028531"},{"$f":"S1691","v":"2028-05-02"}]
[null,null,null,null,null,null,null,null,null,null,null,null,null,null,null,null,null,null,"2028-05-09",{"$f":"WEEKDAY(S1692)","v":3},{"$f":"MONTH(S1692)","v":5},{"$f":"YEAR(S1692)","v":2028},{"$f":"T1692&U1692","v":"35"},{"$f":"IF(V1692&W1692=V1691&W1691,X1691+1,1)","v":2},{"$f":"V1692&U1692&T1692&X1692","v":"2028532"},{"$f":"S1692","v":"2028-05-09"}]
[null,null,null,null,null,null,null,null,null,null,null,null,null,null,null,null,null,null,"2028-05-16",{"$f":"WEEKDAY(S1693)","v":3},{"$f":"MONTH(S1693)","v":5},{"$f":"YEAR(S1693)","v":2028},{"$f":"T1693&U1693","v":"35"},{"$f":"IF(V1693&W1693=V1692&W1692,X1692+1,1)","v":3},{"$f":"V1693&U1693&T1693&X1693","v":"2028533"},{"$f":"S1693","v":"2028-05-16"}]
[null,null,null,null,null,null,null,null,null,null,null,null,null,null,null,null,null,null,"2028-05-23",{"$f":"WEEKDAY(S1694)","v":3},{"$f":"MONTH(S1694)","v":5},{"$f":"YEAR(S1694)","v":2028},{"$f":"T1694&U1694","v":"35"},{"$f":"IF(V1694&W1694=V1693&W1693,X1693+1,1)","v":4},{"$f":"V1694&U1694&T1694&X1694","v":"2028534"},{"$f":"S1694","v":"2028-05-23"}]
[null,null,null,null,null,null,null,null,null,null,null,null,null,null,null,null,null,null,"2028-05-30",{"$f":"WEEKDAY(S1695)","v":3},{"$f":"MONTH(S1695)","v":5},{"$f":"YEAR(S1695)","v":2028},{"$f":"T1695&U1695","v":"35"},{"$f":"IF(V1695&W1695=V1694&W1694,X1694+1,1)","v":5},{"$f":"V1695&U1695&T1695&X1695","v":"2028535"},{"$f":"S1695","v":"2028-05-30"}]
[null,null,null,null,null,null,null,null,null,null,null,null,null,null,null,null,null,null,"2028-05-03",{"$f":"WEEKDAY(S1696)","v":4},{"$f":"MONTH(S1696)","v":5},{"$f":"YEAR(S1696)","v":2028},{"$f":"T1696&U1696","v":"45"},{"$f":"IF(V1696&W1696=V1695&W1695,X1695+1,1)","v":1},{"$f":"V1696&U1696&T1696&X1696","v":"2028541"},{"$f":"S1696","v":"2028-05-03"}]
[null,null,null,null,null,null,null,null,null,null,null,null,null,null,null,null,null,null,"2028-05-10",{"$f":"WEEKDAY(S1697)","v":4},{"$f":"MONTH(S1697)","v":5},{"$f":"YEAR(S1697)","v":2028},{"$f":"T1697&U1697","v":"45"},{"$f":"IF(V1697&W1697=V1696&W1696,X1696+1,1)","v":2},{"$f":"V1697&U1697&T1697&X1697","v":"2028542"},{"$f":"S1697","v":"2028-05-10"}]
[null,null,null,null,null,null,null,null,null,null,null,null,null,null,null,null,null,null,"2028-05-17",{"$f":"WEEKDAY(S1698)","v":4},{"$f":"MONTH(S1698)","v":5},{"$f":"YEAR(S1698)","v":2028},{"$f":"T1698&U1698","v":"45"},{"$f":"IF(V1698&W1698=V1697&W1697,X1697+1,1)","v":3},{"$f":"V1698&U1698&T1698&X1698","v":"2028543"},{"$f":"S1698","v":"2028-05-17"}]
[null,null,null,null,null,null,null,null,null,null,null,null,null,null,null,null,null,null,"2028-05-24",{"$f":"WEEKDAY(S1699)","v":4},{"$f":"MONTH(S1699)","v":5},{"$f":"YEAR(S1699)","v":2028},{"$f":"T1699&U1699","v":"45"},{"$f":"IF(V1699&W1699=V1698&W1698,X1698+1,1)","v":4},{"$f":"V1699&U1699&T1699&X1699","v":"2028544"},{"$f":"S1699","v":"2028-05-24"}]
[null,null,null,null,null,null,null,null,null,null,null,null,null,null,null,null,null,null,"2028-05-31",{"$f":"WEEKDAY(S1700)","v":4},{"$f":"MONTH(S1700)","v":5},{"$f":"YEAR(S1700)","v":2028},{"$f":"T1700&U1700","v":"45"},{"$f":"IF(V1700&W1700=V1699&W1699,X1699+1,1)","v":5},{"$f":"V1700&U1700&T1700&X1700","v":"2028545"},{"$f":"S1700","v":"2028-05-31"}]
[null,null,null,null,null,null,null,null,null,null,null,null,null,null,null,null,null,null,"2028-05-04",{"$f":"WEEKDAY(S1701)","v":5},{"$f":"MONTH(S1701)","v":5},{"$f":"YEAR(S1701)","v":2028},{"$f":"T1701&U1701","v":"55"},{"$f":"IF(V1701&W1701=V1700&W1700,X1700+1,1)","v":1},{"$f":"V1701&U1701&T1701&X1701","v":"2028551"},{"$f":"S1701","v":"2028-05-04"}]
[null,null,null,null,null,null,null,null,null,null,null,null,null,null,null,null,null,null,"2028-05-11",{"$f":"WEEKDAY(S1702)","v":5},{"$f":"MONTH(S1702)","v":5},{"$f":"YEAR(S1702)","v":2028},{"$f":"T1702&U1702","v":"55"},{"$f":"IF(V1702&W1702=V1701&W1701,X1701+1,1)","v":2},{"$f":"V1702&U1702&T1702&X1702","v":"2028552"},{"$f":"S1702","v":"2028-05-11"}]
[null,null,null,null,null,null,null,null,null,null,null,null,null,null,null,null,null,null,"2028-05-18",{"$f":"WEEKDAY(S1703)","v":5},{"$f":"MONTH(S1703)","v":5},{"$f":"YEAR(S1703)","v":2028},{"$f":"T1703&U1703","v":"55"},{"$f":"IF(V1703&W1703=V1702&W1702,X1702+1,1)","v":3},{"$f":"V1703&U1703&T1703&X1703","v":"2028553"},{"$f":"S1703","v":"2028-05-18"}]
[null,null,null,null,null,null,null,null,null,null,null,null,null,null,null,null,null,null,"2028-05-25",{"$f":"WEEKDAY(S1704)","v":5},{"$f":"MONTH(S1704)","v":5},{"$f":"YEAR(S1704)","v":2028},{"$f":"T1704&U1704","v":"55"},{"$f":"IF(V1704&W1704=V1703&W1703,X1703+1,1)","v":4},{"$f":"V1704&U1704&T1704&X1704","v":"2028554"},{"$f":"S1704","v":"2028-05-25"}]
[null,null,null,null,null,null,null,null,null,null,null,null,null,null,null,null,null,null,"2028-05-05",{"$f":"WEEKDAY(S1705)","v":6},{"$f":"MONTH(S1705)","v":5},{"$f":"YEAR(S1705)","v":2028},{"$f":"T1705&U1705","v":"65"},{"$f":"IF(V1705&W1705=V1704&W1704,X1704+1,1)","v":1},{"$f":"V1705&U1705&T1705&X1705","v":"2028561"},{"$f":"S1705","v":"2028-05-05"}]
[null,null,null,null,null,null,null,null,null,null,null,null,null,null,null,null,null,null,"2028-05-12",{"$f":"WEEKDAY(S1706)","v":6},{"$f":"MONTH(S1706)","v":5},{"$f":"YEAR(S1706)","v":2028},{"$f":"T1706&U1706","v":"65"},{"$f":"IF(V1706&W1706=V1705&W1705,X1705+1,1)","v":2},{"$f":"V1706&U1706&T1706&X1706","v":"2028562"},{"$f":"S1706","v":"2028-05-12"}]
[null,null,null,null,null,null,null,null,null,null,null,null,null,null,null,null,null,null,"2028-05-19",{"$f":"WEEKDAY(S1707)","v":6},{"$f":"MONTH(S1707)","v":5},{"$f":"YEAR(S1707)","v":2028},{"$f":"T1707&U1707","v":"65"},{"$f":"IF(V1707&W1707=V1706&W1706,X1706+1,1)","v":3},{"$f":"V1707&U1707&T1707&X1707","v":"2028563"},{"$f":"S1707","v":"2028-05-19"}]
[null,null,null,null,null,null,null,null,null,null,null,null,null,null,null,null,null,null,"2028-05-26",{"$f":"WEEKDAY(S1708)","v":6},{"$f":"MONTH(S1708)","v":5},{"$f":"YEAR(S1708)","v":2028},{"$f":"T1708&U1708","v":"65"},{"$f":"IF(V1708&W1708=V1707&W1707,X1707+1,1)","v":4},{"$f":"V1708&U1708&T1708&X1708","v":"2028564"},{"$f":"S1708","v":"2028-05-26"}]
[null,null,null,null,null,null,null,null,null,null,null,null,null,null,null,null,null,null,"2028-05-06",{"$f":"WEEKDAY(S1709)","v":7},{"$f":"MONTH(S1709)","v":5},{"$f":"YEAR(S1709)","v":2028},{"$f":"T1709&U1709","v":"75"},{"$f":"IF(V1709&W1709=V1708&W1708,X1708+1,1)","v":1},{"$f":"V1709&U1709&T1709&X1709","v":"2028571"},{"$f":"S1709","v":"2028-05-06"}]
[null,null,null,null,null,null,null,null,null,null,null,null,null,null,null,null,null,null,"2028-05-13",{"$f":"WEEKDAY(S1710)","v":7},{"$f":"MONTH(S1710)","v":5},{"$f":"YEAR(S1710)","v":2028},{"$f":"T1710&U1710","v":"75"},{"$f":"IF(V1710&W1710=V1709&W1709,X1709+1,1)","v":2},{"$f":"V1710&U1710&T1710&X1710","v":"2028572"},{"$f":"S1710","v":"2028-05-13"}]
[null,null,null,null,null,null,null,null,null,null,null,null,null,null,null,null,null,null,"2028-05-20",{"$f":"WEEKDAY(S1711)","v":7},{"$f":"MONTH(S1711)","v":5},{"$f":"YEAR(S1711)","v":2028},{"$f":"T1711&U1711","v":"75"},{"$f":"IF(V1711&W1711=V1710&W1710,X1710+1,1)","v":3},{"$f":"V1711&U1711&T1711&X1711","v":"2028573"},{"$f":"S1711","v":"2028-05-20"}]
[null,null,null,null,null,null,null,null,null,null,null,null,null,null,null,null,null,null,"2028-05-27",{"$f":"WEEKDAY(S1712)","v":7},{"$f":"MONTH(S1712)","v":5},{"$f":"YEAR(S1712)","v":2028},{"$f":"T1712&U1712","v":"75"},{"$f":"IF(V1712&W1712=V1711&W1711,X1711+1,1)","v":4},{"$f":"V1712&U1712&T1712&X1712","v":"2028574"},{"$f":"S1712","v":"2028-05-27"}]
[null,null,null,null,null,null,null,null,null,null,null,null,null,null,null,null,null,null,"2028-06-04",{"$f":"WEEKDAY(S1713)","v":1},{"$f":"MONTH(S1713)","v":6},{"$f":"YEAR(S1713)","v":2028},{"$f":"T1713&U1713","v":"16"},{"$f":"IF(V1713&W1713=V1712&W1712,X1712+1,1)","v":1},{"$f":"V1713&U1713&T1713&X1713","v":"2028611"},{"$f":"S1713","v":"2028-06-04"}]
[null,null,null,null,null,null,null,null,null,null,null,null,null,null,null,null,null,null,"2028-06-11",{"$f":"WEEKDAY(S1714)","v":1},{"$f":"MONTH(S1714)","v":6},{"$f":"YEAR(S1714)","v":2028},{"$f":"T1714&U1714","v":"16"},{"$f":"IF(V1714&W1714=V1713&W1713,X1713+1,1)","v":2},{"$f":"V1714&U1714&T1714&X1714","v":"2028612"},{"$f":"S1714","v":"2028-06-11"}]
[null,null,null,null,null,null,null,null,null,null,null,null,null,null,null,null,null,null,"2028-06-18",{"$f":"WEEKDAY(S1715)","v":1},{"$f":"MONTH(S1715)","v":6},{"$f":"YEAR(S1715)","v":2028},{"$f":"T1715&U1715","v":"16"},{"$f":"IF(V1715&W1715=V1714&W1714,X1714+1,1)","v":3},{"$f":"V1715&U1715&T1715&X1715","v":"2028613"},{"$f":"S1715","v":"2028-06-18"}]
[null,null,null,null,null,null,null,null,null,null,null,null,null,null,null,null,null,null,"2028-06-25",{"$f":"WEEKDAY(S1716)","v":1},{"$f":"MONTH(S1716)","v":6},{"$f":"YEAR(S1716)","v":2028},{"$f":"T1716&U1716","v":"16"},{"$f":"IF(V1716&W1716=V1715&W1715,X1715+1,1)","v":4},{"$f":"V1716&U1716&T1716&X1716","v":"2028614"},{"$f":"S1716","v":"2028-06-25"}]
[null,null,null,null,null,null,null,null,null,null,null,null,null,null,null,null,null,null,"2028-06-05",{"$f":"WEEKDAY(S1717)","v":2},{"$f":"MONTH(S1717)","v":6},{"$f":"YEAR(S1717)","v":2028},{"$f":"T1717&U1717","v":"26"},{"$f":"IF(V1717&W1717=V1716&W1716,X1716+1,1)","v":1},{"$f":"V1717&U1717&T1717&X1717","v":"2028621"},{"$f":"S1717","v":"2028-06-05"}]
[null,null,null,null,null,null,null,null,null,null,null,null,null,null,null,null,null,null,"2028-06-12",{"$f":"WEEKDAY(S1718)","v":2},{"$f":"MONTH(S1718)","v":6},{"$f":"YEAR(S1718)","v":2028},{"$f":"T1718&U1718","v":"26"},{"$f":"IF(V1718&W1718=V1717&W1717,X1717+1,1)","v":2},{"$f":"V1718&U1718&T1718&X1718","v":"2028622"},{"$f":"S1718","v":"2028-06-12"}]
[null,null,null,null,null,null,null,null,null,null,null,null,null,null,null,null,null,null,"2028-06-19",{"$f":"WEEKDAY(S1719)","v":2},{"$f":"MONTH(S1719)","v":6},{"$f":"YEAR(S1719)","v":2028},{"$f":"T1719&U1719","v":"26"},{"$f":"IF(V1719&W1719=V1718&W1718,X1718+1,1)","v":3},{"$f":"V1719&U1719&T1719&X1719","v":"2028623"},{"$f":"S1719","v":"2028-06-19"}]
[null,null,null,null,null,null,null,null,null,null,null,null,null,null,null,null,null,null,"2028-06-26",{"$f":"WEEKDAY(S1720)","v":2},{"$f":"MONTH(S1720)","v":6},{"$f":"YEAR(S1720)","v":2028},{"$f":"T1720&U1720","v":"26"},{"$f":"IF(V1720&W1720=V1719&W1719,X1719+1,1)","v":4},{"$f":"V1720&U1720&T1720&X1720","v":"2028624"},{"$f":"S1720","v":"2028-06-26"}]
[null,null,null,null,null,null,null,null,null,null,null,null,null,null,null,null,null,null,"2028-06-06",{"$f":"WEEKDAY(S1721)","v":3},{"$f":"MONTH(S1721)","v":6},{"$f":"YEAR(S1721)","v":2028},{"$f":"T1721&U1721","v":"36"},{"$f":"IF(V1721&W1721=V1720&W1720,X1720+1,1)","v":1},{"$f":"V1721&U1721&T1721&X1721","v":"2028631"},{"$f":"S1721","v":"2028-06-06"}]
[null,null,null,null,null,null,null,null,null,null,null,null,null,null,null,null,null,null,"2028-06-13",{"$f":"WEEKDAY(S1722)","v":3},{"$f":"MONTH(S1722)","v":6},{"$f":"YEAR(S1722)","v":2028},{"$f":"T1722&U1722","v":"36"},{"$f":"IF(V1722&W1722=V1721&W1721,X1721+1,1)","v":2},{"$f":"V1722&U1722&T1722&X1722","v":"2028632"},{"$f":"S1722","v":"2028-06-13"}]
[null,null,null,null,null,null,null,null,null,null,null,null,null,null,null,null,null,null,"2028-06-20",{"$f":"WEEKDAY(S1723)","v":3},{"$f":"MONTH(S1723)","v":6},{"$f":"YEAR(S1723)","v":2028},{"$f":"T1723&U1723","v":"36"},{"$f":"IF(V1723&W1723=V1722&W1722,X1722+1,1)","v":3},{"$f":"V1723&U1723&T1723&X1723","v":"2028633"},{"$f":"S1723","v":"2028-06-20"}]
[null,null,null,null,null,null,null,null,null,null,null,null,null,null,null,null,null,null,"2028-06-27",{"$f":"WEEKDAY(S1724)","v":3},{"$f":"MONTH(S1724)","v":6},{"$f":"YEAR(S1724)","v":2028},{"$f":"T1724&U1724","v":"36"},{"$f":"IF(V1724&W1724=V1723&W1723,X1723+1,1)","v":4},{"$f":"V1724&U1724&T1724&X1724","v":"2028634"},{"$f":"S1724","v":"2028-06-27"}]
[null,null,null,null,null,null,null,null,null,null,null,null,null,null,null,null,null,null,"2028-06-07",{"$f":"WEEKDAY(S1725)","v":4},{"$f":"MONTH(S1725)","v":6},{"$f":"YEAR(S1725)","v":2028},{"$f":"T1725&U1725","v":"46"},{"$f":"IF(V1725&W1725=V1724&W1724,X1724+1,1)","v":1},{"$f":"V1725&U1725&T1725&X1725","v":"2028641"},{"$f":"S1725","v":"2028-06-07"}]
[null,null,null,null,null,null,null,null,null,null,null,null,null,null,null,null,null,null,"2028-06-14",{"$f":"WEEKDAY(S1726)","v":4},{"$f":"MONTH(S1726)","v":6},{"$f":"YEAR(S1726)","v":2028},{"$f":"T1726&U1726","v":"46"},{"$f":"IF(V1726&W1726=V1725&W1725,X1725+1,1)","v":2},{"$f":"V1726&U1726&T1726&X1726","v":"2028642"},{"$f":"S1726","v":"2028-06-14"}]
[null,null,null,null,null,null,null,null,null,null,null,null,null,null,null,null,null,null,"2028-06-21",{"$f":"WEEKDAY(S1727)","v":4},{"$f":"MONTH(S1727)","v":6},{"$f":"YEAR(S1727)","v":2028},{"$f":"T1727&U1727","v":"46"},{"$f":"IF(V1727&W1727=V1726&W1726,X1726+1,1)","v":3},{"$f":"V1727&U1727&T1727&X1727","v":"2028643"},{"$f":"S1727","v":"2028-06-21"}]
[null,null,null,null,null,null,null,null,null,null,null,null,null,null,null,null,null,null,"2028-06-28",{"$f":"WEEKDAY(S1728)","v":4},{"$f":"MONTH(S1728)","v":6},{"$f":"YEAR(S1728)","v":2028},{"$f":"T1728&U1728","v":"46"},{"$f":"IF(V1728&W1728=V1727&W1727,X1727+1,1)","v":4},{"$f":"V1728&U1728&T1728&X1728","v":"2028644"},{"$f":"S1728","v":"2028-06-28"}]
[null,null,null,null,null,null,null,null,null,null,null,null,null,null,null,null,null,null,"2028-06-01",{"$f":"WEEKDAY(S1729)","v":5},{"$f":"MONTH(S1729)","v":6},{"$f":"YEAR(S1729)","v":2028},{"$f":"T1729&U1729","v":"56"},{"$f":"IF(V1729&W1729=V1728&W1728,X1728+1,1)","v":1},{"$f":"V1729&U1729&T1729&X1729","v":"2028651"},{"$f":"S1729","v":"2028-06-01"}]
[null,null,null,null,null,null,null,null,null,null,null,null,null,null,null,null,null,null,"2028-06-08",{"$f":"WEEKDAY(S1730)","v":5},{"$f":"MONTH(S1730)","v":6},{"$f":"YEAR(S1730)","v":2028},{"$f":"T1730&U1730","v":"56"},{"$f":"IF(V1730&W1730=V1729&W1729,X1729+1,1)","v":2},{"$f":"V1730&U1730&T1730&X1730","v":"2028652"},{"$f":"S1730","v":"2028-06-08"}]
[null,null,null,null,null,null,null,null,null,null,null,null,null,null,null,null,null,null,"2028-06-15",{"$f":"WEEKDAY(S1731)","v":5},{"$f":"MONTH(S1731)","v":6},{"$f":"YEAR(S1731)","v":2028},{"$f":"T1731&U1731","v":"56"},{"$f":"IF(V1731&W1731=V1730&W1730,X1730+1,1)","v":3},{"$f":"V1731&U1731&T1731&X1731","v":"2028653"},{"$f":"S1731","v":"2028-06-15"}]
[null,null,null,null,null,null,null,null,null,null,null,null,null,null,null,null,null,null,"2028-06-22",{"$f":"WEEKDAY(S1732)","v":5},{"$f":"MONTH(S1732)","v":6},{"$f":"YEAR(S1732)","v":2028},{"$f":"T1732&U1732","v":"56"},{"$f":"IF(V1732&W1732=V1731&W1731,X1731+1,1)","v":4},{"$f":"V1732&U1732&T1732&X1732","v":"2028654"},{"$f":"S1732","v":"2028-06-22"}]
[null,null,null,null,null,null,null,null,null,null,null,null,null,null,null,null,null,null,"2028-06-29",{"$f":"WEEKDAY(S1733)","v":5},{"$f":"MONTH(S1733)","v":6},{"$f":"YEAR(S1733)","v":2028},{"$f":"T1733&U1733","v":"56"},{"$f":"IF(V1733&W1733=V1732&W1732,X1732+1,1)","v":5},{"$f":"V1733&U1733&T1733&X1733","v":"2028655"},{"$f":"S1733","v":"2028-06-29"}]
[null,null,null,null,null,null,null,null,null,null,null,null,null,null,null,null,null,null,"2028-06-02",{"$f":"WEEKDAY(S1734)","v":6},{"$f":"MONTH(S1734)","v":6},{"$f":"YEAR(S1734)","v":2028},{"$f":"T1734&U1734","v":"66"},{"$f":"IF(V1734&W1734=V1733&W1733,X1733+1,1)","v":1},{"$f":"V1734&U1734&T1734&X1734","v":"2028661"},{"$f":"S1734","v":"2028-06-02"}]
[null,null,null,null,null,null,null,null,null,null,null,null,null,null,null,null,null,null,"2028-06-09",{"$f":"WEEKDAY(S1735)","v":6},{"$f":"MONTH(S1735)","v":6},{"$f":"YEAR(S1735)","v":2028},{"$f":"T1735&U1735","v":"66"},{"$f":"IF(V1735&W1735=V1734&W1734,X1734+1,1)","v":2},{"$f":"V1735&U1735&T1735&X1735","v":"2028662"},{"$f":"S1735","v":"2028-06-09"}]
[null,null,null,null,null,null,null,null,null,null,null,null,null,null,null,null,null,null,"2028-06-16",{"$f":"WEEKDAY(S1736)","v":6},{"$f":"MONTH(S1736)","v":6},{"$f":"YEAR(S1736)","v":2028},{"$f":"T1736&U1736","v":"66"},{"$f":"IF(V1736&W1736=V1735&W1735,X1735+1,1)","v":3},{"$f":"V1736&U1736&T1736&X1736","v":"2028663"},{"$f":"S1736","v":"2028-06-16"}]
[null,null,null,null,null,null,null,null,null,null,null,null,null,null,null,null,null,null,"2028-06-23",{"$f":"WEEKDAY(S1737)","v":6},{"$f":"MONTH(S1737)","v":6},{"$f":"YEAR(S1737)","v":2028},{"$f":"T1737&U1737","v":"66"},{"$f":"IF(V1737&W1737=V1736&W1736,X1736+1,1)","v":4},{"$f":"V1737&U1737&T1737&X1737","v":"2028664"},{"$f":"S1737","v":"2028-06-23"}]
[null,null,null,null,null,null,null,null,null,null,null,null,null,null,null,null,null,null,"2028-06-30",{"$f":"WEEKDAY(S1738)","v":6},{"$f":"MONTH(S1738)","v":6},{"$f":"YEAR(S1738)","v":2028},{"$f":"T1738&U1738","v":"66"},{"$f":"IF(V1738&W1738=V1737&W1737,X1737+1,1)","v":5},{"$f":"V1738&U1738&T1738&X1738","v":"2028665"},{"$f":"S1738","v":"2028-06-30"}]
[null,null,null,null,null,null,null,null,null,null,null,null,null,null,null,null,null,null,"2028-06-03",{"$f":"WEEKDAY(S1739)","v":7},{"$f":"MONTH(S1739)","v":6},{"$f":"YEAR(S1739)","v":2028},{"$f":"T1739&U1739","v":"76"},{"$f":"IF(V1739&W1739=V1738&W1738,X1738+1,1)","v":1},{"$f":"V1739&U1739&T1739&X1739","v":"2028671"},{"$f":"S1739","v":"2028-06-03"}]
[null,null,null,null,null,null,null,null,null,null,null,null,null,null,null,null,null,null,"2028-06-10",{"$f":"WEEKDAY(S1740)","v":7},{"$f":"MONTH(S1740)","v":6},{"$f":"YEAR(S1740)","v":2028},{"$f":"T1740&U1740","v":"76"},{"$f":"IF(V1740&W1740=V1739&W1739,X1739+1,1)","v":2},{"$f":"V1740&U1740&T1740&X1740","v":"2028672"},{"$f":"S1740","v":"2028-06-10"}]
[null,null,null,null,null,null,null,null,null,null,null,null,null,null,null,null,null,null,"2028-06-17",{"$f":"WEEKDAY(S1741)","v":7},{"$f":"MONTH(S1741)","v":6},{"$f":"YEAR(S1741)","v":2028},{"$f":"T1741&U1741","v":"76"},{"$f":"IF(V1741&W1741=V1740&W1740,X1740+1,1)","v":3},{"$f":"V1741&U1741&T1741&X1741","v":"2028673"},{"$f":"S1741","v":"2028-06-17"}]
[null,null,null,null,null,null,null,null,null,null,null,null,null,null,null,null,null,null,"2028-06-24",{"$f":"WEEKDAY(S1742)","v":7},{"$f":"MONTH(S1742)","v":6},{"$f":"YEAR(S1742)","v":2028},{"$f":"T1742&U1742","v":"76"},{"$f":"IF(V1742&W1742=V1741&W1741,X1741+1,1)","v":4},{"$f":"V1742&U1742&T1742&X1742","v":"2028674"},{"$f":"S1742","v":"2028-06-24"}]
[null,null,null,null,null,null,null,null,null,null,null,null,null,null,null,null,null,null,"2028-07-02",{"$f":"WEEKDAY(S1743)","v":1},{"$f":"MONTH(S1743)","v":7},{"$f":"YEAR(S1743)","v":2028},{"$f":"T1743&U1743","v":"17"},{"$f":"IF(V1743&W1743=V1742&W1742,X1742+1,1)","v":1},{"$f":"V1743&U1743&T1743&X1743","v":"2028711"},{"$f":"S1743","v":"2028-07-02"}]
[null,null,null,null,null,null,null,null,null,null,null,null,null,null,null,null,null,null,"2028-07-09",{"$f":"WEEKDAY(S1744)","v":1},{"$f":"MONTH(S1744)","v":7},{"$f":"YEAR(S1744)","v":2028},{"$f":"T1744&U1744","v":"17"},{"$f":"IF(V1744&W1744=V1743&W1743,X1743+1,1)","v":2},{"$f":"V1744&U1744&T1744&X1744","v":"2028712"},{"$f":"S1744","v":"2028-07-09"}]
[null,null,null,null,null,null,null,null,null,null,null,null,null,null,null,null,null,null,"2028-07-16",{"$f":"WEEKDAY(S1745)","v":1},{"$f":"MONTH(S1745)","v":7},{"$f":"YEAR(S1745)","v":2028},{"$f":"T1745&U1745","v":"17"},{"$f":"IF(V1745&W1745=V1744&W1744,X1744+1,1)","v":3},{"$f":"V1745&U1745&T1745&X1745","v":"2028713"},{"$f":"S1745","v":"2028-07-16"}]
[null,null,null,null,null,null,null,null,null,null,null,null,null,null,null,null,null,null,"2028-07-23",{"$f":"WEEKDAY(S1746)","v":1},{"$f":"MONTH(S1746)","v":7},{"$f":"YEAR(S1746)","v":2028},{"$f":"T1746&U1746","v":"17"},{"$f":"IF(V1746&W1746=V1745&W1745,X1745+1,1)","v":4},{"$f":"V1746&U1746&T1746&X1746","v":"2028714"},{"$f":"S1746","v":"2028-07-23"}]
[null,null,null,null,null,null,null,null,null,null,null,null,null,null,null,null,null,null,"2028-07-30",{"$f":"WEEKDAY(S1747)","v":1},{"$f":"MONTH(S1747)","v":7},{"$f":"YEAR(S1747)","v":2028},{"$f":"T1747&U1747","v":"17"},{"$f":"IF(V1747&W1747=V1746&W1746,X1746+1,1)","v":5},{"$f":"V1747&U1747&T1747&X1747","v":"2028715"},{"$f":"S1747","v":"2028-07-30"}]
[null,null,null,null,null,null,null,null,null,null,null,null,null,null,null,null,null,null,"2028-07-03",{"$f":"WEEKDAY(S1748)","v":2},{"$f":"MONTH(S1748)","v":7},{"$f":"YEAR(S1748)","v":2028},{"$f":"T1748&U1748","v":"27"},{"$f":"IF(V1748&W1748=V1747&W1747,X1747+1,1)","v":1},{"$f":"V1748&U1748&T1748&X1748","v":"2028721"},{"$f":"S1748","v":"2028-07-03"}]
[null,null,null,null,null,null,null,null,null,null,null,null,null,null,null,null,null,null,"2028-07-10",{"$f":"WEEKDAY(S1749)","v":2},{"$f":"MONTH(S1749)","v":7},{"$f":"YEAR(S1749)","v":2028},{"$f":"T1749&U1749","v":"27"},{"$f":"IF(V1749&W1749=V1748&W1748,X1748+1,1)","v":2},{"$f":"V1749&U1749&T1749&X1749","v":"2028722"},{"$f":"S1749","v":"2028-07-10"}]
[null,null,null,null,null,null,null,null,null,null,null,null,null,null,null,null,null,null,"2028-07-17",{"$f":"WEEKDAY(S1750)","v":2},{"$f":"MONTH(S1750)","v":7},{"$f":"YEAR(S1750)","v":2028},{"$f":"T1750&U1750","v":"27"},{"$f":"IF(V1750&W1750=V1749&W1749,X1749+1,1)","v":3},{"$f":"V1750&U1750&T1750&X1750","v":"2028723"},{"$f":"S1750","v":"2028-07-17"}]
[null,null,null,null,null,null,null,null,null,null,null,null,null,null,null,null,null,null,"2028-07-24",{"$f":"WEEKDAY(S1751)","v":2},{"$f":"MONTH(S1751)","v":7},{"$f":"YEAR(S1751)","v":2028},{"$f":"T1751&U1751","v":"27"},{"$f":"IF(V1751&W1751=V1750&W1750,X1750+1,1)","v":4},{"$f":"V1751&U1751&T1751&X1751","v":"2028724"},{"$f":"S1751","v":"2028-07-24"}]
[null,null,null,null,null,null,null,null,null,null,null,null,null,null,null,null,null,null,"2028-07-31",{"$f":"WEEKDAY(S1752)","v":2},{"$f":"MONTH(S1752)","v":7},{"$f":"YEAR(S1752)","v":2028},{"$f":"T1752&U1752","v":"27"},{"$f":"IF(V1752&W1752=V1751&W1751,X1751+1,1)","v":5},{"$f":"V1752&U1752&T1752&X1752","v":"2028725"},{"$f":"S1752","v":"2028-07-31"}]
[null,null,null,null,null,null,null,null,null,null,null,null,null,null,null,null,null,null,"2028-07-04",{"$f":"WEEKDAY(S1753)","v":3},{"$f":"MONTH(S1753)","v":7},{"$f":"YEAR(S1753)","v":2028},{"$f":"T1753&U1753","v":"37"},{"$f":"IF(V1753&W1753=V1752&W1752,X1752+1,1)","v":1},{"$f":"V1753&U1753&T1753&X1753","v":"2028731"},{"$f":"S1753","v":"2028-07-04"}]
[null,null,null,null,null,null,null,null,null,null,null,null,null,null,null,null,null,null,"2028-07-11",{"$f":"WEEKDAY(S1754)","v":3},{"$f":"MONTH(S1754)","v":7},{"$f":"YEAR(S1754)","v":2028},{"$f":"T1754&U1754","v":"37"},{"$f":"IF(V1754&W1754=V1753&W1753,X1753+1,1)","v":2},{"$f":"V1754&U1754&T1754&X1754","v":"2028732"},{"$f":"S1754","v":"2028-07-11"}]
[null,null,null,null,null,null,null,null,null,null,null,null,null,null,null,null,null,null,"2028-07-18",{"$f":"WEEKDAY(S1755)","v":3},{"$f":"MONTH(S1755)","v":7},{"$f":"YEAR(S1755)","v":2028},{"$f":"T1755&U1755","v":"37"},{"$f":"IF(V1755&W1755=V1754&W1754,X1754+1,1)","v":3},{"$f":"V1755&U1755&T1755&X1755","v":"2028733"},{"$f":"S1755","v":"2028-07-18"}]
[null,null,null,null,null,null,null,null,null,null,null,null,null,null,null,null,null,null,"2028-07-25",{"$f":"WEEKDAY(S1756)","v":3},{"$f":"MONTH(S1756)","v":7},{"$f":"YEAR(S1756)","v":2028},{"$f":"T1756&U1756","v":"37"},{"$f":"IF(V1756&W1756=V1755&W1755,X1755+1,1)","v":4},{"$f":"V1756&U1756&T1756&X1756","v":"2028734"},{"$f":"S1756","v":"2028-07-25"}]
[null,null,null,null,null,null,null,null,null,null,null,null,null,null,null,null,null,null,"2028-07-05",{"$f":"WEEKDAY(S1757)","v":4},{"$f":"MONTH(S1757)","v":7},{"$f":"YEAR(S1757)","v":2028},{"$f":"T1757&U1757","v":"47"},{"$f":"IF(V1757&W1757=V1756&W1756,X1756+1,1)","v":1},{"$f":"V1757&U1757&T1757&X1757","v":"2028741"},{"$f":"S1757","v":"2028-07-05"}]
[null,null,null,null,null,null,null,null,null,null,null,null,null,null,null,null,null,null,"2028-07-12",{"$f":"WEEKDAY(S1758)","v":4},{"$f":"MONTH(S1758)","v":7},{"$f":"YEAR(S1758)","v":2028},{"$f":"T1758&U1758","v":"47"},{"$f":"IF(V1758&W1758=V1757&W1757,X1757+1,1)","v":2},{"$f":"V1758&U1758&T1758&X1758","v":"2028742"},{"$f":"S1758","v":"2028-07-12"}]
[null,null,null,null,null,null,null,null,null,null,null,null,null,null,null,null,null,null,"2028-07-19",{"$f":"WEEKDAY(S1759)","v":4},{"$f":"MONTH(S1759)","v":7},{"$f":"YEAR(S1759)","v":2028},{"$f":"T1759&U1759","v":"47"},{"$f":"IF(V1759&W1759=V1758&W1758,X1758+1,1)","v":3},{"$f":"V1759&U1759&T1759&X1759","v":"2028743"},{"$f":"S1759","v":"2028-07-19"}]
[null,null,null,null,null,null,null,null,null,null,null,null,null,null,null,null,null,null,"2028-07-26",{"$f":"WEEKDAY(S1760)","v":4},{"$f":"MONTH(S1760)","v":7},{"$f":"YEAR(S1760)","v":2028},{"$f":"T1760&U1760","v":"47"},{"$f":"IF(V1760&W1760=V1759&W1759,X1759+1,1)","v":4},{"$f":"V1760&U1760&T1760&X1760","v":"2028744"},{"$f":"S1760","v":"2028-07-26"}]
[null,null,null,null,null,null,null,null,null,null,null,null,null,null,null,null,null,null,"2028-07-06",{"$f":"WEEKDAY(S1761)","v":5},{"$f":"MONTH(S1761)","v":7},{"$f":"YEAR(S1761)","v":2028},{"$f":"T1761&U1761","v":"57"},{"$f":"IF(V1761&W1761=V1760&W1760,X1760+1,1)","v":1},{"$f":"V1761&U1761&T1761&X1761","v":"2028751"},{"$f":"S1761","v":"2028-07-06"}]
[null,null,null,null,null,null,null,null,null,null,null,null,null,null,null,null,null,null,"2028-07-13",{"$f":"WEEKDAY(S1762)","v":5},{"$f":"MONTH(S1762)","v":7},{"$f":"YEAR(S1762)","v":2028},{"$f":"T1762&U1762","v":"57"},{"$f":"IF(V1762&W1762=V1761&W1761,X1761+1,1)","v":2},{"$f":"V1762&U1762&T1762&X1762","v":"2028752"},{"$f":"S1762","v":"2028-07-13"}]
[null,null,null,null,null,null,null,null,null,null,null,null,null,null,null,null,null,null,"2028-07-20",{"$f":"WEEKDAY(S1763)","v":5},{"$f":"MONTH(S1763)","v":7},{"$f":"YEAR(S1763)","v":2028},{"$f":"T1763&U1763","v":"57"},{"$f":"IF(V1763&W1763=V1762&W1762,X1762+1,1)","v":3},{"$f":"V1763&U1763&T1763&X1763","v":"2028753"},{"$f":"S1763","v":"2028-07-20"}]
[null,null,null,null,null,null,null,null,null,null,null,null,null,null,null,null,null,null,"2028-07-27",{"$f":"WEEKDAY(S1764)","v":5},{"$f":"MONTH(S1764)","v":7},{"$f":"YEAR(S1764)","v":2028},{"$f":"T1764&U1764","v":"57"},{"$f":"IF(V1764&W1764=V1763&W1763,X1763+1,1)","v":4},{"$f":"V1764&U1764&T1764&X1764","v":"2028754"},{"$f":"S1764","v":"2028-07-27"}]
[null,null,null,null,null,null,null,null,null,null,null,null,null,null,null,null,null,null,"2028-07-07",{"$f":"WEEKDAY(S1765)","v":6},{"$f":"MONTH(S1765)","v":7},{"$f":"YEAR(S1765)","v":2028},{"$f":"T1765&U1765","v":"67"},{"$f":"IF(V1765&W1765=V1764&W1764,X1764+1,1)","v":1},{"$f":"V1765&U1765&T1765&X1765","v":"2028761"},{"$f":"S1765","v":"2028-07-07"}]
[null,null,null,null,null,null,null,null,null,null,null,null,null,null,null,null,null,null,"2028-07-14",{"$f":"WEEKDAY(S1766)","v":6},{"$f":"MONTH(S1766)","v":7},{"$f":"YEAR(S1766)","v":2028},{"$f":"T1766&U1766","v":"67"},{"$f":"IF(V1766&W1766=V1765&W1765,X1765+1,1)","v":2},{"$f":"V1766&U1766&T1766&X1766","v":"2028762"},{"$f":"S1766","v":"2028-07-14"}]
[null,null,null,null,null,null,null,null,null,null,null,null,null,null,null,null,null,null,"2028-07-21",{"$f":"WEEKDAY(S1767)","v":6},{"$f":"MONTH(S1767)","v":7},{"$f":"YEAR(S1767)","v":2028},{"$f":"T1767&U1767","v":"67"},{"$f":"IF(V1767&W1767=V1766&W1766,X1766+1,1)","v":3},{"$f":"V1767&U1767&T1767&X1767","v":"2028763"},{"$f":"S1767","v":"2028-07-21"}]
[null,null,null,null,null,null,null,null,null,null,null,null,null,null,null,null,null,null,"2028-07-28",{"$f":"WEEKDAY(S1768)","v":6},{"$f":"MONTH(S1768)","v":7},{"$f":"YEAR(S1768)","v":2028},{"$f":"T1768&U1768","v":"67"},{"$f":"IF(V1768&W1768=V1767&W1767,X1767+1,1)","v":4},{"$f":"V1768&U1768&T1768&X1768","v":"2028764"},{"$f":"S1768","v":"2028-07-28"}]
[null,null,null,null,null,null,null,null,null,null,null,null,null,null,null,null,null,null,"2028-07-01",{"$f":"WEEKDAY(S1769)","v":7},{"$f":"MONTH(S1769)","v":7},{"$f":"YEAR(S1769)","v":2028},{"$f":"T1769&U1769","v":"77"},{"$f":"IF(V1769&W1769=V1768&W1768,X1768+1,1)","v":1},{"$f":"V1769&U1769&T1769&X1769","v":"2028771"},{"$f":"S1769","v":"2028-07-01"}]
[null,null,null,null,null,null,null,null,null,null,null,null,null,null,null,null,null,null,"2028-07-08",{"$f":"WEEKDAY(S1770)","v":7},{"$f":"MONTH(S1770)","v":7},{"$f":"YEAR(S1770)","v":2028},{"$f":"T1770&U1770","v":"77"},{"$f":"IF(V1770&W1770=V1769&W1769,X1769+1,1)","v":2},{"$f":"V1770&U1770&T1770&X1770","v":"2028772"},{"$f":"S1770","v":"2028-07-08"}]
[null,null,null,null,null,null,null,null,null,null,null,null,null,null,null,null,null,null,"2028-07-15",{"$f":"WEEKDAY(S1771)","v":7},{"$f":"MONTH(S1771)","v":7},{"$f":"YEAR(S1771)","v":2028},{"$f":"T1771&U1771","v":"77"},{"$f":"IF(V1771&W1771=V1770&W1770,X1770+1,1)","v":3},{"$f":"V1771&U1771&T1771&X1771","v":"2028773"},{"$f":"S1771","v":"2028-07-15"}]
[null,null,null,null,null,null,null,null,null,null,null,null,null,null,null,null,null,null,"2028-07-22",{"$f":"WEEKDAY(S1772)","v":7},{"$f":"MONTH(S1772)","v":7},{"$f":"YEAR(S1772)","v":2028},{"$f":"T1772&U1772","v":"77"},{"$f":"IF(V1772&W1772=V1771&W1771,X1771+1,1)","v":4},{"$f":"V1772&U1772&T1772&X1772","v":"2028774"},{"$f":"S1772","v":"2028-07-22"}]
[null,null,null,null,null,null,null,null,null,null,null,null,null,null,null,null,null,null,"2028-07-29",{"$f":"WEEKDAY(S1773)","v":7},{"$f":"MONTH(S1773)","v":7},{"$f":"YEAR(S1773)","v":2028},{"$f":"T1773&U1773","v":"77"},{"$f":"IF(V1773&W1773=V1772&W1772,X1772+1,1)","v":5},{"$f":"V1773&U1773&T1773&X1773","v":"2028775"},{"$f":"S1773","v":"2028-07-29"}]
[null,null,null,null,null,null,null,null,null,null,null,null,null,null,null,null,null,null,"2028-08-06",{"$f":"WEEKDAY(S1774)","v":1},{"$f":"MONTH(S1774)","v":8},{"$f":"YEAR(S1774)","v":2028},{"$f":"T1774&U1774","v":"18"},{"$f":"IF(V1774&W1774=V1773&W1773,X1773+1,1)","v":1},{"$f":"V1774&U1774&T1774&X1774","v":"2028811"},{"$f":"S1774","v":"2028-08-06"}]
[null,null,null,null,null,null,null,null,null,null,null,null,null,null,null,null,null,null,"2028-08-13",{"$f":"WEEKDAY(S1775)","v":1},{"$f":"MONTH(S1775)","v":8},{"$f":"YEAR(S1775)","v":2028},{"$f":"T1775&U1775","v":"18"},{"$f":"IF(V1775&W1775=V1774&W1774,X1774+1,1)","v":2},{"$f":"V1775&U1775&T1775&X1775","v":"2028812"},{"$f":"S1775","v":"2028-08-13"}]
[null,null,null,null,null,null,null,null,null,null,null,null,null,null,null,null,null,null,"2028-08-20",{"$f":"WEEKDAY(S1776)","v":1},{"$f":"MONTH(S1776)","v":8},{"$f":"YEAR(S1776)","v":2028},{"$f":"T1776&U1776","v":"18"},{"$f":"IF(V1776&W1776=V1775&W1775,X1775+1,1)","v":3},{"$f":"V1776&U1776&T1776&X1776","v":"2028813"},{"$f":"S1776","v":"2028-08-20"}]
[null,null,null,null,null,null,null,null,null,null,null,null,null,null,null,null,null,null,"2028-08-27",{"$f":"WEEKDAY(S1777)","v":1},{"$f":"MONTH(S1777)","v":8},{"$f":"YEAR(S1777)","v":2028},{"$f":"T1777&U1777","v":"18"},{"$f":"IF(V1777&W1777=V1776&W1776,X1776+1,1)","v":4},{"$f":"V1777&U1777&T1777&X1777","v":"2028814"},{"$f":"S1777","v":"2028-08-27"}]
[null,null,null,null,null,null,null,null,null,null,null,null,null,null,null,null,null,null,"2028-08-07",{"$f":"WEEKDAY(S1778)","v":2},{"$f":"MONTH(S1778)","v":8},{"$f":"YEAR(S1778)","v":2028},{"$f":"T1778&U1778","v":"28"},{"$f":"IF(V1778&W1778=V1777&W1777,X1777+1,1)","v":1},{"$f":"V1778&U1778&T1778&X1778","v":"2028821"},{"$f":"S1778","v":"2028-08-07"}]
[null,null,null,null,null,null,null,null,null,null,null,null,null,null,null,null,null,null,"2028-08-14",{"$f":"WEEKDAY(S1779)","v":2},{"$f":"MONTH(S1779)","v":8},{"$f":"YEAR(S1779)","v":2028},{"$f":"T1779&U1779","v":"28"},{"$f":"IF(V1779&W1779=V1778&W1778,X1778+1,1)","v":2},{"$f":"V1779&U1779&T1779&X1779","v":"2028822"},{"$f":"S1779","v":"2028-08-14"}]
[null,null,null,null,null,null,null,null,null,null,null,null,null,null,null,null,null,null,"2028-08-21",{"$f":"WEEKDAY(S1780)","v":2},{"$f":"MONTH(S1780)","v":8},{"$f":"YEAR(S1780)","v":2028},{"$f":"T1780&U1780","v":"28"},{"$f":"IF(V1780&W1780=V1779&W1779,X1779+1,1)","v":3},{"$f":"V1780&U1780&T1780&X1780","v":"2028823"},{"$f":"S1780","v":"2028-08-21"}]
[null,null,null,null,null,null,null,null,null,null,null,null,null,null,null,null,null,null,"2028-08-28",{"$f":"WEEKDAY(S1781)","v":2},{"$f":"MONTH(S1781)","v":8},{"$f":"YEAR(S1781)","v":2028},{"$f":"T1781&U1781","v":"28"},{"$f":"IF(V1781&W1781=V1780&W1780,X1780+1,1)","v":4},{"$f":"V1781&U1781&T1781&X1781","v":"2028824"},{"$f":"S1781","v":"2028-08-28"}]
[null,null,null,null,null,null,null,null,null,null,null,null,null,null,null,null,null,null,"2028-08-01",{"$f":"WEEKDAY(S1782)","v":3},{"$f":"MONTH(S1782)","v":8},{"$f":"YEAR(S1782)","v":2028},{"$f":"T1782&U1782","v":"38"},{"$f":"IF(V1782&W1782=V1781&W1781,X1781+1,1)","v":1},{"$f":"V1782&U1782&T1782&X1782","v":"2028831"},{"$f":"S1782","v":"2028-08-01"}]
[null,null,null,null,null,null,null,null,null,null,null,null,null,null,null,null,null,null,"2028-08-08",{"$f":"WEEKDAY(S1783)","v":3},{"$f":"MONTH(S1783)","v":8},{"$f":"YEAR(S1783)","v":2028},{"$f":"T1783&U1783","v":"38"},{"$f":"IF(V1783&W1783=V1782&W1782,X1782+1,1)","v":2},{"$f":"V1783&U1783&T1783&X1783","v":"2028832"},{"$f":"S1783","v":"2028-08-08"}]
[null,null,null,null,null,null,null,null,null,null,null,null,null,null,null,null,null,null,"2028-08-15",{"$f":"WEEKDAY(S1784)","v":3},{"$f":"MONTH(S1784)","v":8},{"$f":"YEAR(S1784)","v":2028},{"$f":"T1784&U1784","v":"38"},{"$f":"IF(V1784&W1784=V1783&W1783,X1783+1,1)","v":3},{"$f":"V1784&U1784&T1784&X1784","v":"2028833"},{"$f":"S1784","v":"2028-08-15"}]
[null,null,null,null,null,null,null,null,null,null,null,null,null,null,null,null,null,null,"2028-08-22",{"$f":"WEEKDAY(S1785)","v":3},{"$f":"MONTH(S1785)","v":8},{"$f":"YEAR(S1785)","v":2028},{"$f":"T1785&U1785","v":"38"},{"$f":"IF(V1785&W1785=V1784&W1784,X1784+1,1)","v":4},{"$f":"V1785&U1785&T1785&X1785","v":"2028834"},{"$f":"S1785","v":"2028-08-22"}]
[null,null,null,null,null,null,null,null,null,null,null,null,null,null,null,null,null,null,"2028-08-29",{"$f":"WEEKDAY(S1786)","v":3},{"$f":"MONTH(S1786)","v":8},{"$f":"YEAR(S1786)","v":2028},{"$f":"T1786&U1786","v":"38"},{"$f":"IF(V1786&W1786=V1785&W1785,X1785+1,1)","v":5},{"$f":"V1786&U1786&T1786&X1786","v":"2028835"},{"$f":"S1786","v":"2028-08-29"}]
[null,null,null,null,null,null,null,null,null,null,null,null,null,null,null,null,null,null,"2028-08-02",{"$f":"WEEKDAY(S1787)","v":4},{"$f":"MONTH(S1787)","v":8},{"$f":"YEAR(S1787)","v":2028},{"$f":"T1787&U1787","v":"48"},{"$f":"IF(V1787&W1787=V1786&W1786,X1786+1,1)","v":1},{"$f":"V1787&U1787&T1787&X1787","v":"2028841"},{"$f":"S1787","v":"2028-08-02"}]
[null,null,null,null,null,null,null,null,null,null,null,null,null,null,null,null,null,null,"2028-08-09",{"$f":"WEEKDAY(S1788)","v":4},{"$f":"MONTH(S1788)","v":8},{"$f":"YEAR(S1788)","v":2028},{"$f":"T1788&U1788","v":"48"},{"$f":"IF(V1788&W1788=V1787&W1787,X1787+1,1)","v":2},{"$f":"V1788&U1788&T1788&X1788","v":"2028842"},{"$f":"S1788","v":"2028-08-09"}]
[null,null,null,null,null,null,null,null,null,null,null,null,null,null,null,null,null,null,"2028-08-16",{"$f":"WEEKDAY(S1789)","v":4},{"$f":"MONTH(S1789)","v":8},{"$f":"YEAR(S1789)","v":2028},{"$f":"T1789&U1789","v":"48"},{"$f":"IF(V1789&W1789=V1788&W1788,X1788+1,1)","v":3},{"$f":"V1789&U1789&T1789&X1789","v":"2028843"},{"$f":"S1789","v":"2028-08-16"}]
[null,null,null,null,null,null,null,null,null,null,null,null,null,null,null,null,null,null,"2028-08-23",{"$f":"WEEKDAY(S1790)","v":4},{"$f":"MONTH(S1790)","v":8},{"$f":"YEAR(S1790)","v":2028},{"$f":"T1790&U1790","v":"48"},{"$f":"IF(V1790&W1790=V1789&W1789,X1789+1,1)","v":4},{"$f":"V1790&U1790&T1790&X1790","v":"2028844"},{"$f":"S1790","v":"2028-08-23"}]
[null,null,null,null,null,null,null,null,null,null,null,null,null,null,null,null,null,null,"2028-08-30",{"$f":"WEEKDAY(S1791)","v":4},{"$f":"MONTH(S1791)","v":8},{"$f":"YEAR(S1791)","v":2028},{"$f":"T1791&U1791","v":"48"},{"$f":"IF(V1791&W1791=V1790&W1790,X1790+1,1)","v":5},{"$f":"V1791&U1791&T1791&X1791","v":"2028845"},{"$f":"S1791","v":"2028-08-30"}]
[null,null,null,null,null,null,null,null,null,null,null,null,null,null,null,null,null,null,"2028-08-03",{"$f":"WEEKDAY(S1792)","v":5},{"$f":"MONTH(S1792)","v":8},{"$f":"YEAR(S1792)","v":2028},{"$f":"T1792&U1792","v":"58"},{"$f":"IF(V1792&W1792=V1791&W1791,X1791+1,1)","v":1},{"$f":"V1792&U1792&T1792&X1792","v":"2028851"},{"$f":"S1792","v":"2028-08-03"}]
[null,null,null,null,null,null,null,null,null,null,null,null,null,null,null,null,null,null,"2028-08-10",{"$f":"WEEKDAY(S1793)","v":5},{"$f":"MONTH(S1793)","v":8},{"$f":"YEAR(S1793)","v":2028},{"$f":"T1793&U1793","v":"58"},{"$f":"IF(V1793&W1793=V1792&W1792,X1792+1,1)","v":2},{"$f":"V1793&U1793&T1793&X1793","v":"2028852"},{"$f":"S1793","v":"2028-08-10"}]
[null,null,null,null,null,null,null,null,null,null,null,null,null,null,null,null,null,null,"2028-08-17",{"$f":"WEEKDAY(S1794)","v":5},{"$f":"MONTH(S1794)","v":8},{"$f":"YEAR(S1794)","v":2028},{"$f":"T1794&U1794","v":"58"},{"$f":"IF(V1794&W1794=V1793&W1793,X1793+1,1)","v":3},{"$f":"V1794&U1794&T1794&X1794","v":"2028853"},{"$f":"S1794","v":"2028-08-17"}]
[null,null,null,null,null,null,null,null,null,null,null,null,null,null,null,null,null,null,"2028-08-24",{"$f":"WEEKDAY(S1795)","v":5},{"$f":"MONTH(S1795)","v":8},{"$f":"YEAR(S1795)","v":2028},{"$f":"T1795&U1795","v":"58"},{"$f":"IF(V1795&W1795=V1794&W1794,X1794+1,1)","v":4},{"$f":"V1795&U1795&T1795&X1795","v":"2028854"},{"$f":"S1795","v":"2028-08-24"}]
[null,null,null,null,null,null,null,null,null,null,null,null,null,null,null,null,null,null,"2028-08-31",{"$f":"WEEKDAY(S1796)","v":5},{"$f":"MONTH(S1796)","v":8},{"$f":"YEAR(S1796)","v":2028},{"$f":"T1796&U1796","v":"58"},{"$f":"IF(V1796&W1796=V1795&W1795,X1795+1,1)","v":5},{"$f":"V1796&U1796&T1796&X1796","v":"2028855"},{"$f":"S1796","v":"2028-08-31"}]
[null,null,null,null,null,null,null,null,null,null,null,null,null,null,null,null,null,null,"2028-08-04",{"$f":"WEEKDAY(S1797)","v":6},{"$f":"MONTH(S1797)","v":8},{"$f":"YEAR(S1797)","v":2028},{"$f":"T1797&U1797","v":"68"},{"$f":"IF(V1797&W1797=V1796&W1796,X1796+1,1)","v":1},{"$f":"V1797&U1797&T1797&X1797","v":"2028861"},{"$f":"S1797","v":"2028-08-04"}]
[null,null,null,null,null,null,null,null,null,null,null,null,null,null,null,null,null,null,"2028-08-11",{"$f":"WEEKDAY(S1798)","v":6},{"$f":"MONTH(S1798)","v":8},{"$f":"YEAR(S1798)","v":2028},{"$f":"T1798&U1798","v":"68"},{"$f":"IF(V1798&W1798=V1797&W1797,X1797+1,1)","v":2},{"$f":"V1798&U1798&T1798&X1798","v":"2028862"},{"$f":"S1798","v":"2028-08-11"}]
[null,null,null,null,null,null,null,null,null,null,null,null,null,null,null,null,null,null,"2028-08-18",{"$f":"WEEKDAY(S1799)","v":6},{"$f":"MONTH(S1799)","v":8},{"$f":"YEAR(S1799)","v":2028},{"$f":"T1799&U1799","v":"68"},{"$f":"IF(V1799&W1799=V1798&W1798,X1798+1,1)","v":3},{"$f":"V1799&U1799&T1799&X1799","v":"2028863"},{"$f":"S1799","v":"2028-08-18"}]
[null,null,null,null,null,null,null,null,null,null,null,null,null,null,null,null,null,null,"2028-08-25",{"$f":"WEEKDAY(S1800)","v":6},{"$f":"MONTH(S1800)","v":8},{"$f":"YEAR(S1800)","v":2028},{"$f":"T1800&U1800","v":"68"},{"$f":"IF(V1800&W1800=V1799&W1799,X1799+1,1)","v":4},{"$f":"V1800&U1800&T1800&X1800","v":"2028864"},{"$f":"S1800","v":"2028-08-25"}]
[null,null,null,null,null,null,null,null,null,null,null,null,null,null,null,null,null,null,"2028-08-05",{"$f":"WEEKDAY(S1801)","v":7},{"$f":"MONTH(S1801)","v":8},{"$f":"YEAR(S1801)","v":2028},{"$f":"T1801&U1801","v":"78"},{"$f":"IF(V1801&W1801=V1800&W1800,X1800+1,1)","v":1},{"$f":"V1801&U1801&T1801&X1801","v":"2028871"},{"$f":"S1801","v":"2028-08-05"}]
[null,null,null,null,null,null,null,null,null,null,null,null,null,null,null,null,null,null,"2028-08-12",{"$f":"WEEKDAY(S1802)","v":7},{"$f":"MONTH(S1802)","v":8},{"$f":"YEAR(S1802)","v":2028},{"$f":"T1802&U1802","v":"78"},{"$f":"IF(V1802&W1802=V1801&W1801,X1801+1,1)","v":2},{"$f":"V1802&U1802&T1802&X1802","v":"2028872"},{"$f":"S1802","v":"2028-08-12"}]
[null,null,null,null,null,null,null,null,null,null,null,null,null,null,null,null,null,null,"2028-08-19",{"$f":"WEEKDAY(S1803)","v":7},{"$f":"MONTH(S1803)","v":8},{"$f":"YEAR(S1803)","v":2028},{"$f":"T1803&U1803","v":"78"},{"$f":"IF(V1803&W1803=V1802&W1802,X1802+1,1)","v":3},{"$f":"V1803&U1803&T1803&X1803","v":"2028873"},{"$f":"S1803","v":"2028-08-19"}]
[null,null,null,null,null,null,null,null,null,null,null,null,null,null,null,null,null,null,"2028-08-26",{"$f":"WEEKDAY(S1804)","v":7},{"$f":"MONTH(S1804)","v":8},{"$f":"YEAR(S1804)","v":2028},{"$f":"T1804&U1804","v":"78"},{"$f":"IF(V1804&W1804=V1803&W1803,X1803+1,1)","v":4},{"$f":"V1804&U1804&T1804&X1804","v":"2028874"},{"$f":"S1804","v":"2028-08-26"}]
[null,null,null,null,null,null,null,null,null,null,null,null,null,null,null,null,null,null,"2028-09-03",{"$f":"WEEKDAY(S1805)","v":1},{"$f":"MONTH(S1805)","v":9},{"$f":"YEAR(S1805)","v":2028},{"$f":"T1805&U1805","v":"19"},{"$f":"IF(V1805&W1805=V1804&W1804,X1804+1,1)","v":1},{"$f":"V1805&U1805&T1805&X1805","v":"2028911"},{"$f":"S1805","v":"2028-09-03"}]
[null,null,null,null,null,null,null,null,null,null,null,null,null,null,null,null,null,null,"2028-09-10",{"$f":"WEEKDAY(S1806)","v":1},{"$f":"MONTH(S1806)","v":9},{"$f":"YEAR(S1806)","v":2028},{"$f":"T1806&U1806","v":"19"},{"$f":"IF(V1806&W1806=V1805&W1805,X1805+1,1)","v":2},{"$f":"V1806&U1806&T1806&X1806","v":"2028912"},{"$f":"S1806","v":"2028-09-10"}]
[null,null,null,null,null,null,null,null,null,null,null,null,null,null,null,null,null,null,"2028-09-17",{"$f":"WEEKDAY(S1807)","v":1},{"$f":"MONTH(S1807)","v":9},{"$f":"YEAR(S1807)","v":2028},{"$f":"T1807&U1807","v":"19"},{"$f":"IF(V1807&W1807=V1806&W1806,X1806+1,1)","v":3},{"$f":"V1807&U1807&T1807&X1807","v":"2028913"},{"$f":"S1807","v":"2028-09-17"}]
[null,null,null,null,null,null,null,null,null,null,null,null,null,null,null,null,null,null,"2028-09-24",{"$f":"WEEKDAY(S1808)","v":1},{"$f":"MONTH(S1808)","v":9},{"$f":"YEAR(S1808)","v":2028},{"$f":"T1808&U1808","v":"19"},{"$f":"IF(V1808&W1808=V1807&W1807,X1807+1,1)","v":4},{"$f":"V1808&U1808&T1808&X1808","v":"2028914"},{"$f":"S1808","v":"2028-09-24"}]
[null,null,null,null,null,null,null,null,null,null,null,null,null,null,null,null,null,null,"2028-09-04",{"$f":"WEEKDAY(S1809)","v":2},{"$f":"MONTH(S1809)","v":9},{"$f":"YEAR(S1809)","v":2028},{"$f":"T1809&U1809","v":"29"},{"$f":"IF(V1809&W1809=V1808&W1808,X1808+1,1)","v":1},{"$f":"V1809&U1809&T1809&X1809","v":"2028921"},{"$f":"S1809","v":"2028-09-04"}]
[null,null,null,null,null,null,null,null,null,null,null,null,null,null,null,null,null,null,"2028-09-11",{"$f":"WEEKDAY(S1810)","v":2},{"$f":"MONTH(S1810)","v":9},{"$f":"YEAR(S1810)","v":2028},{"$f":"T1810&U1810","v":"29"},{"$f":"IF(V1810&W1810=V1809&W1809,X1809+1,1)","v":2},{"$f":"V1810&U1810&T1810&X1810","v":"2028922"},{"$f":"S1810","v":"2028-09-11"}]
[null,null,null,null,null,null,null,null,null,null,null,null,null,null,null,null,null,null,"2028-09-18",{"$f":"WEEKDAY(S1811)","v":2},{"$f":"MONTH(S1811)","v":9},{"$f":"YEAR(S1811)","v":2028},{"$f":"T1811&U1811","v":"29"},{"$f":"IF(V1811&W1811=V1810&W1810,X1810+1,1)","v":3},{"$f":"V1811&U1811&T1811&X1811","v":"2028923"},{"$f":"S1811","v":"2028-09-18"}]
[null,null,null,null,null,null,null,null,null,null,null,null,null,null,null,null,null,null,"2028-09-25",{"$f":"WEEKDAY(S1812)","v":2},{"$f":"MONTH(S1812)","v":9},{"$f":"YEAR(S1812)","v":2028},{"$f":"T1812&U1812","v":"29"},{"$f":"IF(V1812&W1812=V1811&W1811,X1811+1,1)","v":4},{"$f":"V1812&U1812&T1812&X1812","v":"2028924"},{"$f":"S1812","v":"2028-09-25"}]
[null,null,null,null,null,null,null,null,null,null,null,null,null,null,null,null,null,null,"2028-09-05",{"$f":"WEEKDAY(S1813)","v":3},{"$f":"MONTH(S1813)","v":9},{"$f":"YEAR(S1813)","v":2028},{"$f":"T1813&U1813","v":"39"},{"$f":"IF(V1813&W1813=V1812&W1812,X1812+1,1)","v":1},{"$f":"V1813&U1813&T1813&X1813","v":"2028931"},{"$f":"S1813","v":"2028-09-05"}]
[null,null,null,null,null,null,null,null,null,null,null,null,null,null,null,null,null,null,"2028-09-12",{"$f":"WEEKDAY(S1814)","v":3},{"$f":"MONTH(S1814)","v":9},{"$f":"YEAR(S1814)","v":2028},{"$f":"T1814&U1814","v":"39"},{"$f":"IF(V1814&W1814=V1813&W1813,X1813+1,1)","v":2},{"$f":"V1814&U1814&T1814&X1814","v":"2028932"},{"$f":"S1814","v":"2028-09-12"}]
[null,null,null,null,null,null,null,null,null,null,null,null,null,null,null,null,null,null,"2028-09-19",{"$f":"WEEKDAY(S1815)","v":3},{"$f":"MONTH(S1815)","v":9},{"$f":"YEAR(S1815)","v":2028},{"$f":"T1815&U1815","v":"39"},{"$f":"IF(V1815&W1815=V1814&W1814,X1814+1,1)","v":3},{"$f":"V1815&U1815&T1815&X1815","v":"2028933"},{"$f":"S1815","v":"2028-09-19"}]
[null,null,null,null,null,null,null,null,null,null,null,null,null,null,null,null,null,null,"2028-09-26",{"$f":"WEEKDAY(S1816)","v":3},{"$f":"MONTH(S1816)","v":9},{"$f":"YEAR(S1816)","v":2028},{"$f":"T1816&U1816","v":"39"},{"$f":"IF(V1816&W1816=V1815&W1815,X1815+1,1)","v":4},{"$f":"V1816&U1816&T1816&X1816","v":"2028934"},{"$f":"S1816","v":"2028-09-26"}]
[null,null,null,null,null,null,null,null,null,null,null,null,null,null,null,null,null,null,"2028-09-06",{"$f":"WEEKDAY(S1817)","v":4},{"$f":"MONTH(S1817)","v":9},{"$f":"YEAR(S1817)","v":2028},{"$f":"T1817&U1817","v":"49"},{"$f":"IF(V1817&W1817=V1816&W1816,X1816+1,1)","v":1},{"$f":"V1817&U1817&T1817&X1817","v":"2028941"},{"$f":"S1817","v":"2028-09-06"}]
[null,null,null,null,null,null,null,null,null,null,null,null,null,null,null,null,null,null,"2028-09-13",{"$f":"WEEKDAY(S1818)","v":4},{"$f":"MONTH(S1818)","v":9},{"$f":"YEAR(S1818)","v":2028},{"$f":"T1818&U1818","v":"49"},{"$f":"IF(V1818&W1818=V1817&W1817,X1817+1,1)","v":2},{"$f":"V1818&U1818&T1818&X1818","v":"2028942"},{"$f":"S1818","v":"2028-09-13"}]
[null,null,null,null,null,null,null,null,null,null,null,null,null,null,null,null,null,null,"2028-09-20",{"$f":"WEEKDAY(S1819)","v":4},{"$f":"MONTH(S1819)","v":9},{"$f":"YEAR(S1819)","v":2028},{"$f":"T1819&U1819","v":"49"},{"$f":"IF(V1819&W1819=V1818&W1818,X1818+1,1)","v":3},{"$f":"V1819&U1819&T1819&X1819","v":"2028943"},{"$f":"S1819","v":"2028-09-20"}]
[null,null,null,null,null,null,null,null,null,null,null,null,null,null,null,null,null,null,"2028-09-27",{"$f":"WEEKDAY(S1820)","v":4},{"$f":"MONTH(S1820)","v":9},{"$f":"YEAR(S1820)","v":2028},{"$f":"T1820&U1820","v":"49"},{"$f":"IF(V1820&W1820=V1819&W1819,X1819+1,1)","v":4},{"$f":"V1820&U1820&T1820&X1820","v":"2028944"},{"$f":"S1820","v":"2028-09-27"}]
[null,null,null,null,null,null,null,null,null,null,null,null,null,null,null,null,null,null,"2028-09-07",{"$f":"WEEKDAY(S1821)","v":5},{"$f":"MONTH(S1821)","v":9},{"$f":"YEAR(S1821)","v":2028},{"$f":"T1821&U1821","v":"59"},{"$f":"IF(V1821&W1821=V1820&W1820,X1820+1,1)","v":1},{"$f":"V1821&U1821&T1821&X1821","v":"2028951"},{"$f":"S1821","v":"2028-09-07"}]
[null,null,null,null,null,null,null,null,null,null,null,null,null,null,null,null,null,null,"2028-09-14",{"$f":"WEEKDAY(S1822)","v":5},{"$f":"MONTH(S1822)","v":9},{"$f":"YEAR(S1822)","v":2028},{"$f":"T1822&U1822","v":"59"},{"$f":"IF(V1822&W1822=V1821&W1821,X1821+1,1)","v":2},{"$f":"V1822&U1822&T1822&X1822","v":"2028952"},{"$f":"S1822","v":"2028-09-14"}]
[null,null,null,null,null,null,null,null,null,null,null,null,null,null,null,null,null,null,"2028-09-21",{"$f":"WEEKDAY(S1823)","v":5},{"$f":"MONTH(S1823)","v":9},{"$f":"YEAR(S1823)","v":2028},{"$f":"T1823&U1823","v":"59"},{"$f":"IF(V1823&W1823=V1822&W1822,X1822+1,1)","v":3},{"$f":"V1823&U1823&T1823&X1823","v":"2028953"},{"$f":"S1823","v":"2028-09-21"}]
[null,null,null,null,null,null,null,null,null,null,null,null,null,null,null,null,null,null,"2028-09-28",{"$f":"WEEKDAY(S1824)","v":5},{"$f":"MONTH(S1824)","v":9},{"$f":"YEAR(S1824)","v":2028},{"$f":"T1824&U1824","v":"59"},{"$f":"IF(V1824&W1824=V1823&W1823,X1823+1,1)","v":4},{"$f":"V1824&U1824&T1824&X1824","v":"2028954"},{"$f":"S1824","v":"2028-09-28"}]
[null,null,null,null,null,null,null,null,null,null,null,null,null,null,null,null,null,null,"2028-09-01",{"$f":"WEEKDAY(S1825)","v":6},{"$f":"MONTH(S1825)","v":9},{"$f":"YEAR(S1825)","v":2028},{"$f":"T1825&U1825","v":"69"},{"$f":"IF(V1825&W1825=V1824&W1824,X1824+1,1)","v":1},{"$f":"V1825&U1825&T1825&X1825","v":"2028961"},{"$f":"S1825","v":"2028-09-01"}]
[null,null,null,null,null,null,null,null,null,null,null,null,null,null,null,null,null,null,"2028-09-08",{"$f":"WEEKDAY(S1826)","v":6},{"$f":"MONTH(S1826)","v":9},{"$f":"YEAR(S1826)","v":2028},{"$f":"T1826&U1826","v":"69"},{"$f":"IF(V1826&W1826=V1825&W1825,X1825+1,1)","v":2},{"$f":"V1826&U1826&T1826&X1826","v":"2028962"},{"$f":"S1826","v":"2028-09-08"}]
[null,null,null,null,null,null,null,null,null,null,null,null,null,null,null,null,null,null,"2028-09-15",{"$f":"WEEKDAY(S1827)","v":6},{"$f":"MONTH(S1827)","v":9},{"$f":"YEAR(S1827)","v":2028},{"$f":"T1827&U1827","v":"69"},{"$f":"IF(V1827&W1827=V1826&W1826,X1826+1,1)","v":3},{"$f":"V1827&U1827&T1827&X1827","v":"2028963"},{"$f":"S1827","v":"2028-09-15"}]
[null,null,null,null,null,null,null,null,null,null,null,null,null,null,null,null,null,null,"2028-09-22",{"$f":"WEEKDAY(S1828)","v":6},{"$f":"MONTH(S1828)","v":9},{"$f":"YEAR(S1828)","v":2028},{"$f":"T1828&U1828","v":"69"},{"$f":"IF(V1828&W1828=V1827&W1827,X1827+1,1)","v":4},{"$f":"V1828&U1828&T1828&X1828","v":"2028964"},{"$f":"S1828","v":"2028-09-22"}]
[null,null,null,null,null,null,null,null,null,null,null,null,null,null,null,null,null,null,"2028-09-29",{"$f":"WEEKDAY(S1829)","v":6},{"$f":"MONTH(S1829)","v":9},{"$f":"YEAR(S1829)","v":2028},{"$f":"T1829&U1829","v":"69"},{"$f":"IF(V1829&W1829=V1828&W1828,X1828+1,1)","v":5},{"$f":"V1829&U1829&T1829&X1829","v":"2028965"},{"$f":"S1829","v":"2028-09-29"}]
[null,null,null,null,null,null,null,null,null,null,null,null,null,null,null,null,null,null,"2028-09-02",{"$f":"WEEKDAY(S1830)","v":7},{"$f":"MONTH(S1830)","v":9},{"$f":"YEAR(S1830)","v":2028},{"$f":"T1830&U1830","v":"79"},{"$f":"IF(V1830&W1830=V1829&W1829,X1829+1,1)","v":1},{"$f":"V1830&U1830&T1830&X1830","v":"2028971"},{"$f":"S1830","v":"2028-09-02"}]
[null,null,null,null,null,null,null,null,null,null,null,null,null,null,null,null,null,null,"2028-09-09",{"$f":"WEEKDAY(S1831)","v":7},{"$f":"MONTH(S1831)","v":9},{"$f":"YEAR(S1831)","v":2028},{"$f":"T1831&U1831","v":"79"},{"$f":"IF(V1831&W1831=V1830&W1830,X1830+1,1)","v":2},{"$f":"V1831&U1831&T1831&X1831","v":"2028972"},{"$f":"S1831","v":"2028-09-09"}]
[null,null,null,null,null,null,null,null,null,null,null,null,null,null,null,null,null,null,"2028-09-16",{"$f":"WEEKDAY(S1832)","v":7},{"$f":"MONTH(S1832)","v":9},{"$f":"YEAR(S1832)","v":2028},{"$f":"T1832&U1832","v":"79"},{"$f":"IF(V1832&W1832=V1831&W1831,X1831+1,1)","v":3},{"$f":"V1832&U1832&T1832&X1832","v":"2028973"},{"$f":"S1832","v":"2028-09-16"}]
[null,null,null,null,null,null,null,null,null,null,null,null,null,null,null,null,null,null,"2028-09-23",{"$f":"WEEKDAY(S1833)","v":7},{"$f":"MONTH(S1833)","v":9},{"$f":"YEAR(S1833)","v":2028},{"$f":"T1833&U1833","v":"79"},{"$f":"IF(V1833&W1833=V1832&W1832,X1832+1,1)","v":4},{"$f":"V1833&U1833&T1833&X1833","v":"2028974"},{"$f":"S1833","v":"2028-09-23"}]
[null,null,null,null,null,null,null,null,null,null,null,null,null,null,null,null,null,null,"2028-09-30",{"$f":"WEEKDAY(S1834)","v":7},{"$f":"MONTH(S1834)","v":9},{"$f":"YEAR(S1834)","v":2028},{"$f":"T1834&U1834","v":"79"},{"$f":"IF(V1834&W1834=V1833&W1833,X1833+1,1)","v":5},{"$f":"V1834&U1834&T1834&X1834","v":"2028975"},{"$f":"S1834","v":"2028-09-30"}]
[null,null,null,null,null,null,null,null,null,null,null,null,null,null,null,null,null,null,"2029-10-07",{"$f":"WEEKDAY(S1835)","v":1},{"$f":"MONTH(S1835)","v":10},{"$f":"YEAR(S1835)","v":2029},{"$f":"T1835&U1835","v":"110"},{"$f":"IF(V1835&W1835=V1834&W1834,X1834+1,1)","v":1},{"$f":"V1835&U1835&T1835&X1835","v":"20291011"},{"$f":"S1835","v":"2029-10-07"}]
[null,null,null,null,null,null,null,null,null,null,null,null,null,null,null,null,null,null,"2029-10-14",{"$f":"WEEKDAY(S1836)","v":1},{"$f":"MONTH(S1836)","v":10},{"$f":"YEAR(S1836)","v":2029},{"$f":"T1836&U1836","v":"110"},{"$f":"IF(V1836&W1836=V1835&W1835,X1835+1,1)","v":2},{"$f":"V1836&U1836&T1836&X1836","v":"20291012"},{"$f":"S1836","v":"2029-10-14"}]
[null,null,null,null,null,null,null,null,null,null,null,null,null,null,null,null,null,null,"2029-10-21",{"$f":"WEEKDAY(S1837)","v":1},{"$f":"MONTH(S1837)","v":10},{"$f":"YEAR(S1837)","v":2029},{"$f":"T1837&U1837","v":"110"},{"$f":"IF(V1837&W1837=V1836&W1836,X1836+1,1)","v":3},{"$f":"V1837&U1837&T1837&X1837","v":"20291013"},{"$f":"S1837","v":"2029-10-21"}]
[null,null,null,null,null,null,null,null,null,null,null,null,null,null,null,null,null,null,"2029-10-28",{"$f":"WEEKDAY(S1838)","v":1},{"$f":"MONTH(S1838)","v":10},{"$f":"YEAR(S1838)","v":2029},{"$f":"T1838&U1838","v":"110"},{"$f":"IF(V1838&W1838=V1837&W1837,X1837+1,1)","v":4},{"$f":"V1838&U1838&T1838&X1838","v":"20291014"},{"$f":"S1838","v":"2029-10-28"}]
[null,null,null,null,null,null,null,null,null,null,null,null,null,null,null,null,null,null,"2029-10-01",{"$f":"WEEKDAY(S1839)","v":2},{"$f":"MONTH(S1839)","v":10},{"$f":"YEAR(S1839)","v":2029},{"$f":"T1839&U1839","v":"210"},{"$f":"IF(V1839&W1839=V1838&W1838,X1838+1,1)","v":1},{"$f":"V1839&U1839&T1839&X1839","v":"20291021"},{"$f":"S1839","v":"2029-10-01"}]
[null,null,null,null,null,null,null,null,null,null,null,null,null,null,null,null,null,null,"2029-10-08",{"$f":"WEEKDAY(S1840)","v":2},{"$f":"MONTH(S1840)","v":10},{"$f":"YEAR(S1840)","v":2029},{"$f":"T1840&U1840","v":"210"},{"$f":"IF(V1840&W1840=V1839&W1839,X1839+1,1)","v":2},{"$f":"V1840&U1840&T1840&X1840","v":"20291022"},{"$f":"S1840","v":"2029-10-08"}]
[null,null,null,null,null,null,null,null,null,null,null,null,null,null,null,null,null,null,"2029-10-15",{"$f":"WEEKDAY(S1841)","v":2},{"$f":"MONTH(S1841)","v":10},{"$f":"YEAR(S1841)","v":2029},{"$f":"T1841&U1841","v":"210"},{"$f":"IF(V1841&W1841=V1840&W1840,X1840+1,1)","v":3},{"$f":"V1841&U1841&T1841&X1841","v":"20291023"},{"$f":"S1841","v":"2029-10-15"}]
[null,null,null,null,null,null,null,null,null,null,null,null,null,null,null,null,null,null,"2029-10-22",{"$f":"WEEKDAY(S1842)","v":2},{"$f":"MONTH(S1842)","v":10},{"$f":"YEAR(S1842)","v":2029},{"$f":"T1842&U1842","v":"210"},{"$f":"IF(V1842&W1842=V1841&W1841,X1841+1,1)","v":4},{"$f":"V1842&U1842&T1842&X1842","v":"20291024"},{"$f":"S1842","v":"2029-10-22"}]
[null,null,null,null,null,null,null,null,null,null,null,null,null,null,null,null,null,null,"2029-10-29",{"$f":"WEEKDAY(S1843)","v":2},{"$f":"MONTH(S1843)","v":10},{"$f":"YEAR(S1843)","v":2029},{"$f":"T1843&U1843","v":"210"},{"$f":"IF(V1843&W1843=V1842&W1842,X1842+1,1)","v":5},{"$f":"V1843&U1843&T1843&X1843","v":"20291025"},{"$f":"S1843","v":"2029-10-29"}]
[null,null,null,null,null,null,null,null,null,null,null,null,null,null,null,null,null,null,"2029-10-02",{"$f":"WEEKDAY(S1844)","v":3},{"$f":"MONTH(S1844)","v":10},{"$f":"YEAR(S1844)","v":2029},{"$f":"T1844&U1844","v":"310"},{"$f":"IF(V1844&W1844=V1843&W1843,X1843+1,1)","v":1},{"$f":"V1844&U1844&T1844&X1844","v":"20291031"},{"$f":"S1844","v":"2029-10-02"}]
[null,null,null,null,null,null,null,null,null,null,null,null,null,null,null,null,null,null,"2029-10-09",{"$f":"WEEKDAY(S1845)","v":3},{"$f":"MONTH(S1845)","v":10},{"$f":"YEAR(S1845)","v":2029},{"$f":"T1845&U1845","v":"310"},{"$f":"IF(V1845&W1845=V1844&W1844,X1844+1,1)","v":2},{"$f":"V1845&U1845&T1845&X1845","v":"20291032"},{"$f":"S1845","v":"2029-10-09"}]
[null,null,null,null,null,null,null,null,null,null,null,null,null,null,null,null,null,null,"2029-10-16",{"$f":"WEEKDAY(S1846)","v":3},{"$f":"MONTH(S1846)","v":10},{"$f":"YEAR(S1846)","v":2029},{"$f":"T1846&U1846","v":"310"},{"$f":"IF(V1846&W1846=V1845&W1845,X1845+1,1)","v":3},{"$f":"V1846&U1846&T1846&X1846","v":"20291033"},{"$f":"S1846","v":"2029-10-16"}]
[null,null,null,null,null,null,null,null,null,null,null,null,null,null,null,null,null,null,"2029-10-23",{"$f":"WEEKDAY(S1847)","v":3},{"$f":"MONTH(S1847)","v":10},{"$f":"YEAR(S1847)","v":2029},{"$f":"T1847&U1847","v":"310"},{"$f":"IF(V1847&W1847=V1846&W1846,X1846+1,1)","v":4},{"$f":"V1847&U1847&T1847&X1847","v":"20291034"},{"$f":"S1847","v":"2029-10-23"}]
[null,null,null,null,null,null,null,null,null,null,null,null,null,null,null,null,null,null,"2029-10-30",{"$f":"WEEKDAY(S1848)","v":3},{"$f":"MONTH(S1848)","v":10},{"$f":"YEAR(S1848)","v":2029},{"$f":"T1848&U1848","v":"310"},{"$f":"IF(V1848&W1848=V1847&W1847,X1847+1,1)","v":5},{"$f":"V1848&U1848&T1848&X1848","v":"20291035"},{"$f":"S1848","v":"2029-10-30"}]
[null,null,null,null,null,null,null,null,null,null,null,null,null,null,null,null,null,null,"2029-10-03",{"$f":"WEEKDAY(S1849)","v":4},{"$f":"MONTH(S1849)","v":10},{"$f":"YEAR(S1849)","v":2029},{"$f":"T1849&U1849","v":"410"},{"$f":"IF(V1849&W1849=V1848&W1848,X1848+1,1)","v":1},{"$f":"V1849&U1849&T1849&X1849","v":"20291041"},{"$f":"S1849","v":"2029-10-03"}]
[null,null,null,null,null,null,null,null,null,null,null,null,null,null,null,null,null,null,"2029-10-10",{"$f":"WEEKDAY(S1850)","v":4},{"$f":"MONTH(S1850)","v":10},{"$f":"YEAR(S1850)","v":2029},{"$f":"T1850&U1850","v":"410"},{"$f":"IF(V1850&W1850=V1849&W1849,X1849+1,1)","v":2},{"$f":"V1850&U1850&T1850&X1850","v":"20291042"},{"$f":"S1850","v":"2029-10-10"}]
[null,null,null,null,null,null,null,null,null,null,null,null,null,null,null,null,null,null,"2029-10-17",{"$f":"WEEKDAY(S1851)","v":4},{"$f":"MONTH(S1851)","v":10},{"$f":"YEAR(S1851)","v":2029},{"$f":"T1851&U1851","v":"410"},{"$f":"IF(V1851&W1851=V1850&W1850,X1850+1,1)","v":3},{"$f":"V1851&U1851&T1851&X1851","v":"20291043"},{"$f":"S1851","v":"2029-10-17"}]
[null,null,null,null,null,null,null,null,null,null,null,null,null,null,null,null,null,null,"2029-10-24",{"$f":"WEEKDAY(S1852)","v":4},{"$f":"MONTH(S1852)","v":10},{"$f":"YEAR(S1852)","v":2029},{"$f":"T1852&U1852","v":"410"},{"$f":"IF(V1852&W1852=V1851&W1851,X1851+1,1)","v":4},{"$f":"V1852&U1852&T1852&X1852","v":"20291044"},{"$f":"S1852","v":"2029-10-24"}]
[null,null,null,null,null,null,null,null,null,null,null,null,null,null,null,null,null,null,"2029-10-31",{"$f":"WEEKDAY(S1853)","v":4},{"$f":"MONTH(S1853)","v":10},{"$f":"YEAR(S1853)","v":2029},{"$f":"T1853&U1853","v":"410"},{"$f":"IF(V1853&W1853=V1852&W1852,X1852+1,1)","v":5},{"$f":"V1853&U1853&T1853&X1853","v":"20291045"},{"$f":"S1853","v":"2029-10-31"}]
[null,null,null,null,null,null,null,null,null,null,null,null,null,null,null,null,null,null,"2029-10-04",{"$f":"WEEKDAY(S1854)","v":5},{"$f":"MONTH(S1854)","v":10},{"$f":"YEAR(S1854)","v":2029},{"$f":"T1854&U1854","v":"510"},{"$f":"IF(V1854&W1854=V1853&W1853,X1853+1,1)","v":1},{"$f":"V1854&U1854&T1854&X1854","v":"20291051"},{"$f":"S1854","v":"2029-10-04"}]
[null,null,null,null,null,null,null,null,null,null,null,null,null,null,null,null,null,null,"2029-10-11",{"$f":"WEEKDAY(S1855)","v":5},{"$f":"MONTH(S1855)","v":10},{"$f":"YEAR(S1855)","v":2029},{"$f":"T1855&U1855","v":"510"},{"$f":"IF(V1855&W1855=V1854&W1854,X1854+1,1)","v":2},{"$f":"V1855&U1855&T1855&X1855","v":"20291052"},{"$f":"S1855","v":"2029-10-11"}]
[null,null,null,null,null,null,null,null,null,null,null,null,null,null,null,null,null,null,"2029-10-18",{"$f":"WEEKDAY(S1856)","v":5},{"$f":"MONTH(S1856)","v":10},{"$f":"YEAR(S1856)","v":2029},{"$f":"T1856&U1856","v":"510"},{"$f":"IF(V1856&W1856=V1855&W1855,X1855+1,1)","v":3},{"$f":"V1856&U1856&T1856&X1856","v":"20291053"},{"$f":"S1856","v":"2029-10-18"}]
[null,null,null,null,null,null,null,null,null,null,null,null,null,null,null,null,null,null,"2029-10-25",{"$f":"WEEKDAY(S1857)","v":5},{"$f":"MONTH(S1857)","v":10},{"$f":"YEAR(S1857)","v":2029},{"$f":"T1857&U1857","v":"510"},{"$f":"IF(V1857&W1857=V1856&W1856,X1856+1,1)","v":4},{"$f":"V1857&U1857&T1857&X1857","v":"20291054"},{"$f":"S1857","v":"2029-10-25"}]
[null,null,null,null,null,null,null,null,null,null,null,null,null,null,null,null,null,null,"2029-10-05",{"$f":"WEEKDAY(S1858)","v":6},{"$f":"MONTH(S1858)","v":10},{"$f":"YEAR(S1858)","v":2029},{"$f":"T1858&U1858","v":"610"},{"$f":"IF(V1858&W1858=V1857&W1857,X1857+1,1)","v":1},{"$f":"V1858&U1858&T1858&X1858","v":"20291061"},{"$f":"S1858","v":"2029-10-05"}]
[null,null,null,null,null,null,null,null,null,null,null,null,null,null,null,null,null,null,"2029-10-12",{"$f":"WEEKDAY(S1859)","v":6},{"$f":"MONTH(S1859)","v":10},{"$f":"YEAR(S1859)","v":2029},{"$f":"T1859&U1859","v":"610"},{"$f":"IF(V1859&W1859=V1858&W1858,X1858+1,1)","v":2},{"$f":"V1859&U1859&T1859&X1859","v":"20291062"},{"$f":"S1859","v":"2029-10-12"}]
[null,null,null,null,null,null,null,null,null,null,null,null,null,null,null,null,null,null,"2029-10-19",{"$f":"WEEKDAY(S1860)","v":6},{"$f":"MONTH(S1860)","v":10},{"$f":"YEAR(S1860)","v":2029},{"$f":"T1860&U1860","v":"610"},{"$f":"IF(V1860&W1860=V1859&W1859,X1859+1,1)","v":3},{"$f":"V1860&U1860&T1860&X1860","v":"20291063"},{"$f":"S1860","v":"2029-10-19"}]
[null,null,null,null,null,null,null,null,null,null,null,null,null,null,null,null,null,null,"2029-10-26",{"$f":"WEEKDAY(S1861)","v":6},{"$f":"MONTH(S1861)","v":10},{"$f":"YEAR(S1861)","v":2029},{"$f":"T1861&U1861","v":"610"},{"$f":"IF(V1861&W1861=V1860&W1860,X1860+1,1)","v":4},{"$f":"V1861&U1861&T1861&X1861","v":"20291064"},{"$f":"S1861","v":"2029-10-26"}]
[null,null,null,null,null,null,null,null,null,null,null,null,null,null,null,null,null,null,"2029-10-06",{"$f":"WEEKDAY(S1862)","v":7},{"$f":"MONTH(S1862)","v":10},{"$f":"YEAR(S1862)","v":2029},{"$f":"T1862&U1862","v":"710"},{"$f":"IF(V1862&W1862=V1861&W1861,X1861+1,1)","v":1},{"$f":"V1862&U1862&T1862&X1862","v":"20291071"},{"$f":"S1862","v":"2029-10-06"}]
[null,null,null,null,null,null,null,null,null,null,null,null,null,null,null,null,null,null,"2029-10-13",{"$f":"WEEKDAY(S1863)","v":7},{"$f":"MONTH(S1863)","v":10},{"$f":"YEAR(S1863)","v":2029},{"$f":"T1863&U1863","v":"710"},{"$f":"IF(V1863&W1863=V1862&W1862,X1862+1,1)","v":2},{"$f":"V1863&U1863&T1863&X1863","v":"20291072"},{"$f":"S1863","v":"2029-10-13"}]
[null,null,null,null,null,null,null,null,null,null,null,null,null,null,null,null,null,null,"2029-10-20",{"$f":"WEEKDAY(S1864)","v":7},{"$f":"MONTH(S1864)","v":10},{"$f":"YEAR(S1864)","v":2029},{"$f":"T1864&U1864","v":"710"},{"$f":"IF(V1864&W1864=V1863&W1863,X1863+1,1)","v":3},{"$f":"V1864&U1864&T1864&X1864","v":"20291073"},{"$f":"S1864","v":"2029-10-20"}]
[null,null,null,null,null,null,null,null,null,null,null,null,null,null,null,null,null,null,"2029-10-27",{"$f":"WEEKDAY(S1865)","v":7},{"$f":"MONTH(S1865)","v":10},{"$f":"YEAR(S1865)","v":2029},{"$f":"T1865&U1865","v":"710"},{"$f":"IF(V1865&W1865=V1864&W1864,X1864+1,1)","v":4},{"$f":"V1865&U1865&T1865&X1865","v":"20291074"},{"$f":"S1865","v":"2029-10-27"}]
[null,null,null,null,null,null,null,null,null,null,null,null,null,null,null,null,null,null,"2029-01-07",{"$f":"WEEKDAY(S1866)","v":1},{"$f":"MONTH(S1866)","v":1},{"$f":"YEAR(S1866)","v":2029},{"$f":"T1866&U1866","v":"11"},{"$f":"IF(V1866&W1866=V1865&W1865,X1865+1,1)","v":1},{"$f":"V1866&U1866&T1866&X1866","v":"2029111"},{"$f":"S1866","v":"2029-01-07"}]
[null,null,null,null,null,null,null,null,null,null,null,null,null,null,null,null,null,null,"2029-11-04",{"$f":"WEEKDAY(S1867)","v":1},{"$f":"MONTH(S1867)","v":11},{"$f":"YEAR(S1867)","v":2029},{"$f":"T1867&U1867","v":"111"},{"$f":"IF(V1867&W1867=V1866&W1866,X1866+1,1)","v":1},{"$f":"V1867&U1867&T1867&X1867","v":"20291111"},{"$f":"S1867","v":"2029-11-04"}]
[null,null,null,null,null,null,null,null,null,null,null,null,null,null,null,null,null,null,"2029-11-11",{"$f":"WEEKDAY(S1868)","v":1},{"$f":"MONTH(S1868)","v":11},{"$f":"YEAR(S1868)","v":2029},{"$f":"T1868&U1868","v":"111"},{"$f":"IF(V1868&W1868=V1867&W1867,X1867+1,1)","v":2},{"$f":"V1868&U1868&T1868&X1868","v":"20291112"},{"$f":"S1868","v":"2029-11-11"}]
[null,null,null,null,null,null,null,null,null,null,null,null,null,null,null,null,null,null,"2029-11-18",{"$f":"WEEKDAY(S1869)","v":1},{"$f":"MONTH(S1869)","v":11},{"$f":"YEAR(S1869)","v":2029},{"$f":"T1869&U1869","v":"111"},{"$f":"IF(V1869&W1869=V1868&W1868,X1868+1,1)","v":3},{"$f":"V1869&U1869&T1869&X1869","v":"20291113"},{"$f":"S1869","v":"2029-11-18"}]
[null,null,null,null,null,null,null,null,null,null,null,null,null,null,null,null,null,null,"2029-11-25",{"$f":"WEEKDAY(S1870)","v":1},{"$f":"MONTH(S1870)","v":11},{"$f":"YEAR(S1870)","v":2029},{"$f":"T1870&U1870","v":"111"},{"$f":"IF(V1870&W1870=V1869&W1869,X1869+1,1)","v":4},{"$f":"V1870&U1870&T1870&X1870","v":"20291114"},{"$f":"S1870","v":"2029-11-25"}]
[null,null,null,null,null,null,null,null,null,null,null,null,null,null,null,null,null,null,"2029-01-14",{"$f":"WEEKDAY(S1871)","v":1},{"$f":"MONTH(S1871)","v":1},{"$f":"YEAR(S1871)","v":2029},{"$f":"T1871&U1871","v":"11"},{"$f":"IF(V1871&W1871=V1870&W1870,X1870+1,1)","v":1},{"$f":"V1871&U1871&T1871&X1871","v":"2029111"},{"$f":"S1871","v":"2029-01-14"}]
[null,null,null,null,null,null,null,null,null,null,null,null,null,null,null,null,null,null,"2029-11-05",{"$f":"WEEKDAY(S1872)","v":2},{"$f":"MONTH(S1872)","v":11},{"$f":"YEAR(S1872)","v":2029},{"$f":"T1872&U1872","v":"211"},{"$f":"IF(V1872&W1872=V1871&W1871,X1871+1,1)","v":1},{"$f":"V1872&U1872&T1872&X1872","v":"20291121"},{"$f":"S1872","v":"2029-11-05"}]
[null,null,null,null,null,null,null,null,null,null,null,null,null,null,null,null,null,null,"2029-11-12",{"$f":"WEEKDAY(S1873)","v":2},{"$f":"MONTH(S1873)","v":11},{"$f":"YEAR(S1873)","v":2029},{"$f":"T1873&U1873","v":"211"},{"$f":"IF(V1873&W1873=V1872&W1872,X1872+1,1)","v":2},{"$f":"V1873&U1873&T1873&X1873","v":"20291122"},{"$f":"S1873","v":"2029-11-12"}]
[null,null,null,null,null,null,null,null,null,null,null,null,null,null,null,null,null,null,"2029-11-19",{"$f":"WEEKDAY(S1874)","v":2},{"$f":"MONTH(S1874)","v":11},{"$f":"YEAR(S1874)","v":2029},{"$f":"T1874&U1874","v":"211"},{"$f":"IF(V1874&W1874=V1873&W1873,X1873+1,1)","v":3},{"$f":"V1874&U1874&T1874&X1874","v":"20291123"},{"$f":"S1874","v":"2029-11-19"}]
[null,null,null,null,null,null,null,null,null,null,null,null,null,null,null,null,null,null,"2029-11-26",{"$f":"WEEKDAY(S1875)","v":2},{"$f":"MONTH(S1875)","v":11},{"$f":"YEAR(S1875)","v":2029},{"$f":"T1875&U1875","v":"211"},{"$f":"IF(V1875&W1875=V1874&W1874,X1874+1,1)","v":4},{"$f":"V1875&U1875&T1875&X1875","v":"20291124"},{"$f":"S1875","v":"2029-11-26"}]
[null,null,null,null,null,null,null,null,null,null,null,null,null,null,null,null,null,null,"2029-01-21",{"$f":"WEEKDAY(S1876)","v":1},{"$f":"MONTH(S1876)","v":1},{"$f":"YEAR(S1876)","v":2029},{"$f":"T1876&U1876","v":"11"},{"$f":"IF(V1876&W1876=V1875&W1875,X1875+1,1)","v":1},{"$f":"V1876&U1876&T1876&X1876","v":"2029111"},{"$f":"S1876","v":"2029-01-21"}]
[null,null,null,null,null,null,null,null,null,null,null,null,null,null,null,null,null,null,"2029-11-06",{"$f":"WEEKDAY(S1877)","v":3},{"$f":"MONTH(S1877)","v":11},{"$f":"YEAR(S1877)","v":2029},{"$f":"T1877&U1877","v":"311"},{"$f":"IF(V1877&W1877=V1876&W1876,X1876+1,1)","v":1},{"$f":"V1877&U1877&T1877&X1877","v":"20291131"},{"$f":"S1877","v":"2029-11-06"}]
[null,null,null,null,null,null,null,null,null,null,null,null,null,null,null,null,null,null,"2029-11-13",{"$f":"WEEKDAY(S1878)","v":3},{"$f":"MONTH(S1878)","v":11},{"$f":"YEAR(S1878)","v":2029},{"$f":"T1878&U1878","v":"311"},{"$f":"IF(V1878&W1878=V1877&W1877,X1877+1,1)","v":2},{"$f":"V1878&U1878&T1878&X1878","v":"20291132"},{"$f":"S1878","v":"2029-11-13"}]
[null,null,null,null,null,null,null,null,null,null,null,null,null,null,null,null,null,null,"2029-11-20",{"$f":"WEEKDAY(S1879)","v":3},{"$f":"MONTH(S1879)","v":11},{"$f":"YEAR(S1879)","v":2029},{"$f":"T1879&U1879","v":"311"},{"$f":"IF(V1879&W1879=V1878&W1878,X1878+1,1)","v":3},{"$f":"V1879&U1879&T1879&X1879","v":"20291133"},{"$f":"S1879","v":"2029-11-20"}]
[null,null,null,null,null,null,null,null,null,null,null,null,null,null,null,null,null,null,"2029-11-27",{"$f":"WEEKDAY(S1880)","v":3},{"$f":"MONTH(S1880)","v":11},{"$f":"YEAR(S1880)","v":2029},{"$f":"T1880&U1880","v":"311"},{"$f":"IF(V1880&W1880=V1879&W1879,X1879+1,1)","v":4},{"$f":"V1880&U1880&T1880&X1880","v":"20291134"},{"$f":"S1880","v":"2029-11-27"}]
[null,null,null,null,null,null,null,null,null,null,null,null,null,null,null,null,null,null,"2029-01-28",{"$f":"WEEKDAY(S1881)","v":1},{"$f":"MONTH(S1881)","v":1},{"$f":"YEAR(S1881)","v":2029},{"$f":"T1881&U1881","v":"11"},{"$f":"IF(V1881&W1881=V1880&W1880,X1880+1,1)","v":1},{"$f":"V1881&U1881&T1881&X1881","v":"2029111"},{"$f":"S1881","v":"2029-01-28"}]
[null,null,null,null,null,null,null,null,null,null,null,null,null,null,null,null,null,null,"2029-11-07",{"$f":"WEEKDAY(S1882)","v":4},{"$f":"MONTH(S1882)","v":11},{"$f":"YEAR(S1882)","v":2029},{"$f":"T1882&U1882","v":"411"},{"$f":"IF(V1882&W1882=V1881&W1881,X1881+1,1)","v":1},{"$f":"V1882&U1882&T1882&X1882","v":"20291141"},{"$f":"S1882","v":"2029-11-07"}]
[null,null,null,null,null,null,null,null,null,null,null,null,null,null,null,null,null,null,"2029-11-14",{"$f":"WEEKDAY(S1883)","v":4},{"$f":"MONTH(S1883)","v":11},{"$f":"YEAR(S1883)","v":2029},{"$f":"T1883&U1883","v":"411"},{"$f":"IF(V1883&W1883=V1882&W1882,X1882+1,1)","v":2},{"$f":"V1883&U1883&T1883&X1883","v":"20291142"},{"$f":"S1883","v":"2029-11-14"}]
[null,null,null,null,null,null,null,null,null,null,null,null,null,null,null,null,null,null,"2029-11-21",{"$f":"WEEKDAY(S1884)","v":4},{"$f":"MONTH(S1884)","v":11},{"$f":"YEAR(S1884)","v":2029},{"$f":"T1884&U1884","v":"411"},{"$f":"IF(V1884&W1884=V1883&W1883,X1883+1,1)","v":3},{"$f":"V1884&U1884&T1884&X1884","v":"20291143"},{"$f":"S1884","v":"2029-11-21"}]
[null,null,null,null,null,null,null,null,null,null,null,null,null,null,null,null,null,null,"2029-11-28",{"$f":"WEEKDAY(S1885)","v":4},{"$f":"MONTH(S1885)","v":11},{"$f":"YEAR(S1885)","v":2029},{"$f":"T1885&U1885","v":"411"},{"$f":"IF(V1885&W1885=V1884&W1884,X1884+1,1)","v":4},{"$f":"V1885&U1885&T1885&X1885","v":"20291144"},{"$f":"S1885","v":"2029-11-28"}]
[null,null,null,null,null,null,null,null,null,null,null,null,null,null,null,null,null,null,"2029-11-01",{"$f":"WEEKDAY(S1886)","v":5},{"$f":"MONTH(S1886)","v":11},{"$f":"YEAR(S1886)","v":2029},{"$f":"T1886&U1886","v":"511"},{"$f":"IF(V1886&W1886=V1885&W1885,X1885+1,1)","v":1},{"$f":"V1886&U1886&T1886&X1886","v":"20291151"},{"$f":"S1886","v":"2029-11-01"}]
[null,null,null,null,null,null,null,null,null,null,null,null,null,null,null,null,null,null,"2029-11-08",{"$f":"WEEKDAY(S1887)","v":5},{"$f":"MONTH(S1887)","v":11},{"$f":"YEAR(S1887)","v":2029},{"$f":"T1887&U1887","v":"511"},{"$f":"IF(V1887&W1887=V1886&W1886,X1886+1,1)","v":2},{"$f":"V1887&U1887&T1887&X1887","v":"20291152"},{"$f":"S1887","v":"2029-11-08"}]
[null,null,null,null,null,null,null,null,null,null,null,null,null,null,null,null,null,null,"2029-11-15",{"$f":"WEEKDAY(S1888)","v":5},{"$f":"MONTH(S1888)","v":11},{"$f":"YEAR(S1888)","v":2029},{"$f":"T1888&U1888","v":"511"},{"$f":"IF(V1888&W1888=V1887&W1887,X1887+1,1)","v":3},{"$f":"V1888&U1888&T1888&X1888","v":"20291153"},{"$f":"S1888","v":"2029-11-15"}]
[null,null,null,null,null,null,null,null,null,null,null,null,null,null,null,null,null,null,"2029-11-22",{"$f":"WEEKDAY(S1889)","v":5},{"$f":"MONTH(S1889)","v":11},{"$f":"YEAR(S1889)","v":2029},{"$f":"T1889&U1889","v":"511"},{"$f":"IF(V1889&W1889=V1888&W1888,X1888+1,1)","v":4},{"$f":"V1889&U1889&T1889&X1889","v":"20291154"},{"$f":"S1889","v":"2029-11-22"}]
[null,null,null,null,null,null,null,null,null,null,null,null,null,null,null,null,null,null,"2029-11-29",{"$f":"WEEKDAY(S1890)","v":5},{"$f":"MONTH(S1890)","v":11},{"$f":"YEAR(S1890)","v":2029},{"$f":"T1890&U1890","v":"511"},{"$f":"IF(V1890&W1890=V1889&W1889,X1889+1,1)","v":5},{"$f":"V1890&U1890&T1890&X1890","v":"20291155"},{"$f":"S1890","v":"2029-11-29"}]
[null,null,null,null,null,null,null,null,null,null,null,null,null,null,null,null,null,null,"2029-11-02",{"$f":"WEEKDAY(S1891)","v":6},{"$f":"MONTH(S1891)","v":11},{"$f":"YEAR(S1891)","v":2029},{"$f":"T1891&U1891","v":"611"},{"$f":"IF(V1891&W1891=V1890&W1890,X1890+1,1)","v":1},{"$f":"V1891&U1891&T1891&X1891","v":"20291161"},{"$f":"S1891","v":"2029-11-02"}]
[null,null,null,null,null,null,null,null,null,null,null,null,null,null,null,null,null,null,"2029-11-09",{"$f":"WEEKDAY(S1892)","v":6},{"$f":"MONTH(S1892)","v":11},{"$f":"YEAR(S1892)","v":2029},{"$f":"T1892&U1892","v":"611"},{"$f":"IF(V1892&W1892=V1891&W1891,X1891+1,1)","v":2},{"$f":"V1892&U1892&T1892&X1892","v":"20291162"},{"$f":"S1892","v":"2029-11-09"}]
[null,null,null,null,null,null,null,null,null,null,null,null,null,null,null,null,null,null,"2029-11-16",{"$f":"WEEKDAY(S1893)","v":6},{"$f":"MONTH(S1893)","v":11},{"$f":"YEAR(S1893)","v":2029},{"$f":"T1893&U1893","v":"611"},{"$f":"IF(V1893&W1893=V1892&W1892,X1892+1,1)","v":3},{"$f":"V1893&U1893&T1893&X1893","v":"20291163"},{"$f":"S1893","v":"2029-11-16"}]
[null,null,null,null,null,null,null,null,null,null,null,null,null,null,null,null,null,null,"2029-11-23",{"$f":"WEEKDAY(S1894)","v":6},{"$f":"MONTH(S1894)","v":11},{"$f":"YEAR(S1894)","v":2029},{"$f":"T1894&U1894","v":"611"},{"$f":"IF(V1894&W1894=V1893&W1893,X1893+1,1)","v":4},{"$f":"V1894&U1894&T1894&X1894","v":"20291164"},{"$f":"S1894","v":"2029-11-23"}]
[null,null,null,null,null,null,null,null,null,null,null,null,null,null,null,null,null,null,"2029-11-30",{"$f":"WEEKDAY(S1895)","v":6},{"$f":"MONTH(S1895)","v":11},{"$f":"YEAR(S1895)","v":2029},{"$f":"T1895&U1895","v":"611"},{"$f":"IF(V1895&W1895=V1894&W1894,X1894+1,1)","v":5},{"$f":"V1895&U1895&T1895&X1895","v":"20291165"},{"$f":"S1895","v":"2029-11-30"}]
[null,null,null,null,null,null,null,null,null,null,null,null,null,null,null,null,null,null,"2029-11-03",{"$f":"WEEKDAY(S1896)","v":7},{"$f":"MONTH(S1896)","v":11},{"$f":"YEAR(S1896)","v":2029},{"$f":"T1896&U1896","v":"711"},{"$f":"IF(V1896&W1896=V1895&W1895,X1895+1,1)","v":1},{"$f":"V1896&U1896&T1896&X1896","v":"20291171"},{"$f":"S1896","v":"2029-11-03"}]
[null,null,null,null,null,null,null,null,null,null,null,null,null,null,null,null,null,null,"2029-11-10",{"$f":"WEEKDAY(S1897)","v":7},{"$f":"MONTH(S1897)","v":11},{"$f":"YEAR(S1897)","v":2029},{"$f":"T1897&U1897","v":"711"},{"$f":"IF(V1897&W1897=V1896&W1896,X1896+1,1)","v":2},{"$f":"V1897&U1897&T1897&X1897","v":"20291172"},{"$f":"S1897","v":"2029-11-10"}]
[null,null,null,null,null,null,null,null,null,null,null,null,null,null,null,null,null,null,"2029-11-17",{"$f":"WEEKDAY(S1898)","v":7},{"$f":"MONTH(S1898)","v":11},{"$f":"YEAR(S1898)","v":2029},{"$f":"T1898&U1898","v":"711"},{"$f":"IF(V1898&W1898=V1897&W1897,X1897+1,1)","v":3},{"$f":"V1898&U1898&T1898&X1898","v":"20291173"},{"$f":"S1898","v":"2029-11-17"}]
[null,null,null,null,null,null,null,null,null,null,null,null,null,null,null,null,null,null,"2029-11-24",{"$f":"WEEKDAY(S1899)","v":7},{"$f":"MONTH(S1899)","v":11},{"$f":"YEAR(S1899)","v":2029},{"$f":"T1899&U1899","v":"711"},{"$f":"IF(V1899&W1899=V1898&W1898,X1898+1,1)","v":4},{"$f":"V1899&U1899&T1899&X1899","v":"20291174"},{"$f":"S1899","v":"2029-11-24"}]
[null,null,null,null,null,null,null,null,null,null,null,null,null,null,null,null,null,null,"2029-01-01",{"$f":"WEEKDAY(S1900)","v":2},{"$f":"MONTH(S1900)","v":1},{"$f":"YEAR(S1900)","v":2029},{"$f":"T1900&U1900","v":"21"},{"$f":"IF(V1900&W1900=V1899&W1899,X1899+1,1)","v":1},{"$f":"V1900&U1900&T1900&X1900","v":"2029121"},{"$f":"S1900","v":"2029-01-01"}]
[null,null,null,null,null,null,null,null,null,null,null,null,null,null,null,null,null,null,"2029-12-02",{"$f":"WEEKDAY(S1901)","v":1},{"$f":"MONTH(S1901)","v":12},{"$f":"YEAR(S1901)","v":2029},{"$f":"T1901&U1901","v":"112"},{"$f":"IF(V1901&W1901=V1900&W1900,X1900+1,1)","v":1},{"$f":"V1901&U1901&T1901&X1901","v":"20291211"},{"$f":"S1901","v":"2029-12-02"}]
[null,null,null,null,null,null,null,null,null,null,null,null,null,null,null,null,null,null,"2029-12-09",{"$f":"WEEKDAY(S1902)","v":1},{"$f":"MONTH(S1902)","v":12},{"$f":"YEAR(S1902)","v":2029},{"$f":"T1902&U1902","v":"112"},{"$f":"IF(V1902&W1902=V1901&W1901,X1901+1,1)","v":2},{"$f":"V1902&U1902&T1902&X1902","v":"20291212"},{"$f":"S1902","v":"2029-12-09"}]
[null,null,null,null,null,null,null,null,null,null,null,null,null,null,null,null,null,null,"2029-12-16",{"$f":"WEEKDAY(S1903)","v":1},{"$f":"MONTH(S1903)","v":12},{"$f":"YEAR(S1903)","v":2029},{"$f":"T1903&U1903","v":"112"},{"$f":"IF(V1903&W1903=V1902&W1902,X1902+1,1)","v":3},{"$f":"V1903&U1903&T1903&X1903","v":"20291213"},{"$f":"S1903","v":"2029-12-16"}]
[null,null,null,null,null,null,null,null,null,null,null,null,null,null,null,null,null,null,"2029-12-23",{"$f":"WEEKDAY(S1904)","v":1},{"$f":"MONTH(S1904)","v":12},{"$f":"YEAR(S1904)","v":2029},{"$f":"T1904&U1904","v":"112"},{"$f":"IF(V1904&W1904=V1903&W1903,X1903+1,1)","v":4},{"$f":"V1904&U1904&T1904&X1904","v":"20291214"},{"$f":"S1904","v":"2029-12-23"}]
[null,null,null,null,null,null,null,null,null,null,null,null,null,null,null,null,null,null,"2029-12-30",{"$f":"WEEKDAY(S1905)","v":1},{"$f":"MONTH(S1905)","v":12},{"$f":"YEAR(S1905)","v":2029},{"$f":"T1905&U1905","v":"112"},{"$f":"IF(V1905&W1905=V1904&W1904,X1904+1,1)","v":5},{"$f":"V1905&U1905&T1905&X1905","v":"20291215"},{"$f":"S1905","v":"2029-12-30"}]
[null,null,null,null,null,null,null,null,null,null,null,null,null,null,null,null,null,null,"2029-01-08",{"$f":"WEEKDAY(S1906)","v":2},{"$f":"MONTH(S1906)","v":1},{"$f":"YEAR(S1906)","v":2029},{"$f":"T1906&U1906","v":"21"},{"$f":"IF(V1906&W1906=V1905&W1905,X1905+1,1)","v":1},{"$f":"V1906&U1906&T1906&X1906","v":"2029121"},{"$f":"S1906","v":"2029-01-08"}]
[null,null,null,null,null,null,null,null,null,null,null,null,null,null,null,null,null,null,"2029-12-03",{"$f":"WEEKDAY(S1907)","v":2},{"$f":"MONTH(S1907)","v":12},{"$f":"YEAR(S1907)","v":2029},{"$f":"T1907&U1907","v":"212"},{"$f":"IF(V1907&W1907=V1906&W1906,X1906+1,1)","v":1},{"$f":"V1907&U1907&T1907&X1907","v":"20291221"},{"$f":"S1907","v":"2029-12-03"}]
[null,null,null,null,null,null,null,null,null,null,null,null,null,null,null,null,null,null,"2029-12-10",{"$f":"WEEKDAY(S1908)","v":2},{"$f":"MONTH(S1908)","v":12},{"$f":"YEAR(S1908)","v":2029},{"$f":"T1908&U1908","v":"212"},{"$f":"IF(V1908&W1908=V1907&W1907,X1907+1,1)","v":2},{"$f":"V1908&U1908&T1908&X1908","v":"20291222"},{"$f":"S1908","v":"2029-12-10"}]
[null,null,null,null,null,null,null,null,null,null,null,null,null,null,null,null,null,null,"2029-12-17",{"$f":"WEEKDAY(S1909)","v":2},{"$f":"MONTH(S1909)","v":12},{"$f":"YEAR(S1909)","v":2029},{"$f":"T1909&U1909","v":"212"},{"$f":"IF(V1909&W1909=V1908&W1908,X1908+1,1)","v":3},{"$f":"V1909&U1909&T1909&X1909","v":"20291223"},{"$f":"S1909","v":"2029-12-17"}]
[null,null,null,null,null,null,null,null,null,null,null,null,null,null,null,null,null,null,"2029-12-24",{"$f":"WEEKDAY(S1910)","v":2},{"$f":"MONTH(S1910)","v":12},{"$f":"YEAR(S1910)","v":2029},{"$f":"T1910&U1910","v":"212"},{"$f":"IF(V1910&W1910=V1909&W1909,X1909+1,1)","v":4},{"$f":"V1910&U1910&T1910&X1910","v":"20291224"},{"$f":"S1910","v":"2029-12-24"}]
[null,null,null,null,null,null,null,null,null,null,null,null,null,null,null,null,null,null,"2029-12-31",{"$f":"WEEKDAY(S1911)","v":2},{"$f":"MONTH(S1911)","v":12},{"$f":"YEAR(S1911)","v":2029},{"$f":"T1911&U1911","v":"212"},{"$f":"IF(V1911&W1911=V1910&W1910,X1910+1,1)","v":5},{"$f":"V1911&U1911&T1911&X1911","v":"20291225"},{"$f":"S1911","v":"2029-12-31"}]
[null,null,null,null,null,null,null,null,null,null,null,null,null,null,null,null,null,null,"2029-01-15",{"$f":"WEEKDAY(S1912)","v":2},{"$f":"MONTH(S1912)","v":1},{"$f":"YEAR(S1912)","v":2029},{"$f":"T1912&U1912","v":"21"},{"$f":"IF(V1912&W1912=V1911&W1911,X1911+1,1)","v":1},{"$f":"V1912&U1912&T1912&X1912","v":"2029121"},{"$f":"S1912","v":"2029-01-15"}]
[null,null,null,null,null,null,null,null,null,null,null,null,null,null,null,null,null,null,"2029-12-04",{"$f":"WEEKDAY(S1913)","v":3},{"$f":"MONTH(S1913)","v":12},{"$f":"YEAR(S1913)","v":2029},{"$f":"T1913&U1913","v":"312"},{"$f":"IF(V1913&W1913=V1912&W1912,X1912+1,1)","v":1},{"$f":"V1913&U1913&T1913&X1913","v":"20291231"},{"$f":"S1913","v":"2029-12-04"}]
[null,null,null,null,null,null,null,null,null,null,null,null,null,null,null,null,null,null,"2029-12-11",{"$f":"WEEKDAY(S1914)","v":3},{"$f":"MONTH(S1914)","v":12},{"$f":"YEAR(S1914)","v":2029},{"$f":"T1914&U1914","v":"312"},{"$f":"IF(V1914&W1914=V1913&W1913,X1913+1,1)","v":2},{"$f":"V1914&U1914&T1914&X1914","v":"20291232"},{"$f":"S1914","v":"2029-12-11"}]
[null,null,null,null,null,null,null,null,null,null,null,null,null,null,null,null,null,null,"2029-12-18",{"$f":"WEEKDAY(S1915)","v":3},{"$f":"MONTH(S1915)","v":12},{"$f":"YEAR(S1915)","v":2029},{"$f":"T1915&U1915","v":"312"},{"$f":"IF(V1915&W1915=V1914&W1914,X1914+1,1)","v":3},{"$f":"V1915&U1915&T1915&X1915","v":"20291233"},{"$f":"S1915","v":"2029-12-18"}]
[null,null,null,null,null,null,null,null,null,null,null,null,null,null,null,null,null,null,"2029-12-25",{"$f":"WEEKDAY(S1916)","v":3},{"$f":"MONTH(S1916)","v":12},{"$f":"YEAR(S1916)","v":2029},{"$f":"T1916&U1916","v":"312"},{"$f":"IF(V1916&W1916=V1915&W1915,X1915+1,1)","v":4},{"$f":"V1916&U1916&T1916&X1916","v":"20291234"},{"$f":"S1916","v":"2029-12-25"}]
[null,null,null,null,null,null,null,null,null,null,null,null,null,null,null,null,null,null,"2029-01-22",{"$f":"WEEKDAY(S1917)","v":2},{"$f":"MONTH(S1917)","v":1},{"$f":"YEAR(S1917)","v":2029},{"$f":"T1917&U1917","v":"21"},{"$f":"IF(V1917&W1917=V1916&W1916,X1916+1,1)","v":1},{"$f":"V1917&U1917&T1917&X1917","v":"2029121"},{"$f":"S1917","v":"2029-01-22"}]
[null,null,null,null,null,null,null,null,null,null,null,null,null,null,null,null,null,null,"2029-12-05",{"$f":"WEEKDAY(S1918)","v":4},{"$f":"MONTH(S1918)","v":12},{"$f":"YEAR(S1918)","v":2029},{"$f":"T1918&U1918","v":"412"},{"$f":"IF(V1918&W1918=V1917&W1917,X1917+1,1)","v":1},{"$f":"V1918&U1918&T1918&X1918","v":"20291241"},{"$f":"S1918","v":"2029-12-05"}]
[null,null,null,null,null,null,null,null,null,null,null,null,null,null,null,null,null,null,"2029-12-12",{"$f":"WEEKDAY(S1919)","v":4},{"$f":"MONTH(S1919)","v":12},{"$f":"YEAR(S1919)","v":2029},{"$f":"T1919&U1919","v":"412"},{"$f":"IF(V1919&W1919=V1918&W1918,X1918+1,1)","v":2},{"$f":"V1919&U1919&T1919&X1919","v":"20291242"},{"$f":"S1919","v":"2029-12-12"}]
[null,null,null,null,null,null,null,null,null,null,null,null,null,null,null,null,null,null,"2029-12-19",{"$f":"WEEKDAY(S1920)","v":4},{"$f":"MONTH(S1920)","v":12},{"$f":"YEAR(S1920)","v":2029},{"$f":"T1920&U1920","v":"412"},{"$f":"IF(V1920&W1920=V1919&W1919,X1919+1,1)","v":3},{"$f":"V1920&U1920&T1920&X1920","v":"20291243"},{"$f":"S1920","v":"2029-12-19"}]
[null,null,null,null,null,null,null,null,null,null,null,null,null,null,null,null,null,null,"2029-12-26",{"$f":"WEEKDAY(S1921)","v":4},{"$f":"MONTH(S1921)","v":12},{"$f":"YEAR(S1921)","v":2029},{"$f":"T1921&U1921","v":"412"},{"$f":"IF(V1921&W1921=V1920&W1920,X1920+1,1)","v":4},{"$f":"V1921&U1921&T1921&X1921","v":"20291244"},{"$f":"S1921","v":"2029-12-26"}]
[null,null,null,null,null,null,null,null,null,null,null,null,null,null,null,null,null,null,"2029-01-29",{"$f":"WEEKDAY(S1922)","v":2},{"$f":"MONTH(S1922)","v":1},{"$f":"YEAR(S1922)","v":2029},{"$f":"T1922&U1922","v":"21"},{"$f":"IF(V1922&W1922=V1921&W1921,X1921+1,1)","v":1},{"$f":"V1922&U1922&T1922&X1922","v":"2029121"},{"$f":"S1922","v":"2029-01-29"}]
[null,null,null,null,null,null,null,null,null,null,null,null,null,null,null,null,null,null,"2029-12-06",{"$f":"WEEKDAY(S1923)","v":5},{"$f":"MONTH(S1923)","v":12},{"$f":"YEAR(S1923)","v":2029},{"$f":"T1923&U1923","v":"512"},{"$f":"IF(V1923&W1923=V1922&W1922,X1922+1,1)","v":1},{"$f":"V1923&U1923&T1923&X1923","v":"20291251"},{"$f":"S1923","v":"2029-12-06"}]
[null,null,null,null,null,null,null,null,null,null,null,null,null,null,null,null,null,null,"2029-12-13",{"$f":"WEEKDAY(S1924)","v":5},{"$f":"MONTH(S1924)","v":12},{"$f":"YEAR(S1924)","v":2029},{"$f":"T1924&U1924","v":"512"},{"$f":"IF(V1924&W1924=V1923&W1923,X1923+1,1)","v":2},{"$f":"V1924&U1924&T1924&X1924","v":"20291252"},{"$f":"S1924","v":"2029-12-13"}]
[null,null,null,null,null,null,null,null,null,null,null,null,null,null,null,null,null,null,"2029-12-20",{"$f":"WEEKDAY(S1925)","v":5},{"$f":"MONTH(S1925)","v":12},{"$f":"YEAR(S1925)","v":2029},{"$f":"T1925&U1925","v":"512"},{"$f":"IF(V1925&W1925=V1924&W1924,X1924+1,1)","v":3},{"$f":"V1925&U1925&T1925&X1925","v":"20291253"},{"$f":"S1925","v":"2029-12-20"}]
[null,null,null,null,null,null,null,null,null,null,null,null,null,null,null,null,null,null,"2029-12-27",{"$f":"WEEKDAY(S1926)","v":5},{"$f":"MONTH(S1926)","v":12},{"$f":"YEAR(S1926)","v":2029},{"$f":"T1926&U1926","v":"512"},{"$f":"IF(V1926&W1926=V1925&W1925,X1925+1,1)","v":4},{"$f":"V1926&U1926&T1926&X1926","v":"20291254"},{"$f":"S1926","v":"2029-12-27"}]
[null,null,null,null,null,null,null,null,null,null,null,null,null,null,null,null,null,null,"2029-12-07",{"$f":"WEEKDAY(S1927)","v":6},{"$f":"MONTH(S1927)","v":12},{"$f":"YEAR(S1927)","v":2029},{"$f":"T1927&U1927","v":"612"},{"$f":"IF(V1927&W1927=V1926&W1926,X1926+1,1)","v":1},{"$f":"V1927&U1927&T1927&X1927","v":"20291261"},{"$f":"S1927","v":"2029-12-07"}]
[null,null,null,null,null,null,null,null,null,null,null,null,null,null,null,null,null,null,"2029-12-14",{"$f":"WEEKDAY(S1928)","v":6},{"$f":"MONTH(S1928)","v":12},{"$f":"YEAR(S1928)","v":2029},{"$f":"T1928&U1928","v":"612"},{"$f":"IF(V1928&W1928=V1927&W1927,X1927+1,1)","v":2},{"$f":"V1928&U1928&T1928&X1928","v":"20291262"},{"$f":"S1928","v":"2029-12-14"}]
[null,null,null,null,null,null,null,null,null,null,null,null,null,null,null,null,null,null,"2029-12-21",{"$f":"WEEKDAY(S1929)","v":6},{"$f":"MONTH(S1929)","v":12},{"$f":"YEAR(S1929)","v":2029},{"$f":"T1929&U1929","v":"612"},{"$f":"IF(V1929&W1929=V1928&W1928,X1928+1,1)","v":3},{"$f":"V1929&U1929&T1929&X1929","v":"20291263"},{"$f":"S1929","v":"2029-12-21"}]
[null,null,null,null,null,null,null,null,null,null,null,null,null,null,null,null,null,null,"2029-12-28",{"$f":"WEEKDAY(S1930)","v":6},{"$f":"MONTH(S1930)","v":12},{"$f":"YEAR(S1930)","v":2029},{"$f":"T1930&U1930","v":"612"},{"$f":"IF(V1930&W1930=V1929&W1929,X1929+1,1)","v":4},{"$f":"V1930&U1930&T1930&X1930","v":"20291264"},{"$f":"S1930","v":"2029-12-28"}]
[null,null,null,null,null,null,null,null,null,null,null,null,null,null,null,null,null,null,"2029-12-01",{"$f":"WEEKDAY(S1931)","v":7},{"$f":"MONTH(S1931)","v":12},{"$f":"YEAR(S1931)","v":2029},{"$f":"T1931&U1931","v":"712"},{"$f":"IF(V1931&W1931=V1930&W1930,X1930+1,1)","v":1},{"$f":"V1931&U1931&T1931&X1931","v":"20291271"},{"$f":"S1931","v":"2029-12-01"}]
[null,null,null,null,null,null,null,null,null,null,null,null,null,null,null,null,null,null,"2029-12-08",{"$f":"WEEKDAY(S1932)","v":7},{"$f":"MONTH(S1932)","v":12},{"$f":"YEAR(S1932)","v":2029},{"$f":"T1932&U1932","v":"712"},{"$f":"IF(V1932&W1932=V1931&W1931,X1931+1,1)","v":2},{"$f":"V1932&U1932&T1932&X1932","v":"20291272"},{"$f":"S1932","v":"2029-12-08"}]
[null,null,null,null,null,null,null,null,null,null,null,null,null,null,null,null,null,null,"2029-12-15",{"$f":"WEEKDAY(S1933)","v":7},{"$f":"MONTH(S1933)","v":12},{"$f":"YEAR(S1933)","v":2029},{"$f":"T1933&U1933","v":"712"},{"$f":"IF(V1933&W1933=V1932&W1932,X1932+1,1)","v":3},{"$f":"V1933&U1933&T1933&X1933","v":"20291273"},{"$f":"S1933","v":"2029-12-15"}]
[null,null,null,null,null,null,null,null,null,null,null,null,null,null,null,null,null,null,"2029-12-22",{"$f":"WEEKDAY(S1934)","v":7},{"$f":"MONTH(S1934)","v":12},{"$f":"YEAR(S1934)","v":2029},{"$f":"T1934&U1934","v":"712"},{"$f":"IF(V1934&W1934=V1933&W1933,X1933+1,1)","v":4},{"$f":"V1934&U1934&T1934&X1934","v":"20291274"},{"$f":"S1934","v":"2029-12-22"}]
[null,null,null,null,null,null,null,null,null,null,null,null,null,null,null,null,null,null,"2029-12-29",{"$f":"WEEKDAY(S1935)","v":7},{"$f":"MONTH(S1935)","v":12},{"$f":"YEAR(S1935)","v":2029},{"$f":"T1935&U1935","v":"712"},{"$f":"IF(V1935&W1935=V1934&W1934,X1934+1,1)","v":5},{"$f":"V1935&U1935&T1935&X1935","v":"20291275"},{"$f":"S1935","v":"2029-12-29"}]
[null,null,null,null,null,null,null,null,null,null,null,null,null,null,null,null,null,null,"2029-01-02",{"$f":"WEEKDAY(S1936)","v":3},{"$f":"MONTH(S1936)","v":1},{"$f":"YEAR(S1936)","v":2029},{"$f":"T1936&U1936","v":"31"},{"$f":"IF(V1936&W1936=V1935&W1935,X1935+1,1)","v":1},{"$f":"V1936&U1936&T1936&X1936","v":"2029131"},{"$f":"S1936","v":"2029-01-02"}]
[null,null,null,null,null,null,null,null,null,null,null,null,null,null,null,null,null,null,"2029-01-09",{"$f":"WEEKDAY(S1937)","v":3},{"$f":"MONTH(S1937)","v":1},{"$f":"YEAR(S1937)","v":2029},{"$f":"T1937&U1937","v":"31"},{"$f":"IF(V1937&W1937=V1936&W1936,X1936+1,1)","v":2},{"$f":"V1937&U1937&T1937&X1937","v":"2029132"},{"$f":"S1937","v":"2029-01-09"}]
[null,null,null,null,null,null,null,null,null,null,null,null,null,null,null,null,null,null,"2029-01-16",{"$f":"WEEKDAY(S1938)","v":3},{"$f":"MONTH(S1938)","v":1},{"$f":"YEAR(S1938)","v":2029},{"$f":"T1938&U1938","v":"31"},{"$f":"IF(V1938&W1938=V1937&W1937,X1937+1,1)","v":3},{"$f":"V1938&U1938&T1938&X1938","v":"2029133"},{"$f":"S1938","v":"2029-01-16"}]
[null,null,null,null,null,null,null,null,null,null,null,null,null,null,null,null,null,null,"2029-01-23",{"$f":"WEEKDAY(S1939)","v":3},{"$f":"MONTH(S1939)","v":1},{"$f":"YEAR(S1939)","v":2029},{"$f":"T1939&U1939","v":"31"},{"$f":"IF(V1939&W1939=V1938&W1938,X1938+1,1)","v":4},{"$f":"V1939&U1939&T1939&X1939","v":"2029134"},{"$f":"S1939","v":"2029-01-23"}]
[null,null,null,null,null,null,null,null,null,null,null,null,null,null,null,null,null,null,"2029-01-30",{"$f":"WEEKDAY(S1940)","v":3},{"$f":"MONTH(S1940)","v":1},{"$f":"YEAR(S1940)","v":2029},{"$f":"T1940&U1940","v":"31"},{"$f":"IF(V1940&W1940=V1939&W1939,X1939+1,1)","v":5},{"$f":"V1940&U1940&T1940&X1940","v":"2029135"},{"$f":"S1940","v":"2029-01-30"}]
[null,null,null,null,null,null,null,null,null,null,null,null,null,null,null,null,null,null,"2029-01-03",{"$f":"WEEKDAY(S1941)","v":4},{"$f":"MONTH(S1941)","v":1},{"$f":"YEAR(S1941)","v":2029},{"$f":"T1941&U1941","v":"41"},{"$f":"IF(V1941&W1941=V1940&W1940,X1940+1,1)","v":1},{"$f":"V1941&U1941&T1941&X1941","v":"2029141"},{"$f":"S1941","v":"2029-01-03"}]
[null,null,null,null,null,null,null,null,null,null,null,null,null,null,null,null,null,null,"2029-01-10",{"$f":"WEEKDAY(S1942)","v":4},{"$f":"MONTH(S1942)","v":1},{"$f":"YEAR(S1942)","v":2029},{"$f":"T1942&U1942","v":"41"},{"$f":"IF(V1942&W1942=V1941&W1941,X1941+1,1)","v":2},{"$f":"V1942&U1942&T1942&X1942","v":"2029142"},{"$f":"S1942","v":"2029-01-10"}]
[null,null,null,null,null,null,null,null,null,null,null,null,null,null,null,null,null,null,"2029-01-17",{"$f":"WEEKDAY(S1943)","v":4},{"$f":"MONTH(S1943)","v":1},{"$f":"YEAR(S1943)","v":2029},{"$f":"T1943&U1943","v":"41"},{"$f":"IF(V1943&W1943=V1942&W1942,X1942+1,1)","v":3},{"$f":"V1943&U1943&T1943&X1943","v":"2029143"},{"$f":"S1943","v":"2029-01-17"}]
[null,null,null,null,null,null,null,null,null,null,null,null,null,null,null,null,null,null,"2029-01-24",{"$f":"WEEKDAY(S1944)","v":4},{"$f":"MONTH(S1944)","v":1},{"$f":"YEAR(S1944)","v":2029},{"$f":"T1944&U1944","v":"41"},{"$f":"IF(V1944&W1944=V1943&W1943,X1943+1,1)","v":4},{"$f":"V1944&U1944&T1944&X1944","v":"2029144"},{"$f":"S1944","v":"2029-01-24"}]
[null,null,null,null,null,null,null,null,null,null,null,null,null,null,null,null,null,null,"2029-01-31",{"$f":"WEEKDAY(S1945)","v":4},{"$f":"MONTH(S1945)","v":1},{"$f":"YEAR(S1945)","v":2029},{"$f":"T1945&U1945","v":"41"},{"$f":"IF(V1945&W1945=V1944&W1944,X1944+1,1)","v":5},{"$f":"V1945&U1945&T1945&X1945","v":"2029145"},{"$f":"S1945","v":"2029-01-31"}]
[null,null,null,null,null,null,null,null,null,null,null,null,null,null,null,null,null,null,"2029-01-04",{"$f":"WEEKDAY(S1946)","v":5},{"$f":"MONTH(S1946)","v":1},{"$f":"YEAR(S1946)","v":2029},{"$f":"T1946&U1946","v":"51"},{"$f":"IF(V1946&W1946=V1945&W1945,X1945+1,1)","v":1},{"$f":"V1946&U1946&T1946&X1946","v":"2029151"},{"$f":"S1946","v":"2029-01-04"}]
[null,null,null,null,null,null,null,null,null,null,null,null,null,null,null,null,null,null,"2029-01-11",{"$f":"WEEKDAY(S1947)","v":5},{"$f":"MONTH(S1947)","v":1},{"$f":"YEAR(S1947)","v":2029},{"$f":"T1947&U1947","v":"51"},{"$f":"IF(V1947&W1947=V1946&W1946,X1946+1,1)","v":2},{"$f":"V1947&U1947&T1947&X1947","v":"2029152"},{"$f":"S1947","v":"2029-01-11"}]
[null,null,null,null,null,null,null,null,null,null,null,null,null,null,null,null,null,null,"2029-01-18",{"$f":"WEEKDAY(S1948)","v":5},{"$f":"MONTH(S1948)","v":1},{"$f":"YEAR(S1948)","v":2029},{"$f":"T1948&U1948","v":"51"},{"$f":"IF(V1948&W1948=V1947&W1947,X1947+1,1)","v":3},{"$f":"V1948&U1948&T1948&X1948","v":"2029153"},{"$f":"S1948","v":"2029-01-18"}]
[null,null,null,null,null,null,null,null,null,null,null,null,null,null,null,null,null,null,"2029-01-25",{"$f":"WEEKDAY(S1949)","v":5},{"$f":"MONTH(S1949)","v":1},{"$f":"YEAR(S1949)","v":2029},{"$f":"T1949&U1949","v":"51"},{"$f":"IF(V1949&W1949=V1948&W1948,X1948+1,1)","v":4},{"$f":"V1949&U1949&T1949&X1949","v":"2029154"},{"$f":"S1949","v":"2029-01-25"}]
[null,null,null,null,null,null,null,null,null,null,null,null,null,null,null,null,null,null,"2029-01-05",{"$f":"WEEKDAY(S1950)","v":6},{"$f":"MONTH(S1950)","v":1},{"$f":"YEAR(S1950)","v":2029},{"$f":"T1950&U1950","v":"61"},{"$f":"IF(V1950&W1950=V1949&W1949,X1949+1,1)","v":1},{"$f":"V1950&U1950&T1950&X1950","v":"2029161"},{"$f":"S1950","v":"2029-01-05"}]
[null,null,null,null,null,null,null,null,null,null,null,null,null,null,null,null,null,null,"2029-01-12",{"$f":"WEEKDAY(S1951)","v":6},{"$f":"MONTH(S1951)","v":1},{"$f":"YEAR(S1951)","v":2029},{"$f":"T1951&U1951","v":"61"},{"$f":"IF(V1951&W1951=V1950&W1950,X1950+1,1)","v":2},{"$f":"V1951&U1951&T1951&X1951","v":"2029162"},{"$f":"S1951","v":"2029-01-12"}]
[null,null,null,null,null,null,null,null,null,null,null,null,null,null,null,null,null,null,"2029-01-19",{"$f":"WEEKDAY(S1952)","v":6},{"$f":"MONTH(S1952)","v":1},{"$f":"YEAR(S1952)","v":2029},{"$f":"T1952&U1952","v":"61"},{"$f":"IF(V1952&W1952=V1951&W1951,X1951+1,1)","v":3},{"$f":"V1952&U1952&T1952&X1952","v":"2029163"},{"$f":"S1952","v":"2029-01-19"}]
[null,null,null,null,null,null,null,null,null,null,null,null,null,null,null,null,null,null,"2029-01-26",{"$f":"WEEKDAY(S1953)","v":6},{"$f":"MONTH(S1953)","v":1},{"$f":"YEAR(S1953)","v":2029},{"$f":"T1953&U1953","v":"61"},{"$f":"IF(V1953&W1953=V1952&W1952,X1952+1,1)","v":4},{"$f":"V1953&U1953&T1953&X1953","v":"2029164"},{"$f":"S1953","v":"2029-01-26"}]
[null,null,null,null,null,null,null,null,null,null,null,null,null,null,null,null,null,null,"2029-01-06",{"$f":"WEEKDAY(S1954)","v":7},{"$f":"MONTH(S1954)","v":1},{"$f":"YEAR(S1954)","v":2029},{"$f":"T1954&U1954","v":"71"},{"$f":"IF(V1954&W1954=V1953&W1953,X1953+1,1)","v":1},{"$f":"V1954&U1954&T1954&X1954","v":"2029171"},{"$f":"S1954","v":"2029-01-06"}]
[null,null,null,null,null,null,null,null,null,null,null,null,null,null,null,null,null,null,"2029-01-13",{"$f":"WEEKDAY(S1955)","v":7},{"$f":"MONTH(S1955)","v":1},{"$f":"YEAR(S1955)","v":2029},{"$f":"T1955&U1955","v":"71"},{"$f":"IF(V1955&W1955=V1954&W1954,X1954+1,1)","v":2},{"$f":"V1955&U1955&T1955&X1955","v":"2029172"},{"$f":"S1955","v":"2029-01-13"}]
[null,null,null,null,null,null,null,null,null,null,null,null,null,null,null,null,null,null,"2029-01-20",{"$f":"WEEKDAY(S1956)","v":7},{"$f":"MONTH(S1956)","v":1},{"$f":"YEAR(S1956)","v":2029},{"$f":"T1956&U1956","v":"71"},{"$f":"IF(V1956&W1956=V1955&W1955,X1955+1,1)","v":3},{"$f":"V1956&U1956&T1956&X1956","v":"2029173"},{"$f":"S1956","v":"2029-01-20"}]
[null,null,null,null,null,null,null,null,null,null,null,null,null,null,null,null,null,null,"2029-01-27",{"$f":"WEEKDAY(S1957)","v":7},{"$f":"MONTH(S1957)","v":1},{"$f":"YEAR(S1957)","v":2029},{"$f":"T1957&U1957","v":"71"},{"$f":"IF(V1957&W1957=V1956&W1956,X1956+1,1)","v":4},{"$f":"V1957&U1957&T1957&X1957","v":"2029174"},{"$f":"S1957","v":"2029-01-27"}]
[null,null,null,null,null,null,null,null,null,null,null,null,null,null,null,null,null,null,"2029-02-04",{"$f":"WEEKDAY(S1958)","v":1},{"$f":"MONTH(S1958)","v":2},{"$f":"YEAR(S1958)","v":2029},{"$f":"T1958&U1958","v":"12"},{"$f":"IF(V1958&W1958=V1957&W1957,X1957+1,1)","v":1},{"$f":"V1958&U1958&T1958&X1958","v":"2029211"},{"$f":"S1958","v":"2029-02-04"}]
[null,null,null,null,null,null,null,null,null,null,null,null,null,null,null,null,null,null,"2029-02-11",{"$f":"WEEKDAY(S1959)","v":1},{"$f":"MONTH(S1959)","v":2},{"$f":"YEAR(S1959)","v":2029},{"$f":"T1959&U1959","v":"12"},{"$f":"IF(V1959&W1959=V1958&W1958,X1958+1,1)","v":2},{"$f":"V1959&U1959&T1959&X1959","v":"2029212"},{"$f":"S1959","v":"2029-02-11"}]
[null,null,null,null,null,null,null,null,null,null,null,null,null,null,null,null,null,null,"2029-02-18",{"$f":"WEEKDAY(S1960)","v":1},{"$f":"MONTH(S1960)","v":2},{"$f":"YEAR(S1960)","v":2029},{"$f":"T1960&U1960","v":"12"},{"$f":"IF(V1960&W1960=V1959&W1959,X1959+1,1)","v":3},{"$f":"V1960&U1960&T1960&X1960","v":"2029213"},{"$f":"S1960","v":"2029-02-18"}]
[null,null,null,null,null,null,null,null,null,null,null,null,null,null,null,null,null,null,"2029-02-25",{"$f":"WEEKDAY(S1961)","v":1},{"$f":"MONTH(S1961)","v":2},{"$f":"YEAR(S1961)","v":2029},{"$f":"T1961&U1961","v":"12"},{"$f":"IF(V1961&W1961=V1960&W1960,X1960+1,1)","v":4},{"$f":"V1961&U1961&T1961&X1961","v":"2029214"},{"$f":"S1961","v":"2029-02-25"}]
[null,null,null,null,null,null,null,null,null,null,null,null,null,null,null,null,null,null,"2029-02-05",{"$f":"WEEKDAY(S1962)","v":2},{"$f":"MONTH(S1962)","v":2},{"$f":"YEAR(S1962)","v":2029},{"$f":"T1962&U1962","v":"22"},{"$f":"IF(V1962&W1962=V1961&W1961,X1961+1,1)","v":1},{"$f":"V1962&U1962&T1962&X1962","v":"2029221"},{"$f":"S1962","v":"2029-02-05"}]
[null,null,null,null,null,null,null,null,null,null,null,null,null,null,null,null,null,null,"2029-02-12",{"$f":"WEEKDAY(S1963)","v":2},{"$f":"MONTH(S1963)","v":2},{"$f":"YEAR(S1963)","v":2029},{"$f":"T1963&U1963","v":"22"},{"$f":"IF(V1963&W1963=V1962&W1962,X1962+1,1)","v":2},{"$f":"V1963&U1963&T1963&X1963","v":"2029222"},{"$f":"S1963","v":"2029-02-12"}]
[null,null,null,null,null,null,null,null,null,null,null,null,null,null,null,null,null,null,"2029-02-19",{"$f":"WEEKDAY(S1964)","v":2},{"$f":"MONTH(S1964)","v":2},{"$f":"YEAR(S1964)","v":2029},{"$f":"T1964&U1964","v":"22"},{"$f":"IF(V1964&W1964=V1963&W1963,X1963+1,1)","v":3},{"$f":"V1964&U1964&T1964&X1964","v":"2029223"},{"$f":"S1964","v":"2029-02-19"}]
[null,null,null,null,null,null,null,null,null,null,null,null,null,null,null,null,null,null,"2029-02-26",{"$f":"WEEKDAY(S1965)","v":2},{"$f":"MONTH(S1965)","v":2},{"$f":"YEAR(S1965)","v":2029},{"$f":"T1965&U1965","v":"22"},{"$f":"IF(V1965&W1965=V1964&W1964,X1964+1,1)","v":4},{"$f":"V1965&U1965&T1965&X1965","v":"2029224"},{"$f":"S1965","v":"2029-02-26"}]
[null,null,null,null,null,null,null,null,null,null,null,null,null,null,null,null,null,null,"2029-02-06",{"$f":"WEEKDAY(S1966)","v":3},{"$f":"MONTH(S1966)","v":2},{"$f":"YEAR(S1966)","v":2029},{"$f":"T1966&U1966","v":"32"},{"$f":"IF(V1966&W1966=V1965&W1965,X1965+1,1)","v":1},{"$f":"V1966&U1966&T1966&X1966","v":"2029231"},{"$f":"S1966","v":"2029-02-06"}]
[null,null,null,null,null,null,null,null,null,null,null,null,null,null,null,null,null,null,"2029-02-13",{"$f":"WEEKDAY(S1967)","v":3},{"$f":"MONTH(S1967)","v":2},{"$f":"YEAR(S1967)","v":2029},{"$f":"T1967&U1967","v":"32"},{"$f":"IF(V1967&W1967=V1966&W1966,X1966+1,1)","v":2},{"$f":"V1967&U1967&T1967&X1967","v":"2029232"},{"$f":"S1967","v":"2029-02-13"}]
[null,null,null,null,null,null,null,null,null,null,null,null,null,null,null,null,null,null,"2029-02-20",{"$f":"WEEKDAY(S1968)","v":3},{"$f":"MONTH(S1968)","v":2},{"$f":"YEAR(S1968)","v":2029},{"$f":"T1968&U1968","v":"32"},{"$f":"IF(V1968&W1968=V1967&W1967,X1967+1,1)","v":3},{"$f":"V1968&U1968&T1968&X1968","v":"2029233"},{"$f":"S1968","v":"2029-02-20"}]
[null,null,null,null,null,null,null,null,null,null,null,null,null,null,null,null,null,null,"2029-02-27",{"$f":"WEEKDAY(S1969)","v":3},{"$f":"MONTH(S1969)","v":2},{"$f":"YEAR(S1969)","v":2029},{"$f":"T1969&U1969","v":"32"},{"$f":"IF(V1969&W1969=V1968&W1968,X1968+1,1)","v":4},{"$f":"V1969&U1969&T1969&X1969","v":"2029234"},{"$f":"S1969","v":"2029-02-27"}]
[null,null,null,null,null,null,null,null,null,null,null,null,null,null,null,null,null,null,"2029-02-07",{"$f":"WEEKDAY(S1970)","v":4},{"$f":"MONTH(S1970)","v":2},{"$f":"YEAR(S1970)","v":2029},{"$f":"T1970&U1970","v":"42"},{"$f":"IF(V1970&W1970=V1969&W1969,X1969+1,1)","v":1},{"$f":"V1970&U1970&T1970&X1970","v":"2029241"},{"$f":"S1970","v":"2029-02-07"}]
[null,null,null,null,null,null,null,null,null,null,null,null,null,null,null,null,null,null,"2029-02-14",{"$f":"WEEKDAY(S1971)","v":4},{"$f":"MONTH(S1971)","v":2},{"$f":"YEAR(S1971)","v":2029},{"$f":"T1971&U1971","v":"42"},{"$f":"IF(V1971&W1971=V1970&W1970,X1970+1,1)","v":2},{"$f":"V1971&U1971&T1971&X1971","v":"2029242"},{"$f":"S1971","v":"2029-02-14"}]
[null,null,null,null,null,null,null,null,null,null,null,null,null,null,null,null,null,null,"2029-02-21",{"$f":"WEEKDAY(S1972)","v":4},{"$f":"MONTH(S1972)","v":2},{"$f":"YEAR(S1972)","v":2029},{"$f":"T1972&U1972","v":"42"},{"$f":"IF(V1972&W1972=V1971&W1971,X1971+1,1)","v":3},{"$f":"V1972&U1972&T1972&X1972","v":"2029243"},{"$f":"S1972","v":"2029-02-21"}]
[null,null,null,null,null,null,null,null,null,null,null,null,null,null,null,null,null,null,"2029-02-28",{"$f":"WEEKDAY(S1973)","v":4},{"$f":"MONTH(S1973)","v":2},{"$f":"YEAR(S1973)","v":2029},{"$f":"T1973&U1973","v":"42"},{"$f":"IF(V1973&W1973=V1972&W1972,X1972+1,1)","v":4},{"$f":"V1973&U1973&T1973&X1973","v":"2029244"},{"$f":"S1973","v":"2029-02-28"}]
[null,null,null,null,null,null,null,null,null,null,null,null,null,null,null,null,null,null,"2029-02-01",{"$f":"WEEKDAY(S1974)","v":5},{"$f":"MONTH(S1974)","v":2},{"$f":"YEAR(S1974)","v":2029},{"$f":"T1974&U1974","v":"52"},{"$f":"IF(V1974&W1974=V1973&W1973,X1973+1,1)","v":1},{"$f":"V1974&U1974&T1974&X1974","v":"2029251"},{"$f":"S1974","v":"2029-02-01"}]
[null,null,null,null,null,null,null,null,null,null,null,null,null,null,null,null,null,null,"2029-02-08",{"$f":"WEEKDAY(S1975)","v":5},{"$f":"MONTH(S1975)","v":2},{"$f":"YEAR(S1975)","v":2029},{"$f":"T1975&U1975","v":"52"},{"$f":"IF(V1975&W1975=V1974&W1974,X1974+1,1)","v":2},{"$f":"V1975&U1975&T1975&X1975","v":"2029252"},{"$f":"S1975","v":"2029-02-08"}]
[null,null,null,null,null,null,null,null,null,null,null,null,null,null,null,null,null,null,"2029-02-15",{"$f":"WEEKDAY(S1976)","v":5},{"$f":"MONTH(S1976)","v":2},{"$f":"YEAR(S1976)","v":2029},{"$f":"T1976&U1976","v":"52"},{"$f":"IF(V1976&W1976=V1975&W1975,X1975+1,1)","v":3},{"$f":"V1976&U1976&T1976&X1976","v":"2029253"},{"$f":"S1976","v":"2029-02-15"}]
[null,null,null,null,null,null,null,null,null,null,null,null,null,null,null,null,null,null,"2029-02-22",{"$f":"WEEKDAY(S1977)","v":5},{"$f":"MONTH(S1977)","v":2},{"$f":"YEAR(S1977)","v":2029},{"$f":"T1977&U1977","v":"52"},{"$f":"IF(V1977&W1977=V1976&W1976,X1976+1,1)","v":4},{"$f":"V1977&U1977&T1977&X1977","v":"2029254"},{"$f":"S1977","v":"2029-02-22"}]
[null,null,null,null,null,null,null,null,null,null,null,null,null,null,null,null,null,null,"2029-02-02",{"$f":"WEEKDAY(S1978)","v":6},{"$f":"MONTH(S1978)","v":2},{"$f":"YEAR(S1978)","v":2029},{"$f":"T1978&U1978","v":"62"},{"$f":"IF(V1978&W1978=V1977&W1977,X1977+1,1)","v":1},{"$f":"V1978&U1978&T1978&X1978","v":"2029261"},{"$f":"S1978","v":"2029-02-02"}]
[null,null,null,null,null,null,null,null,null,null,null,null,null,null,null,null,null,null,"2029-02-09",{"$f":"WEEKDAY(S1979)","v":6},{"$f":"MONTH(S1979)","v":2},{"$f":"YEAR(S1979)","v":2029},{"$f":"T1979&U1979","v":"62"},{"$f":"IF(V1979&W1979=V1978&W1978,X1978+1,1)","v":2},{"$f":"V1979&U1979&T1979&X1979","v":"2029262"},{"$f":"S1979","v":"2029-02-09"}]
[null,null,null,null,null,null,null,null,null,null,null,null,null,null,null,null,null,null,"2029-02-16",{"$f":"WEEKDAY(S1980)","v":6},{"$f":"MONTH(S1980)","v":2},{"$f":"YEAR(S1980)","v":2029},{"$f":"T1980&U1980","v":"62"},{"$f":"IF(V1980&W1980=V1979&W1979,X1979+1,1)","v":3},{"$f":"V1980&U1980&T1980&X1980","v":"2029263"},{"$f":"S1980","v":"2029-02-16"}]
[null,null,null,null,null,null,null,null,null,null,null,null,null,null,null,null,null,null,"2029-02-23",{"$f":"WEEKDAY(S1981)","v":6},{"$f":"MONTH(S1981)","v":2},{"$f":"YEAR(S1981)","v":2029},{"$f":"T1981&U1981","v":"62"},{"$f":"IF(V1981&W1981=V1980&W1980,X1980+1,1)","v":4},{"$f":"V1981&U1981&T1981&X1981","v":"2029264"},{"$f":"S1981","v":"2029-02-23"}]
[null,null,null,null,null,null,null,null,null,null,null,null,null,null,null,null,null,null,"2029-02-03",{"$f":"WEEKDAY(S1982)","v":7},{"$f":"MONTH(S1982)","v":2},{"$f":"YEAR(S1982)","v":2029},{"$f":"T1982&U1982","v":"72"},{"$f":"IF(V1982&W1982=V1981&W1981,X1981+1,1)","v":1},{"$f":"V1982&U1982&T1982&X1982","v":"2029271"},{"$f":"S1982","v":"2029-02-03"}]
[null,null,null,null,null,null,null,null,null,null,null,null,null,null,null,null,null,null,"2029-02-10",{"$f":"WEEKDAY(S1983)","v":7},{"$f":"MONTH(S1983)","v":2},{"$f":"YEAR(S1983)","v":2029},{"$f":"T1983&U1983","v":"72"},{"$f":"IF(V1983&W1983=V1982&W1982,X1982+1,1)","v":2},{"$f":"V1983&U1983&T1983&X1983","v":"2029272"},{"$f":"S1983","v":"2029-02-10"}]
[null,null,null,null,null,null,null,null,null,null,null,null,null,null,null,null,null,null,"2029-02-17",{"$f":"WEEKDAY(S1984)","v":7},{"$f":"MONTH(S1984)","v":2},{"$f":"YEAR(S1984)","v":2029},{"$f":"T1984&U1984","v":"72"},{"$f":"IF(V1984&W1984=V1983&W1983,X1983+1,1)","v":3},{"$f":"V1984&U1984&T1984&X1984","v":"2029273"},{"$f":"S1984","v":"2029-02-17"}]
[null,null,null,null,null,null,null,null,null,null,null,null,null,null,null,null,null,null,"2029-02-24",{"$f":"WEEKDAY(S1985)","v":7},{"$f":"MONTH(S1985)","v":2},{"$f":"YEAR(S1985)","v":2029},{"$f":"T1985&U1985","v":"72"},{"$f":"IF(V1985&W1985=V1984&W1984,X1984+1,1)","v":4},{"$f":"V1985&U1985&T1985&X1985","v":"2029274"},{"$f":"S1985","v":"2029-02-24"}]
[null,null,null,null,null,null,null,null,null,null,null,null,null,null,null,null,null,null,"2029-03-04",{"$f":"WEEKDAY(S1986)","v":1},{"$f":"MONTH(S1986)","v":3},{"$f":"YEAR(S1986)","v":2029},{"$f":"T1986&U1986","v":"13"},{"$f":"IF(V1986&W1986=V1985&W1985,X1985+1,1)","v":1},{"$f":"V1986&U1986&T1986&X1986","v":"2029311"},{"$f":"S1986","v":"2029-03-04"}]
[null,null,null,null,null,null,null,null,null,null,null,null,null,null,null,null,null,null,"2029-03-11",{"$f":"WEEKDAY(S1987)","v":1},{"$f":"MONTH(S1987)","v":3},{"$f":"YEAR(S1987)","v":2029},{"$f":"T1987&U1987","v":"13"},{"$f":"IF(V1987&W1987=V1986&W1986,X1986+1,1)","v":2},{"$f":"V1987&U1987&T1987&X1987","v":"2029312"},{"$f":"S1987","v":"2029-03-11"}]
[null,null,null,null,null,null,null,null,null,null,null,null,null,null,null,null,null,null,"2029-03-18",{"$f":"WEEKDAY(S1988)","v":1},{"$f":"MONTH(S1988)","v":3},{"$f":"YEAR(S1988)","v":2029},{"$f":"T1988&U1988","v":"13"},{"$f":"IF(V1988&W1988=V1987&W1987,X1987+1,1)","v":3},{"$f":"V1988&U1988&T1988&X1988","v":"2029313"},{"$f":"S1988","v":"2029-03-18"}]
[null,null,null,null,null,null,null,null,null,null,null,null,null,null,null,null,null,null,"2029-03-25",{"$f":"WEEKDAY(S1989)","v":1},{"$f":"MONTH(S1989)","v":3},{"$f":"YEAR(S1989)","v":2029},{"$f":"T1989&U1989","v":"13"},{"$f":"IF(V1989&W1989=V1988&W1988,X1988+1,1)","v":4},{"$f":"V1989&U1989&T1989&X1989","v":"2029314"},{"$f":"S1989","v":"2029-03-25"}]
[null,null,null,null,null,null,null,null,null,null,null,null,null,null,null,null,null,null,"2029-03-05",{"$f":"WEEKDAY(S1990)","v":2},{"$f":"MONTH(S1990)","v":3},{"$f":"YEAR(S1990)","v":2029},{"$f":"T1990&U1990","v":"23"},{"$f":"IF(V1990&W1990=V1989&W1989,X1989+1,1)","v":1},{"$f":"V1990&U1990&T1990&X1990","v":"2029321"},{"$f":"S1990","v":"2029-03-05"}]
[null,null,null,null,null,null,null,null,null,null,null,null,null,null,null,null,null,null,"2029-03-12",{"$f":"WEEKDAY(S1991)","v":2},{"$f":"MONTH(S1991)","v":3},{"$f":"YEAR(S1991)","v":2029},{"$f":"T1991&U1991","v":"23"},{"$f":"IF(V1991&W1991=V1990&W1990,X1990+1,1)","v":2},{"$f":"V1991&U1991&T1991&X1991","v":"2029322"},{"$f":"S1991","v":"2029-03-12"}]
[null,null,null,null,null,null,null,null,null,null,null,null,null,null,null,null,null,null,"2029-03-19",{"$f":"WEEKDAY(S1992)","v":2},{"$f":"MONTH(S1992)","v":3},{"$f":"YEAR(S1992)","v":2029},{"$f":"T1992&U1992","v":"23"},{"$f":"IF(V1992&W1992=V1991&W1991,X1991+1,1)","v":3},{"$f":"V1992&U1992&T1992&X1992","v":"2029323"},{"$f":"S1992","v":"2029-03-19"}]
[null,null,null,null,null,null,null,null,null,null,null,null,null,null,null,null,null,null,"2029-03-26",{"$f":"WEEKDAY(S1993)","v":2},{"$f":"MONTH(S1993)","v":3},{"$f":"YEAR(S1993)","v":2029},{"$f":"T1993&U1993","v":"23"},{"$f":"IF(V1993&W1993=V1992&W1992,X1992+1,1)","v":4},{"$f":"V1993&U1993&T1993&X1993","v":"2029324"},{"$f":"S1993","v":"2029-03-26"}]
[null,null,null,null,null,null,null,null,null,null,null,null,null,null,null,null,null,null,"2029-03-06",{"$f":"WEEKDAY(S1994)","v":3},{"$f":"MONTH(S1994)","v":3},{"$f":"YEAR(S1994)","v":2029},{"$f":"T1994&U1994","v":"33"},{"$f":"IF(V1994&W1994=V1993&W1993,X1993+1,1)","v":1},{"$f":"V1994&U1994&T1994&X1994","v":"2029331"},{"$f":"S1994","v":"2029-03-06"}]
[null,null,null,null,null,null,null,null,null,null,null,null,null,null,null,null,null,null,"2029-03-13",{"$f":"WEEKDAY(S1995)","v":3},{"$f":"MONTH(S1995)","v":3},{"$f":"YEAR(S1995)","v":2029},{"$f":"T1995&U1995","v":"33"},{"$f":"IF(V1995&W1995=V1994&W1994,X1994+1,1)","v":2},{"$f":"V1995&U1995&T1995&X1995","v":"2029332"},{"$f":"S1995","v":"2029-03-13"}]
[null,null,null,null,null,null,null,null,null,null,null,null,null,null,null,null,null,null,"2029-03-20",{"$f":"WEEKDAY(S1996)","v":3},{"$f":"MONTH(S1996)","v":3},{"$f":"YEAR(S1996)","v":2029},{"$f":"T1996&U1996","v":"33"},{"$f":"IF(V1996&W1996=V1995&W1995,X1995+1,1)","v":3},{"$f":"V1996&U1996&T1996&X1996","v":"2029333"},{"$f":"S1996","v":"2029-03-20"}]
[null,null,null,null,null,null,null,null,null,null,null,null,null,null,null,null,null,null,"2029-03-27",{"$f":"WEEKDAY(S1997)","v":3},{"$f":"MONTH(S1997)","v":3},{"$f":"YEAR(S1997)","v":2029},{"$f":"T1997&U1997","v":"33"},{"$f":"IF(V1997&W1997=V1996&W1996,X1996+1,1)","v":4},{"$f":"V1997&U1997&T1997&X1997","v":"2029334"},{"$f":"S1997","v":"2029-03-27"}]
[null,null,null,null,null,null,null,null,null,null,null,null,null,null,null,null,null,null,"2029-03-07",{"$f":"WEEKDAY(S1998)","v":4},{"$f":"MONTH(S1998)","v":3},{"$f":"YEAR(S1998)","v":2029},{"$f":"T1998&U1998","v":"43"},{"$f":"IF(V1998&W1998=V1997&W1997,X1997+1,1)","v":1},{"$f":"V1998&U1998&T1998&X1998","v":"2029341"},{"$f":"S1998","v":"2029-03-07"}]
[null,null,null,null,null,null,null,null,null,null,null,null,null,null,null,null,null,null,"2029-03-14",{"$f":"WEEKDAY(S1999)","v":4},{"$f":"MONTH(S1999)","v":3},{"$f":"YEAR(S1999)","v":2029},{"$f":"T1999&U1999","v":"43"},{"$f":"IF(V1999&W1999=V1998&W1998,X1998+1,1)","v":2},{"$f":"V1999&U1999&T1999&X1999","v":"2029342"},{"$f":"S1999","v":"2029-03-14"}]
[null,null,null,null,null,null,null,null,null,null,null,null,null,null,null,null,null,null,"2029-03-21",{"$f":"WEEKDAY(S2000)","v":4},{"$f":"MONTH(S2000)","v":3},{"$f":"YEAR(S2000)","v":2029},{"$f":"T2000&U2000","v":"43"},{"$f":"IF(V2000&W2000=V1999&W1999,X1999+1,1)","v":3},{"$f":"V2000&U2000&T2000&X2000","v":"2029343"},{"$f":"S2000","v":"2029-03-21"}]
[null,null,null,null,null,null,null,null,null,null,null,null,null,null,null,null,null,null,"2029-03-28",{"$f":"WEEKDAY(S2001)","v":4},{"$f":"MONTH(S2001)","v":3},{"$f":"YEAR(S2001)","v":2029},{"$f":"T2001&U2001","v":"43"},{"$f":"IF(V2001&W2001=V2000&W2000,X2000+1,1)","v":4},{"$f":"V2001&U2001&T2001&X2001","v":"2029344"},{"$f":"S2001","v":"2029-03-28"}]
[null,null,null,null,null,null,null,null,null,null,null,null,null,null,null,null,null,null,"2029-03-01",{"$f":"WEEKDAY(S2002)","v":5},{"$f":"MONTH(S2002)","v":3},{"$f":"YEAR(S2002)","v":2029},{"$f":"T2002&U2002","v":"53"},{"$f":"IF(V2002&W2002=V2001&W2001,X2001+1,1)","v":1},{"$f":"V2002&U2002&T2002&X2002","v":"2029351"},{"$f":"S2002","v":"2029-03-01"}]
[null,null,null,null,null,null,null,null,null,null,null,null,null,null,null,null,null,null,"2029-03-08",{"$f":"WEEKDAY(S2003)","v":5},{"$f":"MONTH(S2003)","v":3},{"$f":"YEAR(S2003)","v":2029},{"$f":"T2003&U2003","v":"53"},{"$f":"IF(V2003&W2003=V2002&W2002,X2002+1,1)","v":2},{"$f":"V2003&U2003&T2003&X2003","v":"2029352"},{"$f":"S2003","v":"2029-03-08"}]
[null,null,null,null,null,null,null,null,null,null,null,null,null,null,null,null,null,null,"2029-03-15",{"$f":"WEEKDAY(S2004)","v":5},{"$f":"MONTH(S2004)","v":3},{"$f":"YEAR(S2004)","v":2029},{"$f":"T2004&U2004","v":"53"},{"$f":"IF(V2004&W2004=V2003&W2003,X2003+1,1)","v":3},{"$f":"V2004&U2004&T2004&X2004","v":"2029353"},{"$f":"S2004","v":"2029-03-15"}]
[null,null,null,null,null,null,null,null,null,null,null,null,null,null,null,null,null,null,"2029-03-22",{"$f":"WEEKDAY(S2005)","v":5},{"$f":"MONTH(S2005)","v":3},{"$f":"YEAR(S2005)","v":2029},{"$f":"T2005&U2005","v":"53"},{"$f":"IF(V2005&W2005=V2004&W2004,X2004+1,1)","v":4},{"$f":"V2005&U2005&T2005&X2005","v":"2029354"},{"$f":"S2005","v":"2029-03-22"}]
[null,null,null,null,null,null,null,null,null,null,null,null,null,null,null,null,null,null,"2029-03-29",{"$f":"WEEKDAY(S2006)","v":5},{"$f":"MONTH(S2006)","v":3},{"$f":"YEAR(S2006)","v":2029},{"$f":"T2006&U2006","v":"53"},{"$f":"IF(V2006&W2006=V2005&W2005,X2005+1,1)","v":5},{"$f":"V2006&U2006&T2006&X2006","v":"2029355"},{"$f":"S2006","v":"2029-03-29"}]
[null,null,null,null,null,null,null,null,null,null,null,null,null,null,null,null,null,null,"2029-03-02",{"$f":"WEEKDAY(S2007)","v":6},{"$f":"MONTH(S2007)","v":3},{"$f":"YEAR(S2007)","v":2029},{"$f":"T2007&U2007","v":"63"},{"$f":"IF(V2007&W2007=V2006&W2006,X2006+1,1)","v":1},{"$f":"V2007&U2007&T2007&X2007","v":"2029361"},{"$f":"S2007","v":"2029-03-02"}]
[null,null,null,null,null,null,null,null,null,null,null,null,null,null,null,null,null,null,"2029-03-09",{"$f":"WEEKDAY(S2008)","v":6},{"$f":"MONTH(S2008)","v":3},{"$f":"YEAR(S2008)","v":2029},{"$f":"T2008&U2008","v":"63"},{"$f":"IF(V2008&W2008=V2007&W2007,X2007+1,1)","v":2},{"$f":"V2008&U2008&T2008&X2008","v":"2029362"},{"$f":"S2008","v":"2029-03-09"}]
[null,null,null,null,null,null,null,null,null,null,null,null,null,null,null,null,null,null,"2029-03-16",{"$f":"WEEKDAY(S2009)","v":6},{"$f":"MONTH(S2009)","v":3},{"$f":"YEAR(S2009)","v":2029},{"$f":"T2009&U2009","v":"63"},{"$f":"IF(V2009&W2009=V2008&W2008,X2008+1,1)","v":3},{"$f":"V2009&U2009&T2009&X2009","v":"2029363"},{"$f":"S2009","v":"2029-03-16"}]
[null,null,null,null,null,null,null,null,null,null,null,null,null,null,null,null,null,null,"2029-03-23",{"$f":"WEEKDAY(S2010)","v":6},{"$f":"MONTH(S2010)","v":3},{"$f":"YEAR(S2010)","v":2029},{"$f":"T2010&U2010","v":"63"},{"$f":"IF(V2010&W2010=V2009&W2009,X2009+1,1)","v":4},{"$f":"V2010&U2010&T2010&X2010","v":"2029364"},{"$f":"S2010","v":"2029-03-23"}]
[null,null,null,null,null,null,null,null,null,null,null,null,null,null,null,null,null,null,"2029-03-30",{"$f":"WEEKDAY(S2011)","v":6},{"$f":"MONTH(S2011)","v":3},{"$f":"YEAR(S2011)","v":2029},{"$f":"T2011&U2011","v":"63"},{"$f":"IF(V2011&W2011=V2010&W2010,X2010+1,1)","v":5},{"$f":"V2011&U2011&T2011&X2011","v":"2029365"},{"$f":"S2011","v":"2029-03-30"}]
[null,null,null,null,null,null,null,null,null,null,null,null,null,null,null,null,null,null,"2029-03-03",{"$f":"WEEKDAY(S2012)","v":7},{"$f":"MONTH(S2012)","v":3},{"$f":"YEAR(S2012)","v":2029},{"$f":"T2012&U2012","v":"73"},{"$f":"IF(V2012&W2012=V2011&W2011,X2011+1,1)","v":1},{"$f":"V2012&U2012&T2012&X2012","v":"2029371"},{"$f":"S2012","v":"2029-03-03"}]
[null,null,null,null,null,null,null,null,null,null,null,null,null,null,null,null,null,null,"2029-03-10",{"$f":"WEEKDAY(S2013)","v":7},{"$f":"MONTH(S2013)","v":3},{"$f":"YEAR(S2013)","v":2029},{"$f":"T2013&U2013","v":"73"},{"$f":"IF(V2013&W2013=V2012&W2012,X2012+1,1)","v":2},{"$f":"V2013&U2013&T2013&X2013","v":"2029372"},{"$f":"S2013","v":"2029-03-10"}]
[null,null,null,null,null,null,null,null,null,null,null,null,null,null,null,null,null,null,"2029-03-17",{"$f":"WEEKDAY(S2014)","v":7},{"$f":"MONTH(S2014)","v":3},{"$f":"YEAR(S2014)","v":2029},{"$f":"T2014&U2014","v":"73"},{"$f":"IF(V2014&W2014=V2013&W2013,X2013+1,1)","v":3},{"$f":"V2014&U2014&T2014&X2014","v":"2029373"},{"$f":"S2014","v":"2029-03-17"}]
[null,null,null,null,null,null,null,null,null,null,null,null,null,null,null,null,null,null,"2029-03-24",{"$f":"WEEKDAY(S2015)","v":7},{"$f":"MONTH(S2015)","v":3},{"$f":"YEAR(S2015)","v":2029},{"$f":"T2015&U2015","v":"73"},{"$f":"IF(V2015&W2015=V2014&W2014,X2014+1,1)","v":4},{"$f":"V2015&U2015&T2015&X2015","v":"2029374"},{"$f":"S2015","v":"2029-03-24"}]
[null,null,null,null,null,null,null,null,null,null,null,null,null,null,null,null,null,null,"2029-03-31",{"$f":"WEEKDAY(S2016)","v":7},{"$f":"MONTH(S2016)","v":3},{"$f":"YEAR(S2016)","v":2029},{"$f":"T2016&U2016","v":"73"},{"$f":"IF(V2016&W2016=V2015&W2015,X2015+1,1)","v":5},{"$f":"V2016&U2016&T2016&X2016","v":"2029375"},{"$f":"S2016","v":"2029-03-31"}]
[null,null,null,null,null,null,null,null,null,null,null,null,null,null,null,null,null,null,"2029-04-01",{"$f":"WEEKDAY(S2017)","v":1},{"$f":"MONTH(S2017)","v":4},{"$f":"YEAR(S2017)","v":2029},{"$f":"T2017&U2017","v":"14"},{"$f":"IF(V2017&W2017=V2016&W2016,X2016+1,1)","v":1},{"$f":"V2017&U2017&T2017&X2017","v":"2029411"},{"$f":"S2017","v":"2029-04-01"}]
[null,null,null,null,null,null,null,null,null,null,null,null,null,null,null,null,null,null,"2029-04-08",{"$f":"WEEKDAY(S2018)","v":1},{"$f":"MONTH(S2018)","v":4},{"$f":"YEAR(S2018)","v":2029},{"$f":"T2018&U2018","v":"14"},{"$f":"IF(V2018&W2018=V2017&W2017,X2017+1,1)","v":2},{"$f":"V2018&U2018&T2018&X2018","v":"2029412"},{"$f":"S2018","v":"2029-04-08"}]
[null,null,null,null,null,null,null,null,null,null,null,null,null,null,null,null,null,null,"2029-04-15",{"$f":"WEEKDAY(S2019)","v":1},{"$f":"MONTH(S2019)","v":4},{"$f":"YEAR(S2019)","v":2029},{"$f":"T2019&U2019","v":"14"},{"$f":"IF(V2019&W2019=V2018&W2018,X2018+1,1)","v":3},{"$f":"V2019&U2019&T2019&X2019","v":"2029413"},{"$f":"S2019","v":"2029-04-15"}]
[null,null,null,null,null,null,null,null,null,null,null,null,null,null,null,null,null,null,"2029-04-22",{"$f":"WEEKDAY(S2020)","v":1},{"$f":"MONTH(S2020)","v":4},{"$f":"YEAR(S2020)","v":2029},{"$f":"T2020&U2020","v":"14"},{"$f":"IF(V2020&W2020=V2019&W2019,X2019+1,1)","v":4},{"$f":"V2020&U2020&T2020&X2020","v":"2029414"},{"$f":"S2020","v":"2029-04-22"}]
[null,null,null,null,null,null,null,null,null,null,null,null,null,null,null,null,null,null,"2029-04-29",{"$f":"WEEKDAY(S2021)","v":1},{"$f":"MONTH(S2021)","v":4},{"$f":"YEAR(S2021)","v":2029},{"$f":"T2021&U2021","v":"14"},{"$f":"IF(V2021&W2021=V2020&W2020,X2020+1,1)","v":5},{"$f":"V2021&U2021&T2021&X2021","v":"2029415"},{"$f":"S2021","v":"2029-04-29"}]
[null,null,null,null,null,null,null,null,null,null,null,null,null,null,null,null,null,null,"2029-04-02",{"$f":"WEEKDAY(S2022)","v":2},{"$f":"MONTH(S2022)","v":4},{"$f":"YEAR(S2022)","v":2029},{"$f":"T2022&U2022","v":"24"},{"$f":"IF(V2022&W2022=V2021&W2021,X2021+1,1)","v":1},{"$f":"V2022&U2022&T2022&X2022","v":"2029421"},{"$f":"S2022","v":"2029-04-02"}]
[null,null,null,null,null,null,null,null,null,null,null,null,null,null,null,null,null,null,"2029-04-09",{"$f":"WEEKDAY(S2023)","v":2},{"$f":"MONTH(S2023)","v":4},{"$f":"YEAR(S2023)","v":2029},{"$f":"T2023&U2023","v":"24"},{"$f":"IF(V2023&W2023=V2022&W2022,X2022+1,1)","v":2},{"$f":"V2023&U2023&T2023&X2023","v":"2029422"},{"$f":"S2023","v":"2029-04-09"}]
[null,null,null,null,null,null,null,null,null,null,null,null,null,null,null,null,null,null,"2029-04-16",{"$f":"WEEKDAY(S2024)","v":2},{"$f":"MONTH(S2024)","v":4},{"$f":"YEAR(S2024)","v":2029},{"$f":"T2024&U2024","v":"24"},{"$f":"IF(V2024&W2024=V2023&W2023,X2023+1,1)","v":3},{"$f":"V2024&U2024&T2024&X2024","v":"2029423"},{"$f":"S2024","v":"2029-04-16"}]
[null,null,null,null,null,null,null,null,null,null,null,null,null,null,null,null,null,null,"2029-04-23",{"$f":"WEEKDAY(S2025)","v":2},{"$f":"MONTH(S2025)","v":4},{"$f":"YEAR(S2025)","v":2029},{"$f":"T2025&U2025","v":"24"},{"$f":"IF(V2025&W2025=V2024&W2024,X2024+1,1)","v":4},{"$f":"V2025&U2025&T2025&X2025","v":"2029424"},{"$f":"S2025","v":"2029-04-23"}]
[null,null,null,null,null,null,null,null,null,null,null,null,null,null,null,null,null,null,"2029-04-30",{"$f":"WEEKDAY(S2026)","v":2},{"$f":"MONTH(S2026)","v":4},{"$f":"YEAR(S2026)","v":2029},{"$f":"T2026&U2026","v":"24"},{"$f":"IF(V2026&W2026=V2025&W2025,X2025+1,1)","v":5},{"$f":"V2026&U2026&T2026&X2026","v":"2029425"},{"$f":"S2026","v":"2029-04-30"}]
[null,null,null,null,null,null,null,null,null,null,null,null,null,null,null,null,null,null,"2029-04-03",{"$f":"WEEKDAY(S2027)","v":3},{"$f":"MONTH(S2027)","v":4},{"$f":"YEAR(S2027)","v":2029},{"$f":"T2027&U2027","v":"34"},{"$f":"IF(V2027&W2027=V2026&W2026,X2026+1,1)","v":1},{"$f":"V2027&U2027&T2027&X2027","v":"2029431"},{"$f":"S2027","v":"2029-04-03"}]
[null,null,null,null,null,null,null,null,null,null,null,null,null,null,null,null,null,null,"2029-04-10",{"$f":"WEEKDAY(S2028)","v":3},{"$f":"MONTH(S2028)","v":4},{"$f":"YEAR(S2028)","v":2029},{"$f":"T2028&U2028","v":"34"},{"$f":"IF(V2028&W2028=V2027&W2027,X2027+1,1)","v":2},{"$f":"V2028&U2028&T2028&X2028","v":"2029432"},{"$f":"S2028","v":"2029-04-10"}]
[null,null,null,null,null,null,null,null,null,null,null,null,null,null,null,null,null,null,"2029-04-17",{"$f":"WEEKDAY(S2029)","v":3},{"$f":"MONTH(S2029)","v":4},{"$f":"YEAR(S2029)","v":2029},{"$f":"T2029&U2029","v":"34"},{"$f":"IF(V2029&W2029=V2028&W2028,X2028+1,1)","v":3},{"$f":"V2029&U2029&T2029&X2029","v":"2029433"},{"$f":"S2029","v":"2029-04-17"}]
[null,null,null,null,null,null,null,null,null,null,null,null,null,null,null,null,null,null,"2029-04-24",{"$f":"WEEKDAY(S2030)","v":3},{"$f":"MONTH(S2030)","v":4},{"$f":"YEAR(S2030)","v":2029},{"$f":"T2030&U2030","v":"34"},{"$f":"IF(V2030&W2030=V2029&W2029,X2029+1,1)","v":4},{"$f":"V2030&U2030&T2030&X2030","v":"2029434"},{"$f":"S2030","v":"2029-04-24"}]
[null,null,null,null,null,null,null,null,null,null,null,null,null,null,null,null,null,null,"2029-04-04",{"$f":"WEEKDAY(S2031)","v":4},{"$f":"MONTH(S2031)","v":4},{"$f":"YEAR(S2031)","v":2029},{"$f":"T2031&U2031","v":"44"},{"$f":"IF(V2031&W2031=V2030&W2030,X2030+1,1)","v":1},{"$f":"V2031&U2031&T2031&X2031","v":"2029441"},{"$f":"S2031","v":"2029-04-04"}]
[null,null,null,null,null,null,null,null,null,null,null,null,null,null,null,null,null,null,"2029-04-11",{"$f":"WEEKDAY(S2032)","v":4},{"$f":"MONTH(S2032)","v":4},{"$f":"YEAR(S2032)","v":2029},{"$f":"T2032&U2032","v":"44"},{"$f":"IF(V2032&W2032=V2031&W2031,X2031+1,1)","v":2},{"$f":"V2032&U2032&T2032&X2032","v":"2029442"},{"$f":"S2032","v":"2029-04-11"}]
[null,null,null,null,null,null,null,null,null,null,null,null,null,null,null,null,null,null,"2029-04-18",{"$f":"WEEKDAY(S2033)","v":4},{"$f":"MONTH(S2033)","v":4},{"$f":"YEAR(S2033)","v":2029},{"$f":"T2033&U2033","v":"44"},{"$f":"IF(V2033&W2033=V2032&W2032,X2032+1,1)","v":3},{"$f":"V2033&U2033&T2033&X2033","v":"2029443"},{"$f":"S2033","v":"2029-04-18"}]
[null,null,null,null,null,null,null,null,null,null,null,null,null,null,null,null,null,null,"2029-04-25",{"$f":"WEEKDAY(S2034)","v":4},{"$f":"MONTH(S2034)","v":4},{"$f":"YEAR(S2034)","v":2029},{"$f":"T2034&U2034","v":"44"},{"$f":"IF(V2034&W2034=V2033&W2033,X2033+1,1)","v":4},{"$f":"V2034&U2034&T2034&X2034","v":"2029444"},{"$f":"S2034","v":"2029-04-25"}]
[null,null,null,null,null,null,null,null,null,null,null,null,null,null,null,null,null,null,"2029-04-05",{"$f":"WEEKDAY(S2035)","v":5},{"$f":"MONTH(S2035)","v":4},{"$f":"YEAR(S2035)","v":2029},{"$f":"T2035&U2035","v":"54"},{"$f":"IF(V2035&W2035=V2034&W2034,X2034+1,1)","v":1},{"$f":"V2035&U2035&T2035&X2035","v":"2029451"},{"$f":"S2035","v":"2029-04-05"}]
[null,null,null,null,null,null,null,null,null,null,null,null,null,null,null,null,null,null,"2029-04-12",{"$f":"WEEKDAY(S2036)","v":5},{"$f":"MONTH(S2036)","v":4},{"$f":"YEAR(S2036)","v":2029},{"$f":"T2036&U2036","v":"54"},{"$f":"IF(V2036&W2036=V2035&W2035,X2035+1,1)","v":2},{"$f":"V2036&U2036&T2036&X2036","v":"2029452"},{"$f":"S2036","v":"2029-04-12"}]
[null,null,null,null,null,null,null,null,null,null,null,null,null,null,null,null,null,null,"2029-04-19",{"$f":"WEEKDAY(S2037)","v":5},{"$f":"MONTH(S2037)","v":4},{"$f":"YEAR(S2037)","v":2029},{"$f":"T2037&U2037","v":"54"},{"$f":"IF(V2037&W2037=V2036&W2036,X2036+1,1)","v":3},{"$f":"V2037&U2037&T2037&X2037","v":"2029453"},{"$f":"S2037","v":"2029-04-19"}]
[null,null,null,null,null,null,null,null,null,null,null,null,null,null,null,null,null,null,"2029-04-26",{"$f":"WEEKDAY(S2038)","v":5},{"$f":"MONTH(S2038)","v":4},{"$f":"YEAR(S2038)","v":2029},{"$f":"T2038&U2038","v":"54"},{"$f":"IF(V2038&W2038=V2037&W2037,X2037+1,1)","v":4},{"$f":"V2038&U2038&T2038&X2038","v":"2029454"},{"$f":"S2038","v":"2029-04-26"}]
[null,null,null,null,null,null,null,null,null,null,null,null,null,null,null,null,null,null,"2029-04-06",{"$f":"WEEKDAY(S2039)","v":6},{"$f":"MONTH(S2039)","v":4},{"$f":"YEAR(S2039)","v":2029},{"$f":"T2039&U2039","v":"64"},{"$f":"IF(V2039&W2039=V2038&W2038,X2038+1,1)","v":1},{"$f":"V2039&U2039&T2039&X2039","v":"2029461"},{"$f":"S2039","v":"2029-04-06"}]
[null,null,null,null,null,null,null,null,null,null,null,null,null,null,null,null,null,null,"2029-04-13",{"$f":"WEEKDAY(S2040)","v":6},{"$f":"MONTH(S2040)","v":4},{"$f":"YEAR(S2040)","v":2029},{"$f":"T2040&U2040","v":"64"},{"$f":"IF(V2040&W2040=V2039&W2039,X2039+1,1)","v":2},{"$f":"V2040&U2040&T2040&X2040","v":"2029462"},{"$f":"S2040","v":"2029-04-13"}]
[null,null,null,null,null,null,null,null,null,null,null,null,null,null,null,null,null,null,"2029-04-20",{"$f":"WEEKDAY(S2041)","v":6},{"$f":"MONTH(S2041)","v":4},{"$f":"YEAR(S2041)","v":2029},{"$f":"T2041&U2041","v":"64"},{"$f":"IF(V2041&W2041=V2040&W2040,X2040+1,1)","v":3},{"$f":"V2041&U2041&T2041&X2041","v":"2029463"},{"$f":"S2041","v":"2029-04-20"}]
[null,null,null,null,null,null,null,null,null,null,null,null,null,null,null,null,null,null,"2029-04-27",{"$f":"WEEKDAY(S2042)","v":6},{"$f":"MONTH(S2042)","v":4},{"$f":"YEAR(S2042)","v":2029},{"$f":"T2042&U2042","v":"64"},{"$f":"IF(V2042&W2042=V2041&W2041,X2041+1,1)","v":4},{"$f":"V2042&U2042&T2042&X2042","v":"2029464"},{"$f":"S2042","v":"2029-04-27"}]
[null,null,null,null,null,null,null,null,null,null,null,null,null,null,null,null,null,null,"2029-04-07",{"$f":"WEEKDAY(S2043)","v":7},{"$f":"MONTH(S2043)","v":4},{"$f":"YEAR(S2043)","v":2029},{"$f":"T2043&U2043","v":"74"},{"$f":"IF(V2043&W2043=V2042&W2042,X2042+1,1)","v":1},{"$f":"V2043&U2043&T2043&X2043","v":"2029471"},{"$f":"S2043","v":"2029-04-07"}]
[null,null,null,null,null,null,null,null,null,null,null,null,null,null,null,null,null,null,"2029-04-14",{"$f":"WEEKDAY(S2044)","v":7},{"$f":"MONTH(S2044)","v":4},{"$f":"YEAR(S2044)","v":2029},{"$f":"T2044&U2044","v":"74"},{"$f":"IF(V2044&W2044=V2043&W2043,X2043+1,1)","v":2},{"$f":"V2044&U2044&T2044&X2044","v":"2029472"},{"$f":"S2044","v":"2029-04-14"}]
[null,null,null,null,null,null,null,null,null,null,null,null,null,null,null,null,null,null,"2029-04-21",{"$f":"WEEKDAY(S2045)","v":7},{"$f":"MONTH(S2045)","v":4},{"$f":"YEAR(S2045)","v":2029},{"$f":"T2045&U2045","v":"74"},{"$f":"IF(V2045&W2045=V2044&W2044,X2044+1,1)","v":3},{"$f":"V2045&U2045&T2045&X2045","v":"2029473"},{"$f":"S2045","v":"2029-04-21"}]
[null,null,null,null,null,null,null,null,null,null,null,null,null,null,null,null,null,null,"2029-04-28",{"$f":"WEEKDAY(S2046)","v":7},{"$f":"MONTH(S2046)","v":4},{"$f":"YEAR(S2046)","v":2029},{"$f":"T2046&U2046","v":"74"},{"$f":"IF(V2046&W2046=V2045&W2045,X2045+1,1)","v":4},{"$f":"V2046&U2046&T2046&X2046","v":"2029474"},{"$f":"S2046","v":"2029-04-28"}]
[null,null,null,null,null,null,null,null,null,null,null,null,null,null,null,null,null,null,"2029-05-06",{"$f":"WEEKDAY(S2047)","v":1},{"$f":"MONTH(S2047)","v":5},{"$f":"YEAR(S2047)","v":2029},{"$f":"T2047&U2047","v":"15"},{"$f":"IF(V2047&W2047=V2046&W2046,X2046+1,1)","v":1},{"$f":"V2047&U2047&T2047&X2047","v":"2029511"},{"$f":"S2047","v":"2029-05-06"}]
[null,null,null,null,null,null,null,null,null,null,null,null,null,null,null,null,null,null,"2029-05-13",{"$f":"WEEKDAY(S2048)","v":1},{"$f":"MONTH(S2048)","v":5},{"$f":"YEAR(S2048)","v":2029},{"$f":"T2048&U2048","v":"15"},{"$f":"IF(V2048&W2048=V2047&W2047,X2047+1,1)","v":2},{"$f":"V2048&U2048&T2048&X2048","v":"2029512"},{"$f":"S2048","v":"2029-05-13"}]
[null,null,null,null,null,null,null,null,null,null,null,null,null,null,null,null,null,null,"2029-05-20",{"$f":"WEEKDAY(S2049)","v":1},{"$f":"MONTH(S2049)","v":5},{"$f":"YEAR(S2049)","v":2029},{"$f":"T2049&U2049","v":"15"},{"$f":"IF(V2049&W2049=V2048&W2048,X2048+1,1)","v":3},{"$f":"V2049&U2049&T2049&X2049","v":"2029513"},{"$f":"S2049","v":"2029-05-20"}]
[null,null,null,null,null,null,null,null,null,null,null,null,null,null,null,null,null,null,"2029-05-27",{"$f":"WEEKDAY(S2050)","v":1},{"$f":"MONTH(S2050)","v":5},{"$f":"YEAR(S2050)","v":2029},{"$f":"T2050&U2050","v":"15"},{"$f":"IF(V2050&W2050=V2049&W2049,X2049+1,1)","v":4},{"$f":"V2050&U2050&T2050&X2050","v":"2029514"},{"$f":"S2050","v":"2029-05-27"}]
[null,null,null,null,null,null,null,null,null,null,null,null,null,null,null,null,null,null,"2029-05-07",{"$f":"WEEKDAY(S2051)","v":2},{"$f":"MONTH(S2051)","v":5},{"$f":"YEAR(S2051)","v":2029},{"$f":"T2051&U2051","v":"25"},{"$f":"IF(V2051&W2051=V2050&W2050,X2050+1,1)","v":1},{"$f":"V2051&U2051&T2051&X2051","v":"2029521"},{"$f":"S2051","v":"2029-05-07"}]
[null,null,null,null,null,null,null,null,null,null,null,null,null,null,null,null,null,null,"2029-05-14",{"$f":"WEEKDAY(S2052)","v":2},{"$f":"MONTH(S2052)","v":5},{"$f":"YEAR(S2052)","v":2029},{"$f":"T2052&U2052","v":"25"},{"$f":"IF(V2052&W2052=V2051&W2051,X2051+1,1)","v":2},{"$f":"V2052&U2052&T2052&X2052","v":"2029522"},{"$f":"S2052","v":"2029-05-14"}]
[null,null,null,null,null,null,null,null,null,null,null,null,null,null,null,null,null,null,"2029-05-21",{"$f":"WEEKDAY(S2053)","v":2},{"$f":"MONTH(S2053)","v":5},{"$f":"YEAR(S2053)","v":2029},{"$f":"T2053&U2053","v":"25"},{"$f":"IF(V2053&W2053=V2052&W2052,X2052+1,1)","v":3},{"$f":"V2053&U2053&T2053&X2053","v":"2029523"},{"$f":"S2053","v":"2029-05-21"}]
[null,null,null,null,null,null,null,null,null,null,null,null,null,null,null,null,null,null,"2029-05-28",{"$f":"WEEKDAY(S2054)","v":2},{"$f":"MONTH(S2054)","v":5},{"$f":"YEAR(S2054)","v":2029},{"$f":"T2054&U2054","v":"25"},{"$f":"IF(V2054&W2054=V2053&W2053,X2053+1,1)","v":4},{"$f":"V2054&U2054&T2054&X2054","v":"2029524"},{"$f":"S2054","v":"2029-05-28"}]
[null,null,null,null,null,null,null,null,null,null,null,null,null,null,null,null,null,null,"2029-05-01",{"$f":"WEEKDAY(S2055)","v":3},{"$f":"MONTH(S2055)","v":5},{"$f":"YEAR(S2055)","v":2029},{"$f":"T2055&U2055","v":"35"},{"$f":"IF(V2055&W2055=V2054&W2054,X2054+1,1)","v":1},{"$f":"V2055&U2055&T2055&X2055","v":"2029531"},{"$f":"S2055","v":"2029-05-01"}]
[null,null,null,null,null,null,null,null,null,null,null,null,null,null,null,null,null,null,"2029-05-08",{"$f":"WEEKDAY(S2056)","v":3},{"$f":"MONTH(S2056)","v":5},{"$f":"YEAR(S2056)","v":2029},{"$f":"T2056&U2056","v":"35"},{"$f":"IF(V2056&W2056=V2055&W2055,X2055+1,1)","v":2},{"$f":"V2056&U2056&T2056&X2056","v":"2029532"},{"$f":"S2056","v":"2029-05-08"}]
[null,null,null,null,null,null,null,null,null,null,null,null,null,null,null,null,null,null,"2029-05-15",{"$f":"WEEKDAY(S2057)","v":3},{"$f":"MONTH(S2057)","v":5},{"$f":"YEAR(S2057)","v":2029},{"$f":"T2057&U2057","v":"35"},{"$f":"IF(V2057&W2057=V2056&W2056,X2056+1,1)","v":3},{"$f":"V2057&U2057&T2057&X2057","v":"2029533"},{"$f":"S2057","v":"2029-05-15"}]
[null,null,null,null,null,null,null,null,null,null,null,null,null,null,null,null,null,null,"2029-05-22",{"$f":"WEEKDAY(S2058)","v":3},{"$f":"MONTH(S2058)","v":5},{"$f":"YEAR(S2058)","v":2029},{"$f":"T2058&U2058","v":"35"},{"$f":"IF(V2058&W2058=V2057&W2057,X2057+1,1)","v":4},{"$f":"V2058&U2058&T2058&X2058","v":"2029534"},{"$f":"S2058","v":"2029-05-22"}]
[null,null,null,null,null,null,null,null,null,null,null,null,null,null,null,null,null,null,"2029-05-29",{"$f":"WEEKDAY(S2059)","v":3},{"$f":"MONTH(S2059)","v":5},{"$f":"YEAR(S2059)","v":2029},{"$f":"T2059&U2059","v":"35"},{"$f":"IF(V2059&W2059=V2058&W2058,X2058+1,1)","v":5},{"$f":"V2059&U2059&T2059&X2059","v":"2029535"},{"$f":"S2059","v":"2029-05-29"}]
[null,null,null,null,null,null,null,null,null,null,null,null,null,null,null,null,null,null,"2029-05-02",{"$f":"WEEKDAY(S2060)","v":4},{"$f":"MONTH(S2060)","v":5},{"$f":"YEAR(S2060)","v":2029},{"$f":"T2060&U2060","v":"45"},{"$f":"IF(V2060&W2060=V2059&W2059,X2059+1,1)","v":1},{"$f":"V2060&U2060&T2060&X2060","v":"2029541"},{"$f":"S2060","v":"2029-05-02"}]
[null,null,null,null,null,null,null,null,null,null,null,null,null,null,null,null,null,null,"2029-05-09",{"$f":"WEEKDAY(S2061)","v":4},{"$f":"MONTH(S2061)","v":5},{"$f":"YEAR(S2061)","v":2029},{"$f":"T2061&U2061","v":"45"},{"$f":"IF(V2061&W2061=V2060&W2060,X2060+1,1)","v":2},{"$f":"V2061&U2061&T2061&X2061","v":"2029542"},{"$f":"S2061","v":"2029-05-09"}]
[null,null,null,null,null,null,null,null,null,null,null,null,null,null,null,null,null,null,"2029-05-16",{"$f":"WEEKDAY(S2062)","v":4},{"$f":"MONTH(S2062)","v":5},{"$f":"YEAR(S2062)","v":2029},{"$f":"T2062&U2062","v":"45"},{"$f":"IF(V2062&W2062=V2061&W2061,X2061+1,1)","v":3},{"$f":"V2062&U2062&T2062&X2062","v":"2029543"},{"$f":"S2062","v":"2029-05-16"}]
[null,null,null,null,null,null,null,null,null,null,null,null,null,null,null,null,null,null,"2029-05-23",{"$f":"WEEKDAY(S2063)","v":4},{"$f":"MONTH(S2063)","v":5},{"$f":"YEAR(S2063)","v":2029},{"$f":"T2063&U2063","v":"45"},{"$f":"IF(V2063&W2063=V2062&W2062,X2062+1,1)","v":4},{"$f":"V2063&U2063&T2063&X2063","v":"2029544"},{"$f":"S2063","v":"2029-05-23"}]
[null,null,null,null,null,null,null,null,null,null,null,null,null,null,null,null,null,null,"2029-05-30",{"$f":"WEEKDAY(S2064)","v":4},{"$f":"MONTH(S2064)","v":5},{"$f":"YEAR(S2064)","v":2029},{"$f":"T2064&U2064","v":"45"},{"$f":"IF(V2064&W2064=V2063&W2063,X2063+1,1)","v":5},{"$f":"V2064&U2064&T2064&X2064","v":"2029545"},{"$f":"S2064","v":"2029-05-30"}]
[null,null,null,null,null,null,null,null,null,null,null,null,null,null,null,null,null,null,"2029-05-03",{"$f":"WEEKDAY(S2065)","v":5},{"$f":"MONTH(S2065)","v":5},{"$f":"YEAR(S2065)","v":2029},{"$f":"T2065&U2065","v":"55"},{"$f":"IF(V2065&W2065=V2064&W2064,X2064+1,1)","v":1},{"$f":"V2065&U2065&T2065&X2065","v":"2029551"},{"$f":"S2065","v":"2029-05-03"}]
[null,null,null,null,null,null,null,null,null,null,null,null,null,null,null,null,null,null,"2029-05-10",{"$f":"WEEKDAY(S2066)","v":5},{"$f":"MONTH(S2066)","v":5},{"$f":"YEAR(S2066)","v":2029},{"$f":"T2066&U2066","v":"55"},{"$f":"IF(V2066&W2066=V2065&W2065,X2065+1,1)","v":2},{"$f":"V2066&U2066&T2066&X2066","v":"2029552"},{"$f":"S2066","v":"2029-05-10"}]
[null,null,null,null,null,null,null,null,null,null,null,null,null,null,null,null,null,null,"2029-05-17",{"$f":"WEEKDAY(S2067)","v":5},{"$f":"MONTH(S2067)","v":5},{"$f":"YEAR(S2067)","v":2029},{"$f":"T2067&U2067","v":"55"},{"$f":"IF(V2067&W2067=V2066&W2066,X2066+1,1)","v":3},{"$f":"V2067&U2067&T2067&X2067","v":"2029553"},{"$f":"S2067","v":"2029-05-17"}]
[null,null,null,null,null,null,null,null,null,null,null,null,null,null,null,null,null,null,"2029-05-24",{"$f":"WEEKDAY(S2068)","v":5},{"$f":"MONTH(S2068)","v":5},{"$f":"YEAR(S2068)","v":2029},{"$f":"T2068&U2068","v":"55"},{"$f":"IF(V2068&W2068=V2067&W2067,X2067+1,1)","v":4},{"$f":"V2068&U2068&T2068&X2068","v":"2029554"},{"$f":"S2068","v":"2029-05-24"}]
[null,null,null,null,null,null,null,null,null,null,null,null,null,null,null,null,null,null,"2029-05-31",{"$f":"WEEKDAY(S2069)","v":5},{"$f":"MONTH(S2069)","v":5},{"$f":"YEAR(S2069)","v":2029},{"$f":"T2069&U2069","v":"55"},{"$f":"IF(V2069&W2069=V2068&W2068,X2068+1,1)","v":5},{"$f":"V2069&U2069&T2069&X2069","v":"2029555"},{"$f":"S2069","v":"2029-05-31"}]
[null,null,null,null,null,null,null,null,null,null,null,null,null,null,null,null,null,null,"2029-05-04",{"$f":"WEEKDAY(S2070)","v":6},{"$f":"MONTH(S2070)","v":5},{"$f":"YEAR(S2070)","v":2029},{"$f":"T2070&U2070","v":"65"},{"$f":"IF(V2070&W2070=V2069&W2069,X2069+1,1)","v":1},{"$f":"V2070&U2070&T2070&X2070","v":"2029561"},{"$f":"S2070","v":"2029-05-04"}]
[null,null,null,null,null,null,null,null,null,null,null,null,null,null,null,null,null,null,"2029-05-11",{"$f":"WEEKDAY(S2071)","v":6},{"$f":"MONTH(S2071)","v":5},{"$f":"YEAR(S2071)","v":2029},{"$f":"T2071&U2071","v":"65"},{"$f":"IF(V2071&W2071=V2070&W2070,X2070+1,1)","v":2},{"$f":"V2071&U2071&T2071&X2071","v":"2029562"},{"$f":"S2071","v":"2029-05-11"}]
[null,null,null,null,null,null,null,null,null,null,null,null,null,null,null,null,null,null,"2029-05-18",{"$f":"WEEKDAY(S2072)","v":6},{"$f":"MONTH(S2072)","v":5},{"$f":"YEAR(S2072)","v":2029},{"$f":"T2072&U2072","v":"65"},{"$f":"IF(V2072&W2072=V2071&W2071,X2071+1,1)","v":3},{"$f":"V2072&U2072&T2072&X2072","v":"2029563"},{"$f":"S2072","v":"2029-05-18"}]
[null,null,null,null,null,null,null,null,null,null,null,null,null,null,null,null,null,null,"2029-05-25",{"$f":"WEEKDAY(S2073)","v":6},{"$f":"MONTH(S2073)","v":5},{"$f":"YEAR(S2073)","v":2029},{"$f":"T2073&U2073","v":"65"},{"$f":"IF(V2073&W2073=V2072&W2072,X2072+1,1)","v":4},{"$f":"V2073&U2073&T2073&X2073","v":"2029564"},{"$f":"S2073","v":"2029-05-25"}]
[null,null,null,null,null,null,null,null,null,null,null,null,null,null,null,null,null,null,"2029-05-05",{"$f":"WEEKDAY(S2074)","v":7},{"$f":"MONTH(S2074)","v":5},{"$f":"YEAR(S2074)","v":2029},{"$f":"T2074&U2074","v":"75"},{"$f":"IF(V2074&W2074=V2073&W2073,X2073+1,1)","v":1},{"$f":"V2074&U2074&T2074&X2074","v":"2029571"},{"$f":"S2074","v":"2029-05-05"}]
[null,null,null,null,null,null,null,null,null,null,null,null,null,null,null,null,null,null,"2029-05-12",{"$f":"WEEKDAY(S2075)","v":7},{"$f":"MONTH(S2075)","v":5},{"$f":"YEAR(S2075)","v":2029},{"$f":"T2075&U2075","v":"75"},{"$f":"IF(V2075&W2075=V2074&W2074,X2074+1,1)","v":2},{"$f":"V2075&U2075&T2075&X2075","v":"2029572"},{"$f":"S2075","v":"2029-05-12"}]
[null,null,null,null,null,null,null,null,null,null,null,null,null,null,null,null,null,null,"2029-05-19",{"$f":"WEEKDAY(S2076)","v":7},{"$f":"MONTH(S2076)","v":5},{"$f":"YEAR(S2076)","v":2029},{"$f":"T2076&U2076","v":"75"},{"$f":"IF(V2076&W2076=V2075&W2075,X2075+1,1)","v":3},{"$f":"V2076&U2076&T2076&X2076","v":"2029573"},{"$f":"S2076","v":"2029-05-19"}]
[null,null,null,null,null,null,null,null,null,null,null,null,null,null,null,null,null,null,"2029-05-26",{"$f":"WEEKDAY(S2077)","v":7},{"$f":"MONTH(S2077)","v":5},{"$f":"YEAR(S2077)","v":2029},{"$f":"T2077&U2077","v":"75"},{"$f":"IF(V2077&W2077=V2076&W2076,X2076+1,1)","v":4},{"$f":"V2077&U2077&T2077&X2077","v":"2029574"},{"$f":"S2077","v":"2029-05-26"}]
[null,null,null,null,null,null,null,null,null,null,null,null,null,null,null,null,null,null,"2029-06-03",{"$f":"WEEKDAY(S2078)","v":1},{"$f":"MONTH(S2078)","v":6},{"$f":"YEAR(S2078)","v":2029},{"$f":"T2078&U2078","v":"16"},{"$f":"IF(V2078&W2078=V2077&W2077,X2077+1,1)","v":1},{"$f":"V2078&U2078&T2078&X2078","v":"2029611"},{"$f":"S2078","v":"2029-06-03"}]
[null,null,null,null,null,null,null,null,null,null,null,null,null,null,null,null,null,null,"2029-06-10",{"$f":"WEEKDAY(S2079)","v":1},{"$f":"MONTH(S2079)","v":6},{"$f":"YEAR(S2079)","v":2029},{"$f":"T2079&U2079","v":"16"},{"$f":"IF(V2079&W2079=V2078&W2078,X2078+1,1)","v":2},{"$f":"V2079&U2079&T2079&X2079","v":"2029612"},{"$f":"S2079","v":"2029-06-10"}]
[null,null,null,null,null,null,null,null,null,null,null,null,null,null,null,null,null,null,"2029-06-17",{"$f":"WEEKDAY(S2080)","v":1},{"$f":"MONTH(S2080)","v":6},{"$f":"YEAR(S2080)","v":2029},{"$f":"T2080&U2080","v":"16"},{"$f":"IF(V2080&W2080=V2079&W2079,X2079+1,1)","v":3},{"$f":"V2080&U2080&T2080&X2080","v":"2029613"},{"$f":"S2080","v":"2029-06-17"}]
[null,null,null,null,null,null,null,null,null,null,null,null,null,null,null,null,null,null,"2029-06-24",{"$f":"WEEKDAY(S2081)","v":1},{"$f":"MONTH(S2081)","v":6},{"$f":"YEAR(S2081)","v":2029},{"$f":"T2081&U2081","v":"16"},{"$f":"IF(V2081&W2081=V2080&W2080,X2080+1,1)","v":4},{"$f":"V2081&U2081&T2081&X2081","v":"2029614"},{"$f":"S2081","v":"2029-06-24"}]
[null,null,null,null,null,null,null,null,null,null,null,null,null,null,null,null,null,null,"2029-06-04",{"$f":"WEEKDAY(S2082)","v":2},{"$f":"MONTH(S2082)","v":6},{"$f":"YEAR(S2082)","v":2029},{"$f":"T2082&U2082","v":"26"},{"$f":"IF(V2082&W2082=V2081&W2081,X2081+1,1)","v":1},{"$f":"V2082&U2082&T2082&X2082","v":"2029621"},{"$f":"S2082","v":"2029-06-04"}]
[null,null,null,null,null,null,null,null,null,null,null,null,null,null,null,null,null,null,"2029-06-11",{"$f":"WEEKDAY(S2083)","v":2},{"$f":"MONTH(S2083)","v":6},{"$f":"YEAR(S2083)","v":2029},{"$f":"T2083&U2083","v":"26"},{"$f":"IF(V2083&W2083=V2082&W2082,X2082+1,1)","v":2},{"$f":"V2083&U2083&T2083&X2083","v":"2029622"},{"$f":"S2083","v":"2029-06-11"}]
[null,null,null,null,null,null,null,null,null,null,null,null,null,null,null,null,null,null,"2029-06-18",{"$f":"WEEKDAY(S2084)","v":2},{"$f":"MONTH(S2084)","v":6},{"$f":"YEAR(S2084)","v":2029},{"$f":"T2084&U2084","v":"26"},{"$f":"IF(V2084&W2084=V2083&W2083,X2083+1,1)","v":3},{"$f":"V2084&U2084&T2084&X2084","v":"2029623"},{"$f":"S2084","v":"2029-06-18"}]
[null,null,null,null,null,null,null,null,null,null,null,null,null,null,null,null,null,null,"2029-06-25",{"$f":"WEEKDAY(S2085)","v":2},{"$f":"MONTH(S2085)","v":6},{"$f":"YEAR(S2085)","v":2029},{"$f":"T2085&U2085","v":"26"},{"$f":"IF(V2085&W2085=V2084&W2084,X2084+1,1)","v":4},{"$f":"V2085&U2085&T2085&X2085","v":"2029624"},{"$f":"S2085","v":"2029-06-25"}]
[null,null,null,null,null,null,null,null,null,null,null,null,null,null,null,null,null,null,"2029-06-05",{"$f":"WEEKDAY(S2086)","v":3},{"$f":"MONTH(S2086)","v":6},{"$f":"YEAR(S2086)","v":2029},{"$f":"T2086&U2086","v":"36"},{"$f":"IF(V2086&W2086=V2085&W2085,X2085+1,1)","v":1},{"$f":"V2086&U2086&T2086&X2086","v":"2029631"},{"$f":"S2086","v":"2029-06-05"}]
[null,null,null,null,null,null,null,null,null,null,null,null,null,null,null,null,null,null,"2029-06-12",{"$f":"WEEKDAY(S2087)","v":3},{"$f":"MONTH(S2087)","v":6},{"$f":"YEAR(S2087)","v":2029},{"$f":"T2087&U2087","v":"36"},{"$f":"IF(V2087&W2087=V2086&W2086,X2086+1,1)","v":2},{"$f":"V2087&U2087&T2087&X2087","v":"2029632"},{"$f":"S2087","v":"2029-06-12"}]
[null,null,null,null,null,null,null,null,null,null,null,null,null,null,null,null,null,null,"2029-06-19",{"$f":"WEEKDAY(S2088)","v":3},{"$f":"MONTH(S2088)","v":6},{"$f":"YEAR(S2088)","v":2029},{"$f":"T2088&U2088","v":"36"},{"$f":"IF(V2088&W2088=V2087&W2087,X2087+1,1)","v":3},{"$f":"V2088&U2088&T2088&X2088","v":"2029633"},{"$f":"S2088","v":"2029-06-19"}]
[null,null,null,null,null,null,null,null,null,null,null,null,null,null,null,null,null,null,"2029-06-26",{"$f":"WEEKDAY(S2089)","v":3},{"$f":"MONTH(S2089)","v":6},{"$f":"YEAR(S2089)","v":2029},{"$f":"T2089&U2089","v":"36"},{"$f":"IF(V2089&W2089=V2088&W2088,X2088+1,1)","v":4},{"$f":"V2089&U2089&T2089&X2089","v":"2029634"},{"$f":"S2089","v":"2029-06-26"}]
[null,null,null,null,null,null,null,null,null,null,null,null,null,null,null,null,null,null,"2029-06-06",{"$f":"WEEKDAY(S2090)","v":4},{"$f":"MONTH(S2090)","v":6},{"$f":"YEAR(S2090)","v":2029},{"$f":"T2090&U2090","v":"46"},{"$f":"IF(V2090&W2090=V2089&W2089,X2089+1,1)","v":1},{"$f":"V2090&U2090&T2090&X2090","v":"2029641"},{"$f":"S2090","v":"2029-06-06"}]
[null,null,null,null,null,null,null,null,null,null,null,null,null,null,null,null,null,null,"2029-06-13",{"$f":"WEEKDAY(S2091)","v":4},{"$f":"MONTH(S2091)","v":6},{"$f":"YEAR(S2091)","v":2029},{"$f":"T2091&U2091","v":"46"},{"$f":"IF(V2091&W2091=V2090&W2090,X2090+1,1)","v":2},{"$f":"V2091&U2091&T2091&X2091","v":"2029642"},{"$f":"S2091","v":"2029-06-13"}]
[null,null,null,null,null,null,null,null,null,null,null,null,null,null,null,null,null,null,"2029-06-20",{"$f":"WEEKDAY(S2092)","v":4},{"$f":"MONTH(S2092)","v":6},{"$f":"YEAR(S2092)","v":2029},{"$f":"T2092&U2092","v":"46"},{"$f":"IF(V2092&W2092=V2091&W2091,X2091+1,1)","v":3},{"$f":"V2092&U2092&T2092&X2092","v":"2029643"},{"$f":"S2092","v":"2029-06-20"}]
[null,null,null,null,null,null,null,null,null,null,null,null,null,null,null,null,null,null,"2029-06-27",{"$f":"WEEKDAY(S2093)","v":4},{"$f":"MONTH(S2093)","v":6},{"$f":"YEAR(S2093)","v":2029},{"$f":"T2093&U2093","v":"46"},{"$f":"IF(V2093&W2093=V2092&W2092,X2092+1,1)","v":4},{"$f":"V2093&U2093&T2093&X2093","v":"2029644"},{"$f":"S2093","v":"2029-06-27"}]
[null,null,null,null,null,null,null,null,null,null,null,null,null,null,null,null,null,null,"2029-06-07",{"$f":"WEEKDAY(S2094)","v":5},{"$f":"MONTH(S2094)","v":6},{"$f":"YEAR(S2094)","v":2029},{"$f":"T2094&U2094","v":"56"},{"$f":"IF(V2094&W2094=V2093&W2093,X2093+1,1)","v":1},{"$f":"V2094&U2094&T2094&X2094","v":"2029651"},{"$f":"S2094","v":"2029-06-07"}]
[null,null,null,null,null,null,null,null,null,null,null,null,null,null,null,null,null,null,"2029-06-14",{"$f":"WEEKDAY(S2095)","v":5},{"$f":"MONTH(S2095)","v":6},{"$f":"YEAR(S2095)","v":2029},{"$f":"T2095&U2095","v":"56"},{"$f":"IF(V2095&W2095=V2094&W2094,X2094+1,1)","v":2},{"$f":"V2095&U2095&T2095&X2095","v":"2029652"},{"$f":"S2095","v":"2029-06-14"}]
[null,null,null,null,null,null,null,null,null,null,null,null,null,null,null,null,null,null,"2029-06-21",{"$f":"WEEKDAY(S2096)","v":5},{"$f":"MONTH(S2096)","v":6},{"$f":"YEAR(S2096)","v":2029},{"$f":"T2096&U2096","v":"56"},{"$f":"IF(V2096&W2096=V2095&W2095,X2095+1,1)","v":3},{"$f":"V2096&U2096&T2096&X2096","v":"2029653"},{"$f":"S2096","v":"2029-06-21"}]
[null,null,null,null,null,null,null,null,null,null,null,null,null,null,null,null,null,null,"2029-06-28",{"$f":"WEEKDAY(S2097)","v":5},{"$f":"MONTH(S2097)","v":6},{"$f":"YEAR(S2097)","v":2029},{"$f":"T2097&U2097","v":"56"},{"$f":"IF(V2097&W2097=V2096&W2096,X2096+1,1)","v":4},{"$f":"V2097&U2097&T2097&X2097","v":"2029654"},{"$f":"S2097","v":"2029-06-28"}]
[null,null,null,null,null,null,null,null,null,null,null,null,null,null,null,null,null,null,"2029-06-01",{"$f":"WEEKDAY(S2098)","v":6},{"$f":"MONTH(S2098)","v":6},{"$f":"YEAR(S2098)","v":2029},{"$f":"T2098&U2098","v":"66"},{"$f":"IF(V2098&W2098=V2097&W2097,X2097+1,1)","v":1},{"$f":"V2098&U2098&T2098&X2098","v":"2029661"},{"$f":"S2098","v":"2029-06-01"}]
[null,null,null,null,null,null,null,null,null,null,null,null,null,null,null,null,null,null,"2029-06-08",{"$f":"WEEKDAY(S2099)","v":6},{"$f":"MONTH(S2099)","v":6},{"$f":"YEAR(S2099)","v":2029},{"$f":"T2099&U2099","v":"66"},{"$f":"IF(V2099&W2099=V2098&W2098,X2098+1,1)","v":2},{"$f":"V2099&U2099&T2099&X2099","v":"2029662"},{"$f":"S2099","v":"2029-06-08"}]
[null,null,null,null,null,null,null,null,null,null,null,null,null,null,null,null,null,null,"2029-06-15",{"$f":"WEEKDAY(S2100)","v":6},{"$f":"MONTH(S2100)","v":6},{"$f":"YEAR(S2100)","v":2029},{"$f":"T2100&U2100","v":"66"},{"$f":"IF(V2100&W2100=V2099&W2099,X2099+1,1)","v":3},{"$f":"V2100&U2100&T2100&X2100","v":"2029663"},{"$f":"S2100","v":"2029-06-15"}]
[null,null,null,null,null,null,null,null,null,null,null,null,null,null,null,null,null,null,"2029-06-22",{"$f":"WEEKDAY(S2101)","v":6},{"$f":"MONTH(S2101)","v":6},{"$f":"YEAR(S2101)","v":2029},{"$f":"T2101&U2101","v":"66"},{"$f":"IF(V2101&W2101=V2100&W2100,X2100+1,1)","v":4},{"$f":"V2101&U2101&T2101&X2101","v":"2029664"},{"$f":"S2101","v":"2029-06-22"}]
[null,null,null,null,null,null,null,null,null,null,null,null,null,null,null,null,null,null,"2029-06-29",{"$f":"WEEKDAY(S2102)","v":6},{"$f":"MONTH(S2102)","v":6},{"$f":"YEAR(S2102)","v":2029},{"$f":"T2102&U2102","v":"66"},{"$f":"IF(V2102&W2102=V2101&W2101,X2101+1,1)","v":5},{"$f":"V2102&U2102&T2102&X2102","v":"2029665"},{"$f":"S2102","v":"2029-06-29"}]
[null,null,null,null,null,null,null,null,null,null,null,null,null,null,null,null,null,null,"2029-06-02",{"$f":"WEEKDAY(S2103)","v":7},{"$f":"MONTH(S2103)","v":6},{"$f":"YEAR(S2103)","v":2029},{"$f":"T2103&U2103","v":"76"},{"$f":"IF(V2103&W2103=V2102&W2102,X2102+1,1)","v":1},{"$f":"V2103&U2103&T2103&X2103","v":"2029671"},{"$f":"S2103","v":"2029-06-02"}]
[null,null,null,null,null,null,null,null,null,null,null,null,null,null,null,null,null,null,"2029-06-09",{"$f":"WEEKDAY(S2104)","v":7},{"$f":"MONTH(S2104)","v":6},{"$f":"YEAR(S2104)","v":2029},{"$f":"T2104&U2104","v":"76"},{"$f":"IF(V2104&W2104=V2103&W2103,X2103+1,1)","v":2},{"$f":"V2104&U2104&T2104&X2104","v":"2029672"},{"$f":"S2104","v":"2029-06-09"}]
[null,null,null,null,null,null,null,null,null,null,null,null,null,null,null,null,null,null,"2029-06-16",{"$f":"WEEKDAY(S2105)","v":7},{"$f":"MONTH(S2105)","v":6},{"$f":"YEAR(S2105)","v":2029},{"$f":"T2105&U2105","v":"76"},{"$f":"IF(V2105&W2105=V2104&W2104,X2104+1,1)","v":3},{"$f":"V2105&U2105&T2105&X2105","v":"2029673"},{"$f":"S2105","v":"2029-06-16"}]
[null,null,null,null,null,null,null,null,null,null,null,null,null,null,null,null,null,null,"2029-06-23",{"$f":"WEEKDAY(S2106)","v":7},{"$f":"MONTH(S2106)","v":6},{"$f":"YEAR(S2106)","v":2029},{"$f":"T2106&U2106","v":"76"},{"$f":"IF(V2106&W2106=V2105&W2105,X2105+1,1)","v":4},{"$f":"V2106&U2106&T2106&X2106","v":"2029674"},{"$f":"S2106","v":"2029-06-23"}]
[null,null,null,null,null,null,null,null,null,null,null,null,null,null,null,null,null,null,"2029-06-30",{"$f":"WEEKDAY(S2107)","v":7},{"$f":"MONTH(S2107)","v":6},{"$f":"YEAR(S2107)","v":2029},{"$f":"T2107&U2107","v":"76"},{"$f":"IF(V2107&W2107=V2106&W2106,X2106+1,1)","v":5},{"$f":"V2107&U2107&T2107&X2107","v":"2029675"},{"$f":"S2107","v":"2029-06-30"}]
[null,null,null,null,null,null,null,null,null,null,null,null,null,null,null,null,null,null,"2029-07-01",{"$f":"WEEKDAY(S2108)","v":1},{"$f":"MONTH(S2108)","v":7},{"$f":"YEAR(S2108)","v":2029},{"$f":"T2108&U2108","v":"17"},{"$f":"IF(V2108&W2108=V2107&W2107,X2107+1,1)","v":1},{"$f":"V2108&U2108&T2108&X2108","v":"2029711"},{"$f":"S2108","v":"2029-07-01"}]
[null,null,null,null,null,null,null,null,null,null,null,null,null,null,null,null,null,null,"2029-07-08",{"$f":"WEEKDAY(S2109)","v":1},{"$f":"MONTH(S2109)","v":7},{"$f":"YEAR(S2109)","v":2029},{"$f":"T2109&U2109","v":"17"},{"$f":"IF(V2109&W2109=V2108&W2108,X2108+1,1)","v":2},{"$f":"V2109&U2109&T2109&X2109","v":"2029712"},{"$f":"S2109","v":"2029-07-08"}]
[null,null,null,null,null,null,null,null,null,null,null,null,null,null,null,null,null,null,"2029-07-15",{"$f":"WEEKDAY(S2110)","v":1},{"$f":"MONTH(S2110)","v":7},{"$f":"YEAR(S2110)","v":2029},{"$f":"T2110&U2110","v":"17"},{"$f":"IF(V2110&W2110=V2109&W2109,X2109+1,1)","v":3},{"$f":"V2110&U2110&T2110&X2110","v":"2029713"},{"$f":"S2110","v":"2029-07-15"}]
[null,null,null,null,null,null,null,null,null,null,null,null,null,null,null,null,null,null,"2029-07-22",{"$f":"WEEKDAY(S2111)","v":1},{"$f":"MONTH(S2111)","v":7},{"$f":"YEAR(S2111)","v":2029},{"$f":"T2111&U2111","v":"17"},{"$f":"IF(V2111&W2111=V2110&W2110,X2110+1,1)","v":4},{"$f":"V2111&U2111&T2111&X2111","v":"2029714"},{"$f":"S2111","v":"2029-07-22"}]
[null,null,null,null,null,null,null,null,null,null,null,null,null,null,null,null,null,null,"2029-07-29",{"$f":"WEEKDAY(S2112)","v":1},{"$f":"MONTH(S2112)","v":7},{"$f":"YEAR(S2112)","v":2029},{"$f":"T2112&U2112","v":"17"},{"$f":"IF(V2112&W2112=V2111&W2111,X2111+1,1)","v":5},{"$f":"V2112&U2112&T2112&X2112","v":"2029715"},{"$f":"S2112","v":"2029-07-29"}]
[null,null,null,null,null,null,null,null,null,null,null,null,null,null,null,null,null,null,"2029-07-02",{"$f":"WEEKDAY(S2113)","v":2},{"$f":"MONTH(S2113)","v":7},{"$f":"YEAR(S2113)","v":2029},{"$f":"T2113&U2113","v":"27"},{"$f":"IF(V2113&W2113=V2112&W2112,X2112+1,1)","v":1},{"$f":"V2113&U2113&T2113&X2113","v":"2029721"},{"$f":"S2113","v":"2029-07-02"}]
[null,null,null,null,null,null,null,null,null,null,null,null,null,null,null,null,null,null,"2029-07-09",{"$f":"WEEKDAY(S2114)","v":2},{"$f":"MONTH(S2114)","v":7},{"$f":"YEAR(S2114)","v":2029},{"$f":"T2114&U2114","v":"27"},{"$f":"IF(V2114&W2114=V2113&W2113,X2113+1,1)","v":2},{"$f":"V2114&U2114&T2114&X2114","v":"2029722"},{"$f":"S2114","v":"2029-07-09"}]
[null,null,null,null,null,null,null,null,null,null,null,null,null,null,null,null,null,null,"2029-07-16",{"$f":"WEEKDAY(S2115)","v":2},{"$f":"MONTH(S2115)","v":7},{"$f":"YEAR(S2115)","v":2029},{"$f":"T2115&U2115","v":"27"},{"$f":"IF(V2115&W2115=V2114&W2114,X2114+1,1)","v":3},{"$f":"V2115&U2115&T2115&X2115","v":"2029723"},{"$f":"S2115","v":"2029-07-16"}]
[null,null,null,null,null,null,null,null,null,null,null,null,null,null,null,null,null,null,"2029-07-23",{"$f":"WEEKDAY(S2116)","v":2},{"$f":"MONTH(S2116)","v":7},{"$f":"YEAR(S2116)","v":2029},{"$f":"T2116&U2116","v":"27"},{"$f":"IF(V2116&W2116=V2115&W2115,X2115+1,1)","v":4},{"$f":"V2116&U2116&T2116&X2116","v":"2029724"},{"$f":"S2116","v":"2029-07-23"}]
[null,null,null,null,null,null,null,null,null,null,null,null,null,null,null,null,null,null,"2029-07-30",{"$f":"WEEKDAY(S2117)","v":2},{"$f":"MONTH(S2117)","v":7},{"$f":"YEAR(S2117)","v":2029},{"$f":"T2117&U2117","v":"27"},{"$f":"IF(V2117&W2117=V2116&W2116,X2116+1,1)","v":5},{"$f":"V2117&U2117&T2117&X2117","v":"2029725"},{"$f":"S2117","v":"2029-07-30"}]
[null,null,null,null,null,null,null,null,null,null,null,null,null,null,null,null,null,null,"2029-07-03",{"$f":"WEEKDAY(S2118)","v":3},{"$f":"MONTH(S2118)","v":7},{"$f":"YEAR(S2118)","v":2029},{"$f":"T2118&U2118","v":"37"},{"$f":"IF(V2118&W2118=V2117&W2117,X2117+1,1)","v":1},{"$f":"V2118&U2118&T2118&X2118","v":"2029731"},{"$f":"S2118","v":"2029-07-03"}]
[null,null,null,null,null,null,null,null,null,null,null,null,null,null,null,null,null,null,"2029-07-10",{"$f":"WEEKDAY(S2119)","v":3},{"$f":"MONTH(S2119)","v":7},{"$f":"YEAR(S2119)","v":2029},{"$f":"T2119&U2119","v":"37"},{"$f":"IF(V2119&W2119=V2118&W2118,X2118+1,1)","v":2},{"$f":"V2119&U2119&T2119&X2119","v":"2029732"},{"$f":"S2119","v":"2029-07-10"}]
[null,null,null,null,null,null,null,null,null,null,null,null,null,null,null,null,null,null,"2029-07-17",{"$f":"WEEKDAY(S2120)","v":3},{"$f":"MONTH(S2120)","v":7},{"$f":"YEAR(S2120)","v":2029},{"$f":"T2120&U2120","v":"37"},{"$f":"IF(V2120&W2120=V2119&W2119,X2119+1,1)","v":3},{"$f":"V2120&U2120&T2120&X2120","v":"2029733"},{"$f":"S2120","v":"2029-07-17"}]
[null,null,null,null,null,null,null,null,null,null,null,null,null,null,null,null,null,null,"2029-07-24",{"$f":"WEEKDAY(S2121)","v":3},{"$f":"MONTH(S2121)","v":7},{"$f":"YEAR(S2121)","v":2029},{"$f":"T2121&U2121","v":"37"},{"$f":"IF(V2121&W2121=V2120&W2120,X2120+1,1)","v":4},{"$f":"V2121&U2121&T2121&X2121","v":"2029734"},{"$f":"S2121","v":"2029-07-24"}]
[null,null,null,null,null,null,null,null,null,null,null,null,null,null,null,null,null,null,"2029-07-31",{"$f":"WEEKDAY(S2122)","v":3},{"$f":"MONTH(S2122)","v":7},{"$f":"YEAR(S2122)","v":2029},{"$f":"T2122&U2122","v":"37"},{"$f":"IF(V2122&W2122=V2121&W2121,X2121+1,1)","v":5},{"$f":"V2122&U2122&T2122&X2122","v":"2029735"},{"$f":"S2122","v":"2029-07-31"}]
[null,null,null,null,null,null,null,null,null,null,null,null,null,null,null,null,null,null,"2029-07-04",{"$f":"WEEKDAY(S2123)","v":4},{"$f":"MONTH(S2123)","v":7},{"$f":"YEAR(S2123)","v":2029},{"$f":"T2123&U2123","v":"47"},{"$f":"IF(V2123&W2123=V2122&W2122,X2122+1,1)","v":1},{"$f":"V2123&U2123&T2123&X2123","v":"2029741"},{"$f":"S2123","v":"2029-07-04"}]
[null,null,null,null,null,null,null,null,null,null,null,null,null,null,null,null,null,null,"2029-07-11",{"$f":"WEEKDAY(S2124)","v":4},{"$f":"MONTH(S2124)","v":7},{"$f":"YEAR(S2124)","v":2029},{"$f":"T2124&U2124","v":"47"},{"$f":"IF(V2124&W2124=V2123&W2123,X2123+1,1)","v":2},{"$f":"V2124&U2124&T2124&X2124","v":"2029742"},{"$f":"S2124","v":"2029-07-11"}]
[null,null,null,null,null,null,null,null,null,null,null,null,null,null,null,null,null,null,"2029-07-18",{"$f":"WEEKDAY(S2125)","v":4},{"$f":"MONTH(S2125)","v":7},{"$f":"YEAR(S2125)","v":2029},{"$f":"T2125&U2125","v":"47"},{"$f":"IF(V2125&W2125=V2124&W2124,X2124+1,1)","v":3},{"$f":"V2125&U2125&T2125&X2125","v":"2029743"},{"$f":"S2125","v":"2029-07-18"}]
[null,null,null,null,null,null,null,null,null,null,null,null,null,null,null,null,null,null,"2029-07-25",{"$f":"WEEKDAY(S2126)","v":4},{"$f":"MONTH(S2126)","v":7},{"$f":"YEAR(S2126)","v":2029},{"$f":"T2126&U2126","v":"47"},{"$f":"IF(V2126&W2126=V2125&W2125,X2125+1,1)","v":4},{"$f":"V2126&U2126&T2126&X2126","v":"2029744"},{"$f":"S2126","v":"2029-07-25"}]
[null,null,null,null,null,null,null,null,null,null,null,null,null,null,null,null,null,null,"2029-07-05",{"$f":"WEEKDAY(S2127)","v":5},{"$f":"MONTH(S2127)","v":7},{"$f":"YEAR(S2127)","v":2029},{"$f":"T2127&U2127","v":"57"},{"$f":"IF(V2127&W2127=V2126&W2126,X2126+1,1)","v":1},{"$f":"V2127&U2127&T2127&X2127","v":"2029751"},{"$f":"S2127","v":"2029-07-05"}]
[null,null,null,null,null,null,null,null,null,null,null,null,null,null,null,null,null,null,"2029-07-12",{"$f":"WEEKDAY(S2128)","v":5},{"$f":"MONTH(S2128)","v":7},{"$f":"YEAR(S2128)","v":2029},{"$f":"T2128&U2128","v":"57"},{"$f":"IF(V2128&W2128=V2127&W2127,X2127+1,1)","v":2},{"$f":"V2128&U2128&T2128&X2128","v":"2029752"},{"$f":"S2128","v":"2029-07-12"}]
[null,null,null,null,null,null,null,null,null,null,null,null,null,null,null,null,null,null,"2029-07-19",{"$f":"WEEKDAY(S2129)","v":5},{"$f":"MONTH(S2129)","v":7},{"$f":"YEAR(S2129)","v":2029},{"$f":"T2129&U2129","v":"57"},{"$f":"IF(V2129&W2129=V2128&W2128,X2128+1,1)","v":3},{"$f":"V2129&U2129&T2129&X2129","v":"2029753"},{"$f":"S2129","v":"2029-07-19"}]
[null,null,null,null,null,null,null,null,null,null,null,null,null,null,null,null,null,null,"2029-07-26",{"$f":"WEEKDAY(S2130)","v":5},{"$f":"MONTH(S2130)","v":7},{"$f":"YEAR(S2130)","v":2029},{"$f":"T2130&U2130","v":"57"},{"$f":"IF(V2130&W2130=V2129&W2129,X2129+1,1)","v":4},{"$f":"V2130&U2130&T2130&X2130","v":"2029754"},{"$f":"S2130","v":"2029-07-26"}]
[null,null,null,null,null,null,null,null,null,null,null,null,null,null,null,null,null,null,"2029-07-06",{"$f":"WEEKDAY(S2131)","v":6},{"$f":"MONTH(S2131)","v":7},{"$f":"YEAR(S2131)","v":2029},{"$f":"T2131&U2131","v":"67"},{"$f":"IF(V2131&W2131=V2130&W2130,X2130+1,1)","v":1},{"$f":"V2131&U2131&T2131&X2131","v":"2029761"},{"$f":"S2131","v":"2029-07-06"}]
[null,null,null,null,null,null,null,null,null,null,null,null,null,null,null,null,null,null,"2029-07-13",{"$f":"WEEKDAY(S2132)","v":6},{"$f":"MONTH(S2132)","v":7},{"$f":"YEAR(S2132)","v":2029},{"$f":"T2132&U2132","v":"67"},{"$f":"IF(V2132&W2132=V2131&W2131,X2131+1,1)","v":2},{"$f":"V2132&U2132&T2132&X2132","v":"2029762"},{"$f":"S2132","v":"2029-07-13"}]
[null,null,null,null,null,null,null,null,null,null,null,null,null,null,null,null,null,null,"2029-07-20",{"$f":"WEEKDAY(S2133)","v":6},{"$f":"MONTH(S2133)","v":7},{"$f":"YEAR(S2133)","v":2029},{"$f":"T2133&U2133","v":"67"},{"$f":"IF(V2133&W2133=V2132&W2132,X2132+1,1)","v":3},{"$f":"V2133&U2133&T2133&X2133","v":"2029763"},{"$f":"S2133","v":"2029-07-20"}]
[null,null,null,null,null,null,null,null,null,null,null,null,null,null,null,null,null,null,"2029-07-27",{"$f":"WEEKDAY(S2134)","v":6},{"$f":"MONTH(S2134)","v":7},{"$f":"YEAR(S2134)","v":2029},{"$f":"T2134&U2134","v":"67"},{"$f":"IF(V2134&W2134=V2133&W2133,X2133+1,1)","v":4},{"$f":"V2134&U2134&T2134&X2134","v":"2029764"},{"$f":"S2134","v":"2029-07-27"}]
[null,null,null,null,null,null,null,null,null,null,null,null,null,null,null,null,null,null,"2029-07-07",{"$f":"WEEKDAY(S2135)","v":7},{"$f":"MONTH(S2135)","v":7},{"$f":"YEAR(S2135)","v":2029},{"$f":"T2135&U2135","v":"77"},{"$f":"IF(V2135&W2135=V2134&W2134,X2134+1,1)","v":1},{"$f":"V2135&U2135&T2135&X2135","v":"2029771"},{"$f":"S2135","v":"2029-07-07"}]
[null,null,null,null,null,null,null,null,null,null,null,null,null,null,null,null,null,null,"2029-07-14",{"$f":"WEEKDAY(S2136)","v":7},{"$f":"MONTH(S2136)","v":7},{"$f":"YEAR(S2136)","v":2029},{"$f":"T2136&U2136","v":"77"},{"$f":"IF(V2136&W2136=V2135&W2135,X2135+1,1)","v":2},{"$f":"V2136&U2136&T2136&X2136","v":"2029772"},{"$f":"S2136","v":"2029-07-14"}]
[null,null,null,null,null,null,null,null,null,null,null,null,null,null,null,null,null,null,"2029-07-21",{"$f":"WEEKDAY(S2137)","v":7},{"$f":"MONTH(S2137)","v":7},{"$f":"YEAR(S2137)","v":2029},{"$f":"T2137&U2137","v":"77"},{"$f":"IF(V2137&W2137=V2136&W2136,X2136+1,1)","v":3},{"$f":"V2137&U2137&T2137&X2137","v":"2029773"},{"$f":"S2137","v":"2029-07-21"}]
[null,null,null,null,null,null,null,null,null,null,null,null,null,null,null,null,null,null,"2029-07-28",{"$f":"WEEKDAY(S2138)","v":7},{"$f":"MONTH(S2138)","v":7},{"$f":"YEAR(S2138)","v":2029},{"$f":"T2138&U2138","v":"77"},{"$f":"IF(V2138&W2138=V2137&W2137,X2137+1,1)","v":4},{"$f":"V2138&U2138&T2138&X2138","v":"2029774"},{"$f":"S2138","v":"2029-07-28"}]
[null,null,null,null,null,null,null,null,null,null,null,null,null,null,null,null,null,null,"2029-08-05",{"$f":"WEEKDAY(S2139)","v":1},{"$f":"MONTH(S2139)","v":8},{"$f":"YEAR(S2139)","v":2029},{"$f":"T2139&U2139","v":"18"},{"$f":"IF(V2139&W2139=V2138&W2138,X2138+1,1)","v":1},{"$f":"V2139&U2139&T2139&X2139","v":"2029811"},{"$f":"S2139","v":"2029-08-05"}]
[null,null,null,null,null,null,null,null,null,null,null,null,null,null,null,null,null,null,"2029-08-12",{"$f":"WEEKDAY(S2140)","v":1},{"$f":"MONTH(S2140)","v":8},{"$f":"YEAR(S2140)","v":2029},{"$f":"T2140&U2140","v":"18"},{"$f":"IF(V2140&W2140=V2139&W2139,X2139+1,1)","v":2},{"$f":"V2140&U2140&T2140&X2140","v":"2029812"},{"$f":"S2140","v":"2029-08-12"}]
[null,null,null,null,null,null,null,null,null,null,null,null,null,null,null,null,null,null,"2029-08-19",{"$f":"WEEKDAY(S2141)","v":1},{"$f":"MONTH(S2141)","v":8},{"$f":"YEAR(S2141)","v":2029},{"$f":"T2141&U2141","v":"18"},{"$f":"IF(V2141&W2141=V2140&W2140,X2140+1,1)","v":3},{"$f":"V2141&U2141&T2141&X2141","v":"2029813"},{"$f":"S2141","v":"2029-08-19"}]
[null,null,null,null,null,null,null,null,null,null,null,null,null,null,null,null,null,null,"2029-08-26",{"$f":"WEEKDAY(S2142)","v":1},{"$f":"MONTH(S2142)","v":8},{"$f":"YEAR(S2142)","v":2029},{"$f":"T2142&U2142","v":"18"},{"$f":"IF(V2142&W2142=V2141&W2141,X2141+1,1)","v":4},{"$f":"V2142&U2142&T2142&X2142","v":"2029814"},{"$f":"S2142","v":"2029-08-26"}]
[null,null,null,null,null,null,null,null,null,null,null,null,null,null,null,null,null,null,"2029-08-06",{"$f":"WEEKDAY(S2143)","v":2},{"$f":"MONTH(S2143)","v":8},{"$f":"YEAR(S2143)","v":2029},{"$f":"T2143&U2143","v":"28"},{"$f":"IF(V2143&W2143=V2142&W2142,X2142+1,1)","v":1},{"$f":"V2143&U2143&T2143&X2143","v":"2029821"},{"$f":"S2143","v":"2029-08-06"}]
[null,null,null,null,null,null,null,null,null,null,null,null,null,null,null,null,null,null,"2029-08-13",{"$f":"WEEKDAY(S2144)","v":2},{"$f":"MONTH(S2144)","v":8},{"$f":"YEAR(S2144)","v":2029},{"$f":"T2144&U2144","v":"28"},{"$f":"IF(V2144&W2144=V2143&W2143,X2143+1,1)","v":2},{"$f":"V2144&U2144&T2144&X2144","v":"2029822"},{"$f":"S2144","v":"2029-08-13"}]
[null,null,null,null,null,null,null,null,null,null,null,null,null,null,null,null,null,null,"2029-08-20",{"$f":"WEEKDAY(S2145)","v":2},{"$f":"MONTH(S2145)","v":8},{"$f":"YEAR(S2145)","v":2029},{"$f":"T2145&U2145","v":"28"},{"$f":"IF(V2145&W2145=V2144&W2144,X2144+1,1)","v":3},{"$f":"V2145&U2145&T2145&X2145","v":"2029823"},{"$f":"S2145","v":"2029-08-20"}]
[null,null,null,null,null,null,null,null,null,null,null,null,null,null,null,null,null,null,"2029-08-27",{"$f":"WEEKDAY(S2146)","v":2},{"$f":"MONTH(S2146)","v":8},{"$f":"YEAR(S2146)","v":2029},{"$f":"T2146&U2146","v":"28"},{"$f":"IF(V2146&W2146=V2145&W2145,X2145+1,1)","v":4},{"$f":"V2146&U2146&T2146&X2146","v":"2029824"},{"$f":"S2146","v":"2029-08-27"}]
[null,null,null,null,null,null,null,null,null,null,null,null,null,null,null,null,null,null,"2029-08-07",{"$f":"WEEKDAY(S2147)","v":3},{"$f":"MONTH(S2147)","v":8},{"$f":"YEAR(S2147)","v":2029},{"$f":"T2147&U2147","v":"38"},{"$f":"IF(V2147&W2147=V2146&W2146,X2146+1,1)","v":1},{"$f":"V2147&U2147&T2147&X2147","v":"2029831"},{"$f":"S2147","v":"2029-08-07"}]
[null,null,null,null,null,null,null,null,null,null,null,null,null,null,null,null,null,null,"2029-08-14",{"$f":"WEEKDAY(S2148)","v":3},{"$f":"MONTH(S2148)","v":8},{"$f":"YEAR(S2148)","v":2029},{"$f":"T2148&U2148","v":"38"},{"$f":"IF(V2148&W2148=V2147&W2147,X2147+1,1)","v":2},{"$f":"V2148&U2148&T2148&X2148","v":"2029832"},{"$f":"S2148","v":"2029-08-14"}]
[null,null,null,null,null,null,null,null,null,null,null,null,null,null,null,null,null,null,"2029-08-21",{"$f":"WEEKDAY(S2149)","v":3},{"$f":"MONTH(S2149)","v":8},{"$f":"YEAR(S2149)","v":2029},{"$f":"T2149&U2149","v":"38"},{"$f":"IF(V2149&W2149=V2148&W2148,X2148+1,1)","v":3},{"$f":"V2149&U2149&T2149&X2149","v":"2029833"},{"$f":"S2149","v":"2029-08-21"}]
[null,null,null,null,null,null,null,null,null,null,null,null,null,null,null,null,null,null,"2029-08-28",{"$f":"WEEKDAY(S2150)","v":3},{"$f":"MONTH(S2150)","v":8},{"$f":"YEAR(S2150)","v":2029},{"$f":"T2150&U2150","v":"38"},{"$f":"IF(V2150&W2150=V2149&W2149,X2149+1,1)","v":4},{"$f":"V2150&U2150&T2150&X2150","v":"2029834"},{"$f":"S2150","v":"2029-08-28"}]
[null,null,null,null,null,null,null,null,null,null,null,null,null,null,null,null,null,null,"2029-08-01",{"$f":"WEEKDAY(S2151)","v":4},{"$f":"MONTH(S2151)","v":8},{"$f":"YEAR(S2151)","v":2029},{"$f":"T2151&U2151","v":"48"},{"$f":"IF(V2151&W2151=V2150&W2150,X2150+1,1)","v":1},{"$f":"V2151&U2151&T2151&X2151","v":"2029841"},{"$f":"S2151","v":"2029-08-01"}]
[null,null,null,null,null,null,null,null,null,null,null,null,null,null,null,null,null,null,"2029-08-08",{"$f":"WEEKDAY(S2152)","v":4},{"$f":"MONTH(S2152)","v":8},{"$f":"YEAR(S2152)","v":2029},{"$f":"T2152&U2152","v":"48"},{"$f":"IF(V2152&W2152=V2151&W2151,X2151+1,1)","v":2},{"$f":"V2152&U2152&T2152&X2152","v":"2029842"},{"$f":"S2152","v":"2029-08-08"}]
[null,null,null,null,null,null,null,null,null,null,null,null,null,null,null,null,null,null,"2029-08-15",{"$f":"WEEKDAY(S2153)","v":4},{"$f":"MONTH(S2153)","v":8},{"$f":"YEAR(S2153)","v":2029},{"$f":"T2153&U2153","v":"48"},{"$f":"IF(V2153&W2153=V2152&W2152,X2152+1,1)","v":3},{"$f":"V2153&U2153&T2153&X2153","v":"2029843"},{"$f":"S2153","v":"2029-08-15"}]
[null,null,null,null,null,null,null,null,null,null,null,null,null,null,null,null,null,null,"2029-08-22",{"$f":"WEEKDAY(S2154)","v":4},{"$f":"MONTH(S2154)","v":8},{"$f":"YEAR(S2154)","v":2029},{"$f":"T2154&U2154","v":"48"},{"$f":"IF(V2154&W2154=V2153&W2153,X2153+1,1)","v":4},{"$f":"V2154&U2154&T2154&X2154","v":"2029844"},{"$f":"S2154","v":"2029-08-22"}]
[null,null,null,null,null,null,null,null,null,null,null,null,null,null,null,null,null,null,"2029-08-29",{"$f":"WEEKDAY(S2155)","v":4},{"$f":"MONTH(S2155)","v":8},{"$f":"YEAR(S2155)","v":2029},{"$f":"T2155&U2155","v":"48"},{"$f":"IF(V2155&W2155=V2154&W2154,X2154+1,1)","v":5},{"$f":"V2155&U2155&T2155&X2155","v":"2029845"},{"$f":"S2155","v":"2029-08-29"}]
[null,null,null,null,null,null,null,null,null,null,null,null,null,null,null,null,null,null,"2029-08-02",{"$f":"WEEKDAY(S2156)","v":5},{"$f":"MONTH(S2156)","v":8},{"$f":"YEAR(S2156)","v":2029},{"$f":"T2156&U2156","v":"58"},{"$f":"IF(V2156&W2156=V2155&W2155,X2155+1,1)","v":1},{"$f":"V2156&U2156&T2156&X2156","v":"2029851"},{"$f":"S2156","v":"2029-08-02"}]
[null,null,null,null,null,null,null,null,null,null,null,null,null,null,null,null,null,null,"2029-08-09",{"$f":"WEEKDAY(S2157)","v":5},{"$f":"MONTH(S2157)","v":8},{"$f":"YEAR(S2157)","v":2029},{"$f":"T2157&U2157","v":"58"},{"$f":"IF(V2157&W2157=V2156&W2156,X2156+1,1)","v":2},{"$f":"V2157&U2157&T2157&X2157","v":"2029852"},{"$f":"S2157","v":"2029-08-09"}]
[null,null,null,null,null,null,null,null,null,null,null,null,null,null,null,null,null,null,"2029-08-16",{"$f":"WEEKDAY(S2158)","v":5},{"$f":"MONTH(S2158)","v":8},{"$f":"YEAR(S2158)","v":2029},{"$f":"T2158&U2158","v":"58"},{"$f":"IF(V2158&W2158=V2157&W2157,X2157+1,1)","v":3},{"$f":"V2158&U2158&T2158&X2158","v":"2029853"},{"$f":"S2158","v":"2029-08-16"}]
[null,null,null,null,null,null,null,null,null,null,null,null,null,null,null,null,null,null,"2029-08-23",{"$f":"WEEKDAY(S2159)","v":5},{"$f":"MONTH(S2159)","v":8},{"$f":"YEAR(S2159)","v":2029},{"$f":"T2159&U2159","v":"58"},{"$f":"IF(V2159&W2159=V2158&W2158,X2158+1,1)","v":4},{"$f":"V2159&U2159&T2159&X2159","v":"2029854"},{"$f":"S2159","v":"2029-08-23"}]
[null,null,null,null,null,null,null,null,null,null,null,null,null,null,null,null,null,null,"2029-08-30",{"$f":"WEEKDAY(S2160)","v":5},{"$f":"MONTH(S2160)","v":8},{"$f":"YEAR(S2160)","v":2029},{"$f":"T2160&U2160","v":"58"},{"$f":"IF(V2160&W2160=V2159&W2159,X2159+1,1)","v":5},{"$f":"V2160&U2160&T2160&X2160","v":"2029855"},{"$f":"S2160","v":"2029-08-30"}]
[null,null,null,null,null,null,null,null,null,null,null,null,null,null,null,null,null,null,"2029-08-03",{"$f":"WEEKDAY(S2161)","v":6},{"$f":"MONTH(S2161)","v":8},{"$f":"YEAR(S2161)","v":2029},{"$f":"T2161&U2161","v":"68"},{"$f":"IF(V2161&W2161=V2160&W2160,X2160+1,1)","v":1},{"$f":"V2161&U2161&T2161&X2161","v":"2029861"},{"$f":"S2161","v":"2029-08-03"}]
[null,null,null,null,null,null,null,null,null,null,null,null,null,null,null,null,null,null,"2029-08-10",{"$f":"WEEKDAY(S2162)","v":6},{"$f":"MONTH(S2162)","v":8},{"$f":"YEAR(S2162)","v":2029},{"$f":"T2162&U2162","v":"68"},{"$f":"IF(V2162&W2162=V2161&W2161,X2161+1,1)","v":2},{"$f":"V2162&U2162&T2162&X2162","v":"2029862"},{"$f":"S2162","v":"2029-08-10"}]
[null,null,null,null,null,null,null,null,null,null,null,null,null,null,null,null,null,null,"2029-08-17",{"$f":"WEEKDAY(S2163)","v":6},{"$f":"MONTH(S2163)","v":8},{"$f":"YEAR(S2163)","v":2029},{"$f":"T2163&U2163","v":"68"},{"$f":"IF(V2163&W2163=V2162&W2162,X2162+1,1)","v":3},{"$f":"V2163&U2163&T2163&X2163","v":"2029863"},{"$f":"S2163","v":"2029-08-17"}]
[null,null,null,null,null,null,null,null,null,null,null,null,null,null,null,null,null,null,"2029-08-24",{"$f":"WEEKDAY(S2164)","v":6},{"$f":"MONTH(S2164)","v":8},{"$f":"YEAR(S2164)","v":2029},{"$f":"T2164&U2164","v":"68"},{"$f":"IF(V2164&W2164=V2163&W2163,X2163+1,1)","v":4},{"$f":"V2164&U2164&T2164&X2164","v":"2029864"},{"$f":"S2164","v":"2029-08-24"}]
[null,null,null,null,null,null,null,null,null,null,null,null,null,null,null,null,null,null,"2029-08-31",{"$f":"WEEKDAY(S2165)","v":6},{"$f":"MONTH(S2165)","v":8},{"$f":"YEAR(S2165)","v":2029},{"$f":"T2165&U2165","v":"68"},{"$f":"IF(V2165&W2165=V2164&W2164,X2164+1,1)","v":5},{"$f":"V2165&U2165&T2165&X2165","v":"2029865"},{"$f":"S2165","v":"2029-08-31"}]
[null,null,null,null,null,null,null,null,null,null,null,null,null,null,null,null,null,null,"2029-08-04",{"$f":"WEEKDAY(S2166)","v":7},{"$f":"MONTH(S2166)","v":8},{"$f":"YEAR(S2166)","v":2029},{"$f":"T2166&U2166","v":"78"},{"$f":"IF(V2166&W2166=V2165&W2165,X2165+1,1)","v":1},{"$f":"V2166&U2166&T2166&X2166","v":"2029871"},{"$f":"S2166","v":"2029-08-04"}]
[null,null,null,null,null,null,null,null,null,null,null,null,null,null,null,null,null,null,"2029-08-11",{"$f":"WEEKDAY(S2167)","v":7},{"$f":"MONTH(S2167)","v":8},{"$f":"YEAR(S2167)","v":2029},{"$f":"T2167&U2167","v":"78"},{"$f":"IF(V2167&W2167=V2166&W2166,X2166+1,1)","v":2},{"$f":"V2167&U2167&T2167&X2167","v":"2029872"},{"$f":"S2167","v":"2029-08-11"}]
[null,null,null,null,null,null,null,null,null,null,null,null,null,null,null,null,null,null,"2029-08-18",{"$f":"WEEKDAY(S2168)","v":7},{"$f":"MONTH(S2168)","v":8},{"$f":"YEAR(S2168)","v":2029},{"$f":"T2168&U2168","v":"78"},{"$f":"IF(V2168&W2168=V2167&W2167,X2167+1,1)","v":3},{"$f":"V2168&U2168&T2168&X2168","v":"2029873"},{"$f":"S2168","v":"2029-08-18"}]
[null,null,null,null,null,null,null,null,null,null,null,null,null,null,null,null,null,null,"2029-08-25",{"$f":"WEEKDAY(S2169)","v":7},{"$f":"MONTH(S2169)","v":8},{"$f":"YEAR(S2169)","v":2029},{"$f":"T2169&U2169","v":"78"},{"$f":"IF(V2169&W2169=V2168&W2168,X2168+1,1)","v":4},{"$f":"V2169&U2169&T2169&X2169","v":"2029874"},{"$f":"S2169","v":"2029-08-25"}]
[null,null,null,null,null,null,null,null,null,null,null,null,null,null,null,null,null,null,"2029-09-02",{"$f":"WEEKDAY(S2170)","v":1},{"$f":"MONTH(S2170)","v":9},{"$f":"YEAR(S2170)","v":2029},{"$f":"T2170&U2170","v":"19"},{"$f":"IF(V2170&W2170=V2169&W2169,X2169+1,1)","v":1},{"$f":"V2170&U2170&T2170&X2170","v":"2029911"},{"$f":"S2170","v":"2029-09-02"}]
[null,null,null,null,null,null,null,null,null,null,null,null,null,null,null,null,null,null,"2029-09-09",{"$f":"WEEKDAY(S2171)","v":1},{"$f":"MONTH(S2171)","v":9},{"$f":"YEAR(S2171)","v":2029},{"$f":"T2171&U2171","v":"19"},{"$f":"IF(V2171&W2171=V2170&W2170,X2170+1,1)","v":2},{"$f":"V2171&U2171&T2171&X2171","v":"2029912"},{"$f":"S2171","v":"2029-09-09"}]
[null,null,null,null,null,null,null,null,null,null,null,null,null,null,null,null,null,null,"2029-09-16",{"$f":"WEEKDAY(S2172)","v":1},{"$f":"MONTH(S2172)","v":9},{"$f":"YEAR(S2172)","v":2029},{"$f":"T2172&U2172","v":"19"},{"$f":"IF(V2172&W2172=V2171&W2171,X2171+1,1)","v":3},{"$f":"V2172&U2172&T2172&X2172","v":"2029913"},{"$f":"S2172","v":"2029-09-16"}]
[null,null,null,null,null,null,null,null,null,null,null,null,null,null,null,null,null,null,"2029-09-23",{"$f":"WEEKDAY(S2173)","v":1},{"$f":"MONTH(S2173)","v":9},{"$f":"YEAR(S2173)","v":2029},{"$f":"T2173&U2173","v":"19"},{"$f":"IF(V2173&W2173=V2172&W2172,X2172+1,1)","v":4},{"$f":"V2173&U2173&T2173&X2173","v":"2029914"},{"$f":"S2173","v":"2029-09-23"}]
[null,null,null,null,null,null,null,null,null,null,null,null,null,null,null,null,null,null,"2029-09-30",{"$f":"WEEKDAY(S2174)","v":1},{"$f":"MONTH(S2174)","v":9},{"$f":"YEAR(S2174)","v":2029},{"$f":"T2174&U2174","v":"19"},{"$f":"IF(V2174&W2174=V2173&W2173,X2173+1,1)","v":5},{"$f":"V2174&U2174&T2174&X2174","v":"2029915"},{"$f":"S2174","v":"2029-09-30"}]
[null,null,null,null,null,null,null,null,null,null,null,null,null,null,null,null,null,null,"2029-09-03",{"$f":"WEEKDAY(S2175)","v":2},{"$f":"MONTH(S2175)","v":9},{"$f":"YEAR(S2175)","v":2029},{"$f":"T2175&U2175","v":"29"},{"$f":"IF(V2175&W2175=V2174&W2174,X2174+1,1)","v":1},{"$f":"V2175&U2175&T2175&X2175","v":"2029921"},{"$f":"S2175","v":"2029-09-03"}]
[null,null,null,null,null,null,null,null,null,null,null,null,null,null,null,null,null,null,"2029-09-10",{"$f":"WEEKDAY(S2176)","v":2},{"$f":"MONTH(S2176)","v":9},{"$f":"YEAR(S2176)","v":2029},{"$f":"T2176&U2176","v":"29"},{"$f":"IF(V2176&W2176=V2175&W2175,X2175+1,1)","v":2},{"$f":"V2176&U2176&T2176&X2176","v":"2029922"},{"$f":"S2176","v":"2029-09-10"}]
[null,null,null,null,null,null,null,null,null,null,null,null,null,null,null,null,null,null,"2029-09-17",{"$f":"WEEKDAY(S2177)","v":2},{"$f":"MONTH(S2177)","v":9},{"$f":"YEAR(S2177)","v":2029},{"$f":"T2177&U2177","v":"29"},{"$f":"IF(V2177&W2177=V2176&W2176,X2176+1,1)","v":3},{"$f":"V2177&U2177&T2177&X2177","v":"2029923"},{"$f":"S2177","v":"2029-09-17"}]
[null,null,null,null,null,null,null,null,null,null,null,null,null,null,null,null,null,null,"2029-09-24",{"$f":"WEEKDAY(S2178)","v":2},{"$f":"MONTH(S2178)","v":9},{"$f":"YEAR(S2178)","v":2029},{"$f":"T2178&U2178","v":"29"},{"$f":"IF(V2178&W2178=V2177&W2177,X2177+1,1)","v":4},{"$f":"V2178&U2178&T2178&X2178","v":"2029924"},{"$f":"S2178","v":"2029-09-24"}]
[null,null,null,null,null,null,null,null,null,null,null,null,null,null,null,null,null,null,"2029-09-04",{"$f":"WEEKDAY(S2179)","v":3},{"$f":"MONTH(S2179)","v":9},{"$f":"YEAR(S2179)","v":2029},{"$f":"T2179&U2179","v":"39"},{"$f":"IF(V2179&W2179=V2178&W2178,X2178+1,1)","v":1},{"$f":"V2179&U2179&T2179&X2179","v":"2029931"},{"$f":"S2179","v":"2029-09-04"}]
[null,null,null,null,null,null,null,null,null,null,null,null,null,null,null,null,null,null,"2029-09-11",{"$f":"WEEKDAY(S2180)","v":3},{"$f":"MONTH(S2180)","v":9},{"$f":"YEAR(S2180)","v":2029},{"$f":"T2180&U2180","v":"39"},{"$f":"IF(V2180&W2180=V2179&W2179,X2179+1,1)","v":2},{"$f":"V2180&U2180&T2180&X2180","v":"2029932"},{"$f":"S2180","v":"2029-09-11"}]
[null,null,null,null,null,null,null,null,null,null,null,null,null,null,null,null,null,null,"2029-09-18",{"$f":"WEEKDAY(S2181)","v":3},{"$f":"MONTH(S2181)","v":9},{"$f":"YEAR(S2181)","v":2029},{"$f":"T2181&U2181","v":"39"},{"$f":"IF(V2181&W2181=V2180&W2180,X2180+1,1)","v":3},{"$f":"V2181&U2181&T2181&X2181","v":"2029933"},{"$f":"S2181","v":"2029-09-18"}]
[null,null,null,null,null,null,null,null,null,null,null,null,null,null,null,null,null,null,"2029-09-25",{"$f":"WEEKDAY(S2182)","v":3},{"$f":"MONTH(S2182)","v":9},{"$f":"YEAR(S2182)","v":2029},{"$f":"T2182&U2182","v":"39"},{"$f":"IF(V2182&W2182=V2181&W2181,X2181+1,1)","v":4},{"$f":"V2182&U2182&T2182&X2182","v":"2029934"},{"$f":"S2182","v":"2029-09-25"}]
[null,null,null,null,null,null,null,null,null,null,null,null,null,null,null,null,null,null,"2029-09-05",{"$f":"WEEKDAY(S2183)","v":4},{"$f":"MONTH(S2183)","v":9},{"$f":"YEAR(S2183)","v":2029},{"$f":"T2183&U2183","v":"49"},{"$f":"IF(V2183&W2183=V2182&W2182,X2182+1,1)","v":1},{"$f":"V2183&U2183&T2183&X2183","v":"2029941"},{"$f":"S2183","v":"2029-09-05"}]
[null,null,null,null,null,null,null,null,null,null,null,null,null,null,null,null,null,null,"2029-09-12",{"$f":"WEEKDAY(S2184)","v":4},{"$f":"MONTH(S2184)","v":9},{"$f":"YEAR(S2184)","v":2029},{"$f":"T2184&U2184","v":"49"},{"$f":"IF(V2184&W2184=V2183&W2183,X2183+1,1)","v":2},{"$f":"V2184&U2184&T2184&X2184","v":"2029942"},{"$f":"S2184","v":"2029-09-12"}]
[null,null,null,null,null,null,null,null,null,null,null,null,null,null,null,null,null,null,"2029-09-19",{"$f":"WEEKDAY(S2185)","v":4},{"$f":"MONTH(S2185)","v":9},{"$f":"YEAR(S2185)","v":2029},{"$f":"T2185&U2185","v":"49"},{"$f":"IF(V2185&W2185=V2184&W2184,X2184+1,1)","v":3},{"$f":"V2185&U2185&T2185&X2185","v":"2029943"},{"$f":"S2185","v":"2029-09-19"}]
[null,null,null,null,null,null,null,null,null,null,null,null,null,null,null,null,null,null,"2029-09-26",{"$f":"WEEKDAY(S2186)","v":4},{"$f":"MONTH(S2186)","v":9},{"$f":"YEAR(S2186)","v":2029},{"$f":"T2186&U2186","v":"49"},{"$f":"IF(V2186&W2186=V2185&W2185,X2185+1,1)","v":4},{"$f":"V2186&U2186&T2186&X2186","v":"2029944"},{"$f":"S2186","v":"2029-09-26"}]
[null,null,null,null,null,null,null,null,null,null,null,null,null,null,null,null,null,null,"2029-09-06",{"$f":"WEEKDAY(S2187)","v":5},{"$f":"MONTH(S2187)","v":9},{"$f":"YEAR(S2187)","v":2029},{"$f":"T2187&U2187","v":"59"},{"$f":"IF(V2187&W2187=V2186&W2186,X2186+1,1)","v":1},{"$f":"V2187&U2187&T2187&X2187","v":"2029951"},{"$f":"S2187","v":"2029-09-06"}]
[null,null,null,null,null,null,null,null,null,null,null,null,null,null,null,null,null,null,"2029-09-13",{"$f":"WEEKDAY(S2188)","v":5},{"$f":"MONTH(S2188)","v":9},{"$f":"YEAR(S2188)","v":2029},{"$f":"T2188&U2188","v":"59"},{"$f":"IF(V2188&W2188=V2187&W2187,X2187+1,1)","v":2},{"$f":"V2188&U2188&T2188&X2188","v":"2029952"},{"$f":"S2188","v":"2029-09-13"}]
[null,null,null,null,null,null,null,null,null,null,null,null,null,null,null,null,null,null,"2029-09-20",{"$f":"WEEKDAY(S2189)","v":5},{"$f":"MONTH(S2189)","v":9},{"$f":"YEAR(S2189)","v":2029},{"$f":"T2189&U2189","v":"59"},{"$f":"IF(V2189&W2189=V2188&W2188,X2188+1,1)","v":3},{"$f":"V2189&U2189&T2189&X2189","v":"2029953"},{"$f":"S2189","v":"2029-09-20"}]
[null,null,null,null,null,null,null,null,null,null,null,null,null,null,null,null,null,null,"2029-09-27",{"$f":"WEEKDAY(S2190)","v":5},{"$f":"MONTH(S2190)","v":9},{"$f":"YEAR(S2190)","v":2029},{"$f":"T2190&U2190","v":"59"},{"$f":"IF(V2190&W2190=V2189&W2189,X2189+1,1)","v":4},{"$f":"V2190&U2190&T2190&X2190","v":"2029954"},{"$f":"S2190","v":"2029-09-27"}]
[null,null,null,null,null,null,null,null,null,null,null,null,null,null,null,null,null,null,"2029-09-07",{"$f":"WEEKDAY(S2191)","v":6},{"$f":"MONTH(S2191)","v":9},{"$f":"YEAR(S2191)","v":2029},{"$f":"T2191&U2191","v":"69"},{"$f":"IF(V2191&W2191=V2190&W2190,X2190+1,1)","v":1},{"$f":"V2191&U2191&T2191&X2191","v":"2029961"},{"$f":"S2191","v":"2029-09-07"}]
[null,null,null,null,null,null,null,null,null,null,null,null,null,null,null,null,null,null,"2029-09-14",{"$f":"WEEKDAY(S2192)","v":6},{"$f":"MONTH(S2192)","v":9},{"$f":"YEAR(S2192)","v":2029},{"$f":"T2192&U2192","v":"69"},{"$f":"IF(V2192&W2192=V2191&W2191,X2191+1,1)","v":2},{"$f":"V2192&U2192&T2192&X2192","v":"2029962"},{"$f":"S2192","v":"2029-09-14"}]
[null,null,null,null,null,null,null,null,null,null,null,null,null,null,null,null,null,null,"2029-09-21",{"$f":"WEEKDAY(S2193)","v":6},{"$f":"MONTH(S2193)","v":9},{"$f":"YEAR(S2193)","v":2029},{"$f":"T2193&U2193","v":"69"},{"$f":"IF(V2193&W2193=V2192&W2192,X2192+1,1)","v":3},{"$f":"V2193&U2193&T2193&X2193","v":"2029963"},{"$f":"S2193","v":"2029-09-21"}]
[null,null,null,null,null,null,null,null,null,null,null,null,null,null,null,null,null,null,"2029-09-28",{"$f":"WEEKDAY(S2194)","v":6},{"$f":"MONTH(S2194)","v":9},{"$f":"YEAR(S2194)","v":2029},{"$f":"T2194&U2194","v":"69"},{"$f":"IF(V2194&W2194=V2193&W2193,X2193+1,1)","v":4},{"$f":"V2194&U2194&T2194&X2194","v":"2029964"},{"$f":"S2194","v":"2029-09-28"}]
[null,null,null,null,null,null,null,null,null,null,null,null,null,null,null,null,null,null,"2029-09-01",{"$f":"WEEKDAY(S2195)","v":7},{"$f":"MONTH(S2195)","v":9},{"$f":"YEAR(S2195)","v":2029},{"$f":"T2195&U2195","v":"79"},{"$f":"IF(V2195&W2195=V2194&W2194,X2194+1,1)","v":1},{"$f":"V2195&U2195&T2195&X2195","v":"2029971"},{"$f":"S2195","v":"2029-09-01"}]
[null,null,null,null,null,null,null,null,null,null,null,null,null,null,null,null,null,null,"2029-09-08",{"$f":"WEEKDAY(S2196)","v":7},{"$f":"MONTH(S2196)","v":9},{"$f":"YEAR(S2196)","v":2029},{"$f":"T2196&U2196","v":"79"},{"$f":"IF(V2196&W2196=V2195&W2195,X2195+1,1)","v":2},{"$f":"V2196&U2196&T2196&X2196","v":"2029972"},{"$f":"S2196","v":"2029-09-08"}]
[null,null,null,null,null,null,null,null,null,null,null,null,null,null,null,null,null,null,"2029-09-15",{"$f":"WEEKDAY(S2197)","v":7},{"$f":"MONTH(S2197)","v":9},{"$f":"YEAR(S2197)","v":2029},{"$f":"T2197&U2197","v":"79"},{"$f":"IF(V2197&W2197=V2196&W2196,X2196+1,1)","v":3},{"$f":"V2197&U2197&T2197&X2197","v":"2029973"},{"$f":"S2197","v":"2029-09-15"}]
[null,null,null,null,null,null,null,null,null,null,null,null,null,null,null,null,null,null,"2029-09-22",{"$f":"WEEKDAY(S2198)","v":7},{"$f":"MONTH(S2198)","v":9},{"$f":"YEAR(S2198)","v":2029},{"$f":"T2198&U2198","v":"79"},{"$f":"IF(V2198&W2198=V2197&W2197,X2197+1,1)","v":4},{"$f":"V2198&U2198&T2198&X2198","v":"2029974"},{"$f":"S2198","v":"2029-09-22"}]
[null,null,null,null,null,null,null,null,null,null,null,null,null,null,null,null,null,null,"2029-09-29",{"$f":"WEEKDAY(S2199)","v":7},{"$f":"MONTH(S2199)","v":9},{"$f":"YEAR(S2199)","v":2029},{"$f":"T2199&U2199","v":"79"},{"$f":"IF(V2199&W2199=V2198&W2198,X2198+1,1)","v":5},{"$f":"V2199&U2199&T2199&X2199","v":"2029975"},{"$f":"S2199","v":"2029-09-29"}]
[null,null,null,null,null,null,null,null,null,null,null,null,null,null,null,null,null,null,"2030-10-06",{"$f":"WEEKDAY(S2200)","v":1},{"$f":"MONTH(S2200)","v":10},{"$f":"YEAR(S2200)","v":2030},{"$f":"T2200&U2200","v":"110"},{"$f":"IF(V2200&W2200=V2199&W2199,X2199+1,1)","v":1},{"$f":"V2200&U2200&T2200&X2200","v":"20301011"},{"$f":"S2200","v":"2030-10-06"}]
[null,null,null,null,null,null,null,null,null,null,null,null,null,null,null,null,null,null,"2030-10-13",{"$f":"WEEKDAY(S2201)","v":1},{"$f":"MONTH(S2201)","v":10},{"$f":"YEAR(S2201)","v":2030},{"$f":"T2201&U2201","v":"110"},{"$f":"IF(V2201&W2201=V2200&W2200,X2200+1,1)","v":2},{"$f":"V2201&U2201&T2201&X2201","v":"20301012"},{"$f":"S2201","v":"2030-10-13"}]
[null,null,null,null,null,null,null,null,null,null,null,null,null,null,null,null,null,null,"2030-10-20",{"$f":"WEEKDAY(S2202)","v":1},{"$f":"MONTH(S2202)","v":10},{"$f":"YEAR(S2202)","v":2030},{"$f":"T2202&U2202","v":"110"},{"$f":"IF(V2202&W2202=V2201&W2201,X2201+1,1)","v":3},{"$f":"V2202&U2202&T2202&X2202","v":"20301013"},{"$f":"S2202","v":"2030-10-20"}]
[null,null,null,null,null,null,null,null,null,null,null,null,null,null,null,null,null,null,"2030-10-27",{"$f":"WEEKDAY(S2203)","v":1},{"$f":"MONTH(S2203)","v":10},{"$f":"YEAR(S2203)","v":2030},{"$f":"T2203&U2203","v":"110"},{"$f":"IF(V2203&W2203=V2202&W2202,X2202+1,1)","v":4},{"$f":"V2203&U2203&T2203&X2203","v":"20301014"},{"$f":"S2203","v":"2030-10-27"}]
[null,null,null,null,null,null,null,null,null,null,null,null,null,null,null,null,null,null,"2030-10-07",{"$f":"WEEKDAY(S2204)","v":2},{"$f":"MONTH(S2204)","v":10},{"$f":"YEAR(S2204)","v":2030},{"$f":"T2204&U2204","v":"210"},{"$f":"IF(V2204&W2204=V2203&W2203,X2203+1,1)","v":1},{"$f":"V2204&U2204&T2204&X2204","v":"20301021"},{"$f":"S2204","v":"2030-10-07"}]
[null,null,null,null,null,null,null,null,null,null,null,null,null,null,null,null,null,null,"2030-10-14",{"$f":"WEEKDAY(S2205)","v":2},{"$f":"MONTH(S2205)","v":10},{"$f":"YEAR(S2205)","v":2030},{"$f":"T2205&U2205","v":"210"},{"$f":"IF(V2205&W2205=V2204&W2204,X2204+1,1)","v":2},{"$f":"V2205&U2205&T2205&X2205","v":"20301022"},{"$f":"S2205","v":"2030-10-14"}]
[null,null,null,null,null,null,null,null,null,null,null,null,null,null,null,null,null,null,"2030-10-21",{"$f":"WEEKDAY(S2206)","v":2},{"$f":"MONTH(S2206)","v":10},{"$f":"YEAR(S2206)","v":2030},{"$f":"T2206&U2206","v":"210"},{"$f":"IF(V2206&W2206=V2205&W2205,X2205+1,1)","v":3},{"$f":"V2206&U2206&T2206&X2206","v":"20301023"},{"$f":"S2206","v":"2030-10-21"}]
[null,null,null,null,null,null,null,null,null,null,null,null,null,null,null,null,null,null,"2030-10-28",{"$f":"WEEKDAY(S2207)","v":2},{"$f":"MONTH(S2207)","v":10},{"$f":"YEAR(S2207)","v":2030},{"$f":"T2207&U2207","v":"210"},{"$f":"IF(V2207&W2207=V2206&W2206,X2206+1,1)","v":4},{"$f":"V2207&U2207&T2207&X2207","v":"20301024"},{"$f":"S2207","v":"2030-10-28"}]
[null,null,null,null,null,null,null,null,null,null,null,null,null,null,null,null,null,null,"2030-10-01",{"$f":"WEEKDAY(S2208)","v":3},{"$f":"MONTH(S2208)","v":10},{"$f":"YEAR(S2208)","v":2030},{"$f":"T2208&U2208","v":"310"},{"$f":"IF(V2208&W2208=V2207&W2207,X2207+1,1)","v":1},{"$f":"V2208&U2208&T2208&X2208","v":"20301031"},{"$f":"S2208","v":"2030-10-01"}]
[null,null,null,null,null,null,null,null,null,null,null,null,null,null,null,null,null,null,"2030-10-08",{"$f":"WEEKDAY(S2209)","v":3},{"$f":"MONTH(S2209)","v":10},{"$f":"YEAR(S2209)","v":2030},{"$f":"T2209&U2209","v":"310"},{"$f":"IF(V2209&W2209=V2208&W2208,X2208+1,1)","v":2},{"$f":"V2209&U2209&T2209&X2209","v":"20301032"},{"$f":"S2209","v":"2030-10-08"}]
[null,null,null,null,null,null,null,null,null,null,null,null,null,null,null,null,null,null,"2030-10-15",{"$f":"WEEKDAY(S2210)","v":3},{"$f":"MONTH(S2210)","v":10},{"$f":"YEAR(S2210)","v":2030},{"$f":"T2210&U2210","v":"310"},{"$f":"IF(V2210&W2210=V2209&W2209,X2209+1,1)","v":3},{"$f":"V2210&U2210&T2210&X2210","v":"20301033"},{"$f":"S2210","v":"2030-10-15"}]
[null,null,null,null,null,null,null,null,null,null,null,null,null,null,null,null,null,null,"2030-10-22",{"$f":"WEEKDAY(S2211)","v":3},{"$f":"MONTH(S2211)","v":10},{"$f":"YEAR(S2211)","v":2030},{"$f":"T2211&U2211","v":"310"},{"$f":"IF(V2211&W2211=V2210&W2210,X2210+1,1)","v":4},{"$f":"V2211&U2211&T2211&X2211","v":"20301034"},{"$f":"S2211","v":"2030-10-22"}]
[null,null,null,null,null,null,null,null,null,null,null,null,null,null,null,null,null,null,"2030-10-29",{"$f":"WEEKDAY(S2212)","v":3},{"$f":"MONTH(S2212)","v":10},{"$f":"YEAR(S2212)","v":2030},{"$f":"T2212&U2212","v":"310"},{"$f":"IF(V2212&W2212=V2211&W2211,X2211+1,1)","v":5},{"$f":"V2212&U2212&T2212&X2212","v":"20301035"},{"$f":"S2212","v":"2030-10-29"}]
[null,null,null,null,null,null,null,null,null,null,null,null,null,null,null,null,null,null,"2030-10-02",{"$f":"WEEKDAY(S2213)","v":4},{"$f":"MONTH(S2213)","v":10},{"$f":"YEAR(S2213)","v":2030},{"$f":"T2213&U2213","v":"410"},{"$f":"IF(V2213&W2213=V2212&W2212,X2212+1,1)","v":1},{"$f":"V2213&U2213&T2213&X2213","v":"20301041"},{"$f":"S2213","v":"2030-10-02"}]
[null,null,null,null,null,null,null,null,null,null,null,null,null,null,null,null,null,null,"2030-10-09",{"$f":"WEEKDAY(S2214)","v":4},{"$f":"MONTH(S2214)","v":10},{"$f":"YEAR(S2214)","v":2030},{"$f":"T2214&U2214","v":"410"},{"$f":"IF(V2214&W2214=V2213&W2213,X2213+1,1)","v":2},{"$f":"V2214&U2214&T2214&X2214","v":"20301042"},{"$f":"S2214","v":"2030-10-09"}]
[null,null,null,null,null,null,null,null,null,null,null,null,null,null,null,null,null,null,"2030-10-16",{"$f":"WEEKDAY(S2215)","v":4},{"$f":"MONTH(S2215)","v":10},{"$f":"YEAR(S2215)","v":2030},{"$f":"T2215&U2215","v":"410"},{"$f":"IF(V2215&W2215=V2214&W2214,X2214+1,1)","v":3},{"$f":"V2215&U2215&T2215&X2215","v":"20301043"},{"$f":"S2215","v":"2030-10-16"}]
[null,null,null,null,null,null,null,null,null,null,null,null,null,null,null,null,null,null,"2030-10-23",{"$f":"WEEKDAY(S2216)","v":4},{"$f":"MONTH(S2216)","v":10},{"$f":"YEAR(S2216)","v":2030},{"$f":"T2216&U2216","v":"410"},{"$f":"IF(V2216&W2216=V2215&W2215,X2215+1,1)","v":4},{"$f":"V2216&U2216&T2216&X2216","v":"20301044"},{"$f":"S2216","v":"2030-10-23"}]
[null,null,null,null,null,null,null,null,null,null,null,null,null,null,null,null,null,null,"2030-10-30",{"$f":"WEEKDAY(S2217)","v":4},{"$f":"MONTH(S2217)","v":10},{"$f":"YEAR(S2217)","v":2030},{"$f":"T2217&U2217","v":"410"},{"$f":"IF(V2217&W2217=V2216&W2216,X2216+1,1)","v":5},{"$f":"V2217&U2217&T2217&X2217","v":"20301045"},{"$f":"S2217","v":"2030-10-30"}]
[null,null,null,null,null,null,null,null,null,null,null,null,null,null,null,null,null,null,"2030-10-03",{"$f":"WEEKDAY(S2218)","v":5},{"$f":"MONTH(S2218)","v":10},{"$f":"YEAR(S2218)","v":2030},{"$f":"T2218&U2218","v":"510"},{"$f":"IF(V2218&W2218=V2217&W2217,X2217+1,1)","v":1},{"$f":"V2218&U2218&T2218&X2218","v":"20301051"},{"$f":"S2218","v":"2030-10-03"}]
[null,null,null,null,null,null,null,null,null,null,null,null,null,null,null,null,null,null,"2030-10-10",{"$f":"WEEKDAY(S2219)","v":5},{"$f":"MONTH(S2219)","v":10},{"$f":"YEAR(S2219)","v":2030},{"$f":"T2219&U2219","v":"510"},{"$f":"IF(V2219&W2219=V2218&W2218,X2218+1,1)","v":2},{"$f":"V2219&U2219&T2219&X2219","v":"20301052"},{"$f":"S2219","v":"2030-10-10"}]
[null,null,null,null,null,null,null,null,null,null,null,null,null,null,null,null,null,null,"2030-10-17",{"$f":"WEEKDAY(S2220)","v":5},{"$f":"MONTH(S2220)","v":10},{"$f":"YEAR(S2220)","v":2030},{"$f":"T2220&U2220","v":"510"},{"$f":"IF(V2220&W2220=V2219&W2219,X2219+1,1)","v":3},{"$f":"V2220&U2220&T2220&X2220","v":"20301053"},{"$f":"S2220","v":"2030-10-17"}]
[null,null,null,null,null,null,null,null,null,null,null,null,null,null,null,null,null,null,"2030-10-24",{"$f":"WEEKDAY(S2221)","v":5},{"$f":"MONTH(S2221)","v":10},{"$f":"YEAR(S2221)","v":2030},{"$f":"T2221&U2221","v":"510"},{"$f":"IF(V2221&W2221=V2220&W2220,X2220+1,1)","v":4},{"$f":"V2221&U2221&T2221&X2221","v":"20301054"},{"$f":"S2221","v":"2030-10-24"}]
[null,null,null,null,null,null,null,null,null,null,null,null,null,null,null,null,null,null,"2030-10-31",{"$f":"WEEKDAY(S2222)","v":5},{"$f":"MONTH(S2222)","v":10},{"$f":"YEAR(S2222)","v":2030},{"$f":"T2222&U2222","v":"510"},{"$f":"IF(V2222&W2222=V2221&W2221,X2221+1,1)","v":5},{"$f":"V2222&U2222&T2222&X2222","v":"20301055"},{"$f":"S2222","v":"2030-10-31"}]
[null,null,null,null,null,null,null,null,null,null,null,null,null,null,null,null,null,null,"2030-10-04",{"$f":"WEEKDAY(S2223)","v":6},{"$f":"MONTH(S2223)","v":10},{"$f":"YEAR(S2223)","v":2030},{"$f":"T2223&U2223","v":"610"},{"$f":"IF(V2223&W2223=V2222&W2222,X2222+1,1)","v":1},{"$f":"V2223&U2223&T2223&X2223","v":"20301061"},{"$f":"S2223","v":"2030-10-04"}]
[null,null,null,null,null,null,null,null,null,null,null,null,null,null,null,null,null,null,"2030-10-11",{"$f":"WEEKDAY(S2224)","v":6},{"$f":"MONTH(S2224)","v":10},{"$f":"YEAR(S2224)","v":2030},{"$f":"T2224&U2224","v":"610"},{"$f":"IF(V2224&W2224=V2223&W2223,X2223+1,1)","v":2},{"$f":"V2224&U2224&T2224&X2224","v":"20301062"},{"$f":"S2224","v":"2030-10-11"}]
[null,null,null,null,null,null,null,null,null,null,null,null,null,null,null,null,null,null,"2030-10-18",{"$f":"WEEKDAY(S2225)","v":6},{"$f":"MONTH(S2225)","v":10},{"$f":"YEAR(S2225)","v":2030},{"$f":"T2225&U2225","v":"610"},{"$f":"IF(V2225&W2225=V2224&W2224,X2224+1,1)","v":3},{"$f":"V2225&U2225&T2225&X2225","v":"20301063"},{"$f":"S2225","v":"2030-10-18"}]
[null,null,null,null,null,null,null,null,null,null,null,null,null,null,null,null,null,null,"2030-10-25",{"$f":"WEEKDAY(S2226)","v":6},{"$f":"MONTH(S2226)","v":10},{"$f":"YEAR(S2226)","v":2030},{"$f":"T2226&U2226","v":"610"},{"$f":"IF(V2226&W2226=V2225&W2225,X2225+1,1)","v":4},{"$f":"V2226&U2226&T2226&X2226","v":"20301064"},{"$f":"S2226","v":"2030-10-25"}]
[null,null,null,null,null,null,null,null,null,null,null,null,null,null,null,null,null,null,"2030-10-05",{"$f":"WEEKDAY(S2227)","v":7},{"$f":"MONTH(S2227)","v":10},{"$f":"YEAR(S2227)","v":2030},{"$f":"T2227&U2227","v":"710"},{"$f":"IF(V2227&W2227=V2226&W2226,X2226+1,1)","v":1},{"$f":"V2227&U2227&T2227&X2227","v":"20301071"},{"$f":"S2227","v":"2030-10-05"}]
[null,null,null,null,null,null,null,null,null,null,null,null,null,null,null,null,null,null,"2030-10-12",{"$f":"WEEKDAY(S2228)","v":7},{"$f":"MONTH(S2228)","v":10},{"$f":"YEAR(S2228)","v":2030},{"$f":"T2228&U2228","v":"710"},{"$f":"IF(V2228&W2228=V2227&W2227,X2227+1,1)","v":2},{"$f":"V2228&U2228&T2228&X2228","v":"20301072"},{"$f":"S2228","v":"2030-10-12"}]
[null,null,null,null,null,null,null,null,null,null,null,null,null,null,null,null,null,null,"2030-10-19",{"$f":"WEEKDAY(S2229)","v":7},{"$f":"MONTH(S2229)","v":10},{"$f":"YEAR(S2229)","v":2030},{"$f":"T2229&U2229","v":"710"},{"$f":"IF(V2229&W2229=V2228&W2228,X2228+1,1)","v":3},{"$f":"V2229&U2229&T2229&X2229","v":"20301073"},{"$f":"S2229","v":"2030-10-19"}]
[null,null,null,null,null,null,null,null,null,null,null,null,null,null,null,null,null,null,"2030-10-26",{"$f":"WEEKDAY(S2230)","v":7},{"$f":"MONTH(S2230)","v":10},{"$f":"YEAR(S2230)","v":2030},{"$f":"T2230&U2230","v":"710"},{"$f":"IF(V2230&W2230=V2229&W2229,X2229+1,1)","v":4},{"$f":"V2230&U2230&T2230&X2230","v":"20301074"},{"$f":"S2230","v":"2030-10-26"}]
[null,null,null,null,null,null,null,null,null,null,null,null,null,null,null,null,null,null,"2030-01-06",{"$f":"WEEKDAY(S2231)","v":1},{"$f":"MONTH(S2231)","v":1},{"$f":"YEAR(S2231)","v":2030},{"$f":"T2231&U2231","v":"11"},{"$f":"IF(V2231&W2231=V2230&W2230,X2230+1,1)","v":1},{"$f":"V2231&U2231&T2231&X2231","v":"2030111"},{"$f":"S2231","v":"2030-01-06"}]
[null,null,null,null,null,null,null,null,null,null,null,null,null,null,null,null,null,null,"2030-11-03",{"$f":"WEEKDAY(S2232)","v":1},{"$f":"MONTH(S2232)","v":11},{"$f":"YEAR(S2232)","v":2030},{"$f":"T2232&U2232","v":"111"},{"$f":"IF(V2232&W2232=V2231&W2231,X2231+1,1)","v":1},{"$f":"V2232&U2232&T2232&X2232","v":"20301111"},{"$f":"S2232","v":"2030-11-03"}]
[null,null,null,null,null,null,null,null,null,null,null,null,null,null,null,null,null,null,"2030-11-10",{"$f":"WEEKDAY(S2233)","v":1},{"$f":"MONTH(S2233)","v":11},{"$f":"YEAR(S2233)","v":2030},{"$f":"T2233&U2233","v":"111"},{"$f":"IF(V2233&W2233=V2232&W2232,X2232+1,1)","v":2},{"$f":"V2233&U2233&T2233&X2233","v":"20301112"},{"$f":"S2233","v":"2030-11-10"}]
[null,null,null,null,null,null,null,null,null,null,null,null,null,null,null,null,null,null,"2030-11-17",{"$f":"WEEKDAY(S2234)","v":1},{"$f":"MONTH(S2234)","v":11},{"$f":"YEAR(S2234)","v":2030},{"$f":"T2234&U2234","v":"111"},{"$f":"IF(V2234&W2234=V2233&W2233,X2233+1,1)","v":3},{"$f":"V2234&U2234&T2234&X2234","v":"20301113"},{"$f":"S2234","v":"2030-11-17"}]
[null,null,null,null,null,null,null,null,null,null,null,null,null,null,null,null,null,null,"2030-11-24",{"$f":"WEEKDAY(S2235)","v":1},{"$f":"MONTH(S2235)","v":11},{"$f":"YEAR(S2235)","v":2030},{"$f":"T2235&U2235","v":"111"},{"$f":"IF(V2235&W2235=V2234&W2234,X2234+1,1)","v":4},{"$f":"V2235&U2235&T2235&X2235","v":"20301114"},{"$f":"S2235","v":"2030-11-24"}]
[null,null,null,null,null,null,null,null,null,null,null,null,null,null,null,null,null,null,"2030-01-13",{"$f":"WEEKDAY(S2236)","v":1},{"$f":"MONTH(S2236)","v":1},{"$f":"YEAR(S2236)","v":2030},{"$f":"T2236&U2236","v":"11"},{"$f":"IF(V2236&W2236=V2235&W2235,X2235+1,1)","v":1},{"$f":"V2236&U2236&T2236&X2236","v":"2030111"},{"$f":"S2236","v":"2030-01-13"}]
[null,null,null,null,null,null,null,null,null,null,null,null,null,null,null,null,null,null,"2030-11-04",{"$f":"WEEKDAY(S2237)","v":2},{"$f":"MONTH(S2237)","v":11},{"$f":"YEAR(S2237)","v":2030},{"$f":"T2237&U2237","v":"211"},{"$f":"IF(V2237&W2237=V2236&W2236,X2236+1,1)","v":1},{"$f":"V2237&U2237&T2237&X2237","v":"20301121"},{"$f":"S2237","v":"2030-11-04"}]
[null,null,null,null,null,null,null,null,null,null,null,null,null,null,null,null,null,null,"2030-11-11",{"$f":"WEEKDAY(S2238)","v":2},{"$f":"MONTH(S2238)","v":11},{"$f":"YEAR(S2238)","v":2030},{"$f":"T2238&U2238","v":"211"},{"$f":"IF(V2238&W2238=V2237&W2237,X2237+1,1)","v":2},{"$f":"V2238&U2238&T2238&X2238","v":"20301122"},{"$f":"S2238","v":"2030-11-11"}]
[null,null,null,null,null,null,null,null,null,null,null,null,null,null,null,null,null,null,"2030-11-18",{"$f":"WEEKDAY(S2239)","v":2},{"$f":"MONTH(S2239)","v":11},{"$f":"YEAR(S2239)","v":2030},{"$f":"T2239&U2239","v":"211"},{"$f":"IF(V2239&W2239=V2238&W2238,X2238+1,1)","v":3},{"$f":"V2239&U2239&T2239&X2239","v":"20301123"},{"$f":"S2239","v":"2030-11-18"}]
[null,null,null,null,null,null,null,null,null,null,null,null,null,null,null,null,null,null,"2030-11-25",{"$f":"WEEKDAY(S2240)","v":2},{"$f":"MONTH(S2240)","v":11},{"$f":"YEAR(S2240)","v":2030},{"$f":"T2240&U2240","v":"211"},{"$f":"IF(V2240&W2240=V2239&W2239,X2239+1,1)","v":4},{"$f":"V2240&U2240&T2240&X2240","v":"20301124"},{"$f":"S2240","v":"2030-11-25"}]
[null,null,null,null,null,null,null,null,null,null,null,null,null,null,null,null,null,null,"2030-01-20",{"$f":"WEEKDAY(S2241)","v":1},{"$f":"MONTH(S2241)","v":1},{"$f":"YEAR(S2241)","v":2030},{"$f":"T2241&U2241","v":"11"},{"$f":"IF(V2241&W2241=V2240&W2240,X2240+1,1)","v":1},{"$f":"V2241&U2241&T2241&X2241","v":"2030111"},{"$f":"S2241","v":"2030-01-20"}]
[null,null,null,null,null,null,null,null,null,null,null,null,null,null,null,null,null,null,"2030-11-05",{"$f":"WEEKDAY(S2242)","v":3},{"$f":"MONTH(S2242)","v":11},{"$f":"YEAR(S2242)","v":2030},{"$f":"T2242&U2242","v":"311"},{"$f":"IF(V2242&W2242=V2241&W2241,X2241+1,1)","v":1},{"$f":"V2242&U2242&T2242&X2242","v":"20301131"},{"$f":"S2242","v":"2030-11-05"}]
[null,null,null,null,null,null,null,null,null,null,null,null,null,null,null,null,null,null,"2030-11-12",{"$f":"WEEKDAY(S2243)","v":3},{"$f":"MONTH(S2243)","v":11},{"$f":"YEAR(S2243)","v":2030},{"$f":"T2243&U2243","v":"311"},{"$f":"IF(V2243&W2243=V2242&W2242,X2242+1,1)","v":2},{"$f":"V2243&U2243&T2243&X2243","v":"20301132"},{"$f":"S2243","v":"2030-11-12"}]
[null,null,null,null,null,null,null,null,null,null,null,null,null,null,null,null,null,null,"2030-11-19",{"$f":"WEEKDAY(S2244)","v":3},{"$f":"MONTH(S2244)","v":11},{"$f":"YEAR(S2244)","v":2030},{"$f":"T2244&U2244","v":"311"},{"$f":"IF(V2244&W2244=V2243&W2243,X2243+1,1)","v":3},{"$f":"V2244&U2244&T2244&X2244","v":"20301133"},{"$f":"S2244","v":"2030-11-19"}]
[null,null,null,null,null,null,null,null,null,null,null,null,null,null,null,null,null,null,"2030-11-26",{"$f":"WEEKDAY(S2245)","v":3},{"$f":"MONTH(S2245)","v":11},{"$f":"YEAR(S2245)","v":2030},{"$f":"T2245&U2245","v":"311"},{"$f":"IF(V2245&W2245=V2244&W2244,X2244+1,1)","v":4},{"$f":"V2245&U2245&T2245&X2245","v":"20301134"},{"$f":"S2245","v":"2030-11-26"}]
[null,null,null,null,null,null,null,null,null,null,null,null,null,null,null,null,null,null,"2030-01-27",{"$f":"WEEKDAY(S2246)","v":1},{"$f":"MONTH(S2246)","v":1},{"$f":"YEAR(S2246)","v":2030},{"$f":"T2246&U2246","v":"11"},{"$f":"IF(V2246&W2246=V2245&W2245,X2245+1,1)","v":1},{"$f":"V2246&U2246&T2246&X2246","v":"2030111"},{"$f":"S2246","v":"2030-01-27"}]
[null,null,null,null,null,null,null,null,null,null,null,null,null,null,null,null,null,null,"2030-11-06",{"$f":"WEEKDAY(S2247)","v":4},{"$f":"MONTH(S2247)","v":11},{"$f":"YEAR(S2247)","v":2030},{"$f":"T2247&U2247","v":"411"},{"$f":"IF(V2247&W2247=V2246&W2246,X2246+1,1)","v":1},{"$f":"V2247&U2247&T2247&X2247","v":"20301141"},{"$f":"S2247","v":"2030-11-06"}]
[null,null,null,null,null,null,null,null,null,null,null,null,null,null,null,null,null,null,"2030-11-13",{"$f":"WEEKDAY(S2248)","v":4},{"$f":"MONTH(S2248)","v":11},{"$f":"YEAR(S2248)","v":2030},{"$f":"T2248&U2248","v":"411"},{"$f":"IF(V2248&W2248=V2247&W2247,X2247+1,1)","v":2},{"$f":"V2248&U2248&T2248&X2248","v":"20301142"},{"$f":"S2248","v":"2030-11-13"}]
[null,null,null,null,null,null,null,null,null,null,null,null,null,null,null,null,null,null,"2030-11-20",{"$f":"WEEKDAY(S2249)","v":4},{"$f":"MONTH(S2249)","v":11},{"$f":"YEAR(S2249)","v":2030},{"$f":"T2249&U2249","v":"411"},{"$f":"IF(V2249&W2249=V2248&W2248,X2248+1,1)","v":3},{"$f":"V2249&U2249&T2249&X2249","v":"20301143"},{"$f":"S2249","v":"2030-11-20"}]
[null,null,null,null,null,null,null,null,null,null,null,null,null,null,null,null,null,null,"2030-11-27",{"$f":"WEEKDAY(S2250)","v":4},{"$f":"MONTH(S2250)","v":11},{"$f":"YEAR(S2250)","v":2030},{"$f":"T2250&U2250","v":"411"},{"$f":"IF(V2250&W2250=V2249&W2249,X2249+1,1)","v":4},{"$f":"V2250&U2250&T2250&X2250","v":"20301144"},{"$f":"S2250","v":"2030-11-27"}]
[null,null,null,null,null,null,null,null,null,null,null,null,null,null,null,null,null,null,"2030-11-07",{"$f":"WEEKDAY(S2251)","v":5},{"$f":"MONTH(S2251)","v":11},{"$f":"YEAR(S2251)","v":2030},{"$f":"T2251&U2251","v":"511"},{"$f":"IF(V2251&W2251=V2250&W2250,X2250+1,1)","v":1},{"$f":"V2251&U2251&T2251&X2251","v":"20301151"},{"$f":"S2251","v":"2030-11-07"}]
[null,null,null,null,null,null,null,null,null,null,null,null,null,null,null,null,null,null,"2030-11-14",{"$f":"WEEKDAY(S2252)","v":5},{"$f":"MONTH(S2252)","v":11},{"$f":"YEAR(S2252)","v":2030},{"$f":"T2252&U2252","v":"511"},{"$f":"IF(V2252&W2252=V2251&W2251,X2251+1,1)","v":2},{"$f":"V2252&U2252&T2252&X2252","v":"20301152"},{"$f":"S2252","v":"2030-11-14"}]
[null,null,null,null,null,null,null,null,null,null,null,null,null,null,null,null,null,null,"2030-11-21",{"$f":"WEEKDAY(S2253)","v":5},{"$f":"MONTH(S2253)","v":11},{"$f":"YEAR(S2253)","v":2030},{"$f":"T2253&U2253","v":"511"},{"$f":"IF(V2253&W2253=V2252&W2252,X2252+1,1)","v":3},{"$f":"V2253&U2253&T2253&X2253","v":"20301153"},{"$f":"S2253","v":"2030-11-21"}]
[null,null,null,null,null,null,null,null,null,null,null,null,null,null,null,null,null,null,"2030-11-28",{"$f":"WEEKDAY(S2254)","v":5},{"$f":"MONTH(S2254)","v":11},{"$f":"YEAR(S2254)","v":2030},{"$f":"T2254&U2254","v":"511"},{"$f":"IF(V2254&W2254=V2253&W2253,X2253+1,1)","v":4},{"$f":"V2254&U2254&T2254&X2254","v":"20301154"},{"$f":"S2254","v":"2030-11-28"}]
[null,null,null,null,null,null,null,null,null,null,null,null,null,null,null,null,null,null,"2030-11-01",{"$f":"WEEKDAY(S2255)","v":6},{"$f":"MONTH(S2255)","v":11},{"$f":"YEAR(S2255)","v":2030},{"$f":"T2255&U2255","v":"611"},{"$f":"IF(V2255&W2255=V2254&W2254,X2254+1,1)","v":1},{"$f":"V2255&U2255&T2255&X2255","v":"20301161"},{"$f":"S2255","v":"2030-11-01"}]
[null,null,null,null,null,null,null,null,null,null,null,null,null,null,null,null,null,null,"2030-11-08",{"$f":"WEEKDAY(S2256)","v":6},{"$f":"MONTH(S2256)","v":11},{"$f":"YEAR(S2256)","v":2030},{"$f":"T2256&U2256","v":"611"},{"$f":"IF(V2256&W2256=V2255&W2255,X2255+1,1)","v":2},{"$f":"V2256&U2256&T2256&X2256","v":"20301162"},{"$f":"S2256","v":"2030-11-08"}]
[null,null,null,null,null,null,null,null,null,null,null,null,null,null,null,null,null,null,"2030-11-15",{"$f":"WEEKDAY(S2257)","v":6},{"$f":"MONTH(S2257)","v":11},{"$f":"YEAR(S2257)","v":2030},{"$f":"T2257&U2257","v":"611"},{"$f":"IF(V2257&W2257=V2256&W2256,X2256+1,1)","v":3},{"$f":"V2257&U2257&T2257&X2257","v":"20301163"},{"$f":"S2257","v":"2030-11-15"}]
[null,null,null,null,null,null,null,null,null,null,null,null,null,null,null,null,null,null,"2030-11-22",{"$f":"WEEKDAY(S2258)","v":6},{"$f":"MONTH(S2258)","v":11},{"$f":"YEAR(S2258)","v":2030},{"$f":"T2258&U2258","v":"611"},{"$f":"IF(V2258&W2258=V2257&W2257,X2257+1,1)","v":4},{"$f":"V2258&U2258&T2258&X2258","v":"20301164"},{"$f":"S2258","v":"2030-11-22"}]
[null,null,null,null,null,null,null,null,null,null,null,null,null,null,null,null,null,null,"2030-11-29",{"$f":"WEEKDAY(S2259)","v":6},{"$f":"MONTH(S2259)","v":11},{"$f":"YEAR(S2259)","v":2030},{"$f":"T2259&U2259","v":"611"},{"$f":"IF(V2259&W2259=V2258&W2258,X2258+1,1)","v":5},{"$f":"V2259&U2259&T2259&X2259","v":"20301165"},{"$f":"S2259","v":"2030-11-29"}]
[null,null,null,null,null,null,null,null,null,null,null,null,null,null,null,null,null,null,"2030-11-02",{"$f":"WEEKDAY(S2260)","v":7},{"$f":"MONTH(S2260)","v":11},{"$f":"YEAR(S2260)","v":2030},{"$f":"T2260&U2260","v":"711"},{"$f":"IF(V2260&W2260=V2259&W2259,X2259+1,1)","v":1},{"$f":"V2260&U2260&T2260&X2260","v":"20301171"},{"$f":"S2260","v":"2030-11-02"}]
[null,null,null,null,null,null,null,null,null,null,null,null,null,null,null,null,null,null,"2030-11-09",{"$f":"WEEKDAY(S2261)","v":7},{"$f":"MONTH(S2261)","v":11},{"$f":"YEAR(S2261)","v":2030},{"$f":"T2261&U2261","v":"711"},{"$f":"IF(V2261&W2261=V2260&W2260,X2260+1,1)","v":2},{"$f":"V2261&U2261&T2261&X2261","v":"20301172"},{"$f":"S2261","v":"2030-11-09"}]
[null,null,null,null,null,null,null,null,null,null,null,null,null,null,null,null,null,null,"2030-11-16",{"$f":"WEEKDAY(S2262)","v":7},{"$f":"MONTH(S2262)","v":11},{"$f":"YEAR(S2262)","v":2030},{"$f":"T2262&U2262","v":"711"},{"$f":"IF(V2262&W2262=V2261&W2261,X2261+1,1)","v":3},{"$f":"V2262&U2262&T2262&X2262","v":"20301173"},{"$f":"S2262","v":"2030-11-16"}]
[null,null,null,null,null,null,null,null,null,null,null,null,null,null,null,null,null,null,"2030-11-23",{"$f":"WEEKDAY(S2263)","v":7},{"$f":"MONTH(S2263)","v":11},{"$f":"YEAR(S2263)","v":2030},{"$f":"T2263&U2263","v":"711"},{"$f":"IF(V2263&W2263=V2262&W2262,X2262+1,1)","v":4},{"$f":"V2263&U2263&T2263&X2263","v":"20301174"},{"$f":"S2263","v":"2030-11-23"}]
[null,null,null,null,null,null,null,null,null,null,null,null,null,null,null,null,null,null,"2030-11-30",{"$f":"WEEKDAY(S2264)","v":7},{"$f":"MONTH(S2264)","v":11},{"$f":"YEAR(S2264)","v":2030},{"$f":"T2264&U2264","v":"711"},{"$f":"IF(V2264&W2264=V2263&W2263,X2263+1,1)","v":5},{"$f":"V2264&U2264&T2264&X2264","v":"20301175"},{"$f":"S2264","v":"2030-11-30"}]
[null,null,null,null,null,null,null,null,null,null,null,null,null,null,null,null,null,null,"2030-01-07",{"$f":"WEEKDAY(S2265)","v":2},{"$f":"MONTH(S2265)","v":1},{"$f":"YEAR(S2265)","v":2030},{"$f":"T2265&U2265","v":"21"},{"$f":"IF(V2265&W2265=V2264&W2264,X2264+1,1)","v":1},{"$f":"V2265&U2265&T2265&X2265","v":"2030121"},{"$f":"S2265","v":"2030-01-07"}]
[null,null,null,null,null,null,null,null,null,null,null,null,null,null,null,null,null,null,"2030-12-01",{"$f":"WEEKDAY(S2266)","v":1},{"$f":"MONTH(S2266)","v":12},{"$f":"YEAR(S2266)","v":2030},{"$f":"T2266&U2266","v":"112"},{"$f":"IF(V2266&W2266=V2265&W2265,X2265+1,1)","v":1},{"$f":"V2266&U2266&T2266&X2266","v":"20301211"},{"$f":"S2266","v":"2030-12-01"}]
[null,null,null,null,null,null,null,null,null,null,null,null,null,null,null,null,null,null,"2030-12-08",{"$f":"WEEKDAY(S2267)","v":1},{"$f":"MONTH(S2267)","v":12},{"$f":"YEAR(S2267)","v":2030},{"$f":"T2267&U2267","v":"112"},{"$f":"IF(V2267&W2267=V2266&W2266,X2266+1,1)","v":2},{"$f":"V2267&U2267&T2267&X2267","v":"20301212"},{"$f":"S2267","v":"2030-12-08"}]
[null,null,null,null,null,null,null,null,null,null,null,null,null,null,null,null,null,null,"2030-12-15",{"$f":"WEEKDAY(S2268)","v":1},{"$f":"MONTH(S2268)","v":12},{"$f":"YEAR(S2268)","v":2030},{"$f":"T2268&U2268","v":"112"},{"$f":"IF(V2268&W2268=V2267&W2267,X2267+1,1)","v":3},{"$f":"V2268&U2268&T2268&X2268","v":"20301213"},{"$f":"S2268","v":"2030-12-15"}]
[null,null,null,null,null,null,null,null,null,null,null,null,null,null,null,null,null,null,"2030-12-22",{"$f":"WEEKDAY(S2269)","v":1},{"$f":"MONTH(S2269)","v":12},{"$f":"YEAR(S2269)","v":2030},{"$f":"T2269&U2269","v":"112"},{"$f":"IF(V2269&W2269=V2268&W2268,X2268+1,1)","v":4},{"$f":"V2269&U2269&T2269&X2269","v":"20301214"},{"$f":"S2269","v":"2030-12-22"}]
[null,null,null,null,null,null,null,null,null,null,null,null,null,null,null,null,null,null,"2030-12-29",{"$f":"WEEKDAY(S2270)","v":1},{"$f":"MONTH(S2270)","v":12},{"$f":"YEAR(S2270)","v":2030},{"$f":"T2270&U2270","v":"112"},{"$f":"IF(V2270&W2270=V2269&W2269,X2269+1,1)","v":5},{"$f":"V2270&U2270&T2270&X2270","v":"20301215"},{"$f":"S2270","v":"2030-12-29"}]
[null,null,null,null,null,null,null,null,null,null,null,null,null,null,null,null,null,null,"2030-01-14",{"$f":"WEEKDAY(S2271)","v":2},{"$f":"MONTH(S2271)","v":1},{"$f":"YEAR(S2271)","v":2030},{"$f":"T2271&U2271","v":"21"},{"$f":"IF(V2271&W2271=V2270&W2270,X2270+1,1)","v":1},{"$f":"V2271&U2271&T2271&X2271","v":"2030121"},{"$f":"S2271","v":"2030-01-14"}]
[null,null,null,null,null,null,null,null,null,null,null,null,null,null,null,null,null,null,"2030-12-02",{"$f":"WEEKDAY(S2272)","v":2},{"$f":"MONTH(S2272)","v":12},{"$f":"YEAR(S2272)","v":2030},{"$f":"T2272&U2272","v":"212"},{"$f":"IF(V2272&W2272=V2271&W2271,X2271+1,1)","v":1},{"$f":"V2272&U2272&T2272&X2272","v":"20301221"},{"$f":"S2272","v":"2030-12-02"}]
[null,null,null,null,null,null,null,null,null,null,null,null,null,null,null,null,null,null,"2030-12-09",{"$f":"WEEKDAY(S2273)","v":2},{"$f":"MONTH(S2273)","v":12},{"$f":"YEAR(S2273)","v":2030},{"$f":"T2273&U2273","v":"212"},{"$f":"IF(V2273&W2273=V2272&W2272,X2272+1,1)","v":2},{"$f":"V2273&U2273&T2273&X2273","v":"20301222"},{"$f":"S2273","v":"2030-12-09"}]
[null,null,null,null,null,null,null,null,null,null,null,null,null,null,null,null,null,null,"2030-12-16",{"$f":"WEEKDAY(S2274)","v":2},{"$f":"MONTH(S2274)","v":12},{"$f":"YEAR(S2274)","v":2030},{"$f":"T2274&U2274","v":"212"},{"$f":"IF(V2274&W2274=V2273&W2273,X2273+1,1)","v":3},{"$f":"V2274&U2274&T2274&X2274","v":"20301223"},{"$f":"S2274","v":"2030-12-16"}]
[null,null,null,null,null,null,null,null,null,null,null,null,null,null,null,null,null,null,"2030-12-23",{"$f":"WEEKDAY(S2275)","v":2},{"$f":"MONTH(S2275)","v":12},{"$f":"YEAR(S2275)","v":2030},{"$f":"T2275&U2275","v":"212"},{"$f":"IF(V2275&W2275=V2274&W2274,X2274+1,1)","v":4},{"$f":"V2275&U2275&T2275&X2275","v":"20301224"},{"$f":"S2275","v":"2030-12-23"}]
[null,null,null,null,null,null,null,null,null,null,null,null,null,null,null,null,null,null,"2030-12-30",{"$f":"WEEKDAY(S2276)","v":2},{"$f":"MONTH(S2276)","v":12},{"$f":"YEAR(S2276)","v":2030},{"$f":"T2276&U2276","v":"212"},{"$f":"IF(V2276&W2276=V2275&W2275,X2275+1,1)","v":5},{"$f":"V2276&U2276&T2276&X2276","v":"20301225"},{"$f":"S2276","v":"2030-12-30"}]
[null,null,null,null,null,null,null,null,null,null,null,null,null,null,null,null,null,null,"2030-01-21",{"$f":"WEEKDAY(S2277)","v":2},{"$f":"MONTH(S2277)","v":1},{"$f":"YEAR(S2277)","v":2030},{"$f":"T2277&U2277","v":"21"},{"$f":"IF(V2277&W2277=V2276&W2276,X2276+1,1)","v":1},{"$f":"V2277&U2277&T2277&X2277","v":"2030121"},{"$f":"S2277","v":"2030-01-21"}]
[null,null,null,null,null,null,null,null,null,null,null,null,null,null,null,null,null,null,"2030-12-03",{"$f":"WEEKDAY(S2278)","v":3},{"$f":"MONTH(S2278)","v":12},{"$f":"YEAR(S2278)","v":2030},{"$f":"T2278&U2278","v":"312"},{"$f":"IF(V2278&W2278=V2277&W2277,X2277+1,1)","v":1},{"$f":"V2278&U2278&T2278&X2278","v":"20301231"},{"$f":"S2278","v":"2030-12-03"}]
[null,null,null,null,null,null,null,null,null,null,null,null,null,null,null,null,null,null,"2030-12-10",{"$f":"WEEKDAY(S2279)","v":3},{"$f":"MONTH(S2279)","v":12},{"$f":"YEAR(S2279)","v":2030},{"$f":"T2279&U2279","v":"312"},{"$f":"IF(V2279&W2279=V2278&W2278,X2278+1,1)","v":2},{"$f":"V2279&U2279&T2279&X2279","v":"20301232"},{"$f":"S2279","v":"2030-12-10"}]
[null,null,null,null,null,null,null,null,null,null,null,null,null,null,null,null,null,null,"2030-12-17",{"$f":"WEEKDAY(S2280)","v":3},{"$f":"MONTH(S2280)","v":12},{"$f":"YEAR(S2280)","v":2030},{"$f":"T2280&U2280","v":"312"},{"$f":"IF(V2280&W2280=V2279&W2279,X2279+1,1)","v":3},{"$f":"V2280&U2280&T2280&X2280","v":"20301233"},{"$f":"S2280","v":"2030-12-17"}]
[null,null,null,null,null,null,null,null,null,null,null,null,null,null,null,null,null,null,"2030-12-24",{"$f":"WEEKDAY(S2281)","v":3},{"$f":"MONTH(S2281)","v":12},{"$f":"YEAR(S2281)","v":2030},{"$f":"T2281&U2281","v":"312"},{"$f":"IF(V2281&W2281=V2280&W2280,X2280+1,1)","v":4},{"$f":"V2281&U2281&T2281&X2281","v":"20301234"},{"$f":"S2281","v":"2030-12-24"}]
[null,null,null,null,null,null,null,null,null,null,null,null,null,null,null,null,null,null,"2030-12-31",{"$f":"WEEKDAY(S2282)","v":3},{"$f":"MONTH(S2282)","v":12},{"$f":"YEAR(S2282)","v":2030},{"$f":"T2282&U2282","v":"312"},{"$f":"IF(V2282&W2282=V2281&W2281,X2281+1,1)","v":5},{"$f":"V2282&U2282&T2282&X2282","v":"20301235"},{"$f":"S2282","v":"2030-12-31"}]
[null,null,null,null,null,null,null,null,null,null,null,null,null,null,null,null,null,null,"2030-01-28",{"$f":"WEEKDAY(S2283)","v":2},{"$f":"MONTH(S2283)","v":1},{"$f":"YEAR(S2283)","v":2030},{"$f":"T2283&U2283","v":"21"},{"$f":"IF(V2283&W2283=V2282&W2282,X2282+1,1)","v":1},{"$f":"V2283&U2283&T2283&X2283","v":"2030121"},{"$f":"S2283","v":"2030-01-28"}]
[null,null,null,null,null,null,null,null,null,null,null,null,null,null,null,null,null,null,"2030-12-04",{"$f":"WEEKDAY(S2284)","v":4},{"$f":"MONTH(S2284)","v":12},{"$f":"YEAR(S2284)","v":2030},{"$f":"T2284&U2284","v":"412"},{"$f":"IF(V2284&W2284=V2283&W2283,X2283+1,1)","v":1},{"$f":"V2284&U2284&T2284&X2284","v":"20301241"},{"$f":"S2284","v":"2030-12-04"}]
[null,null,null,null,null,null,null,null,null,null,null,null,null,null,null,null,null,null,"2030-12-11",{"$f":"WEEKDAY(S2285)","v":4},{"$f":"MONTH(S2285)","v":12},{"$f":"YEAR(S2285)","v":2030},{"$f":"T2285&U2285","v":"412"},{"$f":"IF(V2285&W2285=V2284&W2284,X2284+1,1)","v":2},{"$f":"V2285&U2285&T2285&X2285","v":"20301242"},{"$f":"S2285","v":"2030-12-11"}]
[null,null,null,null,null,null,null,null,null,null,null,null,null,null,null,null,null,null,"2030-12-18",{"$f":"WEEKDAY(S2286)","v":4},{"$f":"MONTH(S2286)","v":12},{"$f":"YEAR(S2286)","v":2030},{"$f":"T2286&U2286","v":"412"},{"$f":"IF(V2286&W2286=V2285&W2285,X2285+1,1)","v":3},{"$f":"V2286&U2286&T2286&X2286","v":"20301243"},{"$f":"S2286","v":"2030-12-18"}]
[null,null,null,null,null,null,null,null,null,null,null,null,null,null,null,null,null,null,"2030-12-25",{"$f":"WEEKDAY(S2287)","v":4},{"$f":"MONTH(S2287)","v":12},{"$f":"YEAR(S2287)","v":2030},{"$f":"T2287&U2287","v":"412"},{"$f":"IF(V2287&W2287=V2286&W2286,X2286+1,1)","v":4},{"$f":"V2287&U2287&T2287&X2287","v":"20301244"},{"$f":"S2287","v":"2030-12-25"}]
[null,null,null,null,null,null,null,null,null,null,null,null,null,null,null,null,null,null,"2030-12-05",{"$f":"WEEKDAY(S2288)","v":5},{"$f":"MONTH(S2288)","v":12},{"$f":"YEAR(S2288)","v":2030},{"$f":"T2288&U2288","v":"512"},{"$f":"IF(V2288&W2288=V2287&W2287,X2287+1,1)","v":1},{"$f":"V2288&U2288&T2288&X2288","v":"20301251"},{"$f":"S2288","v":"2030-12-05"}]
[null,null,null,null,null,null,null,null,null,null,null,null,null,null,null,null,null,null,"2030-12-12",{"$f":"WEEKDAY(S2289)","v":5},{"$f":"MONTH(S2289)","v":12},{"$f":"YEAR(S2289)","v":2030},{"$f":"T2289&U2289","v":"512"},{"$f":"IF(V2289&W2289=V2288&W2288,X2288+1,1)","v":2},{"$f":"V2289&U2289&T2289&X2289","v":"20301252"},{"$f":"S2289","v":"2030-12-12"}]
[null,null,null,null,null,null,null,null,null,null,null,null,null,null,null,null,null,null,"2030-12-19",{"$f":"WEEKDAY(S2290)","v":5},{"$f":"MONTH(S2290)","v":12},{"$f":"YEAR(S2290)","v":2030},{"$f":"T2290&U2290","v":"512"},{"$f":"IF(V2290&W2290=V2289&W2289,X2289+1,1)","v":3},{"$f":"V2290&U2290&T2290&X2290","v":"20301253"},{"$f":"S2290","v":"2030-12-19"}]
[null,null,null,null,null,null,null,null,null,null,null,null,null,null,null,null,null,null,"2030-12-26",{"$f":"WEEKDAY(S2291)","v":5},{"$f":"MONTH(S2291)","v":12},{"$f":"YEAR(S2291)","v":2030},{"$f":"T2291&U2291","v":"512"},{"$f":"IF(V2291&W2291=V2290&W2290,X2290+1,1)","v":4},{"$f":"V2291&U2291&T2291&X2291","v":"20301254"},{"$f":"S2291","v":"2030-12-26"}]
[null,null,null,null,null,null,null,null,null,null,null,null,null,null,null,null,null,null,"2030-12-06",{"$f":"WEEKDAY(S2292)","v":6},{"$f":"MONTH(S2292)","v":12},{"$f":"YEAR(S2292)","v":2030},{"$f":"T2292&U2292","v":"612"},{"$f":"IF(V2292&W2292=V2291&W2291,X2291+1,1)","v":1},{"$f":"V2292&U2292&T2292&X2292","v":"20301261"},{"$f":"S2292","v":"2030-12-06"}]
[null,null,null,null,null,null,null,null,null,null,null,null,null,null,null,null,null,null,"2030-12-13",{"$f":"WEEKDAY(S2293)","v":6},{"$f":"MONTH(S2293)","v":12},{"$f":"YEAR(S2293)","v":2030},{"$f":"T2293&U2293","v":"612"},{"$f":"IF(V2293&W2293=V2292&W2292,X2292+1,1)","v":2},{"$f":"V2293&U2293&T2293&X2293","v":"20301262"},{"$f":"S2293","v":"2030-12-13"}]
[null,null,null,null,null,null,null,null,null,null,null,null,null,null,null,null,null,null,"2030-12-20",{"$f":"WEEKDAY(S2294)","v":6},{"$f":"MONTH(S2294)","v":12},{"$f":"YEAR(S2294)","v":2030},{"$f":"T2294&U2294","v":"612"},{"$f":"IF(V2294&W2294=V2293&W2293,X2293+1,1)","v":3},{"$f":"V2294&U2294&T2294&X2294","v":"20301263"},{"$f":"S2294","v":"2030-12-20"}]
[null,null,null,null,null,null,null,null,null,null,null,null,null,null,null,null,null,null,"2030-12-27",{"$f":"WEEKDAY(S2295)","v":6},{"$f":"MONTH(S2295)","v":12},{"$f":"YEAR(S2295)","v":2030},{"$f":"T2295&U2295","v":"612"},{"$f":"IF(V2295&W2295=V2294&W2294,X2294+1,1)","v":4},{"$f":"V2295&U2295&T2295&X2295","v":"20301264"},{"$f":"S2295","v":"2030-12-27"}]
[null,null,null,null,null,null,null,null,null,null,null,null,null,null,null,null,null,null,"2030-12-07",{"$f":"WEEKDAY(S2296)","v":7},{"$f":"MONTH(S2296)","v":12},{"$f":"YEAR(S2296)","v":2030},{"$f":"T2296&U2296","v":"712"},{"$f":"IF(V2296&W2296=V2295&W2295,X2295+1,1)","v":1},{"$f":"V2296&U2296&T2296&X2296","v":"20301271"},{"$f":"S2296","v":"2030-12-07"}]
[null,null,null,null,null,null,null,null,null,null,null,null,null,null,null,null,null,null,"2030-12-14",{"$f":"WEEKDAY(S2297)","v":7},{"$f":"MONTH(S2297)","v":12},{"$f":"YEAR(S2297)","v":2030},{"$f":"T2297&U2297","v":"712"},{"$f":"IF(V2297&W2297=V2296&W2296,X2296+1,1)","v":2},{"$f":"V2297&U2297&T2297&X2297","v":"20301272"},{"$f":"S2297","v":"2030-12-14"}]
[null,null,null,null,null,null,null,null,null,null,null,null,null,null,null,null,null,null,"2030-12-21",{"$f":"WEEKDAY(S2298)","v":7},{"$f":"MONTH(S2298)","v":12},{"$f":"YEAR(S2298)","v":2030},{"$f":"T2298&U2298","v":"712"},{"$f":"IF(V2298&W2298=V2297&W2297,X2297+1,1)","v":3},{"$f":"V2298&U2298&T2298&X2298","v":"20301273"},{"$f":"S2298","v":"2030-12-21"}]
[null,null,null,null,null,null,null,null,null,null,null,null,null,null,null,null,null,null,"2030-12-28",{"$f":"WEEKDAY(S2299)","v":7},{"$f":"MONTH(S2299)","v":12},{"$f":"YEAR(S2299)","v":2030},{"$f":"T2299&U2299","v":"712"},{"$f":"IF(V2299&W2299=V2298&W2298,X2298+1,1)","v":4},{"$f":"V2299&U2299&T2299&X2299","v":"20301274"},{"$f":"S2299","v":"2030-12-28"}]
[null,null,null,null,null,null,null,null,null,null,null,null,null,null,null,null,null,null,"2030-01-01",{"$f":"WEEKDAY(S2300)","v":3},{"$f":"MONTH(S2300)","v":1},{"$f":"YEAR(S2300)","v":2030},{"$f":"T2300&U2300","v":"31"},{"$f":"IF(V2300&W2300=V2299&W2299,X2299+1,1)","v":1},{"$f":"V2300&U2300&T2300&X2300","v":"2030131"},{"$f":"S2300","v":"2030-01-01"}]
[null,null,null,null,null,null,null,null,null,null,null,null,null,null,null,null,null,null,"2030-01-08",{"$f":"WEEKDAY(S2301)","v":3},{"$f":"MONTH(S2301)","v":1},{"$f":"YEAR(S2301)","v":2030},{"$f":"T2301&U2301","v":"31"},{"$f":"IF(V2301&W2301=V2300&W2300,X2300+1,1)","v":2},{"$f":"V2301&U2301&T2301&X2301","v":"2030132"},{"$f":"S2301","v":"2030-01-08"}]
[null,null,null,null,null,null,null,null,null,null,null,null,null,null,null,null,null,null,"2030-01-15",{"$f":"WEEKDAY(S2302)","v":3},{"$f":"MONTH(S2302)","v":1},{"$f":"YEAR(S2302)","v":2030},{"$f":"T2302&U2302","v":"31"},{"$f":"IF(V2302&W2302=V2301&W2301,X2301+1,1)","v":3},{"$f":"V2302&U2302&T2302&X2302","v":"2030133"},{"$f":"S2302","v":"2030-01-15"}]
[null,null,null,null,null,null,null,null,null,null,null,null,null,null,null,null,null,null,"2030-01-22",{"$f":"WEEKDAY(S2303)","v":3},{"$f":"MONTH(S2303)","v":1},{"$f":"YEAR(S2303)","v":2030},{"$f":"T2303&U2303","v":"31"},{"$f":"IF(V2303&W2303=V2302&W2302,X2302+1,1)","v":4},{"$f":"V2303&U2303&T2303&X2303","v":"2030134"},{"$f":"S2303","v":"2030-01-22"}]
[null,null,null,null,null,null,null,null,null,null,null,null,null,null,null,null,null,null,"2030-01-29",{"$f":"WEEKDAY(S2304)","v":3},{"$f":"MONTH(S2304)","v":1},{"$f":"YEAR(S2304)","v":2030},{"$f":"T2304&U2304","v":"31"},{"$f":"IF(V2304&W2304=V2303&W2303,X2303+1,1)","v":5},{"$f":"V2304&U2304&T2304&X2304","v":"2030135"},{"$f":"S2304","v":"2030-01-29"}]
[null,null,null,null,null,null,null,null,null,null,null,null,null,null,null,null,null,null,"2030-01-02",{"$f":"WEEKDAY(S2305)","v":4},{"$f":"MONTH(S2305)","v":1},{"$f":"YEAR(S2305)","v":2030},{"$f":"T2305&U2305","v":"41"},{"$f":"IF(V2305&W2305=V2304&W2304,X2304+1,1)","v":1},{"$f":"V2305&U2305&T2305&X2305","v":"2030141"},{"$f":"S2305","v":"2030-01-02"}]
[null,null,null,null,null,null,null,null,null,null,null,null,null,null,null,null,null,null,"2030-01-09",{"$f":"WEEKDAY(S2306)","v":4},{"$f":"MONTH(S2306)","v":1},{"$f":"YEAR(S2306)","v":2030},{"$f":"T2306&U2306","v":"41"},{"$f":"IF(V2306&W2306=V2305&W2305,X2305+1,1)","v":2},{"$f":"V2306&U2306&T2306&X2306","v":"2030142"},{"$f":"S2306","v":"2030-01-09"}]
[null,null,null,null,null,null,null,null,null,null,null,null,null,null,null,null,null,null,"2030-01-16",{"$f":"WEEKDAY(S2307)","v":4},{"$f":"MONTH(S2307)","v":1},{"$f":"YEAR(S2307)","v":2030},{"$f":"T2307&U2307","v":"41"},{"$f":"IF(V2307&W2307=V2306&W2306,X2306+1,1)","v":3},{"$f":"V2307&U2307&T2307&X2307","v":"2030143"},{"$f":"S2307","v":"2030-01-16"}]
[null,null,null,null,null,null,null,null,null,null,null,null,null,null,null,null,null,null,"2030-01-23",{"$f":"WEEKDAY(S2308)","v":4},{"$f":"MONTH(S2308)","v":1},{"$f":"YEAR(S2308)","v":2030},{"$f":"T2308&U2308","v":"41"},{"$f":"IF(V2308&W2308=V2307&W2307,X2307+1,1)","v":4},{"$f":"V2308&U2308&T2308&X2308","v":"2030144"},{"$f":"S2308","v":"2030-01-23"}]
[null,null,null,null,null,null,null,null,null,null,null,null,null,null,null,null,null,null,"2030-01-30",{"$f":"WEEKDAY(S2309)","v":4},{"$f":"MONTH(S2309)","v":1},{"$f":"YEAR(S2309)","v":2030},{"$f":"T2309&U2309","v":"41"},{"$f":"IF(V2309&W2309=V2308&W2308,X2308+1,1)","v":5},{"$f":"V2309&U2309&T2309&X2309","v":"2030145"},{"$f":"S2309","v":"2030-01-30"}]
[null,null,null,null,null,null,null,null,null,null,null,null,null,null,null,null,null,null,"2030-01-03",{"$f":"WEEKDAY(S2310)","v":5},{"$f":"MONTH(S2310)","v":1},{"$f":"YEAR(S2310)","v":2030},{"$f":"T2310&U2310","v":"51"},{"$f":"IF(V2310&W2310=V2309&W2309,X2309+1,1)","v":1},{"$f":"V2310&U2310&T2310&X2310","v":"2030151"},{"$f":"S2310","v":"2030-01-03"}]
[null,null,null,null,null,null,null,null,null,null,null,null,null,null,null,null,null,null,"2030-01-10",{"$f":"WEEKDAY(S2311)","v":5},{"$f":"MONTH(S2311)","v":1},{"$f":"YEAR(S2311)","v":2030},{"$f":"T2311&U2311","v":"51"},{"$f":"IF(V2311&W2311=V2310&W2310,X2310+1,1)","v":2},{"$f":"V2311&U2311&T2311&X2311","v":"2030152"},{"$f":"S2311","v":"2030-01-10"}]
[null,null,null,null,null,null,null,null,null,null,null,null,null,null,null,null,null,null,"2030-01-17",{"$f":"WEEKDAY(S2312)","v":5},{"$f":"MONTH(S2312)","v":1},{"$f":"YEAR(S2312)","v":2030},{"$f":"T2312&U2312","v":"51"},{"$f":"IF(V2312&W2312=V2311&W2311,X2311+1,1)","v":3},{"$f":"V2312&U2312&T2312&X2312","v":"2030153"},{"$f":"S2312","v":"2030-01-17"}]
[null,null,null,null,null,null,null,null,null,null,null,null,null,null,null,null,null,null,"2030-01-24",{"$f":"WEEKDAY(S2313)","v":5},{"$f":"MONTH(S2313)","v":1},{"$f":"YEAR(S2313)","v":2030},{"$f":"T2313&U2313","v":"51"},{"$f":"IF(V2313&W2313=V2312&W2312,X2312+1,1)","v":4},{"$f":"V2313&U2313&T2313&X2313","v":"2030154"},{"$f":"S2313","v":"2030-01-24"}]
[null,null,null,null,null,null,null,null,null,null,null,null,null,null,null,null,null,null,"2030-01-31",{"$f":"WEEKDAY(S2314)","v":5},{"$f":"MONTH(S2314)","v":1},{"$f":"YEAR(S2314)","v":2030},{"$f":"T2314&U2314","v":"51"},{"$f":"IF(V2314&W2314=V2313&W2313,X2313+1,1)","v":5},{"$f":"V2314&U2314&T2314&X2314","v":"2030155"},{"$f":"S2314","v":"2030-01-31"}]
[null,null,null,null,null,null,null,null,null,null,null,null,null,null,null,null,null,null,"2030-01-04",{"$f":"WEEKDAY(S2315)","v":6},{"$f":"MONTH(S2315)","v":1},{"$f":"YEAR(S2315)","v":2030},{"$f":"T2315&U2315","v":"61"},{"$f":"IF(V2315&W2315=V2314&W2314,X2314+1,1)","v":1},{"$f":"V2315&U2315&T2315&X2315","v":"2030161"},{"$f":"S2315","v":"2030-01-04"}]
[null,null,null,null,null,null,null,null,null,null,null,null,null,null,null,null,null,null,"2030-01-11",{"$f":"WEEKDAY(S2316)","v":6},{"$f":"MONTH(S2316)","v":1},{"$f":"YEAR(S2316)","v":2030},{"$f":"T2316&U2316","v":"61"},{"$f":"IF(V2316&W2316=V2315&W2315,X2315+1,1)","v":2},{"$f":"V2316&U2316&T2316&X2316","v":"2030162"},{"$f":"S2316","v":"2030-01-11"}]
[null,null,null,null,null,null,null,null,null,null,null,null,null,null,null,null,null,null,"2030-01-18",{"$f":"WEEKDAY(S2317)","v":6},{"$f":"MONTH(S2317)","v":1},{"$f":"YEAR(S2317)","v":2030},{"$f":"T2317&U2317","v":"61"},{"$f":"IF(V2317&W2317=V2316&W2316,X2316+1,1)","v":3},{"$f":"V2317&U2317&T2317&X2317","v":"2030163"},{"$f":"S2317","v":"2030-01-18"}]
[null,null,null,null,null,null,null,null,null,null,null,null,null,null,null,null,null,null,"2030-01-25",{"$f":"WEEKDAY(S2318)","v":6},{"$f":"MONTH(S2318)","v":1},{"$f":"YEAR(S2318)","v":2030},{"$f":"T2318&U2318","v":"61"},{"$f":"IF(V2318&W2318=V2317&W2317,X2317+1,1)","v":4},{"$f":"V2318&U2318&T2318&X2318","v":"2030164"},{"$f":"S2318","v":"2030-01-25"}]
[null,null,null,null,null,null,null,null,null,null,null,null,null,null,null,null,null,null,"2030-01-05",{"$f":"WEEKDAY(S2319)","v":7},{"$f":"MONTH(S2319)","v":1},{"$f":"YEAR(S2319)","v":2030},{"$f":"T2319&U2319","v":"71"},{"$f":"IF(V2319&W2319=V2318&W2318,X2318+1,1)","v":1},{"$f":"V2319&U2319&T2319&X2319","v":"2030171"},{"$f":"S2319","v":"2030-01-05"}]
[null,null,null,null,null,null,null,null,null,null,null,null,null,null,null,null,null,null,"2030-01-12",{"$f":"WEEKDAY(S2320)","v":7},{"$f":"MONTH(S2320)","v":1},{"$f":"YEAR(S2320)","v":2030},{"$f":"T2320&U2320","v":"71"},{"$f":"IF(V2320&W2320=V2319&W2319,X2319+1,1)","v":2},{"$f":"V2320&U2320&T2320&X2320","v":"2030172"},{"$f":"S2320","v":"2030-01-12"}]
[null,null,null,null,null,null,null,null,null,null,null,null,null,null,null,null,null,null,"2030-01-19",{"$f":"WEEKDAY(S2321)","v":7},{"$f":"MONTH(S2321)","v":1},{"$f":"YEAR(S2321)","v":2030},{"$f":"T2321&U2321","v":"71"},{"$f":"IF(V2321&W2321=V2320&W2320,X2320+1,1)","v":3},{"$f":"V2321&U2321&T2321&X2321","v":"2030173"},{"$f":"S2321","v":"2030-01-19"}]
[null,null,null,null,null,null,null,null,null,null,null,null,null,null,null,null,null,null,"2030-01-26",{"$f":"WEEKDAY(S2322)","v":7},{"$f":"MONTH(S2322)","v":1},{"$f":"YEAR(S2322)","v":2030},{"$f":"T2322&U2322","v":"71"},{"$f":"IF(V2322&W2322=V2321&W2321,X2321+1,1)","v":4},{"$f":"V2322&U2322&T2322&X2322","v":"2030174"},{"$f":"S2322","v":"2030-01-26"}]
[null,null,null,null,null,null,null,null,null,null,null,null,null,null,null,null,null,null,"2030-02-03",{"$f":"WEEKDAY(S2323)","v":1},{"$f":"MONTH(S2323)","v":2},{"$f":"YEAR(S2323)","v":2030},{"$f":"T2323&U2323","v":"12"},{"$f":"IF(V2323&W2323=V2322&W2322,X2322+1,1)","v":1},{"$f":"V2323&U2323&T2323&X2323","v":"2030211"},{"$f":"S2323","v":"2030-02-03"}]
[null,null,null,null,null,null,null,null,null,null,null,null,null,null,null,null,null,null,"2030-02-10",{"$f":"WEEKDAY(S2324)","v":1},{"$f":"MONTH(S2324)","v":2},{"$f":"YEAR(S2324)","v":2030},{"$f":"T2324&U2324","v":"12"},{"$f":"IF(V2324&W2324=V2323&W2323,X2323+1,1)","v":2},{"$f":"V2324&U2324&T2324&X2324","v":"2030212"},{"$f":"S2324","v":"2030-02-10"}]
[null,null,null,null,null,null,null,null,null,null,null,null,null,null,null,null,null,null,"2030-02-17",{"$f":"WEEKDAY(S2325)","v":1},{"$f":"MONTH(S2325)","v":2},{"$f":"YEAR(S2325)","v":2030},{"$f":"T2325&U2325","v":"12"},{"$f":"IF(V2325&W2325=V2324&W2324,X2324+1,1)","v":3},{"$f":"V2325&U2325&T2325&X2325","v":"2030213"},{"$f":"S2325","v":"2030-02-17"}]
[null,null,null,null,null,null,null,null,null,null,null,null,null,null,null,null,null,null,"2030-02-24",{"$f":"WEEKDAY(S2326)","v":1},{"$f":"MONTH(S2326)","v":2},{"$f":"YEAR(S2326)","v":2030},{"$f":"T2326&U2326","v":"12"},{"$f":"IF(V2326&W2326=V2325&W2325,X2325+1,1)","v":4},{"$f":"V2326&U2326&T2326&X2326","v":"2030214"},{"$f":"S2326","v":"2030-02-24"}]
[null,null,null,null,null,null,null,null,null,null,null,null,null,null,null,null,null,null,"2030-02-04",{"$f":"WEEKDAY(S2327)","v":2},{"$f":"MONTH(S2327)","v":2},{"$f":"YEAR(S2327)","v":2030},{"$f":"T2327&U2327","v":"22"},{"$f":"IF(V2327&W2327=V2326&W2326,X2326+1,1)","v":1},{"$f":"V2327&U2327&T2327&X2327","v":"2030221"},{"$f":"S2327","v":"2030-02-04"}]
[null,null,null,null,null,null,null,null,null,null,null,null,null,null,null,null,null,null,"2030-02-11",{"$f":"WEEKDAY(S2328)","v":2},{"$f":"MONTH(S2328)","v":2},{"$f":"YEAR(S2328)","v":2030},{"$f":"T2328&U2328","v":"22"},{"$f":"IF(V2328&W2328=V2327&W2327,X2327+1,1)","v":2},{"$f":"V2328&U2328&T2328&X2328","v":"2030222"},{"$f":"S2328","v":"2030-02-11"}]
[null,null,null,null,null,null,null,null,null,null,null,null,null,null,null,null,null,null,"2030-02-18",{"$f":"WEEKDAY(S2329)","v":2},{"$f":"MONTH(S2329)","v":2},{"$f":"YEAR(S2329)","v":2030},{"$f":"T2329&U2329","v":"22"},{"$f":"IF(V2329&W2329=V2328&W2328,X2328+1,1)","v":3},{"$f":"V2329&U2329&T2329&X2329","v":"2030223"},{"$f":"S2329","v":"2030-02-18"}]
[null,null,null,null,null,null,null,null,null,null,null,null,null,null,null,null,null,null,"2030-02-25",{"$f":"WEEKDAY(S2330)","v":2},{"$f":"MONTH(S2330)","v":2},{"$f":"YEAR(S2330)","v":2030},{"$f":"T2330&U2330","v":"22"},{"$f":"IF(V2330&W2330=V2329&W2329,X2329+1,1)","v":4},{"$f":"V2330&U2330&T2330&X2330","v":"2030224"},{"$f":"S2330","v":"2030-02-25"}]
[null,null,null,null,null,null,null,null,null,null,null,null,null,null,null,null,null,null,"2030-02-05",{"$f":"WEEKDAY(S2331)","v":3},{"$f":"MONTH(S2331)","v":2},{"$f":"YEAR(S2331)","v":2030},{"$f":"T2331&U2331","v":"32"},{"$f":"IF(V2331&W2331=V2330&W2330,X2330+1,1)","v":1},{"$f":"V2331&U2331&T2331&X2331","v":"2030231"},{"$f":"S2331","v":"2030-02-05"}]
[null,null,null,null,null,null,null,null,null,null,null,null,null,null,null,null,null,null,"2030-02-12",{"$f":"WEEKDAY(S2332)","v":3},{"$f":"MONTH(S2332)","v":2},{"$f":"YEAR(S2332)","v":2030},{"$f":"T2332&U2332","v":"32"},{"$f":"IF(V2332&W2332=V2331&W2331,X2331+1,1)","v":2},{"$f":"V2332&U2332&T2332&X2332","v":"2030232"},{"$f":"S2332","v":"2030-02-12"}]
[null,null,null,null,null,null,null,null,null,null,null,null,null,null,null,null,null,null,"2030-02-19",{"$f":"WEEKDAY(S2333)","v":3},{"$f":"MONTH(S2333)","v":2},{"$f":"YEAR(S2333)","v":2030},{"$f":"T2333&U2333","v":"32"},{"$f":"IF(V2333&W2333=V2332&W2332,X2332+1,1)","v":3},{"$f":"V2333&U2333&T2333&X2333","v":"2030233"},{"$f":"S2333","v":"2030-02-19"}]
[null,null,null,null,null,null,null,null,null,null,null,null,null,null,null,null,null,null,"2030-02-26",{"$f":"WEEKDAY(S2334)","v":3},{"$f":"MONTH(S2334)","v":2},{"$f":"YEAR(S2334)","v":2030},{"$f":"T2334&U2334","v":"32"},{"$f":"IF(V2334&W2334=V2333&W2333,X2333+1,1)","v":4},{"$f":"V2334&U2334&T2334&X2334","v":"2030234"},{"$f":"S2334","v":"2030-02-26"}]
[null,null,null,null,null,null,null,null,null,null,null,null,null,null,null,null,null,null,"2030-02-06",{"$f":"WEEKDAY(S2335)","v":4},{"$f":"MONTH(S2335)","v":2},{"$f":"YEAR(S2335)","v":2030},{"$f":"T2335&U2335","v":"42"},{"$f":"IF(V2335&W2335=V2334&W2334,X2334+1,1)","v":1},{"$f":"V2335&U2335&T2335&X2335","v":"2030241"},{"$f":"S2335","v":"2030-02-06"}]
[null,null,null,null,null,null,null,null,null,null,null,null,null,null,null,null,null,null,"2030-02-13",{"$f":"WEEKDAY(S2336)","v":4},{"$f":"MONTH(S2336)","v":2},{"$f":"YEAR(S2336)","v":2030},{"$f":"T2336&U2336","v":"42"},{"$f":"IF(V2336&W2336=V2335&W2335,X2335+1,1)","v":2},{"$f":"V2336&U2336&T2336&X2336","v":"2030242"},{"$f":"S2336","v":"2030-02-13"}]
[null,null,null,null,null,null,null,null,null,null,null,null,null,null,null,null,null,null,"2030-02-20",{"$f":"WEEKDAY(S2337)","v":4},{"$f":"MONTH(S2337)","v":2},{"$f":"YEAR(S2337)","v":2030},{"$f":"T2337&U2337","v":"42"},{"$f":"IF(V2337&W2337=V2336&W2336,X2336+1,1)","v":3},{"$f":"V2337&U2337&T2337&X2337","v":"2030243"},{"$f":"S2337","v":"2030-02-20"}]
[null,null,null,null,null,null,null,null,null,null,null,null,null,null,null,null,null,null,"2030-02-27",{"$f":"WEEKDAY(S2338)","v":4},{"$f":"MONTH(S2338)","v":2},{"$f":"YEAR(S2338)","v":2030},{"$f":"T2338&U2338","v":"42"},{"$f":"IF(V2338&W2338=V2337&W2337,X2337+1,1)","v":4},{"$f":"V2338&U2338&T2338&X2338","v":"2030244"},{"$f":"S2338","v":"2030-02-27"}]
[null,null,null,null,null,null,null,null,null,null,null,null,null,null,null,null,null,null,"2030-02-07",{"$f":"WEEKDAY(S2339)","v":5},{"$f":"MONTH(S2339)","v":2},{"$f":"YEAR(S2339)","v":2030},{"$f":"T2339&U2339","v":"52"},{"$f":"IF(V2339&W2339=V2338&W2338,X2338+1,1)","v":1},{"$f":"V2339&U2339&T2339&X2339","v":"2030251"},{"$f":"S2339","v":"2030-02-07"}]
[null,null,null,null,null,null,null,null,null,null,null,null,null,null,null,null,null,null,"2030-02-14",{"$f":"WEEKDAY(S2340)","v":5},{"$f":"MONTH(S2340)","v":2},{"$f":"YEAR(S2340)","v":2030},{"$f":"T2340&U2340","v":"52"},{"$f":"IF(V2340&W2340=V2339&W2339,X2339+1,1)","v":2},{"$f":"V2340&U2340&T2340&X2340","v":"2030252"},{"$f":"S2340","v":"2030-02-14"}]
[null,null,null,null,null,null,null,null,null,null,null,null,null,null,null,null,null,null,"2030-02-21",{"$f":"WEEKDAY(S2341)","v":5},{"$f":"MONTH(S2341)","v":2},{"$f":"YEAR(S2341)","v":2030},{"$f":"T2341&U2341","v":"52"},{"$f":"IF(V2341&W2341=V2340&W2340,X2340+1,1)","v":3},{"$f":"V2341&U2341&T2341&X2341","v":"2030253"},{"$f":"S2341","v":"2030-02-21"}]
[null,null,null,null,null,null,null,null,null,null,null,null,null,null,null,null,null,null,"2030-02-28",{"$f":"WEEKDAY(S2342)","v":5},{"$f":"MONTH(S2342)","v":2},{"$f":"YEAR(S2342)","v":2030},{"$f":"T2342&U2342","v":"52"},{"$f":"IF(V2342&W2342=V2341&W2341,X2341+1,1)","v":4},{"$f":"V2342&U2342&T2342&X2342","v":"2030254"},{"$f":"S2342","v":"2030-02-28"}]
[null,null,null,null,null,null,null,null,null,null,null,null,null,null,null,null,null,null,"2030-02-01",{"$f":"WEEKDAY(S2343)","v":6},{"$f":"MONTH(S2343)","v":2},{"$f":"YEAR(S2343)","v":2030},{"$f":"T2343&U2343","v":"62"},{"$f":"IF(V2343&W2343=V2342&W2342,X2342+1,1)","v":1},{"$f":"V2343&U2343&T2343&X2343","v":"2030261"},{"$f":"S2343","v":"2030-02-01"}]
[null,null,null,null,null,null,null,null,null,null,null,null,null,null,null,null,null,null,"2030-02-08",{"$f":"WEEKDAY(S2344)","v":6},{"$f":"MONTH(S2344)","v":2},{"$f":"YEAR(S2344)","v":2030},{"$f":"T2344&U2344","v":"62"},{"$f":"IF(V2344&W2344=V2343&W2343,X2343+1,1)","v":2},{"$f":"V2344&U2344&T2344&X2344","v":"2030262"},{"$f":"S2344","v":"2030-02-08"}]
[null,null,null,null,null,null,null,null,null,null,null,null,null,null,null,null,null,null,"2030-02-15",{"$f":"WEEKDAY(S2345)","v":6},{"$f":"MONTH(S2345)","v":2},{"$f":"YEAR(S2345)","v":2030},{"$f":"T2345&U2345","v":"62"},{"$f":"IF(V2345&W2345=V2344&W2344,X2344+1,1)","v":3},{"$f":"V2345&U2345&T2345&X2345","v":"2030263"},{"$f":"S2345","v":"2030-02-15"}]
[null,null,null,null,null,null,null,null,null,null,null,null,null,null,null,null,null,null,"2030-02-22",{"$f":"WEEKDAY(S2346)","v":6},{"$f":"MONTH(S2346)","v":2},{"$f":"YEAR(S2346)","v":2030},{"$f":"T2346&U2346","v":"62"},{"$f":"IF(V2346&W2346=V2345&W2345,X2345+1,1)","v":4},{"$f":"V2346&U2346&T2346&X2346","v":"2030264"},{"$f":"S2346","v":"2030-02-22"}]
[null,null,null,null,null,null,null,null,null,null,null,null,null,null,null,null,null,null,"2030-02-02",{"$f":"WEEKDAY(S2347)","v":7},{"$f":"MONTH(S2347)","v":2},{"$f":"YEAR(S2347)","v":2030},{"$f":"T2347&U2347","v":"72"},{"$f":"IF(V2347&W2347=V2346&W2346,X2346+1,1)","v":1},{"$f":"V2347&U2347&T2347&X2347","v":"2030271"},{"$f":"S2347","v":"2030-02-02"}]
[null,null,null,null,null,null,null,null,null,null,null,null,null,null,null,null,null,null,"2030-02-09",{"$f":"WEEKDAY(S2348)","v":7},{"$f":"MONTH(S2348)","v":2},{"$f":"YEAR(S2348)","v":2030},{"$f":"T2348&U2348","v":"72"},{"$f":"IF(V2348&W2348=V2347&W2347,X2347+1,1)","v":2},{"$f":"V2348&U2348&T2348&X2348","v":"2030272"},{"$f":"S2348","v":"2030-02-09"}]
[null,null,null,null,null,null,null,null,null,null,null,null,null,null,null,null,null,null,"2030-02-16",{"$f":"WEEKDAY(S2349)","v":7},{"$f":"MONTH(S2349)","v":2},{"$f":"YEAR(S2349)","v":2030},{"$f":"T2349&U2349","v":"72"},{"$f":"IF(V2349&W2349=V2348&W2348,X2348+1,1)","v":3},{"$f":"V2349&U2349&T2349&X2349","v":"2030273"},{"$f":"S2349","v":"2030-02-16"}]
[null,null,null,null,null,null,null,null,null,null,null,null,null,null,null,null,null,null,"2030-02-23",{"$f":"WEEKDAY(S2350)","v":7},{"$f":"MONTH(S2350)","v":2},{"$f":"YEAR(S2350)","v":2030},{"$f":"T2350&U2350","v":"72"},{"$f":"IF(V2350&W2350=V2349&W2349,X2349+1,1)","v":4},{"$f":"V2350&U2350&T2350&X2350","v":"2030274"},{"$f":"S2350","v":"2030-02-23"}]
[null,null,null,null,null,null,null,null,null,null,null,null,null,null,null,null,null,null,"2030-03-03",{"$f":"WEEKDAY(S2351)","v":1},{"$f":"MONTH(S2351)","v":3},{"$f":"YEAR(S2351)","v":2030},{"$f":"T2351&U2351","v":"13"},{"$f":"IF(V2351&W2351=V2350&W2350,X2350+1,1)","v":1},{"$f":"V2351&U2351&T2351&X2351","v":"2030311"},{"$f":"S2351","v":"2030-03-03"}]
[null,null,null,null,null,null,null,null,null,null,null,null,null,null,null,null,null,null,"2030-03-10",{"$f":"WEEKDAY(S2352)","v":1},{"$f":"MONTH(S2352)","v":3},{"$f":"YEAR(S2352)","v":2030},{"$f":"T2352&U2352","v":"13"},{"$f":"IF(V2352&W2352=V2351&W2351,X2351+1,1)","v":2},{"$f":"V2352&U2352&T2352&X2352","v":"2030312"},{"$f":"S2352","v":"2030-03-10"}]
[null,null,null,null,null,null,null,null,null,null,null,null,null,null,null,null,null,null,"2030-03-17",{"$f":"WEEKDAY(S2353)","v":1},{"$f":"MONTH(S2353)","v":3},{"$f":"YEAR(S2353)","v":2030},{"$f":"T2353&U2353","v":"13"},{"$f":"IF(V2353&W2353=V2352&W2352,X2352+1,1)","v":3},{"$f":"V2353&U2353&T2353&X2353","v":"2030313"},{"$f":"S2353","v":"2030-03-17"}]
[null,null,null,null,null,null,null,null,null,null,null,null,null,null,null,null,null,null,"2030-03-24",{"$f":"WEEKDAY(S2354)","v":1},{"$f":"MONTH(S2354)","v":3},{"$f":"YEAR(S2354)","v":2030},{"$f":"T2354&U2354","v":"13"},{"$f":"IF(V2354&W2354=V2353&W2353,X2353+1,1)","v":4},{"$f":"V2354&U2354&T2354&X2354","v":"2030314"},{"$f":"S2354","v":"2030-03-24"}]
[null,null,null,null,null,null,null,null,null,null,null,null,null,null,null,null,null,null,"2030-03-31",{"$f":"WEEKDAY(S2355)","v":1},{"$f":"MONTH(S2355)","v":3},{"$f":"YEAR(S2355)","v":2030},{"$f":"T2355&U2355","v":"13"},{"$f":"IF(V2355&W2355=V2354&W2354,X2354+1,1)","v":5},{"$f":"V2355&U2355&T2355&X2355","v":"2030315"},{"$f":"S2355","v":"2030-03-31"}]
[null,null,null,null,null,null,null,null,null,null,null,null,null,null,null,null,null,null,"2030-03-04",{"$f":"WEEKDAY(S2356)","v":2},{"$f":"MONTH(S2356)","v":3},{"$f":"YEAR(S2356)","v":2030},{"$f":"T2356&U2356","v":"23"},{"$f":"IF(V2356&W2356=V2355&W2355,X2355+1,1)","v":1},{"$f":"V2356&U2356&T2356&X2356","v":"2030321"},{"$f":"S2356","v":"2030-03-04"}]
[null,null,null,null,null,null,null,null,null,null,null,null,null,null,null,null,null,null,"2030-03-11",{"$f":"WEEKDAY(S2357)","v":2},{"$f":"MONTH(S2357)","v":3},{"$f":"YEAR(S2357)","v":2030},{"$f":"T2357&U2357","v":"23"},{"$f":"IF(V2357&W2357=V2356&W2356,X2356+1,1)","v":2},{"$f":"V2357&U2357&T2357&X2357","v":"2030322"},{"$f":"S2357","v":"2030-03-11"}]
[null,null,null,null,null,null,null,null,null,null,null,null,null,null,null,null,null,null,"2030-03-18",{"$f":"WEEKDAY(S2358)","v":2},{"$f":"MONTH(S2358)","v":3},{"$f":"YEAR(S2358)","v":2030},{"$f":"T2358&U2358","v":"23"},{"$f":"IF(V2358&W2358=V2357&W2357,X2357+1,1)","v":3},{"$f":"V2358&U2358&T2358&X2358","v":"2030323"},{"$f":"S2358","v":"2030-03-18"}]
[null,null,null,null,null,null,null,null,null,null,null,null,null,null,null,null,null,null,"2030-03-25",{"$f":"WEEKDAY(S2359)","v":2},{"$f":"MONTH(S2359)","v":3},{"$f":"YEAR(S2359)","v":2030},{"$f":"T2359&U2359","v":"23"},{"$f":"IF(V2359&W2359=V2358&W2358,X2358+1,1)","v":4},{"$f":"V2359&U2359&T2359&X2359","v":"2030324"},{"$f":"S2359","v":"2030-03-25"}]
[null,null,null,null,null,null,null,null,null,null,null,null,null,null,null,null,null,null,"2030-03-05",{"$f":"WEEKDAY(S2360)","v":3},{"$f":"MONTH(S2360)","v":3},{"$f":"YEAR(S2360)","v":2030},{"$f":"T2360&U2360","v":"33"},{"$f":"IF(V2360&W2360=V2359&W2359,X2359+1,1)","v":1},{"$f":"V2360&U2360&T2360&X2360","v":"2030331"},{"$f":"S2360","v":"2030-03-05"}]
[null,null,null,null,null,null,null,null,null,null,null,null,null,null,null,null,null,null,"2030-03-12",{"$f":"WEEKDAY(S2361)","v":3},{"$f":"MONTH(S2361)","v":3},{"$f":"YEAR(S2361)","v":2030},{"$f":"T2361&U2361","v":"33"},{"$f":"IF(V2361&W2361=V2360&W2360,X2360+1,1)","v":2},{"$f":"V2361&U2361&T2361&X2361","v":"2030332"},{"$f":"S2361","v":"2030-03-12"}]
[null,null,null,null,null,null,null,null,null,null,null,null,null,null,null,null,null,null,"2030-03-19",{"$f":"WEEKDAY(S2362)","v":3},{"$f":"MONTH(S2362)","v":3},{"$f":"YEAR(S2362)","v":2030},{"$f":"T2362&U2362","v":"33"},{"$f":"IF(V2362&W2362=V2361&W2361,X2361+1,1)","v":3},{"$f":"V2362&U2362&T2362&X2362","v":"2030333"},{"$f":"S2362","v":"2030-03-19"}]
[null,null,null,null,null,null,null,null,null,null,null,null,null,null,null,null,null,null,"2030-03-26",{"$f":"WEEKDAY(S2363)","v":3},{"$f":"MONTH(S2363)","v":3},{"$f":"YEAR(S2363)","v":2030},{"$f":"T2363&U2363","v":"33"},{"$f":"IF(V2363&W2363=V2362&W2362,X2362+1,1)","v":4},{"$f":"V2363&U2363&T2363&X2363","v":"2030334"},{"$f":"S2363","v":"2030-03-26"}]
[null,null,null,null,null,null,null,null,null,null,null,null,null,null,null,null,null,null,"2030-03-06",{"$f":"WEEKDAY(S2364)","v":4},{"$f":"MONTH(S2364)","v":3},{"$f":"YEAR(S2364)","v":2030},{"$f":"T2364&U2364","v":"43"},{"$f":"IF(V2364&W2364=V2363&W2363,X2363+1,1)","v":1},{"$f":"V2364&U2364&T2364&X2364","v":"2030341"},{"$f":"S2364","v":"2030-03-06"}]
[null,null,null,null,null,null,null,null,null,null,null,null,null,null,null,null,null,null,"2030-03-13",{"$f":"WEEKDAY(S2365)","v":4},{"$f":"MONTH(S2365)","v":3},{"$f":"YEAR(S2365)","v":2030},{"$f":"T2365&U2365","v":"43"},{"$f":"IF(V2365&W2365=V2364&W2364,X2364+1,1)","v":2},{"$f":"V2365&U2365&T2365&X2365","v":"2030342"},{"$f":"S2365","v":"2030-03-13"}]
[null,null,null,null,null,null,null,null,null,null,null,null,null,null,null,null,null,null,"2030-03-20",{"$f":"WEEKDAY(S2366)","v":4},{"$f":"MONTH(S2366)","v":3},{"$f":"YEAR(S2366)","v":2030},{"$f":"T2366&U2366","v":"43"},{"$f":"IF(V2366&W2366=V2365&W2365,X2365+1,1)","v":3},{"$f":"V2366&U2366&T2366&X2366","v":"2030343"},{"$f":"S2366","v":"2030-03-20"}]
[null,null,null,null,null,null,null,null,null,null,null,null,null,null,null,null,null,null,"2030-03-27",{"$f":"WEEKDAY(S2367)","v":4},{"$f":"MONTH(S2367)","v":3},{"$f":"YEAR(S2367)","v":2030},{"$f":"T2367&U2367","v":"43"},{"$f":"IF(V2367&W2367=V2366&W2366,X2366+1,1)","v":4},{"$f":"V2367&U2367&T2367&X2367","v":"2030344"},{"$f":"S2367","v":"2030-03-27"}]
[null,null,null,null,null,null,null,null,null,null,null,null,null,null,null,null,null,null,"2030-03-07",{"$f":"WEEKDAY(S2368)","v":5},{"$f":"MONTH(S2368)","v":3},{"$f":"YEAR(S2368)","v":2030},{"$f":"T2368&U2368","v":"53"},{"$f":"IF(V2368&W2368=V2367&W2367,X2367+1,1)","v":1},{"$f":"V2368&U2368&T2368&X2368","v":"2030351"},{"$f":"S2368","v":"2030-03-07"}]
[null,null,null,null,null,null,null,null,null,null,null,null,null,null,null,null,null,null,"2030-03-14",{"$f":"WEEKDAY(S2369)","v":5},{"$f":"MONTH(S2369)","v":3},{"$f":"YEAR(S2369)","v":2030},{"$f":"T2369&U2369","v":"53"},{"$f":"IF(V2369&W2369=V2368&W2368,X2368+1,1)","v":2},{"$f":"V2369&U2369&T2369&X2369","v":"2030352"},{"$f":"S2369","v":"2030-03-14"}]
[null,null,null,null,null,null,null,null,null,null,null,null,null,null,null,null,null,null,"2030-03-21",{"$f":"WEEKDAY(S2370)","v":5},{"$f":"MONTH(S2370)","v":3},{"$f":"YEAR(S2370)","v":2030},{"$f":"T2370&U2370","v":"53"},{"$f":"IF(V2370&W2370=V2369&W2369,X2369+1,1)","v":3},{"$f":"V2370&U2370&T2370&X2370","v":"2030353"},{"$f":"S2370","v":"2030-03-21"}]
[null,null,null,null,null,null,null,null,null,null,null,null,null,null,null,null,null,null,"2030-03-28",{"$f":"WEEKDAY(S2371)","v":5},{"$f":"MONTH(S2371)","v":3},{"$f":"YEAR(S2371)","v":2030},{"$f":"T2371&U2371","v":"53"},{"$f":"IF(V2371&W2371=V2370&W2370,X2370+1,1)","v":4},{"$f":"V2371&U2371&T2371&X2371","v":"2030354"},{"$f":"S2371","v":"2030-03-28"}]
[null,null,null,null,null,null,null,null,null,null,null,null,null,null,null,null,null,null,"2030-03-01",{"$f":"WEEKDAY(S2372)","v":6},{"$f":"MONTH(S2372)","v":3},{"$f":"YEAR(S2372)","v":2030},{"$f":"T2372&U2372","v":"63"},{"$f":"IF(V2372&W2372=V2371&W2371,X2371+1,1)","v":1},{"$f":"V2372&U2372&T2372&X2372","v":"2030361"},{"$f":"S2372","v":"2030-03-01"}]
[null,null,null,null,null,null,null,null,null,null,null,null,null,null,null,null,null,null,"2030-03-08",{"$f":"WEEKDAY(S2373)","v":6},{"$f":"MONTH(S2373)","v":3},{"$f":"YEAR(S2373)","v":2030},{"$f":"T2373&U2373","v":"63"},{"$f":"IF(V2373&W2373=V2372&W2372,X2372+1,1)","v":2},{"$f":"V2373&U2373&T2373&X2373","v":"2030362"},{"$f":"S2373","v":"2030-03-08"}]
[null,null,null,null,null,null,null,null,null,null,null,null,null,null,null,null,null,null,"2030-03-15",{"$f":"WEEKDAY(S2374)","v":6},{"$f":"MONTH(S2374)","v":3},{"$f":"YEAR(S2374)","v":2030},{"$f":"T2374&U2374","v":"63"},{"$f":"IF(V2374&W2374=V2373&W2373,X2373+1,1)","v":3},{"$f":"V2374&U2374&T2374&X2374","v":"2030363"},{"$f":"S2374","v":"2030-03-15"}]
[null,null,null,null,null,null,null,null,null,null,null,null,null,null,null,null,null,null,"2030-03-22",{"$f":"WEEKDAY(S2375)","v":6},{"$f":"MONTH(S2375)","v":3},{"$f":"YEAR(S2375)","v":2030},{"$f":"T2375&U2375","v":"63"},{"$f":"IF(V2375&W2375=V2374&W2374,X2374+1,1)","v":4},{"$f":"V2375&U2375&T2375&X2375","v":"2030364"},{"$f":"S2375","v":"2030-03-22"}]
[null,null,null,null,null,null,null,null,null,null,null,null,null,null,null,null,null,null,"2030-03-29",{"$f":"WEEKDAY(S2376)","v":6},{"$f":"MONTH(S2376)","v":3},{"$f":"YEAR(S2376)","v":2030},{"$f":"T2376&U2376","v":"63"},{"$f":"IF(V2376&W2376=V2375&W2375,X2375+1,1)","v":5},{"$f":"V2376&U2376&T2376&X2376","v":"2030365"},{"$f":"S2376","v":"2030-03-29"}]
[null,null,null,null,null,null,null,null,null,null,null,null,null,null,null,null,null,null,"2030-03-02",{"$f":"WEEKDAY(S2377)","v":7},{"$f":"MONTH(S2377)","v":3},{"$f":"YEAR(S2377)","v":2030},{"$f":"T2377&U2377","v":"73"},{"$f":"IF(V2377&W2377=V2376&W2376,X2376+1,1)","v":1},{"$f":"V2377&U2377&T2377&X2377","v":"2030371"},{"$f":"S2377","v":"2030-03-02"}]
[null,null,null,null,null,null,null,null,null,null,null,null,null,null,null,null,null,null,"2030-03-09",{"$f":"WEEKDAY(S2378)","v":7},{"$f":"MONTH(S2378)","v":3},{"$f":"YEAR(S2378)","v":2030},{"$f":"T2378&U2378","v":"73"},{"$f":"IF(V2378&W2378=V2377&W2377,X2377+1,1)","v":2},{"$f":"V2378&U2378&T2378&X2378","v":"2030372"},{"$f":"S2378","v":"2030-03-09"}]
[null,null,null,null,null,null,null,null,null,null,null,null,null,null,null,null,null,null,"2030-03-16",{"$f":"WEEKDAY(S2379)","v":7},{"$f":"MONTH(S2379)","v":3},{"$f":"YEAR(S2379)","v":2030},{"$f":"T2379&U2379","v":"73"},{"$f":"IF(V2379&W2379=V2378&W2378,X2378+1,1)","v":3},{"$f":"V2379&U2379&T2379&X2379","v":"2030373"},{"$f":"S2379","v":"2030-03-16"}]
[null,null,null,null,null,null,null,null,null,null,null,null,null,null,null,null,null,null,"2030-03-23",{"$f":"WEEKDAY(S2380)","v":7},{"$f":"MONTH(S2380)","v":3},{"$f":"YEAR(S2380)","v":2030},{"$f":"T2380&U2380","v":"73"},{"$f":"IF(V2380&W2380=V2379&W2379,X2379+1,1)","v":4},{"$f":"V2380&U2380&T2380&X2380","v":"2030374"},{"$f":"S2380","v":"2030-03-23"}]
[null,null,null,null,null,null,null,null,null,null,null,null,null,null,null,null,null,null,"2030-03-30",{"$f":"WEEKDAY(S2381)","v":7},{"$f":"MONTH(S2381)","v":3},{"$f":"YEAR(S2381)","v":2030},{"$f":"T2381&U2381","v":"73"},{"$f":"IF(V2381&W2381=V2380&W2380,X2380+1,1)","v":5},{"$f":"V2381&U2381&T2381&X2381","v":"2030375"},{"$f":"S2381","v":"2030-03-30"}]
[null,null,null,null,null,null,null,null,null,null,null,null,null,null,null,null,null,null,"2030-04-07",{"$f":"WEEKDAY(S2382)","v":1},{"$f":"MONTH(S2382)","v":4},{"$f":"YEAR(S2382)","v":2030},{"$f":"T2382&U2382","v":"14"},{"$f":"IF(V2382&W2382=V2381&W2381,X2381+1,1)","v":1},{"$f":"V2382&U2382&T2382&X2382","v":"2030411"},{"$f":"S2382","v":"2030-04-07"}]
[null,null,null,null,null,null,null,null,null,null,null,null,null,null,null,null,null,null,"2030-04-14",{"$f":"WEEKDAY(S2383)","v":1},{"$f":"MONTH(S2383)","v":4},{"$f":"YEAR(S2383)","v":2030},{"$f":"T2383&U2383","v":"14"},{"$f":"IF(V2383&W2383=V2382&W2382,X2382+1,1)","v":2},{"$f":"V2383&U2383&T2383&X2383","v":"2030412"},{"$f":"S2383","v":"2030-04-14"}]
[null,null,null,null,null,null,null,null,null,null,null,null,null,null,null,null,null,null,"2030-04-21",{"$f":"WEEKDAY(S2384)","v":1},{"$f":"MONTH(S2384)","v":4},{"$f":"YEAR(S2384)","v":2030},{"$f":"T2384&U2384","v":"14"},{"$f":"IF(V2384&W2384=V2383&W2383,X2383+1,1)","v":3},{"$f":"V2384&U2384&T2384&X2384","v":"2030413"},{"$f":"S2384","v":"2030-04-21"}]
[null,null,null,null,null,null,null,null,null,null,null,null,null,null,null,null,null,null,"2030-04-28",{"$f":"WEEKDAY(S2385)","v":1},{"$f":"MONTH(S2385)","v":4},{"$f":"YEAR(S2385)","v":2030},{"$f":"T2385&U2385","v":"14"},{"$f":"IF(V2385&W2385=V2384&W2384,X2384+1,1)","v":4},{"$f":"V2385&U2385&T2385&X2385","v":"2030414"},{"$f":"S2385","v":"2030-04-28"}]
[null,null,null,null,null,null,null,null,null,null,null,null,null,null,null,null,null,null,"2030-04-01",{"$f":"WEEKDAY(S2386)","v":2},{"$f":"MONTH(S2386)","v":4},{"$f":"YEAR(S2386)","v":2030},{"$f":"T2386&U2386","v":"24"},{"$f":"IF(V2386&W2386=V2385&W2385,X2385+1,1)","v":1},{"$f":"V2386&U2386&T2386&X2386","v":"2030421"},{"$f":"S2386","v":"2030-04-01"}]
[null,null,null,null,null,null,null,null,null,null,null,null,null,null,null,null,null,null,"2030-04-08",{"$f":"WEEKDAY(S2387)","v":2},{"$f":"MONTH(S2387)","v":4},{"$f":"YEAR(S2387)","v":2030},{"$f":"T2387&U2387","v":"24"},{"$f":"IF(V2387&W2387=V2386&W2386,X2386+1,1)","v":2},{"$f":"V2387&U2387&T2387&X2387","v":"2030422"},{"$f":"S2387","v":"2030-04-08"}]
[null,null,null,null,null,null,null,null,null,null,null,null,null,null,null,null,null,null,"2030-04-15",{"$f":"WEEKDAY(S2388)","v":2},{"$f":"MONTH(S2388)","v":4},{"$f":"YEAR(S2388)","v":2030},{"$f":"T2388&U2388","v":"24"},{"$f":"IF(V2388&W2388=V2387&W2387,X2387+1,1)","v":3},{"$f":"V2388&U2388&T2388&X2388","v":"2030423"},{"$f":"S2388","v":"2030-04-15"}]
[null,null,null,null,null,null,null,null,null,null,null,null,null,null,null,null,null,null,"2030-04-22",{"$f":"WEEKDAY(S2389)","v":2},{"$f":"MONTH(S2389)","v":4},{"$f":"YEAR(S2389)","v":2030},{"$f":"T2389&U2389","v":"24"},{"$f":"IF(V2389&W2389=V2388&W2388,X2388+1,1)","v":4},{"$f":"V2389&U2389&T2389&X2389","v":"2030424"},{"$f":"S2389","v":"2030-04-22"}]
[null,null,null,null,null,null,null,null,null,null,null,null,null,null,null,null,null,null,"2030-04-29",{"$f":"WEEKDAY(S2390)","v":2},{"$f":"MONTH(S2390)","v":4},{"$f":"YEAR(S2390)","v":2030},{"$f":"T2390&U2390","v":"24"},{"$f":"IF(V2390&W2390=V2389&W2389,X2389+1,1)","v":5},{"$f":"V2390&U2390&T2390&X2390","v":"2030425"},{"$f":"S2390","v":"2030-04-29"}]
[null,null,null,null,null,null,null,null,null,null,null,null,null,null,null,null,null,null,"2030-04-02",{"$f":"WEEKDAY(S2391)","v":3},{"$f":"MONTH(S2391)","v":4},{"$f":"YEAR(S2391)","v":2030},{"$f":"T2391&U2391","v":"34"},{"$f":"IF(V2391&W2391=V2390&W2390,X2390+1,1)","v":1},{"$f":"V2391&U2391&T2391&X2391","v":"2030431"},{"$f":"S2391","v":"2030-04-02"}]
[null,null,null,null,null,null,null,null,null,null,null,null,null,null,null,null,null,null,"2030-04-09",{"$f":"WEEKDAY(S2392)","v":3},{"$f":"MONTH(S2392)","v":4},{"$f":"YEAR(S2392)","v":2030},{"$f":"T2392&U2392","v":"34"},{"$f":"IF(V2392&W2392=V2391&W2391,X2391+1,1)","v":2},{"$f":"V2392&U2392&T2392&X2392","v":"2030432"},{"$f":"S2392","v":"2030-04-09"}]
[null,null,null,null,null,null,null,null,null,null,null,null,null,null,null,null,null,null,"2030-04-16",{"$f":"WEEKDAY(S2393)","v":3},{"$f":"MONTH(S2393)","v":4},{"$f":"YEAR(S2393)","v":2030},{"$f":"T2393&U2393","v":"34"},{"$f":"IF(V2393&W2393=V2392&W2392,X2392+1,1)","v":3},{"$f":"V2393&U2393&T2393&X2393","v":"2030433"},{"$f":"S2393","v":"2030-04-16"}]
[null,null,null,null,null,null,null,null,null,null,null,null,null,null,null,null,null,null,"2030-04-23",{"$f":"WEEKDAY(S2394)","v":3},{"$f":"MONTH(S2394)","v":4},{"$f":"YEAR(S2394)","v":2030},{"$f":"T2394&U2394","v":"34"},{"$f":"IF(V2394&W2394=V2393&W2393,X2393+1,1)","v":4},{"$f":"V2394&U2394&T2394&X2394","v":"2030434"},{"$f":"S2394","v":"2030-04-23"}]
[null,null,null,null,null,null,null,null,null,null,null,null,null,null,null,null,null,null,"2030-04-30",{"$f":"WEEKDAY(S2395)","v":3},{"$f":"MONTH(S2395)","v":4},{"$f":"YEAR(S2395)","v":2030},{"$f":"T2395&U2395","v":"34"},{"$f":"IF(V2395&W2395=V2394&W2394,X2394+1,1)","v":5},{"$f":"V2395&U2395&T2395&X2395","v":"2030435"},{"$f":"S2395","v":"2030-04-30"}]
[null,null,null,null,null,null,null,null,null,null,null,null,null,null,null,null,null,null,"2030-04-03",{"$f":"WEEKDAY(S2396)","v":4},{"$f":"MONTH(S2396)","v":4},{"$f":"YEAR(S2396)","v":2030},{"$f":"T2396&U2396","v":"44"},{"$f":"IF(V2396&W2396=V2395&W2395,X2395+1,1)","v":1},{"$f":"V2396&U2396&T2396&X2396","v":"2030441"},{"$f":"S2396","v":"2030-04-03"}]
[null,null,null,null,null,null,null,null,null,null,null,null,null,null,null,null,null,null,"2030-04-10",{"$f":"WEEKDAY(S2397)","v":4},{"$f":"MONTH(S2397)","v":4},{"$f":"YEAR(S2397)","v":2030},{"$f":"T2397&U2397","v":"44"},{"$f":"IF(V2397&W2397=V2396&W2396,X2396+1,1)","v":2},{"$f":"V2397&U2397&T2397&X2397","v":"2030442"},{"$f":"S2397","v":"2030-04-10"}]
[null,null,null,null,null,null,null,null,null,null,null,null,null,null,null,null,null,null,"2030-04-17",{"$f":"WEEKDAY(S2398)","v":4},{"$f":"MONTH(S2398)","v":4},{"$f":"YEAR(S2398)","v":2030},{"$f":"T2398&U2398","v":"44"},{"$f":"IF(V2398&W2398=V2397&W2397,X2397+1,1)","v":3},{"$f":"V2398&U2398&T2398&X2398","v":"2030443"},{"$f":"S2398","v":"2030-04-17"}]
[null,null,null,null,null,null,null,null,null,null,null,null,null,null,null,null,null,null,"2030-04-24",{"$f":"WEEKDAY(S2399)","v":4},{"$f":"MONTH(S2399)","v":4},{"$f":"YEAR(S2399)","v":2030},{"$f":"T2399&U2399","v":"44"},{"$f":"IF(V2399&W2399=V2398&W2398,X2398+1,1)","v":4},{"$f":"V2399&U2399&T2399&X2399","v":"2030444"},{"$f":"S2399","v":"2030-04-24"}]
[null,null,null,null,null,null,null,null,null,null,null,null,null,null,null,null,null,null,"2030-04-04",{"$f":"WEEKDAY(S2400)","v":5},{"$f":"MONTH(S2400)","v":4},{"$f":"YEAR(S2400)","v":2030},{"$f":"T2400&U2400","v":"54"},{"$f":"IF(V2400&W2400=V2399&W2399,X2399+1,1)","v":1},{"$f":"V2400&U2400&T2400&X2400","v":"2030451"},{"$f":"S2400","v":"2030-04-04"}]
[null,null,null,null,null,null,null,null,null,null,null,null,null,null,null,null,null,null,"2030-04-11",{"$f":"WEEKDAY(S2401)","v":5},{"$f":"MONTH(S2401)","v":4},{"$f":"YEAR(S2401)","v":2030},{"$f":"T2401&U2401","v":"54"},{"$f":"IF(V2401&W2401=V2400&W2400,X2400+1,1)","v":2},{"$f":"V2401&U2401&T2401&X2401","v":"2030452"},{"$f":"S2401","v":"2030-04-11"}]
[null,null,null,null,null,null,null,null,null,null,null,null,null,null,null,null,null,null,"2030-04-18",{"$f":"WEEKDAY(S2402)","v":5},{"$f":"MONTH(S2402)","v":4},{"$f":"YEAR(S2402)","v":2030},{"$f":"T2402&U2402","v":"54"},{"$f":"IF(V2402&W2402=V2401&W2401,X2401+1,1)","v":3},{"$f":"V2402&U2402&T2402&X2402","v":"2030453"},{"$f":"S2402","v":"2030-04-18"}]
[null,null,null,null,null,null,null,null,null,null,null,null,null,null,null,null,null,null,"2030-04-25",{"$f":"WEEKDAY(S2403)","v":5},{"$f":"MONTH(S2403)","v":4},{"$f":"YEAR(S2403)","v":2030},{"$f":"T2403&U2403","v":"54"},{"$f":"IF(V2403&W2403=V2402&W2402,X2402+1,1)","v":4},{"$f":"V2403&U2403&T2403&X2403","v":"2030454"},{"$f":"S2403","v":"2030-04-25"}]
[null,null,null,null,null,null,null,null,null,null,null,null,null,null,null,null,null,null,"2030-04-05",{"$f":"WEEKDAY(S2404)","v":6},{"$f":"MONTH(S2404)","v":4},{"$f":"YEAR(S2404)","v":2030},{"$f":"T2404&U2404","v":"64"},{"$f":"IF(V2404&W2404=V2403&W2403,X2403+1,1)","v":1},{"$f":"V2404&U2404&T2404&X2404","v":"2030461"},{"$f":"S2404","v":"2030-04-05"}]
[null,null,null,null,null,null,null,null,null,null,null,null,null,null,null,null,null,null,"2030-04-12",{"$f":"WEEKDAY(S2405)","v":6},{"$f":"MONTH(S2405)","v":4},{"$f":"YEAR(S2405)","v":2030},{"$f":"T2405&U2405","v":"64"},{"$f":"IF(V2405&W2405=V2404&W2404,X2404+1,1)","v":2},{"$f":"V2405&U2405&T2405&X2405","v":"2030462"},{"$f":"S2405","v":"2030-04-12"}]
[null,null,null,null,null,null,null,null,null,null,null,null,null,null,null,null,null,null,"2030-04-19",{"$f":"WEEKDAY(S2406)","v":6},{"$f":"MONTH(S2406)","v":4},{"$f":"YEAR(S2406)","v":2030},{"$f":"T2406&U2406","v":"64"},{"$f":"IF(V2406&W2406=V2405&W2405,X2405+1,1)","v":3},{"$f":"V2406&U2406&T2406&X2406","v":"2030463"},{"$f":"S2406","v":"2030-04-19"}]
[null,null,null,null,null,null,null,null,null,null,null,null,null,null,null,null,null,null,"2030-04-26",{"$f":"WEEKDAY(S2407)","v":6},{"$f":"MONTH(S2407)","v":4},{"$f":"YEAR(S2407)","v":2030},{"$f":"T2407&U2407","v":"64"},{"$f":"IF(V2407&W2407=V2406&W2406,X2406+1,1)","v":4},{"$f":"V2407&U2407&T2407&X2407","v":"2030464"},{"$f":"S2407","v":"2030-04-26"}]
[null,null,null,null,null,null,null,null,null,null,null,null,null,null,null,null,null,null,"2030-04-06",{"$f":"WEEKDAY(S2408)","v":7},{"$f":"MONTH(S2408)","v":4},{"$f":"YEAR(S2408)","v":2030},{"$f":"T2408&U2408","v":"74"},{"$f":"IF(V2408&W2408=V2407&W2407,X2407+1,1)","v":1},{"$f":"V2408&U2408&T2408&X2408","v":"2030471"},{"$f":"S2408","v":"2030-04-06"}]
[null,null,null,null,null,null,null,null,null,null,null,null,null,null,null,null,null,null,"2030-04-13",{"$f":"WEEKDAY(S2409)","v":7},{"$f":"MONTH(S2409)","v":4},{"$f":"YEAR(S2409)","v":2030},{"$f":"T2409&U2409","v":"74"},{"$f":"IF(V2409&W2409=V2408&W2408,X2408+1,1)","v":2},{"$f":"V2409&U2409&T2409&X2409","v":"2030472"},{"$f":"S2409","v":"2030-04-13"}]
[null,null,null,null,null,null,null,null,null,null,null,null,null,null,null,null,null,null,"2030-04-20",{"$f":"WEEKDAY(S2410)","v":7},{"$f":"MONTH(S2410)","v":4},{"$f":"YEAR(S2410)","v":2030},{"$f":"T2410&U2410","v":"74"},{"$f":"IF(V2410&W2410=V2409&W2409,X2409+1,1)","v":3},{"$f":"V2410&U2410&T2410&X2410","v":"2030473"},{"$f":"S2410","v":"2030-04-20"}]
[null,null,null,null,null,null,null,null,null,null,null,null,null,null,null,null,null,null,"2030-04-27",{"$f":"WEEKDAY(S2411)","v":7},{"$f":"MONTH(S2411)","v":4},{"$f":"YEAR(S2411)","v":2030},{"$f":"T2411&U2411","v":"74"},{"$f":"IF(V2411&W2411=V2410&W2410,X2410+1,1)","v":4},{"$f":"V2411&U2411&T2411&X2411","v":"2030474"},{"$f":"S2411","v":"2030-04-27"}]
[null,null,null,null,null,null,null,null,null,null,null,null,null,null,null,null,null,null,"2030-05-05",{"$f":"WEEKDAY(S2412)","v":1},{"$f":"MONTH(S2412)","v":5},{"$f":"YEAR(S2412)","v":2030},{"$f":"T2412&U2412","v":"15"},{"$f":"IF(V2412&W2412=V2411&W2411,X2411+1,1)","v":1},{"$f":"V2412&U2412&T2412&X2412","v":"2030511"},{"$f":"S2412","v":"2030-05-05"}]
[null,null,null,null,null,null,null,null,null,null,null,null,null,null,null,null,null,null,"2030-05-12",{"$f":"WEEKDAY(S2413)","v":1},{"$f":"MONTH(S2413)","v":5},{"$f":"YEAR(S2413)","v":2030},{"$f":"T2413&U2413","v":"15"},{"$f":"IF(V2413&W2413=V2412&W2412,X2412+1,1)","v":2},{"$f":"V2413&U2413&T2413&X2413","v":"2030512"},{"$f":"S2413","v":"2030-05-12"}]
[null,null,null,null,null,null,null,null,null,null,null,null,null,null,null,null,null,null,"2030-05-19",{"$f":"WEEKDAY(S2414)","v":1},{"$f":"MONTH(S2414)","v":5},{"$f":"YEAR(S2414)","v":2030},{"$f":"T2414&U2414","v":"15"},{"$f":"IF(V2414&W2414=V2413&W2413,X2413+1,1)","v":3},{"$f":"V2414&U2414&T2414&X2414","v":"2030513"},{"$f":"S2414","v":"2030-05-19"}]
[null,null,null,null,null,null,null,null,null,null,null,null,null,null,null,null,null,null,"2030-05-26",{"$f":"WEEKDAY(S2415)","v":1},{"$f":"MONTH(S2415)","v":5},{"$f":"YEAR(S2415)","v":2030},{"$f":"T2415&U2415","v":"15"},{"$f":"IF(V2415&W2415=V2414&W2414,X2414+1,1)","v":4},{"$f":"V2415&U2415&T2415&X2415","v":"2030514"},{"$f":"S2415","v":"2030-05-26"}]
[null,null,null,null,null,null,null,null,null,null,null,null,null,null,null,null,null,null,"2030-05-06",{"$f":"WEEKDAY(S2416)","v":2},{"$f":"MONTH(S2416)","v":5},{"$f":"YEAR(S2416)","v":2030},{"$f":"T2416&U2416","v":"25"},{"$f":"IF(V2416&W2416=V2415&W2415,X2415+1,1)","v":1},{"$f":"V2416&U2416&T2416&X2416","v":"2030521"},{"$f":"S2416","v":"2030-05-06"}]
[null,null,null,null,null,null,null,null,null,null,null,null,null,null,null,null,null,null,"2030-05-13",{"$f":"WEEKDAY(S2417)","v":2},{"$f":"MONTH(S2417)","v":5},{"$f":"YEAR(S2417)","v":2030},{"$f":"T2417&U2417","v":"25"},{"$f":"IF(V2417&W2417=V2416&W2416,X2416+1,1)","v":2},{"$f":"V2417&U2417&T2417&X2417","v":"2030522"},{"$f":"S2417","v":"2030-05-13"}]
[null,null,null,null,null,null,null,null,null,null,null,null,null,null,null,null,null,null,"2030-05-20",{"$f":"WEEKDAY(S2418)","v":2},{"$f":"MONTH(S2418)","v":5},{"$f":"YEAR(S2418)","v":2030},{"$f":"T2418&U2418","v":"25"},{"$f":"IF(V2418&W2418=V2417&W2417,X2417+1,1)","v":3},{"$f":"V2418&U2418&T2418&X2418","v":"2030523"},{"$f":"S2418","v":"2030-05-20"}]
[null,null,null,null,null,null,null,null,null,null,null,null,null,null,null,null,null,null,"2030-05-27",{"$f":"WEEKDAY(S2419)","v":2},{"$f":"MONTH(S2419)","v":5},{"$f":"YEAR(S2419)","v":2030},{"$f":"T2419&U2419","v":"25"},{"$f":"IF(V2419&W2419=V2418&W2418,X2418+1,1)","v":4},{"$f":"V2419&U2419&T2419&X2419","v":"2030524"},{"$f":"S2419","v":"2030-05-27"}]
[null,null,null,null,null,null,null,null,null,null,null,null,null,null,null,null,null,null,"2030-05-07",{"$f":"WEEKDAY(S2420)","v":3},{"$f":"MONTH(S2420)","v":5},{"$f":"YEAR(S2420)","v":2030},{"$f":"T2420&U2420","v":"35"},{"$f":"IF(V2420&W2420=V2419&W2419,X2419+1,1)","v":1},{"$f":"V2420&U2420&T2420&X2420","v":"2030531"},{"$f":"S2420","v":"2030-05-07"}]
[null,null,null,null,null,null,null,null,null,null,null,null,null,null,null,null,null,null,"2030-05-14",{"$f":"WEEKDAY(S2421)","v":3},{"$f":"MONTH(S2421)","v":5},{"$f":"YEAR(S2421)","v":2030},{"$f":"T2421&U2421","v":"35"},{"$f":"IF(V2421&W2421=V2420&W2420,X2420+1,1)","v":2},{"$f":"V2421&U2421&T2421&X2421","v":"2030532"},{"$f":"S2421","v":"2030-05-14"}]
[null,null,null,null,null,null,null,null,null,null,null,null,null,null,null,null,null,null,"2030-05-21",{"$f":"WEEKDAY(S2422)","v":3},{"$f":"MONTH(S2422)","v":5},{"$f":"YEAR(S2422)","v":2030},{"$f":"T2422&U2422","v":"35"},{"$f":"IF(V2422&W2422=V2421&W2421,X2421+1,1)","v":3},{"$f":"V2422&U2422&T2422&X2422","v":"2030533"},{"$f":"S2422","v":"2030-05-21"}]
[null,null,null,null,null,null,null,null,null,null,null,null,null,null,null,null,null,null,"2030-05-28",{"$f":"WEEKDAY(S2423)","v":3},{"$f":"MONTH(S2423)","v":5},{"$f":"YEAR(S2423)","v":2030},{"$f":"T2423&U2423","v":"35"},{"$f":"IF(V2423&W2423=V2422&W2422,X2422+1,1)","v":4},{"$f":"V2423&U2423&T2423&X2423","v":"2030534"},{"$f":"S2423","v":"2030-05-28"}]
[null,null,null,null,null,null,null,null,null,null,null,null,null,null,null,null,null,null,"2030-05-01",{"$f":"WEEKDAY(S2424)","v":4},{"$f":"MONTH(S2424)","v":5},{"$f":"YEAR(S2424)","v":2030},{"$f":"T2424&U2424","v":"45"},{"$f":"IF(V2424&W2424=V2423&W2423,X2423+1,1)","v":1},{"$f":"V2424&U2424&T2424&X2424","v":"2030541"},{"$f":"S2424","v":"2030-05-01"}]
[null,null,null,null,null,null,null,null,null,null,null,null,null,null,null,null,null,null,"2030-05-08",{"$f":"WEEKDAY(S2425)","v":4},{"$f":"MONTH(S2425)","v":5},{"$f":"YEAR(S2425)","v":2030},{"$f":"T2425&U2425","v":"45"},{"$f":"IF(V2425&W2425=V2424&W2424,X2424+1,1)","v":2},{"$f":"V2425&U2425&T2425&X2425","v":"2030542"},{"$f":"S2425","v":"2030-05-08"}]
[null,null,null,null,null,null,null,null,null,null,null,null,null,null,null,null,null,null,"2030-05-15",{"$f":"WEEKDAY(S2426)","v":4},{"$f":"MONTH(S2426)","v":5},{"$f":"YEAR(S2426)","v":2030},{"$f":"T2426&U2426","v":"45"},{"$f":"IF(V2426&W2426=V2425&W2425,X2425+1,1)","v":3},{"$f":"V2426&U2426&T2426&X2426","v":"2030543"},{"$f":"S2426","v":"2030-05-15"}]
[null,null,null,null,null,null,null,null,null,null,null,null,null,null,null,null,null,null,"2030-05-22",{"$f":"WEEKDAY(S2427)","v":4},{"$f":"MONTH(S2427)","v":5},{"$f":"YEAR(S2427)","v":2030},{"$f":"T2427&U2427","v":"45"},{"$f":"IF(V2427&W2427=V2426&W2426,X2426+1,1)","v":4},{"$f":"V2427&U2427&T2427&X2427","v":"2030544"},{"$f":"S2427","v":"2030-05-22"}]
[null,null,null,null,null,null,null,null,null,null,null,null,null,null,null,null,null,null,"2030-05-29",{"$f":"WEEKDAY(S2428)","v":4},{"$f":"MONTH(S2428)","v":5},{"$f":"YEAR(S2428)","v":2030},{"$f":"T2428&U2428","v":"45"},{"$f":"IF(V2428&W2428=V2427&W2427,X2427+1,1)","v":5},{"$f":"V2428&U2428&T2428&X2428","v":"2030545"},{"$f":"S2428","v":"2030-05-29"}]
[null,null,null,null,null,null,null,null,null,null,null,null,null,null,null,null,null,null,"2030-05-02",{"$f":"WEEKDAY(S2429)","v":5},{"$f":"MONTH(S2429)","v":5},{"$f":"YEAR(S2429)","v":2030},{"$f":"T2429&U2429","v":"55"},{"$f":"IF(V2429&W2429=V2428&W2428,X2428+1,1)","v":1},{"$f":"V2429&U2429&T2429&X2429","v":"2030551"},{"$f":"S2429","v":"2030-05-02"}]
[null,null,null,null,null,null,null,null,null,null,null,null,null,null,null,null,null,null,"2030-05-09",{"$f":"WEEKDAY(S2430)","v":5},{"$f":"MONTH(S2430)","v":5},{"$f":"YEAR(S2430)","v":2030},{"$f":"T2430&U2430","v":"55"},{"$f":"IF(V2430&W2430=V2429&W2429,X2429+1,1)","v":2},{"$f":"V2430&U2430&T2430&X2430","v":"2030552"},{"$f":"S2430","v":"2030-05-09"}]
[null,null,null,null,null,null,null,null,null,null,null,null,null,null,null,null,null,null,"2030-05-16",{"$f":"WEEKDAY(S2431)","v":5},{"$f":"MONTH(S2431)","v":5},{"$f":"YEAR(S2431)","v":2030},{"$f":"T2431&U2431","v":"55"},{"$f":"IF(V2431&W2431=V2430&W2430,X2430+1,1)","v":3},{"$f":"V2431&U2431&T2431&X2431","v":"2030553"},{"$f":"S2431","v":"2030-05-16"}]
[null,null,null,null,null,null,null,null,null,null,null,null,null,null,null,null,null,null,"2030-05-23",{"$f":"WEEKDAY(S2432)","v":5},{"$f":"MONTH(S2432)","v":5},{"$f":"YEAR(S2432)","v":2030},{"$f":"T2432&U2432","v":"55"},{"$f":"IF(V2432&W2432=V2431&W2431,X2431+1,1)","v":4},{"$f":"V2432&U2432&T2432&X2432","v":"2030554"},{"$f":"S2432","v":"2030-05-23"}]
[null,null,null,null,null,null,null,null,null,null,null,null,null,null,null,null,null,null,"2030-05-30",{"$f":"WEEKDAY(S2433)","v":5},{"$f":"MONTH(S2433)","v":5},{"$f":"YEAR(S2433)","v":2030},{"$f":"T2433&U2433","v":"55"},{"$f":"IF(V2433&W2433=V2432&W2432,X2432+1,1)","v":5},{"$f":"V2433&U2433&T2433&X2433","v":"2030555"},{"$f":"S2433","v":"2030-05-30"}]
[null,null,null,null,null,null,null,null,null,null,null,null,null,null,null,null,null,null,"2030-05-03",{"$f":"WEEKDAY(S2434)","v":6},{"$f":"MONTH(S2434)","v":5},{"$f":"YEAR(S2434)","v":2030},{"$f":"T2434&U2434","v":"65"},{"$f":"IF(V2434&W2434=V2433&W2433,X2433+1,1)","v":1},{"$f":"V2434&U2434&T2434&X2434","v":"2030561"},{"$f":"S2434","v":"2030-05-03"}]
[null,null,null,null,null,null,null,null,null,null,null,null,null,null,null,null,null,null,"2030-05-10",{"$f":"WEEKDAY(S2435)","v":6},{"$f":"MONTH(S2435)","v":5},{"$f":"YEAR(S2435)","v":2030},{"$f":"T2435&U2435","v":"65"},{"$f":"IF(V2435&W2435=V2434&W2434,X2434+1,1)","v":2},{"$f":"V2435&U2435&T2435&X2435","v":"2030562"},{"$f":"S2435","v":"2030-05-10"}]
[null,null,null,null,null,null,null,null,null,null,null,null,null,null,null,null,null,null,"2030-05-17",{"$f":"WEEKDAY(S2436)","v":6},{"$f":"MONTH(S2436)","v":5},{"$f":"YEAR(S2436)","v":2030},{"$f":"T2436&U2436","v":"65"},{"$f":"IF(V2436&W2436=V2435&W2435,X2435+1,1)","v":3},{"$f":"V2436&U2436&T2436&X2436","v":"2030563"},{"$f":"S2436","v":"2030-05-17"}]
[null,null,null,null,null,null,null,null,null,null,null,null,null,null,null,null,null,null,"2030-05-24",{"$f":"WEEKDAY(S2437)","v":6},{"$f":"MONTH(S2437)","v":5},{"$f":"YEAR(S2437)","v":2030},{"$f":"T2437&U2437","v":"65"},{"$f":"IF(V2437&W2437=V2436&W2436,X2436+1,1)","v":4},{"$f":"V2437&U2437&T2437&X2437","v":"2030564"},{"$f":"S2437","v":"2030-05-24"}]
[null,null,null,null,null,null,null,null,null,null,null,null,null,null,null,null,null,null,"2030-05-31",{"$f":"WEEKDAY(S2438)","v":6},{"$f":"MONTH(S2438)","v":5},{"$f":"YEAR(S2438)","v":2030},{"$f":"T2438&U2438","v":"65"},{"$f":"IF(V2438&W2438=V2437&W2437,X2437+1,1)","v":5},{"$f":"V2438&U2438&T2438&X2438","v":"2030565"},{"$f":"S2438","v":"2030-05-31"}]
[null,null,null,null,null,null,null,null,null,null,null,null,null,null,null,null,null,null,"2030-05-04",{"$f":"WEEKDAY(S2439)","v":7},{"$f":"MONTH(S2439)","v":5},{"$f":"YEAR(S2439)","v":2030},{"$f":"T2439&U2439","v":"75"},{"$f":"IF(V2439&W2439=V2438&W2438,X2438+1,1)","v":1},{"$f":"V2439&U2439&T2439&X2439","v":"2030571"},{"$f":"S2439","v":"2030-05-04"}]
[null,null,null,null,null,null,null,null,null,null,null,null,null,null,null,null,null,null,"2030-05-11",{"$f":"WEEKDAY(S2440)","v":7},{"$f":"MONTH(S2440)","v":5},{"$f":"YEAR(S2440)","v":2030},{"$f":"T2440&U2440","v":"75"},{"$f":"IF(V2440&W2440=V2439&W2439,X2439+1,1)","v":2},{"$f":"V2440&U2440&T2440&X2440","v":"2030572"},{"$f":"S2440","v":"2030-05-11"}]
[null,null,null,null,null,null,null,null,null,null,null,null,null,null,null,null,null,null,"2030-05-18",{"$f":"WEEKDAY(S2441)","v":7},{"$f":"MONTH(S2441)","v":5},{"$f":"YEAR(S2441)","v":2030},{"$f":"T2441&U2441","v":"75"},{"$f":"IF(V2441&W2441=V2440&W2440,X2440+1,1)","v":3},{"$f":"V2441&U2441&T2441&X2441","v":"2030573"},{"$f":"S2441","v":"2030-05-18"}]
[null,null,null,null,null,null,null,null,null,null,null,null,null,null,null,null,null,null,"2030-05-25",{"$f":"WEEKDAY(S2442)","v":7},{"$f":"MONTH(S2442)","v":5},{"$f":"YEAR(S2442)","v":2030},{"$f":"T2442&U2442","v":"75"},{"$f":"IF(V2442&W2442=V2441&W2441,X2441+1,1)","v":4},{"$f":"V2442&U2442&T2442&X2442","v":"2030574"},{"$f":"S2442","v":"2030-05-25"}]
[null,null,null,null,null,null,null,null,null,null,null,null,null,null,null,null,null,null,"2030-06-02",{"$f":"WEEKDAY(S2443)","v":1},{"$f":"MONTH(S2443)","v":6},{"$f":"YEAR(S2443)","v":2030},{"$f":"T2443&U2443","v":"16"},{"$f":"IF(V2443&W2443=V2442&W2442,X2442+1,1)","v":1},{"$f":"V2443&U2443&T2443&X2443","v":"2030611"},{"$f":"S2443","v":"2030-06-02"}]
[null,null,null,null,null,null,null,null,null,null,null,null,null,null,null,null,null,null,"2030-06-09",{"$f":"WEEKDAY(S2444)","v":1},{"$f":"MONTH(S2444)","v":6},{"$f":"YEAR(S2444)","v":2030},{"$f":"T2444&U2444","v":"16"},{"$f":"IF(V2444&W2444=V2443&W2443,X2443+1,1)","v":2},{"$f":"V2444&U2444&T2444&X2444","v":"2030612"},{"$f":"S2444","v":"2030-06-09"}]
[null,null,null,null,null,null,null,null,null,null,null,null,null,null,null,null,null,null,"2030-06-16",{"$f":"WEEKDAY(S2445)","v":1},{"$f":"MONTH(S2445)","v":6},{"$f":"YEAR(S2445)","v":2030},{"$f":"T2445&U2445","v":"16"},{"$f":"IF(V2445&W2445=V2444&W2444,X2444+1,1)","v":3},{"$f":"V2445&U2445&T2445&X2445","v":"2030613"},{"$f":"S2445","v":"2030-06-16"}]
[null,null,null,null,null,null,null,null,null,null,null,null,null,null,null,null,null,null,"2030-06-23",{"$f":"WEEKDAY(S2446)","v":1},{"$f":"MONTH(S2446)","v":6},{"$f":"YEAR(S2446)","v":2030},{"$f":"T2446&U2446","v":"16"},{"$f":"IF(V2446&W2446=V2445&W2445,X2445+1,1)","v":4},{"$f":"V2446&U2446&T2446&X2446","v":"2030614"},{"$f":"S2446","v":"2030-06-23"}]
[null,null,null,null,null,null,null,null,null,null,null,null,null,null,null,null,null,null,"2030-06-30",{"$f":"WEEKDAY(S2447)","v":1},{"$f":"MONTH(S2447)","v":6},{"$f":"YEAR(S2447)","v":2030},{"$f":"T2447&U2447","v":"16"},{"$f":"IF(V2447&W2447=V2446&W2446,X2446+1,1)","v":5},{"$f":"V2447&U2447&T2447&X2447","v":"2030615"},{"$f":"S2447","v":"2030-06-30"}]
[null,null,null,null,null,null,null,null,null,null,null,null,null,null,null,null,null,null,"2030-06-03",{"$f":"WEEKDAY(S2448)","v":2},{"$f":"MONTH(S2448)","v":6},{"$f":"YEAR(S2448)","v":2030},{"$f":"T2448&U2448","v":"26"},{"$f":"IF(V2448&W2448=V2447&W2447,X2447+1,1)","v":1},{"$f":"V2448&U2448&T2448&X2448","v":"2030621"},{"$f":"S2448","v":"2030-06-03"}]
[null,null,null,null,null,null,null,null,null,null,null,null,null,null,null,null,null,null,"2030-06-10",{"$f":"WEEKDAY(S2449)","v":2},{"$f":"MONTH(S2449)","v":6},{"$f":"YEAR(S2449)","v":2030},{"$f":"T2449&U2449","v":"26"},{"$f":"IF(V2449&W2449=V2448&W2448,X2448+1,1)","v":2},{"$f":"V2449&U2449&T2449&X2449","v":"2030622"},{"$f":"S2449","v":"2030-06-10"}]
[null,null,null,null,null,null,null,null,null,null,null,null,null,null,null,null,null,null,"2030-06-17",{"$f":"WEEKDAY(S2450)","v":2},{"$f":"MONTH(S2450)","v":6},{"$f":"YEAR(S2450)","v":2030},{"$f":"T2450&U2450","v":"26"},{"$f":"IF(V2450&W2450=V2449&W2449,X2449+1,1)","v":3},{"$f":"V2450&U2450&T2450&X2450","v":"2030623"},{"$f":"S2450","v":"2030-06-17"}]
[null,null,null,null,null,null,null,null,null,null,null,null,null,null,null,null,null,null,"2030-06-24",{"$f":"WEEKDAY(S2451)","v":2},{"$f":"MONTH(S2451)","v":6},{"$f":"YEAR(S2451)","v":2030},{"$f":"T2451&U2451","v":"26"},{"$f":"IF(V2451&W2451=V2450&W2450,X2450+1,1)","v":4},{"$f":"V2451&U2451&T2451&X2451","v":"2030624"},{"$f":"S2451","v":"2030-06-24"}]
[null,null,null,null,null,null,null,null,null,null,null,null,null,null,null,null,null,null,"2030-06-04",{"$f":"WEEKDAY(S2452)","v":3},{"$f":"MONTH(S2452)","v":6},{"$f":"YEAR(S2452)","v":2030},{"$f":"T2452&U2452","v":"36"},{"$f":"IF(V2452&W2452=V2451&W2451,X2451+1,1)","v":1},{"$f":"V2452&U2452&T2452&X2452","v":"2030631"},{"$f":"S2452","v":"2030-06-04"}]
[null,null,null,null,null,null,null,null,null,null,null,null,null,null,null,null,null,null,"2030-06-11",{"$f":"WEEKDAY(S2453)","v":3},{"$f":"MONTH(S2453)","v":6},{"$f":"YEAR(S2453)","v":2030},{"$f":"T2453&U2453","v":"36"},{"$f":"IF(V2453&W2453=V2452&W2452,X2452+1,1)","v":2},{"$f":"V2453&U2453&T2453&X2453","v":"2030632"},{"$f":"S2453","v":"2030-06-11"}]
[null,null,null,null,null,null,null,null,null,null,null,null,null,null,null,null,null,null,"2030-06-18",{"$f":"WEEKDAY(S2454)","v":3},{"$f":"MONTH(S2454)","v":6},{"$f":"YEAR(S2454)","v":2030},{"$f":"T2454&U2454","v":"36"},{"$f":"IF(V2454&W2454=V2453&W2453,X2453+1,1)","v":3},{"$f":"V2454&U2454&T2454&X2454","v":"2030633"},{"$f":"S2454","v":"2030-06-18"}]
[null,null,null,null,null,null,null,null,null,null,null,null,null,null,null,null,null,null,"2030-06-25",{"$f":"WEEKDAY(S2455)","v":3},{"$f":"MONTH(S2455)","v":6},{"$f":"YEAR(S2455)","v":2030},{"$f":"T2455&U2455","v":"36"},{"$f":"IF(V2455&W2455=V2454&W2454,X2454+1,1)","v":4},{"$f":"V2455&U2455&T2455&X2455","v":"2030634"},{"$f":"S2455","v":"2030-06-25"}]
[null,null,null,null,null,null,null,null,null,null,null,null,null,null,null,null,null,null,"2030-06-05",{"$f":"WEEKDAY(S2456)","v":4},{"$f":"MONTH(S2456)","v":6},{"$f":"YEAR(S2456)","v":2030},{"$f":"T2456&U2456","v":"46"},{"$f":"IF(V2456&W2456=V2455&W2455,X2455+1,1)","v":1},{"$f":"V2456&U2456&T2456&X2456","v":"2030641"},{"$f":"S2456","v":"2030-06-05"}]
[null,null,null,null,null,null,null,null,null,null,null,null,null,null,null,null,null,null,"2030-06-12",{"$f":"WEEKDAY(S2457)","v":4},{"$f":"MONTH(S2457)","v":6},{"$f":"YEAR(S2457)","v":2030},{"$f":"T2457&U2457","v":"46"},{"$f":"IF(V2457&W2457=V2456&W2456,X2456+1,1)","v":2},{"$f":"V2457&U2457&T2457&X2457","v":"2030642"},{"$f":"S2457","v":"2030-06-12"}]
[null,null,null,null,null,null,null,null,null,null,null,null,null,null,null,null,null,null,"2030-06-19",{"$f":"WEEKDAY(S2458)","v":4},{"$f":"MONTH(S2458)","v":6},{"$f":"YEAR(S2458)","v":2030},{"$f":"T2458&U2458","v":"46"},{"$f":"IF(V2458&W2458=V2457&W2457,X2457+1,1)","v":3},{"$f":"V2458&U2458&T2458&X2458","v":"2030643"},{"$f":"S2458","v":"2030-06-19"}]
[null,null,null,null,null,null,null,null,null,null,null,null,null,null,null,null,null,null,"2030-06-26",{"$f":"WEEKDAY(S2459)","v":4},{"$f":"MONTH(S2459)","v":6},{"$f":"YEAR(S2459)","v":2030},{"$f":"T2459&U2459","v":"46"},{"$f":"IF(V2459&W2459=V2458&W2458,X2458+1,1)","v":4},{"$f":"V2459&U2459&T2459&X2459","v":"2030644"},{"$f":"S2459","v":"2030-06-26"}]
[null,null,null,null,null,null,null,null,null,null,null,null,null,null,null,null,null,null,"2030-06-06",{"$f":"WEEKDAY(S2460)","v":5},{"$f":"MONTH(S2460)","v":6},{"$f":"YEAR(S2460)","v":2030},{"$f":"T2460&U2460","v":"56"},{"$f":"IF(V2460&W2460=V2459&W2459,X2459+1,1)","v":1},{"$f":"V2460&U2460&T2460&X2460","v":"2030651"},{"$f":"S2460","v":"2030-06-06"}]
[null,null,null,null,null,null,null,null,null,null,null,null,null,null,null,null,null,null,"2030-06-13",{"$f":"WEEKDAY(S2461)","v":5},{"$f":"MONTH(S2461)","v":6},{"$f":"YEAR(S2461)","v":2030},{"$f":"T2461&U2461","v":"56"},{"$f":"IF(V2461&W2461=V2460&W2460,X2460+1,1)","v":2},{"$f":"V2461&U2461&T2461&X2461","v":"2030652"},{"$f":"S2461","v":"2030-06-13"}]
[null,null,null,null,null,null,null,null,null,null,null,null,null,null,null,null,null,null,"2030-06-20",{"$f":"WEEKDAY(S2462)","v":5},{"$f":"MONTH(S2462)","v":6},{"$f":"YEAR(S2462)","v":2030},{"$f":"T2462&U2462","v":"56"},{"$f":"IF(V2462&W2462=V2461&W2461,X2461+1,1)","v":3},{"$f":"V2462&U2462&T2462&X2462","v":"2030653"},{"$f":"S2462","v":"2030-06-20"}]
[null,null,null,null,null,null,null,null,null,null,null,null,null,null,null,null,null,null,"2030-06-27",{"$f":"WEEKDAY(S2463)","v":5},{"$f":"MONTH(S2463)","v":6},{"$f":"YEAR(S2463)","v":2030},{"$f":"T2463&U2463","v":"56"},{"$f":"IF(V2463&W2463=V2462&W2462,X2462+1,1)","v":4},{"$f":"V2463&U2463&T2463&X2463","v":"2030654"},{"$f":"S2463","v":"2030-06-27"}]
[null,null,null,null,null,null,null,null,null,null,null,null,null,null,null,null,null,null,"2030-06-07",{"$f":"WEEKDAY(S2464)","v":6},{"$f":"MONTH(S2464)","v":6},{"$f":"YEAR(S2464)","v":2030},{"$f":"T2464&U2464","v":"66"},{"$f":"IF(V2464&W2464=V2463&W2463,X2463+1,1)","v":1},{"$f":"V2464&U2464&T2464&X2464","v":"2030661"},{"$f":"S2464","v":"2030-06-07"}]
[null,null,null,null,null,null,null,null,null,null,null,null,null,null,null,null,null,null,"2030-06-14",{"$f":"WEEKDAY(S2465)","v":6},{"$f":"MONTH(S2465)","v":6},{"$f":"YEAR(S2465)","v":2030},{"$f":"T2465&U2465","v":"66"},{"$f":"IF(V2465&W2465=V2464&W2464,X2464+1,1)","v":2},{"$f":"V2465&U2465&T2465&X2465","v":"2030662"},{"$f":"S2465","v":"2030-06-14"}]
[null,null,null,null,null,null,null,null,null,null,null,null,null,null,null,null,null,null,"2030-06-21",{"$f":"WEEKDAY(S2466)","v":6},{"$f":"MONTH(S2466)","v":6},{"$f":"YEAR(S2466)","v":2030},{"$f":"T2466&U2466","v":"66"},{"$f":"IF(V2466&W2466=V2465&W2465,X2465+1,1)","v":3},{"$f":"V2466&U2466&T2466&X2466","v":"2030663"},{"$f":"S2466","v":"2030-06-21"}]
[null,null,null,null,null,null,null,null,null,null,null,null,null,null,null,null,null,null,"2030-06-28",{"$f":"WEEKDAY(S2467)","v":6},{"$f":"MONTH(S2467)","v":6},{"$f":"YEAR(S2467)","v":2030},{"$f":"T2467&U2467","v":"66"},{"$f":"IF(V2467&W2467=V2466&W2466,X2466+1,1)","v":4},{"$f":"V2467&U2467&T2467&X2467","v":"2030664"},{"$f":"S2467","v":"2030-06-28"}]
[null,null,null,null,null,null,null,null,null,null,null,null,null,null,null,null,null,null,"2030-06-01",{"$f":"WEEKDAY(S2468)","v":7},{"$f":"MONTH(S2468)","v":6},{"$f":"YEAR(S2468)","v":2030},{"$f":"T2468&U2468","v":"76"},{"$f":"IF(V2468&W2468=V2467&W2467,X2467+1,1)","v":1},{"$f":"V2468&U2468&T2468&X2468","v":"2030671"},{"$f":"S2468","v":"2030-06-01"}]
[null,null,null,null,null,null,null,null,null,null,null,null,null,null,null,null,null,null,"2030-06-08",{"$f":"WEEKDAY(S2469)","v":7},{"$f":"MONTH(S2469)","v":6},{"$f":"YEAR(S2469)","v":2030},{"$f":"T2469&U2469","v":"76"},{"$f":"IF(V2469&W2469=V2468&W2468,X2468+1,1)","v":2},{"$f":"V2469&U2469&T2469&X2469","v":"2030672"},{"$f":"S2469","v":"2030-06-08"}]
[null,null,null,null,null,null,null,null,null,null,null,null,null,null,null,null,null,null,"2030-06-15",{"$f":"WEEKDAY(S2470)","v":7},{"$f":"MONTH(S2470)","v":6},{"$f":"YEAR(S2470)","v":2030},{"$f":"T2470&U2470","v":"76"},{"$f":"IF(V2470&W2470=V2469&W2469,X2469+1,1)","v":3},{"$f":"V2470&U2470&T2470&X2470","v":"2030673"},{"$f":"S2470","v":"2030-06-15"}]
[null,null,null,null,null,null,null,null,null,null,null,null,null,null,null,null,null,null,"2030-06-22",{"$f":"WEEKDAY(S2471)","v":7},{"$f":"MONTH(S2471)","v":6},{"$f":"YEAR(S2471)","v":2030},{"$f":"T2471&U2471","v":"76"},{"$f":"IF(V2471&W2471=V2470&W2470,X2470+1,1)","v":4},{"$f":"V2471&U2471&T2471&X2471","v":"2030674"},{"$f":"S2471","v":"2030-06-22"}]
[null,null,null,null,null,null,null,null,null,null,null,null,null,null,null,null,null,null,"2030-06-29",{"$f":"WEEKDAY(S2472)","v":7},{"$f":"MONTH(S2472)","v":6},{"$f":"YEAR(S2472)","v":2030},{"$f":"T2472&U2472","v":"76"},{"$f":"IF(V2472&W2472=V2471&W2471,X2471+1,1)","v":5},{"$f":"V2472&U2472&T2472&X2472","v":"2030675"},{"$f":"S2472","v":"2030-06-29"}]
[null,null,null,null,null,null,null,null,null,null,null,null,null,null,null,null,null,null,"2030-07-07",{"$f":"WEEKDAY(S2473)","v":1},{"$f":"MONTH(S2473)","v":7},{"$f":"YEAR(S2473)","v":2030},{"$f":"T2473&U2473","v":"17"},{"$f":"IF(V2473&W2473=V2472&W2472,X2472+1,1)","v":1},{"$f":"V2473&U2473&T2473&X2473","v":"2030711"},{"$f":"S2473","v":"2030-07-07"}]
[null,null,null,null,null,null,null,null,null,null,null,null,null,null,null,null,null,null,"2030-07-14",{"$f":"WEEKDAY(S2474)","v":1},{"$f":"MONTH(S2474)","v":7},{"$f":"YEAR(S2474)","v":2030},{"$f":"T2474&U2474","v":"17"},{"$f":"IF(V2474&W2474=V2473&W2473,X2473+1,1)","v":2},{"$f":"V2474&U2474&T2474&X2474","v":"2030712"},{"$f":"S2474","v":"2030-07-14"}]
[null,null,null,null,null,null,null,null,null,null,null,null,null,null,null,null,null,null,"2030-07-21",{"$f":"WEEKDAY(S2475)","v":1},{"$f":"MONTH(S2475)","v":7},{"$f":"YEAR(S2475)","v":2030},{"$f":"T2475&U2475","v":"17"},{"$f":"IF(V2475&W2475=V2474&W2474,X2474+1,1)","v":3},{"$f":"V2475&U2475&T2475&X2475","v":"2030713"},{"$f":"S2475","v":"2030-07-21"}]
[null,null,null,null,null,null,null,null,null,null,null,null,null,null,null,null,null,null,"2030-07-28",{"$f":"WEEKDAY(S2476)","v":1},{"$f":"MONTH(S2476)","v":7},{"$f":"YEAR(S2476)","v":2030},{"$f":"T2476&U2476","v":"17"},{"$f":"IF(V2476&W2476=V2475&W2475,X2475+1,1)","v":4},{"$f":"V2476&U2476&T2476&X2476","v":"2030714"},{"$f":"S2476","v":"2030-07-28"}]
[null,null,null,null,null,null,null,null,null,null,null,null,null,null,null,null,null,null,"2030-07-01",{"$f":"WEEKDAY(S2477)","v":2},{"$f":"MONTH(S2477)","v":7},{"$f":"YEAR(S2477)","v":2030},{"$f":"T2477&U2477","v":"27"},{"$f":"IF(V2477&W2477=V2476&W2476,X2476+1,1)","v":1},{"$f":"V2477&U2477&T2477&X2477","v":"2030721"},{"$f":"S2477","v":"2030-07-01"}]
[null,null,null,null,null,null,null,null,null,null,null,null,null,null,null,null,null,null,"2030-07-08",{"$f":"WEEKDAY(S2478)","v":2},{"$f":"MONTH(S2478)","v":7},{"$f":"YEAR(S2478)","v":2030},{"$f":"T2478&U2478","v":"27"},{"$f":"IF(V2478&W2478=V2477&W2477,X2477+1,1)","v":2},{"$f":"V2478&U2478&T2478&X2478","v":"2030722"},{"$f":"S2478","v":"2030-07-08"}]
[null,null,null,null,null,null,null,null,null,null,null,null,null,null,null,null,null,null,"2030-07-15",{"$f":"WEEKDAY(S2479)","v":2},{"$f":"MONTH(S2479)","v":7},{"$f":"YEAR(S2479)","v":2030},{"$f":"T2479&U2479","v":"27"},{"$f":"IF(V2479&W2479=V2478&W2478,X2478+1,1)","v":3},{"$f":"V2479&U2479&T2479&X2479","v":"2030723"},{"$f":"S2479","v":"2030-07-15"}]
[null,null,null,null,null,null,null,null,null,null,null,null,null,null,null,null,null,null,"2030-07-22",{"$f":"WEEKDAY(S2480)","v":2},{"$f":"MONTH(S2480)","v":7},{"$f":"YEAR(S2480)","v":2030},{"$f":"T2480&U2480","v":"27"},{"$f":"IF(V2480&W2480=V2479&W2479,X2479+1,1)","v":4},{"$f":"V2480&U2480&T2480&X2480","v":"2030724"},{"$f":"S2480","v":"2030-07-22"}]
[null,null,null,null,null,null,null,null,null,null,null,null,null,null,null,null,null,null,"2030-07-29",{"$f":"WEEKDAY(S2481)","v":2},{"$f":"MONTH(S2481)","v":7},{"$f":"YEAR(S2481)","v":2030},{"$f":"T2481&U2481","v":"27"},{"$f":"IF(V2481&W2481=V2480&W2480,X2480+1,1)","v":5},{"$f":"V2481&U2481&T2481&X2481","v":"2030725"},{"$f":"S2481","v":"2030-07-29"}]
[null,null,null,null,null,null,null,null,null,null,null,null,null,null,null,null,null,null,"2030-07-02",{"$f":"WEEKDAY(S2482)","v":3},{"$f":"MONTH(S2482)","v":7},{"$f":"YEAR(S2482)","v":2030},{"$f":"T2482&U2482","v":"37"},{"$f":"IF(V2482&W2482=V2481&W2481,X2481+1,1)","v":1},{"$f":"V2482&U2482&T2482&X2482","v":"2030731"},{"$f":"S2482","v":"2030-07-02"}]
[null,null,null,null,null,null,null,null,null,null,null,null,null,null,null,null,null,null,"2030-07-09",{"$f":"WEEKDAY(S2483)","v":3},{"$f":"MONTH(S2483)","v":7},{"$f":"YEAR(S2483)","v":2030},{"$f":"T2483&U2483","v":"37"},{"$f":"IF(V2483&W2483=V2482&W2482,X2482+1,1)","v":2},{"$f":"V2483&U2483&T2483&X2483","v":"2030732"},{"$f":"S2483","v":"2030-07-09"}]
[null,null,null,null,null,null,null,null,null,null,null,null,null,null,null,null,null,null,"2030-07-16",{"$f":"WEEKDAY(S2484)","v":3},{"$f":"MONTH(S2484)","v":7},{"$f":"YEAR(S2484)","v":2030},{"$f":"T2484&U2484","v":"37"},{"$f":"IF(V2484&W2484=V2483&W2483,X2483+1,1)","v":3},{"$f":"V2484&U2484&T2484&X2484","v":"2030733"},{"$f":"S2484","v":"2030-07-16"}]
[null,null,null,null,null,null,null,null,null,null,null,null,null,null,null,null,null,null,"2030-07-23",{"$f":"WEEKDAY(S2485)","v":3},{"$f":"MONTH(S2485)","v":7},{"$f":"YEAR(S2485)","v":2030},{"$f":"T2485&U2485","v":"37"},{"$f":"IF(V2485&W2485=V2484&W2484,X2484+1,1)","v":4},{"$f":"V2485&U2485&T2485&X2485","v":"2030734"},{"$f":"S2485","v":"2030-07-23"}]
[null,null,null,null,null,null,null,null,null,null,null,null,null,null,null,null,null,null,"2030-07-30",{"$f":"WEEKDAY(S2486)","v":3},{"$f":"MONTH(S2486)","v":7},{"$f":"YEAR(S2486)","v":2030},{"$f":"T2486&U2486","v":"37"},{"$f":"IF(V2486&W2486=V2485&W2485,X2485+1,1)","v":5},{"$f":"V2486&U2486&T2486&X2486","v":"2030735"},{"$f":"S2486","v":"2030-07-30"}]
[null,null,null,null,null,null,null,null,null,null,null,null,null,null,null,null,null,null,"2030-07-03",{"$f":"WEEKDAY(S2487)","v":4},{"$f":"MONTH(S2487)","v":7},{"$f":"YEAR(S2487)","v":2030},{"$f":"T2487&U2487","v":"47"},{"$f":"IF(V2487&W2487=V2486&W2486,X2486+1,1)","v":1},{"$f":"V2487&U2487&T2487&X2487","v":"2030741"},{"$f":"S2487","v":"2030-07-03"}]
[null,null,null,null,null,null,null,null,null,null,null,null,null,null,null,null,null,null,"2030-07-10",{"$f":"WEEKDAY(S2488)","v":4},{"$f":"MONTH(S2488)","v":7},{"$f":"YEAR(S2488)","v":2030},{"$f":"T2488&U2488","v":"47"},{"$f":"IF(V2488&W2488=V2487&W2487,X2487+1,1)","v":2},{"$f":"V2488&U2488&T2488&X2488","v":"2030742"},{"$f":"S2488","v":"2030-07-10"}]
[null,null,null,null,null,null,null,null,null,null,null,null,null,null,null,null,null,null,"2030-07-17",{"$f":"WEEKDAY(S2489)","v":4},{"$f":"MONTH(S2489)","v":7},{"$f":"YEAR(S2489)","v":2030},{"$f":"T2489&U2489","v":"47"},{"$f":"IF(V2489&W2489=V2488&W2488,X2488+1,1)","v":3},{"$f":"V2489&U2489&T2489&X2489","v":"2030743"},{"$f":"S2489","v":"2030-07-17"}]
[null,null,null,null,null,null,null,null,null,null,null,null,null,null,null,null,null,null,"2030-07-24",{"$f":"WEEKDAY(S2490)","v":4},{"$f":"MONTH(S2490)","v":7},{"$f":"YEAR(S2490)","v":2030},{"$f":"T2490&U2490","v":"47"},{"$f":"IF(V2490&W2490=V2489&W2489,X2489+1,1)","v":4},{"$f":"V2490&U2490&T2490&X2490","v":"2030744"},{"$f":"S2490","v":"2030-07-24"}]
[null,null,null,null,null,null,null,null,null,null,null,null,null,null,null,null,null,null,"2030-07-31",{"$f":"WEEKDAY(S2491)","v":4},{"$f":"MONTH(S2491)","v":7},{"$f":"YEAR(S2491)","v":2030},{"$f":"T2491&U2491","v":"47"},{"$f":"IF(V2491&W2491=V2490&W2490,X2490+1,1)","v":5},{"$f":"V2491&U2491&T2491&X2491","v":"2030745"},{"$f":"S2491","v":"2030-07-31"}]
[null,null,null,null,null,null,null,null,null,null,null,null,null,null,null,null,null,null,"2030-07-04",{"$f":"WEEKDAY(S2492)","v":5},{"$f":"MONTH(S2492)","v":7},{"$f":"YEAR(S2492)","v":2030},{"$f":"T2492&U2492","v":"57"},{"$f":"IF(V2492&W2492=V2491&W2491,X2491+1,1)","v":1},{"$f":"V2492&U2492&T2492&X2492","v":"2030751"},{"$f":"S2492","v":"2030-07-04"}]
[null,null,null,null,null,null,null,null,null,null,null,null,null,null,null,null,null,null,"2030-07-11",{"$f":"WEEKDAY(S2493)","v":5},{"$f":"MONTH(S2493)","v":7},{"$f":"YEAR(S2493)","v":2030},{"$f":"T2493&U2493","v":"57"},{"$f":"IF(V2493&W2493=V2492&W2492,X2492+1,1)","v":2},{"$f":"V2493&U2493&T2493&X2493","v":"2030752"},{"$f":"S2493","v":"2030-07-11"}]
[null,null,null,null,null,null,null,null,null,null,null,null,null,null,null,null,null,null,"2030-07-18",{"$f":"WEEKDAY(S2494)","v":5},{"$f":"MONTH(S2494)","v":7},{"$f":"YEAR(S2494)","v":2030},{"$f":"T2494&U2494","v":"57"},{"$f":"IF(V2494&W2494=V2493&W2493,X2493+1,1)","v":3},{"$f":"V2494&U2494&T2494&X2494","v":"2030753"},{"$f":"S2494","v":"2030-07-18"}]
[null,null,null,null,null,null,null,null,null,null,null,null,null,null,null,null,null,null,"2030-07-25",{"$f":"WEEKDAY(S2495)","v":5},{"$f":"MONTH(S2495)","v":7},{"$f":"YEAR(S2495)","v":2030},{"$f":"T2495&U2495","v":"57"},{"$f":"IF(V2495&W2495=V2494&W2494,X2494+1,1)","v":4},{"$f":"V2495&U2495&T2495&X2495","v":"2030754"},{"$f":"S2495","v":"2030-07-25"}]
[null,null,null,null,null,null,null,null,null,null,null,null,null,null,null,null,null,null,"2030-07-05",{"$f":"WEEKDAY(S2496)","v":6},{"$f":"MONTH(S2496)","v":7},{"$f":"YEAR(S2496)","v":2030},{"$f":"T2496&U2496","v":"67"},{"$f":"IF(V2496&W2496=V2495&W2495,X2495+1,1)","v":1},{"$f":"V2496&U2496&T2496&X2496","v":"2030761"},{"$f":"S2496","v":"2030-07-05"}]
[null,null,null,null,null,null,null,null,null,null,null,null,null,null,null,null,null,null,"2030-07-12",{"$f":"WEEKDAY(S2497)","v":6},{"$f":"MONTH(S2497)","v":7},{"$f":"YEAR(S2497)","v":2030},{"$f":"T2497&U2497","v":"67"},{"$f":"IF(V2497&W2497=V2496&W2496,X2496+1,1)","v":2},{"$f":"V2497&U2497&T2497&X2497","v":"2030762"},{"$f":"S2497","v":"2030-07-12"}]
[null,null,null,null,null,null,null,null,null,null,null,null,null,null,null,null,null,null,"2030-07-19",{"$f":"WEEKDAY(S2498)","v":6},{"$f":"MONTH(S2498)","v":7},{"$f":"YEAR(S2498)","v":2030},{"$f":"T2498&U2498","v":"67"},{"$f":"IF(V2498&W2498=V2497&W2497,X2497+1,1)","v":3},{"$f":"V2498&U2498&T2498&X2498","v":"2030763"},{"$f":"S2498","v":"2030-07-19"}]
[null,null,null,null,null,null,null,null,null,null,null,null,null,null,null,null,null,null,"2030-07-26",{"$f":"WEEKDAY(S2499)","v":6},{"$f":"MONTH(S2499)","v":7},{"$f":"YEAR(S2499)","v":2030},{"$f":"T2499&U2499","v":"67"},{"$f":"IF(V2499&W2499=V2498&W2498,X2498+1,1)","v":4},{"$f":"V2499&U2499&T2499&X2499","v":"2030764"},{"$f":"S2499","v":"2030-07-26"}]
[null,null,null,null,null,null,null,null,null,null,null,null,null,null,null,null,null,null,"2030-07-06",{"$f":"WEEKDAY(S2500)","v":7},{"$f":"MONTH(S2500)","v":7},{"$f":"YEAR(S2500)","v":2030},{"$f":"T2500&U2500","v":"77"},{"$f":"IF(V2500&W2500=V2499&W2499,X2499+1,1)","v":1},{"$f":"V2500&U2500&T2500&X2500","v":"2030771"},{"$f":"S2500","v":"2030-07-06"}]
[null,null,null,null,null,null,null,null,null,null,null,null,null,null,null,null,null,null,"2030-07-13",{"$f":"WEEKDAY(S2501)","v":7},{"$f":"MONTH(S2501)","v":7},{"$f":"YEAR(S2501)","v":2030},{"$f":"T2501&U2501","v":"77"},{"$f":"IF(V2501&W2501=V2500&W2500,X2500+1,1)","v":2},{"$f":"V2501&U2501&T2501&X2501","v":"2030772"},{"$f":"S2501","v":"2030-07-13"}]
[null,null,null,null,null,null,null,null,null,null,null,null,null,null,null,null,null,null,"2030-07-20",{"$f":"WEEKDAY(S2502)","v":7},{"$f":"MONTH(S2502)","v":7},{"$f":"YEAR(S2502)","v":2030},{"$f":"T2502&U2502","v":"77"},{"$f":"IF(V2502&W2502=V2501&W2501,X2501+1,1)","v":3},{"$f":"V2502&U2502&T2502&X2502","v":"2030773"},{"$f":"S2502","v":"2030-07-20"}]
[null,null,null,null,null,null,null,null,null,null,null,null,null,null,null,null,null,null,"2030-07-27",{"$f":"WEEKDAY(S2503)","v":7},{"$f":"MONTH(S2503)","v":7},{"$f":"YEAR(S2503)","v":2030},{"$f":"T2503&U2503","v":"77"},{"$f":"IF(V2503&W2503=V2502&W2502,X2502+1,1)","v":4},{"$f":"V2503&U2503&T2503&X2503","v":"2030774"},{"$f":"S2503","v":"2030-07-27"}]
[null,null,null,null,null,null,null,null,null,null,null,null,null,null,null,null,null,null,"2030-08-04",{"$f":"WEEKDAY(S2504)","v":1},{"$f":"MONTH(S2504)","v":8},{"$f":"YEAR(S2504)","v":2030},{"$f":"T2504&U2504","v":"18"},{"$f":"IF(V2504&W2504=V2503&W2503,X2503+1,1)","v":1},{"$f":"V2504&U2504&T2504&X2504","v":"2030811"},{"$f":"S2504","v":"2030-08-04"}]
[null,null,null,null,null,null,null,null,null,null,null,null,null,null,null,null,null,null,"2030-08-11",{"$f":"WEEKDAY(S2505)","v":1},{"$f":"MONTH(S2505)","v":8},{"$f":"YEAR(S2505)","v":2030},{"$f":"T2505&U2505","v":"18"},{"$f":"IF(V2505&W2505=V2504&W2504,X2504+1,1)","v":2},{"$f":"V2505&U2505&T2505&X2505","v":"2030812"},{"$f":"S2505","v":"2030-08-11"}]
[null,null,null,null,null,null,null,null,null,null,null,null,null,null,null,null,null,null,"2030-08-18",{"$f":"WEEKDAY(S2506)","v":1},{"$f":"MONTH(S2506)","v":8},{"$f":"YEAR(S2506)","v":2030},{"$f":"T2506&U2506","v":"18"},{"$f":"IF(V2506&W2506=V2505&W2505,X2505+1,1)","v":3},{"$f":"V2506&U2506&T2506&X2506","v":"2030813"},{"$f":"S2506","v":"2030-08-18"}]
[null,null,null,null,null,null,null,null,null,null,null,null,null,null,null,null,null,null,"2030-08-25",{"$f":"WEEKDAY(S2507)","v":1},{"$f":"MONTH(S2507)","v":8},{"$f":"YEAR(S2507)","v":2030},{"$f":"T2507&U2507","v":"18"},{"$f":"IF(V2507&W2507=V2506&W2506,X2506+1,1)","v":4},{"$f":"V2507&U2507&T2507&X2507","v":"2030814"},{"$f":"S2507","v":"2030-08-25"}]
[null,null,null,null,null,null,null,null,null,null,null,null,null,null,null,null,null,null,"2030-08-05",{"$f":"WEEKDAY(S2508)","v":2},{"$f":"MONTH(S2508)","v":8},{"$f":"YEAR(S2508)","v":2030},{"$f":"T2508&U2508","v":"28"},{"$f":"IF(V2508&W2508=V2507&W2507,X2507+1,1)","v":1},{"$f":"V2508&U2508&T2508&X2508","v":"2030821"},{"$f":"S2508","v":"2030-08-05"}]
[null,null,null,null,null,null,null,null,null,null,null,null,null,null,null,null,null,null,"2030-08-12",{"$f":"WEEKDAY(S2509)","v":2},{"$f":"MONTH(S2509)","v":8},{"$f":"YEAR(S2509)","v":2030},{"$f":"T2509&U2509","v":"28"},{"$f":"IF(V2509&W2509=V2508&W2508,X2508+1,1)","v":2},{"$f":"V2509&U2509&T2509&X2509","v":"2030822"},{"$f":"S2509","v":"2030-08-12"}]
[null,null,null,null,null,null,null,null,null,null,null,null,null,null,null,null,null,null,"2030-08-19",{"$f":"WEEKDAY(S2510)","v":2},{"$f":"MONTH(S2510)","v":8},{"$f":"YEAR(S2510)","v":2030},{"$f":"T2510&U2510","v":"28"},{"$f":"IF(V2510&W2510=V2509&W2509,X2509+1,1)","v":3},{"$f":"V2510&U2510&T2510&X2510","v":"2030823"},{"$f":"S2510","v":"2030-08-19"}]
[null,null,null,null,null,null,null,null,null,null,null,null,null,null,null,null,null,null,"2030-08-26",{"$f":"WEEKDAY(S2511)","v":2},{"$f":"MONTH(S2511)","v":8},{"$f":"YEAR(S2511)","v":2030},{"$f":"T2511&U2511","v":"28"},{"$f":"IF(V2511&W2511=V2510&W2510,X2510+1,1)","v":4},{"$f":"V2511&U2511&T2511&X2511","v":"2030824"},{"$f":"S2511","v":"2030-08-26"}]
[null,null,null,null,null,null,null,null,null,null,null,null,null,null,null,null,null,null,"2030-08-06",{"$f":"WEEKDAY(S2512)","v":3},{"$f":"MONTH(S2512)","v":8},{"$f":"YEAR(S2512)","v":2030},{"$f":"T2512&U2512","v":"38"},{"$f":"IF(V2512&W2512=V2511&W2511,X2511+1,1)","v":1},{"$f":"V2512&U2512&T2512&X2512","v":"2030831"},{"$f":"S2512","v":"2030-08-06"}]
[null,null,null,null,null,null,null,null,null,null,null,null,null,null,null,null,null,null,"2030-08-13",{"$f":"WEEKDAY(S2513)","v":3},{"$f":"MONTH(S2513)","v":8},{"$f":"YEAR(S2513)","v":2030},{"$f":"T2513&U2513","v":"38"},{"$f":"IF(V2513&W2513=V2512&W2512,X2512+1,1)","v":2},{"$f":"V2513&U2513&T2513&X2513","v":"2030832"},{"$f":"S2513","v":"2030-08-13"}]
[null,null,null,null,null,null,null,null,null,null,null,null,null,null,null,null,null,null,"2030-08-20",{"$f":"WEEKDAY(S2514)","v":3},{"$f":"MONTH(S2514)","v":8},{"$f":"YEAR(S2514)","v":2030},{"$f":"T2514&U2514","v":"38"},{"$f":"IF(V2514&W2514=V2513&W2513,X2513+1,1)","v":3},{"$f":"V2514&U2514&T2514&X2514","v":"2030833"},{"$f":"S2514","v":"2030-08-20"}]
[null,null,null,null,null,null,null,null,null,null,null,null,null,null,null,null,null,null,"2030-08-27",{"$f":"WEEKDAY(S2515)","v":3},{"$f":"MONTH(S2515)","v":8},{"$f":"YEAR(S2515)","v":2030},{"$f":"T2515&U2515","v":"38"},{"$f":"IF(V2515&W2515=V2514&W2514,X2514+1,1)","v":4},{"$f":"V2515&U2515&T2515&X2515","v":"2030834"},{"$f":"S2515","v":"2030-08-27"}]
[null,null,null,null,null,null,null,null,null,null,null,null,null,null,null,null,null,null,"2030-08-07",{"$f":"WEEKDAY(S2516)","v":4},{"$f":"MONTH(S2516)","v":8},{"$f":"YEAR(S2516)","v":2030},{"$f":"T2516&U2516","v":"48"},{"$f":"IF(V2516&W2516=V2515&W2515,X2515+1,1)","v":1},{"$f":"V2516&U2516&T2516&X2516","v":"2030841"},{"$f":"S2516","v":"2030-08-07"}]
[null,null,null,null,null,null,null,null,null,null,null,null,null,null,null,null,null,null,"2030-08-14",{"$f":"WEEKDAY(S2517)","v":4},{"$f":"MONTH(S2517)","v":8},{"$f":"YEAR(S2517)","v":2030},{"$f":"T2517&U2517","v":"48"},{"$f":"IF(V2517&W2517=V2516&W2516,X2516+1,1)","v":2},{"$f":"V2517&U2517&T2517&X2517","v":"2030842"},{"$f":"S2517","v":"2030-08-14"}]
[null,null,null,null,null,null,null,null,null,null,null,null,null,null,null,null,null,null,"2030-08-21",{"$f":"WEEKDAY(S2518)","v":4},{"$f":"MONTH(S2518)","v":8},{"$f":"YEAR(S2518)","v":2030},{"$f":"T2518&U2518","v":"48"},{"$f":"IF(V2518&W2518=V2517&W2517,X2517+1,1)","v":3},{"$f":"V2518&U2518&T2518&X2518","v":"2030843"},{"$f":"S2518","v":"2030-08-21"}]
[null,null,null,null,null,null,null,null,null,null,null,null,null,null,null,null,null,null,"2030-08-28",{"$f":"WEEKDAY(S2519)","v":4},{"$f":"MONTH(S2519)","v":8},{"$f":"YEAR(S2519)","v":2030},{"$f":"T2519&U2519","v":"48"},{"$f":"IF(V2519&W2519=V2518&W2518,X2518+1,1)","v":4},{"$f":"V2519&U2519&T2519&X2519","v":"2030844"},{"$f":"S2519","v":"2030-08-28"}]
[null,null,null,null,null,null,null,null,null,null,null,null,null,null,null,null,null,null,"2030-08-01",{"$f":"WEEKDAY(S2520)","v":5},{"$f":"MONTH(S2520)","v":8},{"$f":"YEAR(S2520)","v":2030},{"$f":"T2520&U2520","v":"58"},{"$f":"IF(V2520&W2520=V2519&W2519,X2519+1,1)","v":1},{"$f":"V2520&U2520&T2520&X2520","v":"2030851"},{"$f":"S2520","v":"2030-08-01"}]
[null,null,null,null,null,null,null,null,null,null,null,null,null,null,null,null,null,null,"2030-08-08",{"$f":"WEEKDAY(S2521)","v":5},{"$f":"MONTH(S2521)","v":8},{"$f":"YEAR(S2521)","v":2030},{"$f":"T2521&U2521","v":"58"},{"$f":"IF(V2521&W2521=V2520&W2520,X2520+1,1)","v":2},{"$f":"V2521&U2521&T2521&X2521","v":"2030852"},{"$f":"S2521","v":"2030-08-08"}]
[null,null,null,null,null,null,null,null,null,null,null,null,null,null,null,null,null,null,"2030-08-15",{"$f":"WEEKDAY(S2522)","v":5},{"$f":"MONTH(S2522)","v":8},{"$f":"YEAR(S2522)","v":2030},{"$f":"T2522&U2522","v":"58"},{"$f":"IF(V2522&W2522=V2521&W2521,X2521+1,1)","v":3},{"$f":"V2522&U2522&T2522&X2522","v":"2030853"},{"$f":"S2522","v":"2030-08-15"}]
[null,null,null,null,null,null,null,null,null,null,null,null,null,null,null,null,null,null,"2030-08-22",{"$f":"WEEKDAY(S2523)","v":5},{"$f":"MONTH(S2523)","v":8},{"$f":"YEAR(S2523)","v":2030},{"$f":"T2523&U2523","v":"58"},{"$f":"IF(V2523&W2523=V2522&W2522,X2522+1,1)","v":4},{"$f":"V2523&U2523&T2523&X2523","v":"2030854"},{"$f":"S2523","v":"2030-08-22"}]
[null,null,null,null,null,null,null,null,null,null,null,null,null,null,null,null,null,null,"2030-08-29",{"$f":"WEEKDAY(S2524)","v":5},{"$f":"MONTH(S2524)","v":8},{"$f":"YEAR(S2524)","v":2030},{"$f":"T2524&U2524","v":"58"},{"$f":"IF(V2524&W2524=V2523&W2523,X2523+1,1)","v":5},{"$f":"V2524&U2524&T2524&X2524","v":"2030855"},{"$f":"S2524","v":"2030-08-29"}]
[null,null,null,null,null,null,null,null,null,null,null,null,null,null,null,null,null,null,"2030-08-02",{"$f":"WEEKDAY(S2525)","v":6},{"$f":"MONTH(S2525)","v":8},{"$f":"YEAR(S2525)","v":2030},{"$f":"T2525&U2525","v":"68"},{"$f":"IF(V2525&W2525=V2524&W2524,X2524+1,1)","v":1},{"$f":"V2525&U2525&T2525&X2525","v":"2030861"},{"$f":"S2525","v":"2030-08-02"}]
[null,null,null,null,null,null,null,null,null,null,null,null,null,null,null,null,null,null,"2030-08-09",{"$f":"WEEKDAY(S2526)","v":6},{"$f":"MONTH(S2526)","v":8},{"$f":"YEAR(S2526)","v":2030},{"$f":"T2526&U2526","v":"68"},{"$f":"IF(V2526&W2526=V2525&W2525,X2525+1,1)","v":2},{"$f":"V2526&U2526&T2526&X2526","v":"2030862"},{"$f":"S2526","v":"2030-08-09"}]
[null,null,null,null,null,null,null,null,null,null,null,null,null,null,null,null,null,null,"2030-08-16",{"$f":"WEEKDAY(S2527)","v":6},{"$f":"MONTH(S2527)","v":8},{"$f":"YEAR(S2527)","v":2030},{"$f":"T2527&U2527","v":"68"},{"$f":"IF(V2527&W2527=V2526&W2526,X2526+1,1)","v":3},{"$f":"V2527&U2527&T2527&X2527","v":"2030863"},{"$f":"S2527","v":"2030-08-16"}]
[null,null,null,null,null,null,null,null,null,null,null,null,null,null,null,null,null,null,"2030-08-23",{"$f":"WEEKDAY(S2528)","v":6},{"$f":"MONTH(S2528)","v":8},{"$f":"YEAR(S2528)","v":2030},{"$f":"T2528&U2528","v":"68"},{"$f":"IF(V2528&W2528=V2527&W2527,X2527+1,1)","v":4},{"$f":"V2528&U2528&T2528&X2528","v":"2030864"},{"$f":"S2528","v":"2030-08-23"}]
[null,null,null,null,null,null,null,null,null,null,null,null,null,null,null,null,null,null,"2030-08-30",{"$f":"WEEKDAY(S2529)","v":6},{"$f":"MONTH(S2529)","v":8},{"$f":"YEAR(S2529)","v":2030},{"$f":"T2529&U2529","v":"68"},{"$f":"IF(V2529&W2529=V2528&W2528,X2528+1,1)","v":5},{"$f":"V2529&U2529&T2529&X2529","v":"2030865"},{"$f":"S2529","v":"2030-08-30"}]
[null,null,null,null,null,null,null,null,null,null,null,null,null,null,null,null,null,null,"2030-08-03",{"$f":"WEEKDAY(S2530)","v":7},{"$f":"MONTH(S2530)","v":8},{"$f":"YEAR(S2530)","v":2030},{"$f":"T2530&U2530","v":"78"},{"$f":"IF(V2530&W2530=V2529&W2529,X2529+1,1)","v":1},{"$f":"V2530&U2530&T2530&X2530","v":"2030871"},{"$f":"S2530","v":"2030-08-03"}]
[null,null,null,null,null,null,null,null,null,null,null,null,null,null,null,null,null,null,"2030-08-10",{"$f":"WEEKDAY(S2531)","v":7},{"$f":"MONTH(S2531)","v":8},{"$f":"YEAR(S2531)","v":2030},{"$f":"T2531&U2531","v":"78"},{"$f":"IF(V2531&W2531=V2530&W2530,X2530+1,1)","v":2},{"$f":"V2531&U2531&T2531&X2531","v":"2030872"},{"$f":"S2531","v":"2030-08-10"}]
[null,null,null,null,null,null,null,null,null,null,null,null,null,null,null,null,null,null,"2030-08-17",{"$f":"WEEKDAY(S2532)","v":7},{"$f":"MONTH(S2532)","v":8},{"$f":"YEAR(S2532)","v":2030},{"$f":"T2532&U2532","v":"78"},{"$f":"IF(V2532&W2532=V2531&W2531,X2531+1,1)","v":3},{"$f":"V2532&U2532&T2532&X2532","v":"2030873"},{"$f":"S2532","v":"2030-08-17"}]
[null,null,null,null,null,null,null,null,null,null,null,null,null,null,null,null,null,null,"2030-08-24",{"$f":"WEEKDAY(S2533)","v":7},{"$f":"MONTH(S2533)","v":8},{"$f":"YEAR(S2533)","v":2030},{"$f":"T2533&U2533","v":"78"},{"$f":"IF(V2533&W2533=V2532&W2532,X2532+1,1)","v":4},{"$f":"V2533&U2533&T2533&X2533","v":"2030874"},{"$f":"S2533","v":"2030-08-24"}]
[null,null,null,null,null,null,null,null,null,null,null,null,null,null,null,null,null,null,"2030-08-31",{"$f":"WEEKDAY(S2534)","v":7},{"$f":"MONTH(S2534)","v":8},{"$f":"YEAR(S2534)","v":2030},{"$f":"T2534&U2534","v":"78"},{"$f":"IF(V2534&W2534=V2533&W2533,X2533+1,1)","v":5},{"$f":"V2534&U2534&T2534&X2534","v":"2030875"},{"$f":"S2534","v":"2030-08-31"}]
[null,null,null,null,null,null,null,null,null,null,null,null,null,null,null,null,null,null,"2030-09-01",{"$f":"WEEKDAY(S2535)","v":1},{"$f":"MONTH(S2535)","v":9},{"$f":"YEAR(S2535)","v":2030},{"$f":"T2535&U2535","v":"19"},{"$f":"IF(V2535&W2535=V2534&W2534,X2534+1,1)","v":1},{"$f":"V2535&U2535&T2535&X2535","v":"2030911"},{"$f":"S2535","v":"2030-09-01"}]
[null,null,null,null,null,null,null,null,null,null,null,null,null,null,null,null,null,null,"2030-09-08",{"$f":"WEEKDAY(S2536)","v":1},{"$f":"MONTH(S2536)","v":9},{"$f":"YEAR(S2536)","v":2030},{"$f":"T2536&U2536","v":"19"},{"$f":"IF(V2536&W2536=V2535&W2535,X2535+1,1)","v":2},{"$f":"V2536&U2536&T2536&X2536","v":"2030912"},{"$f":"S2536","v":"2030-09-08"}]
[null,null,null,null,null,null,null,null,null,null,null,null,null,null,null,null,null,null,"2030-09-15",{"$f":"WEEKDAY(S2537)","v":1},{"$f":"MONTH(S2537)","v":9},{"$f":"YEAR(S2537)","v":2030},{"$f":"T2537&U2537","v":"19"},{"$f":"IF(V2537&W2537=V2536&W2536,X2536+1,1)","v":3},{"$f":"V2537&U2537&T2537&X2537","v":"2030913"},{"$f":"S2537","v":"2030-09-15"}]
[null,null,null,null,null,null,null,null,null,null,null,null,null,null,null,null,null,null,"2030-09-22",{"$f":"WEEKDAY(S2538)","v":1},{"$f":"MONTH(S2538)","v":9},{"$f":"YEAR(S2538)","v":2030},{"$f":"T2538&U2538","v":"19"},{"$f":"IF(V2538&W2538=V2537&W2537,X2537+1,1)","v":4},{"$f":"V2538&U2538&T2538&X2538","v":"2030914"},{"$f":"S2538","v":"2030-09-22"}]
[null,null,null,null,null,null,null,null,null,null,null,null,null,null,null,null,null,null,"2030-09-29",{"$f":"WEEKDAY(S2539)","v":1},{"$f":"MONTH(S2539)","v":9},{"$f":"YEAR(S2539)","v":2030},{"$f":"T2539&U2539","v":"19"},{"$f":"IF(V2539&W2539=V2538&W2538,X2538+1,1)","v":5},{"$f":"V2539&U2539&T2539&X2539","v":"2030915"},{"$f":"S2539","v":"2030-09-29"}]
[null,null,null,null,null,null,null,null,null,null,null,null,null,null,null,null,null,null,"2030-09-02",{"$f":"WEEKDAY(S2540)","v":2},{"$f":"MONTH(S2540)","v":9},{"$f":"YEAR(S2540)","v":2030},{"$f":"T2540&U2540","v":"29"},{"$f":"IF(V2540&W2540=V2539&W2539,X2539+1,1)","v":1},{"$f":"V2540&U2540&T2540&X2540","v":"2030921"},{"$f":"S2540","v":"2030-09-02"}]
[null,null,null,null,null,null,null,null,null,null,null,null,null,null,null,null,null,null,"2030-09-09",{"$f":"WEEKDAY(S2541)","v":2},{"$f":"MONTH(S2541)","v":9},{"$f":"YEAR(S2541)","v":2030},{"$f":"T2541&U2541","v":"29"},{"$f":"IF(V2541&W2541=V2540&W2540,X2540+1,1)","v":2},{"$f":"V2541&U2541&T2541&X2541","v":"2030922"},{"$f":"S2541","v":"2030-09-09"}]
[null,null,null,null,null,null,null,null,null,null,null,null,null,null,null,null,null,null,"2030-09-16",{"$f":"WEEKDAY(S2542)","v":2},{"$f":"MONTH(S2542)","v":9},{"$f":"YEAR(S2542)","v":2030},{"$f":"T2542&U2542","v":"29"},{"$f":"IF(V2542&W2542=V2541&W2541,X2541+1,1)","v":3},{"$f":"V2542&U2542&T2542&X2542","v":"2030923"},{"$f":"S2542","v":"2030-09-16"}]
[null,null,null,null,null,null,null,null,null,null,null,null,null,null,null,null,null,null,"2030-09-23",{"$f":"WEEKDAY(S2543)","v":2},{"$f":"MONTH(S2543)","v":9},{"$f":"YEAR(S2543)","v":2030},{"$f":"T2543&U2543","v":"29"},{"$f":"IF(V2543&W2543=V2542&W2542,X2542+1,1)","v":4},{"$f":"V2543&U2543&T2543&X2543","v":"2030924"},{"$f":"S2543","v":"2030-09-23"}]
[null,null,null,null,null,null,null,null,null,null,null,null,null,null,null,null,null,null,"2030-09-30",{"$f":"WEEKDAY(S2544)","v":2},{"$f":"MONTH(S2544)","v":9},{"$f":"YEAR(S2544)","v":2030},{"$f":"T2544&U2544","v":"29"},{"$f":"IF(V2544&W2544=V2543&W2543,X2543+1,1)","v":5},{"$f":"V2544&U2544&T2544&X2544","v":"2030925"},{"$f":"S2544","v":"2030-09-30"}]
[null,null,null,null,null,null,null,null,null,null,null,null,null,null,null,null,null,null,"2030-09-03",{"$f":"WEEKDAY(S2545)","v":3},{"$f":"MONTH(S2545)","v":9},{"$f":"YEAR(S2545)","v":2030},{"$f":"T2545&U2545","v":"39"},{"$f":"IF(V2545&W2545=V2544&W2544,X2544+1,1)","v":1},{"$f":"V2545&U2545&T2545&X2545","v":"2030931"},{"$f":"S2545","v":"2030-09-03"}]
[null,null,null,null,null,null,null,null,null,null,null,null,null,null,null,null,null,null,"2030-09-10",{"$f":"WEEKDAY(S2546)","v":3},{"$f":"MONTH(S2546)","v":9},{"$f":"YEAR(S2546)","v":2030},{"$f":"T2546&U2546","v":"39"},{"$f":"IF(V2546&W2546=V2545&W2545,X2545+1,1)","v":2},{"$f":"V2546&U2546&T2546&X2546","v":"2030932"},{"$f":"S2546","v":"2030-09-10"}]
[null,null,null,null,null,null,null,null,null,null,null,null,null,null,null,null,null,null,"2030-09-17",{"$f":"WEEKDAY(S2547)","v":3},{"$f":"MONTH(S2547)","v":9},{"$f":"YEAR(S2547)","v":2030},{"$f":"T2547&U2547","v":"39"},{"$f":"IF(V2547&W2547=V2546&W2546,X2546+1,1)","v":3},{"$f":"V2547&U2547&T2547&X2547","v":"2030933"},{"$f":"S2547","v":"2030-09-17"}]
[null,null,null,null,null,null,null,null,null,null,null,null,null,null,null,null,null,null,"2030-09-24",{"$f":"WEEKDAY(S2548)","v":3},{"$f":"MONTH(S2548)","v":9},{"$f":"YEAR(S2548)","v":2030},{"$f":"T2548&U2548","v":"39"},{"$f":"IF(V2548&W2548=V2547&W2547,X2547+1,1)","v":4},{"$f":"V2548&U2548&T2548&X2548","v":"2030934"},{"$f":"S2548","v":"2030-09-24"}]
[null,null,null,null,null,null,null,null,null,null,null,null,null,null,null,null,null,null,"2030-09-04",{"$f":"WEEKDAY(S2549)","v":4},{"$f":"MONTH(S2549)","v":9},{"$f":"YEAR(S2549)","v":2030},{"$f":"T2549&U2549","v":"49"},{"$f":"IF(V2549&W2549=V2548&W2548,X2548+1,1)","v":1},{"$f":"V2549&U2549&T2549&X2549","v":"2030941"},{"$f":"S2549","v":"2030-09-04"}]
[null,null,null,null,null,null,null,null,null,null,null,null,null,null,null,null,null,null,"2030-09-11",{"$f":"WEEKDAY(S2550)","v":4},{"$f":"MONTH(S2550)","v":9},{"$f":"YEAR(S2550)","v":2030},{"$f":"T2550&U2550","v":"49"},{"$f":"IF(V2550&W2550=V2549&W2549,X2549+1,1)","v":2},{"$f":"V2550&U2550&T2550&X2550","v":"2030942"},{"$f":"S2550","v":"2030-09-11"}]
[null,null,null,null,null,null,null,null,null,null,null,null,null,null,null,null,null,null,"2030-09-18",{"$f":"WEEKDAY(S2551)","v":4},{"$f":"MONTH(S2551)","v":9},{"$f":"YEAR(S2551)","v":2030},{"$f":"T2551&U2551","v":"49"},{"$f":"IF(V2551&W2551=V2550&W2550,X2550+1,1)","v":3},{"$f":"V2551&U2551&T2551&X2551","v":"2030943"},{"$f":"S2551","v":"2030-09-18"}]
[null,null,null,null,null,null,null,null,null,null,null,null,null,null,null,null,null,null,"2030-09-25",{"$f":"WEEKDAY(S2552)","v":4},{"$f":"MONTH(S2552)","v":9},{"$f":"YEAR(S2552)","v":2030},{"$f":"T2552&U2552","v":"49"},{"$f":"IF(V2552&W2552=V2551&W2551,X2551+1,1)","v":4},{"$f":"V2552&U2552&T2552&X2552","v":"2030944"},{"$f":"S2552","v":"2030-09-25"}]
[null,null,null,null,null,null,null,null,null,null,null,null,null,null,null,null,null,null,"2030-09-05",{"$f":"WEEKDAY(S2553)","v":5},{"$f":"MONTH(S2553)","v":9},{"$f":"YEAR(S2553)","v":2030},{"$f":"T2553&U2553","v":"59"},{"$f":"IF(V2553&W2553=V2552&W2552,X2552+1,1)","v":1},{"$f":"V2553&U2553&T2553&X2553","v":"2030951"},{"$f":"S2553","v":"2030-09-05"}]
[null,null,null,null,null,null,null,null,null,null,null,null,null,null,null,null,null,null,"2030-09-12",{"$f":"WEEKDAY(S2554)","v":5},{"$f":"MONTH(S2554)","v":9},{"$f":"YEAR(S2554)","v":2030},{"$f":"T2554&U2554","v":"59"},{"$f":"IF(V2554&W2554=V2553&W2553,X2553+1,1)","v":2},{"$f":"V2554&U2554&T2554&X2554","v":"2030952"},{"$f":"S2554","v":"2030-09-12"}]
[null,null,null,null,null,null,null,null,null,null,null,null,null,null,null,null,null,null,"2030-09-19",{"$f":"WEEKDAY(S2555)","v":5},{"$f":"MONTH(S2555)","v":9},{"$f":"YEAR(S2555)","v":2030},{"$f":"T2555&U2555","v":"59"},{"$f":"IF(V2555&W2555=V2554&W2554,X2554+1,1)","v":3},{"$f":"V2555&U2555&T2555&X2555","v":"2030953"},{"$f":"S2555","v":"2030-09-19"}]
[null,null,null,null,null,null,null,null,null,null,null,null,null,null,null,null,null,null,"2030-09-26",{"$f":"WEEKDAY(S2556)","v":5},{"$f":"MONTH(S2556)","v":9},{"$f":"YEAR(S2556)","v":2030},{"$f":"T2556&U2556","v":"59"},{"$f":"IF(V2556&W2556=V2555&W2555,X2555+1,1)","v":4},{"$f":"V2556&U2556&T2556&X2556","v":"2030954"},{"$f":"S2556","v":"2030-09-26"}]
[null,null,null,null,null,null,null,null,null,null,null,null,null,null,null,null,null,null,"2030-09-06",{"$f":"WEEKDAY(S2557)","v":6},{"$f":"MONTH(S2557)","v":9},{"$f":"YEAR(S2557)","v":2030},{"$f":"T2557&U2557","v":"69"},{"$f":"IF(V2557&W2557=V2556&W2556,X2556+1,1)","v":1},{"$f":"V2557&U2557&T2557&X2557","v":"2030961"},{"$f":"S2557","v":"2030-09-06"}]
[null,null,null,null,null,null,null,null,null,null,null,null,null,null,null,null,null,null,"2030-09-13",{"$f":"WEEKDAY(S2558)","v":6},{"$f":"MONTH(S2558)","v":9},{"$f":"YEAR(S2558)","v":2030},{"$f":"T2558&U2558","v":"69"},{"$f":"IF(V2558&W2558=V2557&W2557,X2557+1,1)","v":2},{"$f":"V2558&U2558&T2558&X2558","v":"2030962"},{"$f":"S2558","v":"2030-09-13"}]
[null,null,null,null,null,null,null,null,null,null,null,null,null,null,null,null,null,null,"2030-09-20",{"$f":"WEEKDAY(S2559)","v":6},{"$f":"MONTH(S2559)","v":9},{"$f":"YEAR(S2559)","v":2030},{"$f":"T2559&U2559","v":"69"},{"$f":"IF(V2559&W2559=V2558&W2558,X2558+1,1)","v":3},{"$f":"V2559&U2559&T2559&X2559","v":"2030963"},{"$f":"S2559","v":"2030-09-20"}]
[null,null,null,null,null,null,null,null,null,null,null,null,null,null,null,null,null,null,"2030-09-27",{"$f":"WEEKDAY(S2560)","v":6},{"$f":"MONTH(S2560)","v":9},{"$f":"YEAR(S2560)","v":2030},{"$f":"T2560&U2560","v":"69"},{"$f":"IF(V2560&W2560=V2559&W2559,X2559+1,1)","v":4},{"$f":"V2560&U2560&T2560&X2560","v":"2030964"},{"$f":"S2560","v":"2030-09-27"}]
[null,null,null,null,null,null,null,null,null,null,null,null,null,null,null,null,null,null,"2030-09-07",{"$f":"WEEKDAY(S2561)","v":7},{"$f":"MONTH(S2561)","v":9},{"$f":"YEAR(S2561)","v":2030},{"$f":"T2561&U2561","v":"79"},{"$f":"IF(V2561&W2561=V2560&W2560,X2560+1,1)","v":1},{"$f":"V2561&U2561&T2561&X2561","v":"2030971"},{"$f":"S2561","v":"2030-09-07"}]
[null,null,null,null,null,null,null,null,null,null,null,null,null,null,null,null,null,null,"2030-09-14",{"$f":"WEEKDAY(S2562)","v":7},{"$f":"MONTH(S2562)","v":9},{"$f":"YEAR(S2562)","v":2030},{"$f":"T2562&U2562","v":"79"},{"$f":"IF(V2562&W2562=V2561&W2561,X2561+1,1)","v":2},{"$f":"V2562&U2562&T2562&X2562","v":"2030972"},{"$f":"S2562","v":"2030-09-14"}]
[null,null,null,null,null,null,null,null,null,null,null,null,null,null,null,null,null,null,"2030-09-21",{"$f":"WEEKDAY(S2563)","v":7},{"$f":"MONTH(S2563)","v":9},{"$f":"YEAR(S2563)","v":2030},{"$f":"T2563&U2563","v":"79"},{"$f":"IF(V2563&W2563=V2562&W2562,X2562+1,1)","v":3},{"$f":"V2563&U2563&T2563&X2563","v":"2030973"},{"$f":"S2563","v":"2030-09-21"}]
[null,null,null,null,null,null,null,null,null,null,null,null,null,null,null,null,null,null,"2030-09-28",{"$f":"WEEKDAY(S2564)","v":7},{"$f":"MONTH(S2564)","v":9},{"$f":"YEAR(S2564)","v":2030},{"$f":"T2564&U2564","v":"79"},{"$f":"IF(V2564&W2564=V2563&W2563,X2563+1,1)","v":4},{"$f":"V2564&U2564&T2564&X2564","v":"2030974"},{"$f":"S2564","v":"2030-09-28"}]
[null,null,null,null,null,null,null,null,null,null,null,null,null,null,null,null,null,null,"2031-10-05",{"$f":"WEEKDAY(S2565)","v":1},{"$f":"MONTH(S2565)","v":10},{"$f":"YEAR(S2565)","v":2031},{"$f":"T2565&U2565","v":"110"},{"$f":"IF(V2565&W2565=V2564&W2564,X2564+1,1)","v":1},{"$f":"V2565&U2565&T2565&X2565","v":"20311011"},{"$f":"S2565","v":"2031-10-05"}]
[null,null,null,null,null,null,null,null,null,null,null,null,null,null,null,null,null,null,"2031-10-12",{"$f":"WEEKDAY(S2566)","v":1},{"$f":"MONTH(S2566)","v":10},{"$f":"YEAR(S2566)","v":2031},{"$f":"T2566&U2566","v":"110"},{"$f":"IF(V2566&W2566=V2565&W2565,X2565+1,1)","v":2},{"$f":"V2566&U2566&T2566&X2566","v":"20311012"},{"$f":"S2566","v":"2031-10-12"}]
[null,null,null,null,null,null,null,null,null,null,null,null,null,null,null,null,null,null,"2031-10-19",{"$f":"WEEKDAY(S2567)","v":1},{"$f":"MONTH(S2567)","v":10},{"$f":"YEAR(S2567)","v":2031},{"$f":"T2567&U2567","v":"110"},{"$f":"IF(V2567&W2567=V2566&W2566,X2566+1,1)","v":3},{"$f":"V2567&U2567&T2567&X2567","v":"20311013"},{"$f":"S2567","v":"2031-10-19"}]
[null,null,null,null,null,null,null,null,null,null,null,null,null,null,null,null,null,null,"2031-10-26",{"$f":"WEEKDAY(S2568)","v":1},{"$f":"MONTH(S2568)","v":10},{"$f":"YEAR(S2568)","v":2031},{"$f":"T2568&U2568","v":"110"},{"$f":"IF(V2568&W2568=V2567&W2567,X2567+1,1)","v":4},{"$f":"V2568&U2568&T2568&X2568","v":"20311014"},{"$f":"S2568","v":"2031-10-26"}]
[null,null,null,null,null,null,null,null,null,null,null,null,null,null,null,null,null,null,"2031-10-06",{"$f":"WEEKDAY(S2569)","v":2},{"$f":"MONTH(S2569)","v":10},{"$f":"YEAR(S2569)","v":2031},{"$f":"T2569&U2569","v":"210"},{"$f":"IF(V2569&W2569=V2568&W2568,X2568+1,1)","v":1},{"$f":"V2569&U2569&T2569&X2569","v":"20311021"},{"$f":"S2569","v":"2031-10-06"}]
[null,null,null,null,null,null,null,null,null,null,null,null,null,null,null,null,null,null,"2031-10-13",{"$f":"WEEKDAY(S2570)","v":2},{"$f":"MONTH(S2570)","v":10},{"$f":"YEAR(S2570)","v":2031},{"$f":"T2570&U2570","v":"210"},{"$f":"IF(V2570&W2570=V2569&W2569,X2569+1,1)","v":2},{"$f":"V2570&U2570&T2570&X2570","v":"20311022"},{"$f":"S2570","v":"2031-10-13"}]
[null,null,null,null,null,null,null,null,null,null,null,null,null,null,null,null,null,null,"2031-10-20",{"$f":"WEEKDAY(S2571)","v":2},{"$f":"MONTH(S2571)","v":10},{"$f":"YEAR(S2571)","v":2031},{"$f":"T2571&U2571","v":"210"},{"$f":"IF(V2571&W2571=V2570&W2570,X2570+1,1)","v":3},{"$f":"V2571&U2571&T2571&X2571","v":"20311023"},{"$f":"S2571","v":"2031-10-20"}]
[null,null,null,null,null,null,null,null,null,null,null,null,null,null,null,null,null,null,"2031-10-27",{"$f":"WEEKDAY(S2572)","v":2},{"$f":"MONTH(S2572)","v":10},{"$f":"YEAR(S2572)","v":2031},{"$f":"T2572&U2572","v":"210"},{"$f":"IF(V2572&W2572=V2571&W2571,X2571+1,1)","v":4},{"$f":"V2572&U2572&T2572&X2572","v":"20311024"},{"$f":"S2572","v":"2031-10-27"}]
[null,null,null,null,null,null,null,null,null,null,null,null,null,null,null,null,null,null,"2031-10-07",{"$f":"WEEKDAY(S2573)","v":3},{"$f":"MONTH(S2573)","v":10},{"$f":"YEAR(S2573)","v":2031},{"$f":"T2573&U2573","v":"310"},{"$f":"IF(V2573&W2573=V2572&W2572,X2572+1,1)","v":1},{"$f":"V2573&U2573&T2573&X2573","v":"20311031"},{"$f":"S2573","v":"2031-10-07"}]
[null,null,null,null,null,null,null,null,null,null,null,null,null,null,null,null,null,null,"2031-10-14",{"$f":"WEEKDAY(S2574)","v":3},{"$f":"MONTH(S2574)","v":10},{"$f":"YEAR(S2574)","v":2031},{"$f":"T2574&U2574","v":"310"},{"$f":"IF(V2574&W2574=V2573&W2573,X2573+1,1)","v":2},{"$f":"V2574&U2574&T2574&X2574","v":"20311032"},{"$f":"S2574","v":"2031-10-14"}]
[null,null,null,null,null,null,null,null,null,null,null,null,null,null,null,null,null,null,"2031-10-21",{"$f":"WEEKDAY(S2575)","v":3},{"$f":"MONTH(S2575)","v":10},{"$f":"YEAR(S2575)","v":2031},{"$f":"T2575&U2575","v":"310"},{"$f":"IF(V2575&W2575=V2574&W2574,X2574+1,1)","v":3},{"$f":"V2575&U2575&T2575&X2575","v":"20311033"},{"$f":"S2575","v":"2031-10-21"}]
[null,null,null,null,null,null,null,null,null,null,null,null,null,null,null,null,null,null,"2031-10-28",{"$f":"WEEKDAY(S2576)","v":3},{"$f":"MONTH(S2576)","v":10},{"$f":"YEAR(S2576)","v":2031},{"$f":"T2576&U2576","v":"310"},{"$f":"IF(V2576&W2576=V2575&W2575,X2575+1,1)","v":4},{"$f":"V2576&U2576&T2576&X2576","v":"20311034"},{"$f":"S2576","v":"2031-10-28"}]
[null,null,null,null,null,null,null,null,null,null,null,null,null,null,null,null,null,null,"2031-10-01",{"$f":"WEEKDAY(S2577)","v":4},{"$f":"MONTH(S2577)","v":10},{"$f":"YEAR(S2577)","v":2031},{"$f":"T2577&U2577","v":"410"},{"$f":"IF(V2577&W2577=V2576&W2576,X2576+1,1)","v":1},{"$f":"V2577&U2577&T2577&X2577","v":"20311041"},{"$f":"S2577","v":"2031-10-01"}]
[null,null,null,null,null,null,null,null,null,null,null,null,null,null,null,null,null,null,"2031-10-08",{"$f":"WEEKDAY(S2578)","v":4},{"$f":"MONTH(S2578)","v":10},{"$f":"YEAR(S2578)","v":2031},{"$f":"T2578&U2578","v":"410"},{"$f":"IF(V2578&W2578=V2577&W2577,X2577+1,1)","v":2},{"$f":"V2578&U2578&T2578&X2578","v":"20311042"},{"$f":"S2578","v":"2031-10-08"}]
[null,null,null,null,null,null,null,null,null,null,null,null,null,null,null,null,null,null,"2031-10-15",{"$f":"WEEKDAY(S2579)","v":4},{"$f":"MONTH(S2579)","v":10},{"$f":"YEAR(S2579)","v":2031},{"$f":"T2579&U2579","v":"410"},{"$f":"IF(V2579&W2579=V2578&W2578,X2578+1,1)","v":3},{"$f":"V2579&U2579&T2579&X2579","v":"20311043"},{"$f":"S2579","v":"2031-10-15"}]
[null,null,null,null,null,null,null,null,null,null,null,null,null,null,null,null,null,null,"2031-10-22",{"$f":"WEEKDAY(S2580)","v":4},{"$f":"MONTH(S2580)","v":10},{"$f":"YEAR(S2580)","v":2031},{"$f":"T2580&U2580","v":"410"},{"$f":"IF(V2580&W2580=V2579&W2579,X2579+1,1)","v":4},{"$f":"V2580&U2580&T2580&X2580","v":"20311044"},{"$f":"S2580","v":"2031-10-22"}]
[null,null,null,null,null,null,null,null,null,null,null,null,null,null,null,null,null,null,"2031-10-29",{"$f":"WEEKDAY(S2581)","v":4},{"$f":"MONTH(S2581)","v":10},{"$f":"YEAR(S2581)","v":2031},{"$f":"T2581&U2581","v":"410"},{"$f":"IF(V2581&W2581=V2580&W2580,X2580+1,1)","v":5},{"$f":"V2581&U2581&T2581&X2581","v":"20311045"},{"$f":"S2581","v":"2031-10-29"}]
[null,null,null,null,null,null,null,null,null,null,null,null,null,null,null,null,null,null,"2031-10-02",{"$f":"WEEKDAY(S2582)","v":5},{"$f":"MONTH(S2582)","v":10},{"$f":"YEAR(S2582)","v":2031},{"$f":"T2582&U2582","v":"510"},{"$f":"IF(V2582&W2582=V2581&W2581,X2581+1,1)","v":1},{"$f":"V2582&U2582&T2582&X2582","v":"20311051"},{"$f":"S2582","v":"2031-10-02"}]
[null,null,null,null,null,null,null,null,null,null,null,null,null,null,null,null,null,null,"2031-10-09",{"$f":"WEEKDAY(S2583)","v":5},{"$f":"MONTH(S2583)","v":10},{"$f":"YEAR(S2583)","v":2031},{"$f":"T2583&U2583","v":"510"},{"$f":"IF(V2583&W2583=V2582&W2582,X2582+1,1)","v":2},{"$f":"V2583&U2583&T2583&X2583","v":"20311052"},{"$f":"S2583","v":"2031-10-09"}]
[null,null,null,null,null,null,null,null,null,null,null,null,null,null,null,null,null,null,"2031-10-16",{"$f":"WEEKDAY(S2584)","v":5},{"$f":"MONTH(S2584)","v":10},{"$f":"YEAR(S2584)","v":2031},{"$f":"T2584&U2584","v":"510"},{"$f":"IF(V2584&W2584=V2583&W2583,X2583+1,1)","v":3},{"$f":"V2584&U2584&T2584&X2584","v":"20311053"},{"$f":"S2584","v":"2031-10-16"}]
[null,null,null,null,null,null,null,null,null,null,null,null,null,null,null,null,null,null,"2031-10-23",{"$f":"WEEKDAY(S2585)","v":5},{"$f":"MONTH(S2585)","v":10},{"$f":"YEAR(S2585)","v":2031},{"$f":"T2585&U2585","v":"510"},{"$f":"IF(V2585&W2585=V2584&W2584,X2584+1,1)","v":4},{"$f":"V2585&U2585&T2585&X2585","v":"20311054"},{"$f":"S2585","v":"2031-10-23"}]
[null,null,null,null,null,null,null,null,null,null,null,null,null,null,null,null,null,null,"2031-10-30",{"$f":"WEEKDAY(S2586)","v":5},{"$f":"MONTH(S2586)","v":10},{"$f":"YEAR(S2586)","v":2031},{"$f":"T2586&U2586","v":"510"},{"$f":"IF(V2586&W2586=V2585&W2585,X2585+1,1)","v":5},{"$f":"V2586&U2586&T2586&X2586","v":"20311055"},{"$f":"S2586","v":"2031-10-30"}]
[null,null,null,null,null,null,null,null,null,null,null,null,null,null,null,null,null,null,"2031-10-03",{"$f":"WEEKDAY(S2587)","v":6},{"$f":"MONTH(S2587)","v":10},{"$f":"YEAR(S2587)","v":2031},{"$f":"T2587&U2587","v":"610"},{"$f":"IF(V2587&W2587=V2586&W2586,X2586+1,1)","v":1},{"$f":"V2587&U2587&T2587&X2587","v":"20311061"},{"$f":"S2587","v":"2031-10-03"}]
[null,null,null,null,null,null,null,null,null,null,null,null,null,null,null,null,null,null,"2031-10-10",{"$f":"WEEKDAY(S2588)","v":6},{"$f":"MONTH(S2588)","v":10},{"$f":"YEAR(S2588)","v":2031},{"$f":"T2588&U2588","v":"610"},{"$f":"IF(V2588&W2588=V2587&W2587,X2587+1,1)","v":2},{"$f":"V2588&U2588&T2588&X2588","v":"20311062"},{"$f":"S2588","v":"2031-10-10"}]
[null,null,null,null,null,null,null,null,null,null,null,null,null,null,null,null,null,null,"2031-10-17",{"$f":"WEEKDAY(S2589)","v":6},{"$f":"MONTH(S2589)","v":10},{"$f":"YEAR(S2589)","v":2031},{"$f":"T2589&U2589","v":"610"},{"$f":"IF(V2589&W2589=V2588&W2588,X2588+1,1)","v":3},{"$f":"V2589&U2589&T2589&X2589","v":"20311063"},{"$f":"S2589","v":"2031-10-17"}]
[null,null,null,null,null,null,null,null,null,null,null,null,null,null,null,null,null,null,"2031-10-24",{"$f":"WEEKDAY(S2590)","v":6},{"$f":"MONTH(S2590)","v":10},{"$f":"YEAR(S2590)","v":2031},{"$f":"T2590&U2590","v":"610"},{"$f":"IF(V2590&W2590=V2589&W2589,X2589+1,1)","v":4},{"$f":"V2590&U2590&T2590&X2590","v":"20311064"},{"$f":"S2590","v":"2031-10-24"}]
[null,null,null,null,null,null,null,null,null,null,null,null,null,null,null,null,null,null,"2031-10-31",{"$f":"WEEKDAY(S2591)","v":6},{"$f":"MONTH(S2591)","v":10},{"$f":"YEAR(S2591)","v":2031},{"$f":"T2591&U2591","v":"610"},{"$f":"IF(V2591&W2591=V2590&W2590,X2590+1,1)","v":5},{"$f":"V2591&U2591&T2591&X2591","v":"20311065"},{"$f":"S2591","v":"2031-10-31"}]
[null,null,null,null,null,null,null,null,null,null,null,null,null,null,null,null,null,null,"2031-10-04",{"$f":"WEEKDAY(S2592)","v":7},{"$f":"MONTH(S2592)","v":10},{"$f":"YEAR(S2592)","v":2031},{"$f":"T2592&U2592","v":"710"},{"$f":"IF(V2592&W2592=V2591&W2591,X2591+1,1)","v":1},{"$f":"V2592&U2592&T2592&X2592","v":"20311071"},{"$f":"S2592","v":"2031-10-04"}]
[null,null,null,null,null,null,null,null,null,null,null,null,null,null,null,null,null,null,"2031-10-11",{"$f":"WEEKDAY(S2593)","v":7},{"$f":"MONTH(S2593)","v":10},{"$f":"YEAR(S2593)","v":2031},{"$f":"T2593&U2593","v":"710"},{"$f":"IF(V2593&W2593=V2592&W2592,X2592+1,1)","v":2},{"$f":"V2593&U2593&T2593&X2593","v":"20311072"},{"$f":"S2593","v":"2031-10-11"}]
[null,null,null,null,null,null,null,null,null,null,null,null,null,null,null,null,null,null,"2031-10-18",{"$f":"WEEKDAY(S2594)","v":7},{"$f":"MONTH(S2594)","v":10},{"$f":"YEAR(S2594)","v":2031},{"$f":"T2594&U2594","v":"710"},{"$f":"IF(V2594&W2594=V2593&W2593,X2593+1,1)","v":3},{"$f":"V2594&U2594&T2594&X2594","v":"20311073"},{"$f":"S2594","v":"2031-10-18"}]
[null,null,null,null,null,null,null,null,null,null,null,null,null,null,null,null,null,null,"2031-10-25",{"$f":"WEEKDAY(S2595)","v":7},{"$f":"MONTH(S2595)","v":10},{"$f":"YEAR(S2595)","v":2031},{"$f":"T2595&U2595","v":"710"},{"$f":"IF(V2595&W2595=V2594&W2594,X2594+1,1)","v":4},{"$f":"V2595&U2595&T2595&X2595","v":"20311074"},{"$f":"S2595","v":"2031-10-25"}]
[null,null,null,null,null,null,null,null,null,null,null,null,null,null,null,null,null,null,"2031-01-05",{"$f":"WEEKDAY(S2596)","v":1},{"$f":"MONTH(S2596)","v":1},{"$f":"YEAR(S2596)","v":2031},{"$f":"T2596&U2596","v":"11"},{"$f":"IF(V2596&W2596=V2595&W2595,X2595+1,1)","v":1},{"$f":"V2596&U2596&T2596&X2596","v":"2031111"},{"$f":"S2596","v":"2031-01-05"}]
[null,null,null,null,null,null,null,null,null,null,null,null,null,null,null,null,null,null,"2031-11-02",{"$f":"WEEKDAY(S2597)","v":1},{"$f":"MONTH(S2597)","v":11},{"$f":"YEAR(S2597)","v":2031},{"$f":"T2597&U2597","v":"111"},{"$f":"IF(V2597&W2597=V2596&W2596,X2596+1,1)","v":1},{"$f":"V2597&U2597&T2597&X2597","v":"20311111"},{"$f":"S2597","v":"2031-11-02"}]
[null,null,null,null,null,null,null,null,null,null,null,null,null,null,null,null,null,null,"2031-11-09",{"$f":"WEEKDAY(S2598)","v":1},{"$f":"MONTH(S2598)","v":11},{"$f":"YEAR(S2598)","v":2031},{"$f":"T2598&U2598","v":"111"},{"$f":"IF(V2598&W2598=V2597&W2597,X2597+1,1)","v":2},{"$f":"V2598&U2598&T2598&X2598","v":"20311112"},{"$f":"S2598","v":"2031-11-09"}]
[null,null,null,null,null,null,null,null,null,null,null,null,null,null,null,null,null,null,"2031-11-16",{"$f":"WEEKDAY(S2599)","v":1},{"$f":"MONTH(S2599)","v":11},{"$f":"YEAR(S2599)","v":2031},{"$f":"T2599&U2599","v":"111"},{"$f":"IF(V2599&W2599=V2598&W2598,X2598+1,1)","v":3},{"$f":"V2599&U2599&T2599&X2599","v":"20311113"},{"$f":"S2599","v":"2031-11-16"}]
[null,null,null,null,null,null,null,null,null,null,null,null,null,null,null,null,null,null,"2031-11-23",{"$f":"WEEKDAY(S2600)","v":1},{"$f":"MONTH(S2600)","v":11},{"$f":"YEAR(S2600)","v":2031},{"$f":"T2600&U2600","v":"111"},{"$f":"IF(V2600&W2600=V2599&W2599,X2599+1,1)","v":4},{"$f":"V2600&U2600&T2600&X2600","v":"20311114"},{"$f":"S2600","v":"2031-11-23"}]
[null,null,null,null,null,null,null,null,null,null,null,null,null,null,null,null,null,null,"2031-11-30",{"$f":"WEEKDAY(S2601)","v":1},{"$f":"MONTH(S2601)","v":11},{"$f":"YEAR(S2601)","v":2031},{"$f":"T2601&U2601","v":"111"},{"$f":"IF(V2601&W2601=V2600&W2600,X2600+1,1)","v":5},{"$f":"V2601&U2601&T2601&X2601","v":"20311115"},{"$f":"S2601","v":"2031-11-30"}]
[null,null,null,null,null,null,null,null,null,null,null,null,null,null,null,null,null,null,"2031-01-12",{"$f":"WEEKDAY(S2602)","v":1},{"$f":"MONTH(S2602)","v":1},{"$f":"YEAR(S2602)","v":2031},{"$f":"T2602&U2602","v":"11"},{"$f":"IF(V2602&W2602=V2601&W2601,X2601+1,1)","v":1},{"$f":"V2602&U2602&T2602&X2602","v":"2031111"},{"$f":"S2602","v":"2031-01-12"}]
[null,null,null,null,null,null,null,null,null,null,null,null,null,null,null,null,null,null,"2031-11-03",{"$f":"WEEKDAY(S2603)","v":2},{"$f":"MONTH(S2603)","v":11},{"$f":"YEAR(S2603)","v":2031},{"$f":"T2603&U2603","v":"211"},{"$f":"IF(V2603&W2603=V2602&W2602,X2602+1,1)","v":1},{"$f":"V2603&U2603&T2603&X2603","v":"20311121"},{"$f":"S2603","v":"2031-11-03"}]
[null,null,null,null,null,null,null,null,null,null,null,null,null,null,null,null,null,null,"2031-11-10",{"$f":"WEEKDAY(S2604)","v":2},{"$f":"MONTH(S2604)","v":11},{"$f":"YEAR(S2604)","v":2031},{"$f":"T2604&U2604","v":"211"},{"$f":"IF(V2604&W2604=V2603&W2603,X2603+1,1)","v":2},{"$f":"V2604&U2604&T2604&X2604","v":"20311122"},{"$f":"S2604","v":"2031-11-10"}]
[null,null,null,null,null,null,null,null,null,null,null,null,null,null,null,null,null,null,"2031-11-17",{"$f":"WEEKDAY(S2605)","v":2},{"$f":"MONTH(S2605)","v":11},{"$f":"YEAR(S2605)","v":2031},{"$f":"T2605&U2605","v":"211"},{"$f":"IF(V2605&W2605=V2604&W2604,X2604+1,1)","v":3},{"$f":"V2605&U2605&T2605&X2605","v":"20311123"},{"$f":"S2605","v":"2031-11-17"}]
[null,null,null,null,null,null,null,null,null,null,null,null,null,null,null,null,null,null,"2031-11-24",{"$f":"WEEKDAY(S2606)","v":2},{"$f":"MONTH(S2606)","v":11},{"$f":"YEAR(S2606)","v":2031},{"$f":"T2606&U2606","v":"211"},{"$f":"IF(V2606&W2606=V2605&W2605,X2605+1,1)","v":4},{"$f":"V2606&U2606&T2606&X2606","v":"20311124"},{"$f":"S2606","v":"2031-11-24"}]
[null,null,null,null,null,null,null,null,null,null,null,null,null,null,null,null,null,null,"2031-01-19",{"$f":"WEEKDAY(S2607)","v":1},{"$f":"MONTH(S2607)","v":1},{"$f":"YEAR(S2607)","v":2031},{"$f":"T2607&U2607","v":"11"},{"$f":"IF(V2607&W2607=V2606&W2606,X2606+1,1)","v":1},{"$f":"V2607&U2607&T2607&X2607","v":"2031111"},{"$f":"S2607","v":"2031-01-19"}]
[null,null,null,null,null,null,null,null,null,null,null,null,null,null,null,null,null,null,"2031-11-04",{"$f":"WEEKDAY(S2608)","v":3},{"$f":"MONTH(S2608)","v":11},{"$f":"YEAR(S2608)","v":2031},{"$f":"T2608&U2608","v":"311"},{"$f":"IF(V2608&W2608=V2607&W2607,X2607+1,1)","v":1},{"$f":"V2608&U2608&T2608&X2608","v":"20311131"},{"$f":"S2608","v":"2031-11-04"}]
[null,null,null,null,null,null,null,null,null,null,null,null,null,null,null,null,null,null,"2031-11-11",{"$f":"WEEKDAY(S2609)","v":3},{"$f":"MONTH(S2609)","v":11},{"$f":"YEAR(S2609)","v":2031},{"$f":"T2609&U2609","v":"311"},{"$f":"IF(V2609&W2609=V2608&W2608,X2608+1,1)","v":2},{"$f":"V2609&U2609&T2609&X2609","v":"20311132"},{"$f":"S2609","v":"2031-11-11"}]
[null,null,null,null,null,null,null,null,null,null,null,null,null,null,null,null,null,null,"2031-11-18",{"$f":"WEEKDAY(S2610)","v":3},{"$f":"MONTH(S2610)","v":11},{"$f":"YEAR(S2610)","v":2031},{"$f":"T2610&U2610","v":"311"},{"$f":"IF(V2610&W2610=V2609&W2609,X2609+1,1)","v":3},{"$f":"V2610&U2610&T2610&X2610","v":"20311133"},{"$f":"S2610","v":"2031-11-18"}]
[null,null,null,null,null,null,null,null,null,null,null,null,null,null,null,null,null,null,"2031-11-25",{"$f":"WEEKDAY(S2611)","v":3},{"$f":"MONTH(S2611)","v":11},{"$f":"YEAR(S2611)","v":2031},{"$f":"T2611&U2611","v":"311"},{"$f":"IF(V2611&W2611=V2610&W2610,X2610+1,1)","v":4},{"$f":"V2611&U2611&T2611&X2611","v":"20311134"},{"$f":"S2611","v":"2031-11-25"}]
[null,null,null,null,null,null,null,null,null,null,null,null,null,null,null,null,null,null,"2031-01-26",{"$f":"WEEKDAY(S2612)","v":1},{"$f":"MONTH(S2612)","v":1},{"$f":"YEAR(S2612)","v":2031},{"$f":"T2612&U2612","v":"11"},{"$f":"IF(V2612&W2612=V2611&W2611,X2611+1,1)","v":1},{"$f":"V2612&U2612&T2612&X2612","v":"2031111"},{"$f":"S2612","v":"2031-01-26"}]
[null,null,null,null,null,null,null,null,null,null,null,null,null,null,null,null,null,null,"2031-11-05",{"$f":"WEEKDAY(S2613)","v":4},{"$f":"MONTH(S2613)","v":11},{"$f":"YEAR(S2613)","v":2031},{"$f":"T2613&U2613","v":"411"},{"$f":"IF(V2613&W2613=V2612&W2612,X2612+1,1)","v":1},{"$f":"V2613&U2613&T2613&X2613","v":"20311141"},{"$f":"S2613","v":"2031-11-05"}]
[null,null,null,null,null,null,null,null,null,null,null,null,null,null,null,null,null,null,"2031-11-12",{"$f":"WEEKDAY(S2614)","v":4},{"$f":"MONTH(S2614)","v":11},{"$f":"YEAR(S2614)","v":2031},{"$f":"T2614&U2614","v":"411"},{"$f":"IF(V2614&W2614=V2613&W2613,X2613+1,1)","v":2},{"$f":"V2614&U2614&T2614&X2614","v":"20311142"},{"$f":"S2614","v":"2031-11-12"}]
[null,null,null,null,null,null,null,null,null,null,null,null,null,null,null,null,null,null,"2031-11-19",{"$f":"WEEKDAY(S2615)","v":4},{"$f":"MONTH(S2615)","v":11},{"$f":"YEAR(S2615)","v":2031},{"$f":"T2615&U2615","v":"411"},{"$f":"IF(V2615&W2615=V2614&W2614,X2614+1,1)","v":3},{"$f":"V2615&U2615&T2615&X2615","v":"20311143"},{"$f":"S2615","v":"2031-11-19"}]
[null,null,null,null,null,null,null,null,null,null,null,null,null,null,null,null,null,null,"2031-11-26",{"$f":"WEEKDAY(S2616)","v":4},{"$f":"MONTH(S2616)","v":11},{"$f":"YEAR(S2616)","v":2031},{"$f":"T2616&U2616","v":"411"},{"$f":"IF(V2616&W2616=V2615&W2615,X2615+1,1)","v":4},{"$f":"V2616&U2616&T2616&X2616","v":"20311144"},{"$f":"S2616","v":"2031-11-26"}]
[null,null,null,null,null,null,null,null,null,null,null,null,null,null,null,null,null,null,"2031-11-06",{"$f":"WEEKDAY(S2617)","v":5},{"$f":"MONTH(S2617)","v":11},{"$f":"YEAR(S2617)","v":2031},{"$f":"T2617&U2617","v":"511"},{"$f":"IF(V2617&W2617=V2616&W2616,X2616+1,1)","v":1},{"$f":"V2617&U2617&T2617&X2617","v":"20311151"},{"$f":"S2617","v":"2031-11-06"}]
[null,null,null,null,null,null,null,null,null,null,null,null,null,null,null,null,null,null,"2031-11-13",{"$f":"WEEKDAY(S2618)","v":5},{"$f":"MONTH(S2618)","v":11},{"$f":"YEAR(S2618)","v":2031},{"$f":"T2618&U2618","v":"511"},{"$f":"IF(V2618&W2618=V2617&W2617,X2617+1,1)","v":2},{"$f":"V2618&U2618&T2618&X2618","v":"20311152"},{"$f":"S2618","v":"2031-11-13"}]
[null,null,null,null,null,null,null,null,null,null,null,null,null,null,null,null,null,null,"2031-11-20",{"$f":"WEEKDAY(S2619)","v":5},{"$f":"MONTH(S2619)","v":11},{"$f":"YEAR(S2619)","v":2031},{"$f":"T2619&U2619","v":"511"},{"$f":"IF(V2619&W2619=V2618&W2618,X2618+1,1)","v":3},{"$f":"V2619&U2619&T2619&X2619","v":"20311153"},{"$f":"S2619","v":"2031-11-20"}]
[null,null,null,null,null,null,null,null,null,null,null,null,null,null,null,null,null,null,"2031-11-27",{"$f":"WEEKDAY(S2620)","v":5},{"$f":"MONTH(S2620)","v":11},{"$f":"YEAR(S2620)","v":2031},{"$f":"T2620&U2620","v":"511"},{"$f":"IF(V2620&W2620=V2619&W2619,X2619+1,1)","v":4},{"$f":"V2620&U2620&T2620&X2620","v":"20311154"},{"$f":"S2620","v":"2031-11-27"}]
[null,null,null,null,null,null,null,null,null,null,null,null,null,null,null,null,null,null,"2031-11-07",{"$f":"WEEKDAY(S2621)","v":6},{"$f":"MONTH(S2621)","v":11},{"$f":"YEAR(S2621)","v":2031},{"$f":"T2621&U2621","v":"611"},{"$f":"IF(V2621&W2621=V2620&W2620,X2620+1,1)","v":1},{"$f":"V2621&U2621&T2621&X2621","v":"20311161"},{"$f":"S2621","v":"2031-11-07"}]
[null,null,null,null,null,null,null,null,null,null,null,null,null,null,null,null,null,null,"2031-11-14",{"$f":"WEEKDAY(S2622)","v":6},{"$f":"MONTH(S2622)","v":11},{"$f":"YEAR(S2622)","v":2031},{"$f":"T2622&U2622","v":"611"},{"$f":"IF(V2622&W2622=V2621&W2621,X2621+1,1)","v":2},{"$f":"V2622&U2622&T2622&X2622","v":"20311162"},{"$f":"S2622","v":"2031-11-14"}]
[null,null,null,null,null,null,null,null,null,null,null,null,null,null,null,null,null,null,"2031-11-21",{"$f":"WEEKDAY(S2623)","v":6},{"$f":"MONTH(S2623)","v":11},{"$f":"YEAR(S2623)","v":2031},{"$f":"T2623&U2623","v":"611"},{"$f":"IF(V2623&W2623=V2622&W2622,X2622+1,1)","v":3},{"$f":"V2623&U2623&T2623&X2623","v":"20311163"},{"$f":"S2623","v":"2031-11-21"}]
[null,null,null,null,null,null,null,null,null,null,null,null,null,null,null,null,null,null,"2031-11-28",{"$f":"WEEKDAY(S2624)","v":6},{"$f":"MONTH(S2624)","v":11},{"$f":"YEAR(S2624)","v":2031},{"$f":"T2624&U2624","v":"611"},{"$f":"IF(V2624&W2624=V2623&W2623,X2623+1,1)","v":4},{"$f":"V2624&U2624&T2624&X2624","v":"20311164"},{"$f":"S2624","v":"2031-11-28"}]
[null,null,null,null,null,null,null,null,null,null,null,null,null,null,null,null,null,null,"2031-11-01",{"$f":"WEEKDAY(S2625)","v":7},{"$f":"MONTH(S2625)","v":11},{"$f":"YEAR(S2625)","v":2031},{"$f":"T2625&U2625","v":"711"},{"$f":"IF(V2625&W2625=V2624&W2624,X2624+1,1)","v":1},{"$f":"V2625&U2625&T2625&X2625","v":"20311171"},{"$f":"S2625","v":"2031-11-01"}]
[null,null,null,null,null,null,null,null,null,null,null,null,null,null,null,null,null,null,"2031-11-08",{"$f":"WEEKDAY(S2626)","v":7},{"$f":"MONTH(S2626)","v":11},{"$f":"YEAR(S2626)","v":2031},{"$f":"T2626&U2626","v":"711"},{"$f":"IF(V2626&W2626=V2625&W2625,X2625+1,1)","v":2},{"$f":"V2626&U2626&T2626&X2626","v":"20311172"},{"$f":"S2626","v":"2031-11-08"}]
[null,null,null,null,null,null,null,null,null,null,null,null,null,null,null,null,null,null,"2031-11-15",{"$f":"WEEKDAY(S2627)","v":7},{"$f":"MONTH(S2627)","v":11},{"$f":"YEAR(S2627)","v":2031},{"$f":"T2627&U2627","v":"711"},{"$f":"IF(V2627&W2627=V2626&W2626,X2626+1,1)","v":3},{"$f":"V2627&U2627&T2627&X2627","v":"20311173"},{"$f":"S2627","v":"2031-11-15"}]
[null,null,null,null,null,null,null,null,null,null,null,null,null,null,null,null,null,null,"2031-11-22",{"$f":"WEEKDAY(S2628)","v":7},{"$f":"MONTH(S2628)","v":11},{"$f":"YEAR(S2628)","v":2031},{"$f":"T2628&U2628","v":"711"},{"$f":"IF(V2628&W2628=V2627&W2627,X2627+1,1)","v":4},{"$f":"V2628&U2628&T2628&X2628","v":"20311174"},{"$f":"S2628","v":"2031-11-22"}]
[null,null,null,null,null,null,null,null,null,null,null,null,null,null,null,null,null,null,"2031-11-29",{"$f":"WEEKDAY(S2629)","v":7},{"$f":"MONTH(S2629)","v":11},{"$f":"YEAR(S2629)","v":2031},{"$f":"T2629&U2629","v":"711"},{"$f":"IF(V2629&W2629=V2628&W2628,X2628+1,1)","v":5},{"$f":"V2629&U2629&T2629&X2629","v":"20311175"},{"$f":"S2629","v":"2031-11-29"}]
[null,null,null,null,null,null,null,null,null,null,null,null,null,null,null,null,null,null,"2031-01-06",{"$f":"WEEKDAY(S2630)","v":2},{"$f":"MONTH(S2630)","v":1},{"$f":"YEAR(S2630)","v":2031},{"$f":"T2630&U2630","v":"21"},{"$f":"IF(V2630&W2630=V2629&W2629,X2629+1,1)","v":1},{"$f":"V2630&U2630&T2630&X2630","v":"2031121"},{"$f":"S2630","v":"2031-01-06"}]
[null,null,null,null,null,null,null,null,null,null,null,null,null,null,null,null,null,null,"2031-12-07",{"$f":"WEEKDAY(S2631)","v":1},{"$f":"MONTH(S2631)","v":12},{"$f":"YEAR(S2631)","v":2031},{"$f":"T2631&U2631","v":"112"},{"$f":"IF(V2631&W2631=V2630&W2630,X2630+1,1)","v":1},{"$f":"V2631&U2631&T2631&X2631","v":"20311211"},{"$f":"S2631","v":"2031-12-07"}]
[null,null,null,null,null,null,null,null,null,null,null,null,null,null,null,null,null,null,"2031-12-14",{"$f":"WEEKDAY(S2632)","v":1},{"$f":"MONTH(S2632)","v":12},{"$f":"YEAR(S2632)","v":2031},{"$f":"T2632&U2632","v":"112"},{"$f":"IF(V2632&W2632=V2631&W2631,X2631+1,1)","v":2},{"$f":"V2632&U2632&T2632&X2632","v":"20311212"},{"$f":"S2632","v":"2031-12-14"}]
[null,null,null,null,null,null,null,null,null,null,null,null,null,null,null,null,null,null,"2031-12-21",{"$f":"WEEKDAY(S2633)","v":1},{"$f":"MONTH(S2633)","v":12},{"$f":"YEAR(S2633)","v":2031},{"$f":"T2633&U2633","v":"112"},{"$f":"IF(V2633&W2633=V2632&W2632,X2632+1,1)","v":3},{"$f":"V2633&U2633&T2633&X2633","v":"20311213"},{"$f":"S2633","v":"2031-12-21"}]
[null,null,null,null,null,null,null,null,null,null,null,null,null,null,null,null,null,null,"2031-12-28",{"$f":"WEEKDAY(S2634)","v":1},{"$f":"MONTH(S2634)","v":12},{"$f":"YEAR(S2634)","v":2031},{"$f":"T2634&U2634","v":"112"},{"$f":"IF(V2634&W2634=V2633&W2633,X2633+1,1)","v":4},{"$f":"V2634&U2634&T2634&X2634","v":"20311214"},{"$f":"S2634","v":"2031-12-28"}]
[null,null,null,null,null,null,null,null,null,null,null,null,null,null,null,null,null,null,"2031-01-13",{"$f":"WEEKDAY(S2635)","v":2},{"$f":"MONTH(S2635)","v":1},{"$f":"YEAR(S2635)","v":2031},{"$f":"T2635&U2635","v":"21"},{"$f":"IF(V2635&W2635=V2634&W2634,X2634+1,1)","v":1},{"$f":"V2635&U2635&T2635&X2635","v":"2031121"},{"$f":"S2635","v":"2031-01-13"}]
[null,null,null,null,null,null,null,null,null,null,null,null,null,null,null,null,null,null,"2031-12-01",{"$f":"WEEKDAY(S2636)","v":2},{"$f":"MONTH(S2636)","v":12},{"$f":"YEAR(S2636)","v":2031},{"$f":"T2636&U2636","v":"212"},{"$f":"IF(V2636&W2636=V2635&W2635,X2635+1,1)","v":1},{"$f":"V2636&U2636&T2636&X2636","v":"20311221"},{"$f":"S2636","v":"2031-12-01"}]
[null,null,null,null,null,null,null,null,null,null,null,null,null,null,null,null,null,null,"2031-12-08",{"$f":"WEEKDAY(S2637)","v":2},{"$f":"MONTH(S2637)","v":12},{"$f":"YEAR(S2637)","v":2031},{"$f":"T2637&U2637","v":"212"},{"$f":"IF(V2637&W2637=V2636&W2636,X2636+1,1)","v":2},{"$f":"V2637&U2637&T2637&X2637","v":"20311222"},{"$f":"S2637","v":"2031-12-08"}]
[null,null,null,null,null,null,null,null,null,null,null,null,null,null,null,null,null,null,"2031-12-15",{"$f":"WEEKDAY(S2638)","v":2},{"$f":"MONTH(S2638)","v":12},{"$f":"YEAR(S2638)","v":2031},{"$f":"T2638&U2638","v":"212"},{"$f":"IF(V2638&W2638=V2637&W2637,X2637+1,1)","v":3},{"$f":"V2638&U2638&T2638&X2638","v":"20311223"},{"$f":"S2638","v":"2031-12-15"}]
[null,null,null,null,null,null,null,null,null,null,null,null,null,null,null,null,null,null,"2031-12-22",{"$f":"WEEKDAY(S2639)","v":2},{"$f":"MONTH(S2639)","v":12},{"$f":"YEAR(S2639)","v":2031},{"$f":"T2639&U2639","v":"212"},{"$f":"IF(V2639&W2639=V2638&W2638,X2638+1,1)","v":4},{"$f":"V2639&U2639&T2639&X2639","v":"20311224"},{"$f":"S2639","v":"2031-12-22"}]
[null,null,null,null,null,null,null,null,null,null,null,null,null,null,null,null,null,null,"2031-12-29",{"$f":"WEEKDAY(S2640)","v":2},{"$f":"MONTH(S2640)","v":12},{"$f":"YEAR(S2640)","v":2031},{"$f":"T2640&U2640","v":"212"},{"$f":"IF(V2640&W2640=V2639&W2639,X2639+1,1)","v":5},{"$f":"V2640&U2640&T2640&X2640","v":"20311225"},{"$f":"S2640","v":"2031-12-29"}]
[null,null,null,null,null,null,null,null,null,null,null,null,null,null,null,null,null,null,"2031-01-20",{"$f":"WEEKDAY(S2641)","v":2},{"$f":"MONTH(S2641)","v":1},{"$f":"YEAR(S2641)","v":2031},{"$f":"T2641&U2641","v":"21"},{"$f":"IF(V2641&W2641=V2640&W2640,X2640+1,1)","v":1},{"$f":"V2641&U2641&T2641&X2641","v":"2031121"},{"$f":"S2641","v":"2031-01-20"}]
[null,null,null,null,null,null,null,null,null,null,null,null,null,null,null,null,null,null,"2031-12-02",{"$f":"WEEKDAY(S2642)","v":3},{"$f":"MONTH(S2642)","v":12},{"$f":"YEAR(S2642)","v":2031},{"$f":"T2642&U2642","v":"312"},{"$f":"IF(V2642&W2642=V2641&W2641,X2641+1,1)","v":1},{"$f":"V2642&U2642&T2642&X2642","v":"20311231"},{"$f":"S2642","v":"2031-12-02"}]
[null,null,null,null,null,null,null,null,null,null,null,null,null,null,null,null,null,null,"2031-12-09",{"$f":"WEEKDAY(S2643)","v":3},{"$f":"MONTH(S2643)","v":12},{"$f":"YEAR(S2643)","v":2031},{"$f":"T2643&U2643","v":"312"},{"$f":"IF(V2643&W2643=V2642&W2642,X2642+1,1)","v":2},{"$f":"V2643&U2643&T2643&X2643","v":"20311232"},{"$f":"S2643","v":"2031-12-09"}]
[null,null,null,null,null,null,null,null,null,null,null,null,null,null,null,null,null,null,"2031-12-16",{"$f":"WEEKDAY(S2644)","v":3},{"$f":"MONTH(S2644)","v":12},{"$f":"YEAR(S2644)","v":2031},{"$f":"T2644&U2644","v":"312"},{"$f":"IF(V2644&W2644=V2643&W2643,X2643+1,1)","v":3},{"$f":"V2644&U2644&T2644&X2644","v":"20311233"},{"$f":"S2644","v":"2031-12-16"}]
[null,null,null,null,null,null,null,null,null,null,null,null,null,null,null,null,null,null,"2031-12-23",{"$f":"WEEKDAY(S2645)","v":3},{"$f":"MONTH(S2645)","v":12},{"$f":"YEAR(S2645)","v":2031},{"$f":"T2645&U2645","v":"312"},{"$f":"IF(V2645&W2645=V2644&W2644,X2644+1,1)","v":4},{"$f":"V2645&U2645&T2645&X2645","v":"20311234"},{"$f":"S2645","v":"2031-12-23"}]
[null,null,null,null,null,null,null,null,null,null,null,null,null,null,null,null,null,null,"2031-12-30",{"$f":"WEEKDAY(S2646)","v":3},{"$f":"MONTH(S2646)","v":12},{"$f":"YEAR(S2646)","v":2031},{"$f":"T2646&U2646","v":"312"},{"$f":"IF(V2646&W2646=V2645&W2645,X2645+1,1)","v":5},{"$f":"V2646&U2646&T2646&X2646","v":"20311235"},{"$f":"S2646","v":"2031-12-30"}]
[null,null,null,null,null,null,null,null,null,null,null,null,null,null,null,null,null,null,"2031-01-27",{"$f":"WEEKDAY(S2647)","v":2},{"$f":"MONTH(S2647)","v":1},{"$f":"YEAR(S2647)","v":2031},{"$f":"T2647&U2647","v":"21"},{"$f":"IF(V2647&W2647=V2646&W2646,X2646+1,1)","v":1},{"$f":"V2647&U2647&T2647&X2647","v":"2031121"},{"$f":"S2647","v":"2031-01-27"}]
[null,null,null,null,null,null,null,null,null,null,null,null,null,null,null,null,null,null,"2031-12-03",{"$f":"WEEKDAY(S2648)","v":4},{"$f":"MONTH(S2648)","v":12},{"$f":"YEAR(S2648)","v":2031},{"$f":"T2648&U2648","v":"412"},{"$f":"IF(V2648&W2648=V2647&W2647,X2647+1,1)","v":1},{"$f":"V2648&U2648&T2648&X2648","v":"20311241"},{"$f":"S2648","v":"2031-12-03"}]
[null,null,null,null,null,null,null,null,null,null,null,null,null,null,null,null,null,null,"2031-12-10",{"$f":"WEEKDAY(S2649)","v":4},{"$f":"MONTH(S2649)","v":12},{"$f":"YEAR(S2649)","v":2031},{"$f":"T2649&U2649","v":"412"},{"$f":"IF(V2649&W2649=V2648&W2648,X2648+1,1)","v":2},{"$f":"V2649&U2649&T2649&X2649","v":"20311242"},{"$f":"S2649","v":"2031-12-10"}]
[null,null,null,null,null,null,null,null,null,null,null,null,null,null,null,null,null,null,"2031-12-17",{"$f":"WEEKDAY(S2650)","v":4},{"$f":"MONTH(S2650)","v":12},{"$f":"YEAR(S2650)","v":2031},{"$f":"T2650&U2650","v":"412"},{"$f":"IF(V2650&W2650=V2649&W2649,X2649+1,1)","v":3},{"$f":"V2650&U2650&T2650&X2650","v":"20311243"},{"$f":"S2650","v":"2031-12-17"}]
[null,null,null,null,null,null,null,null,null,null,null,null,null,null,null,null,null,null,"2031-12-24",{"$f":"WEEKDAY(S2651)","v":4},{"$f":"MONTH(S2651)","v":12},{"$f":"YEAR(S2651)","v":2031},{"$f":"T2651&U2651","v":"412"},{"$f":"IF(V2651&W2651=V2650&W2650,X2650+1,1)","v":4},{"$f":"V2651&U2651&T2651&X2651","v":"20311244"},{"$f":"S2651","v":"2031-12-24"}]
[null,null,null,null,null,null,null,null,null,null,null,null,null,null,null,null,null,null,"2031-12-31",{"$f":"WEEKDAY(S2652)","v":4},{"$f":"MONTH(S2652)","v":12},{"$f":"YEAR(S2652)","v":2031},{"$f":"T2652&U2652","v":"412"},{"$f":"IF(V2652&W2652=V2651&W2651,X2651+1,1)","v":5},{"$f":"V2652&U2652&T2652&X2652","v":"20311245"},{"$f":"S2652","v":"2031-12-31"}]
[null,null,null,null,null,null,null,null,null,null,null,null,null,null,null,null,null,null,"2031-12-04",{"$f":"WEEKDAY(S2653)","v":5},{"$f":"MONTH(S2653)","v":12},{"$f":"YEAR(S2653)","v":2031},{"$f":"T2653&U2653","v":"512"},{"$f":"IF(V2653&W2653=V2652&W2652,X2652+1,1)","v":1},{"$f":"V2653&U2653&T2653&X2653","v":"20311251"},{"$f":"S2653","v":"2031-12-04"}]
[null,null,null,null,null,null,null,null,null,null,null,null,null,null,null,null,null,null,"2031-12-11",{"$f":"WEEKDAY(S2654)","v":5},{"$f":"MONTH(S2654)","v":12},{"$f":"YEAR(S2654)","v":2031},{"$f":"T2654&U2654","v":"512"},{"$f":"IF(V2654&W2654=V2653&W2653,X2653+1,1)","v":2},{"$f":"V2654&U2654&T2654&X2654","v":"20311252"},{"$f":"S2654","v":"2031-12-11"}]
[null,null,null,null,null,null,null,null,null,null,null,null,null,null,null,null,null,null,"2031-12-18",{"$f":"WEEKDAY(S2655)","v":5},{"$f":"MONTH(S2655)","v":12},{"$f":"YEAR(S2655)","v":2031},{"$f":"T2655&U2655","v":"512"},{"$f":"IF(V2655&W2655=V2654&W2654,X2654+1,1)","v":3},{"$f":"V2655&U2655&T2655&X2655","v":"20311253"},{"$f":"S2655","v":"2031-12-18"}]
[null,null,null,null,null,null,null,null,null,null,null,null,null,null,null,null,null,null,"2031-12-25",{"$f":"WEEKDAY(S2656)","v":5},{"$f":"MONTH(S2656)","v":12},{"$f":"YEAR(S2656)","v":2031},{"$f":"T2656&U2656","v":"512"},{"$f":"IF(V2656&W2656=V2655&W2655,X2655+1,1)","v":4},{"$f":"V2656&U2656&T2656&X2656","v":"20311254"},{"$f":"S2656","v":"2031-12-25"}]
[null,null,null,null,null,null,null,null,null,null,null,null,null,null,null,null,null,null,"2031-12-05",{"$f":"WEEKDAY(S2657)","v":6},{"$f":"MONTH(S2657)","v":12},{"$f":"YEAR(S2657)","v":2031},{"$f":"T2657&U2657","v":"612"},{"$f":"IF(V2657&W2657=V2656&W2656,X2656+1,1)","v":1},{"$f":"V2657&U2657&T2657&X2657","v":"20311261"},{"$f":"S2657","v":"2031-12-05"}]
[null,null,null,null,null,null,null,null,null,null,null,null,null,null,null,null,null,null,"2031-12-12",{"$f":"WEEKDAY(S2658)","v":6},{"$f":"MONTH(S2658)","v":12},{"$f":"YEAR(S2658)","v":2031},{"$f":"T2658&U2658","v":"612"},{"$f":"IF(V2658&W2658=V2657&W2657,X2657+1,1)","v":2},{"$f":"V2658&U2658&T2658&X2658","v":"20311262"},{"$f":"S2658","v":"2031-12-12"}]
[null,null,null,null,null,null,null,null,null,null,null,null,null,null,null,null,null,null,"2031-12-19",{"$f":"WEEKDAY(S2659)","v":6},{"$f":"MONTH(S2659)","v":12},{"$f":"YEAR(S2659)","v":2031},{"$f":"T2659&U2659","v":"612"},{"$f":"IF(V2659&W2659=V2658&W2658,X2658+1,1)","v":3},{"$f":"V2659&U2659&T2659&X2659","v":"20311263"},{"$f":"S2659","v":"2031-12-19"}]
[null,null,null,null,null,null,null,null,null,null,null,null,null,null,null,null,null,null,"2031-12-26",{"$f":"WEEKDAY(S2660)","v":6},{"$f":"MONTH(S2660)","v":12},{"$f":"YEAR(S2660)","v":2031},{"$f":"T2660&U2660","v":"612"},{"$f":"IF(V2660&W2660=V2659&W2659,X2659+1,1)","v":4},{"$f":"V2660&U2660&T2660&X2660","v":"20311264"},{"$f":"S2660","v":"2031-12-26"}]
[null,null,null,null,null,null,null,null,null,null,null,null,null,null,null,null,null,null,"2031-12-06",{"$f":"WEEKDAY(S2661)","v":7},{"$f":"MONTH(S2661)","v":12},{"$f":"YEAR(S2661)","v":2031},{"$f":"T2661&U2661","v":"712"},{"$f":"IF(V2661&W2661=V2660&W2660,X2660+1,1)","v":1},{"$f":"V2661&U2661&T2661&X2661","v":"20311271"},{"$f":"S2661","v":"2031-12-06"}]
[null,null,null,null,null,null,null,null,null,null,null,null,null,null,null,null,null,null,"2031-12-13",{"$f":"WEEKDAY(S2662)","v":7},{"$f":"MONTH(S2662)","v":12},{"$f":"YEAR(S2662)","v":2031},{"$f":"T2662&U2662","v":"712"},{"$f":"IF(V2662&W2662=V2661&W2661,X2661+1,1)","v":2},{"$f":"V2662&U2662&T2662&X2662","v":"20311272"},{"$f":"S2662","v":"2031-12-13"}]
[null,null,null,null,null,null,null,null,null,null,null,null,null,null,null,null,null,null,"2031-12-20",{"$f":"WEEKDAY(S2663)","v":7},{"$f":"MONTH(S2663)","v":12},{"$f":"YEAR(S2663)","v":2031},{"$f":"T2663&U2663","v":"712"},{"$f":"IF(V2663&W2663=V2662&W2662,X2662+1,1)","v":3},{"$f":"V2663&U2663&T2663&X2663","v":"20311273"},{"$f":"S2663","v":"2031-12-20"}]
[null,null,null,null,null,null,null,null,null,null,null,null,null,null,null,null,null,null,"2031-12-27",{"$f":"WEEKDAY(S2664)","v":7},{"$f":"MONTH(S2664)","v":12},{"$f":"YEAR(S2664)","v":2031},{"$f":"T2664&U2664","v":"712"},{"$f":"IF(V2664&W2664=V2663&W2663,X2663+1,1)","v":4},{"$f":"V2664&U2664&T2664&X2664","v":"20311274"},{"$f":"S2664","v":"2031-12-27"}]
[null,null,null,null,null,null,null,null,null,null,null,null,null,null,null,null,null,null,"2031-01-07",{"$f":"WEEKDAY(S2665)","v":3},{"$f":"MONTH(S2665)","v":1},{"$f":"YEAR(S2665)","v":2031},{"$f":"T2665&U2665","v":"31"},{"$f":"IF(V2665&W2665=V2664&W2664,X2664+1,1)","v":1},{"$f":"V2665&U2665&T2665&X2665","v":"2031131"},{"$f":"S2665","v":"2031-01-07"}]
[null,null,null,null,null,null,null,null,null,null,null,null,null,null,null,null,null,null,"2031-01-14",{"$f":"WEEKDAY(S2666)","v":3},{"$f":"MONTH(S2666)","v":1},{"$f":"YEAR(S2666)","v":2031},{"$f":"T2666&U2666","v":"31"},{"$f":"IF(V2666&W2666=V2665&W2665,X2665+1,1)","v":2},{"$f":"V2666&U2666&T2666&X2666","v":"2031132"},{"$f":"S2666","v":"2031-01-14"}]
[null,null,null,null,null,null,null,null,null,null,null,null,null,null,null,null,null,null,"2031-01-21",{"$f":"WEEKDAY(S2667)","v":3},{"$f":"MONTH(S2667)","v":1},{"$f":"YEAR(S2667)","v":2031},{"$f":"T2667&U2667","v":"31"},{"$f":"IF(V2667&W2667=V2666&W2666,X2666+1,1)","v":3},{"$f":"V2667&U2667&T2667&X2667","v":"2031133"},{"$f":"S2667","v":"2031-01-21"}]
[null,null,null,null,null,null,null,null,null,null,null,null,null,null,null,null,null,null,"2031-01-28",{"$f":"WEEKDAY(S2668)","v":3},{"$f":"MONTH(S2668)","v":1},{"$f":"YEAR(S2668)","v":2031},{"$f":"T2668&U2668","v":"31"},{"$f":"IF(V2668&W2668=V2667&W2667,X2667+1,1)","v":4},{"$f":"V2668&U2668&T2668&X2668","v":"2031134"},{"$f":"S2668","v":"2031-01-28"}]
[null,null,null,null,null,null,null,null,null,null,null,null,null,null,null,null,null,null,"2031-01-01",{"$f":"WEEKDAY(S2669)","v":4},{"$f":"MONTH(S2669)","v":1},{"$f":"YEAR(S2669)","v":2031},{"$f":"T2669&U2669","v":"41"},{"$f":"IF(V2669&W2669=V2668&W2668,X2668+1,1)","v":1},{"$f":"V2669&U2669&T2669&X2669","v":"2031141"},{"$f":"S2669","v":"2031-01-01"}]
[null,null,null,null,null,null,null,null,null,null,null,null,null,null,null,null,null,null,"2031-01-08",{"$f":"WEEKDAY(S2670)","v":4},{"$f":"MONTH(S2670)","v":1},{"$f":"YEAR(S2670)","v":2031},{"$f":"T2670&U2670","v":"41"},{"$f":"IF(V2670&W2670=V2669&W2669,X2669+1,1)","v":2},{"$f":"V2670&U2670&T2670&X2670","v":"2031142"},{"$f":"S2670","v":"2031-01-08"}]
[null,null,null,null,null,null,null,null,null,null,null,null,null,null,null,null,null,null,"2031-01-15",{"$f":"WEEKDAY(S2671)","v":4},{"$f":"MONTH(S2671)","v":1},{"$f":"YEAR(S2671)","v":2031},{"$f":"T2671&U2671","v":"41"},{"$f":"IF(V2671&W2671=V2670&W2670,X2670+1,1)","v":3},{"$f":"V2671&U2671&T2671&X2671","v":"2031143"},{"$f":"S2671","v":"2031-01-15"}]
[null,null,null,null,null,null,null,null,null,null,null,null,null,null,null,null,null,null,"2031-01-22",{"$f":"WEEKDAY(S2672)","v":4},{"$f":"MONTH(S2672)","v":1},{"$f":"YEAR(S2672)","v":2031},{"$f":"T2672&U2672","v":"41"},{"$f":"IF(V2672&W2672=V2671&W2671,X2671+1,1)","v":4},{"$f":"V2672&U2672&T2672&X2672","v":"2031144"},{"$f":"S2672","v":"2031-01-22"}]
[null,null,null,null,null,null,null,null,null,null,null,null,null,null,null,null,null,null,"2031-01-29",{"$f":"WEEKDAY(S2673)","v":4},{"$f":"MONTH(S2673)","v":1},{"$f":"YEAR(S2673)","v":2031},{"$f":"T2673&U2673","v":"41"},{"$f":"IF(V2673&W2673=V2672&W2672,X2672+1,1)","v":5},{"$f":"V2673&U2673&T2673&X2673","v":"2031145"},{"$f":"S2673","v":"2031-01-29"}]
[null,null,null,null,null,null,null,null,null,null,null,null,null,null,null,null,null,null,"2031-01-02",{"$f":"WEEKDAY(S2674)","v":5},{"$f":"MONTH(S2674)","v":1},{"$f":"YEAR(S2674)","v":2031},{"$f":"T2674&U2674","v":"51"},{"$f":"IF(V2674&W2674=V2673&W2673,X2673+1,1)","v":1},{"$f":"V2674&U2674&T2674&X2674","v":"2031151"},{"$f":"S2674","v":"2031-01-02"}]
[null,null,null,null,null,null,null,null,null,null,null,null,null,null,null,null,null,null,"2031-01-09",{"$f":"WEEKDAY(S2675)","v":5},{"$f":"MONTH(S2675)","v":1},{"$f":"YEAR(S2675)","v":2031},{"$f":"T2675&U2675","v":"51"},{"$f":"IF(V2675&W2675=V2674&W2674,X2674+1,1)","v":2},{"$f":"V2675&U2675&T2675&X2675","v":"2031152"},{"$f":"S2675","v":"2031-01-09"}]
[null,null,null,null,null,null,null,null,null,null,null,null,null,null,null,null,null,null,"2031-01-16",{"$f":"WEEKDAY(S2676)","v":5},{"$f":"MONTH(S2676)","v":1},{"$f":"YEAR(S2676)","v":2031},{"$f":"T2676&U2676","v":"51"},{"$f":"IF(V2676&W2676=V2675&W2675,X2675+1,1)","v":3},{"$f":"V2676&U2676&T2676&X2676","v":"2031153"},{"$f":"S2676","v":"2031-01-16"}]
[null,null,null,null,null,null,null,null,null,null,null,null,null,null,null,null,null,null,"2031-01-23",{"$f":"WEEKDAY(S2677)","v":5},{"$f":"MONTH(S2677)","v":1},{"$f":"YEAR(S2677)","v":2031},{"$f":"T2677&U2677","v":"51"},{"$f":"IF(V2677&W2677=V2676&W2676,X2676+1,1)","v":4},{"$f":"V2677&U2677&T2677&X2677","v":"2031154"},{"$f":"S2677","v":"2031-01-23"}]
[null,null,null,null,null,null,null,null,null,null,null,null,null,null,null,null,null,null,"2031-01-30",{"$f":"WEEKDAY(S2678)","v":5},{"$f":"MONTH(S2678)","v":1},{"$f":"YEAR(S2678)","v":2031},{"$f":"T2678&U2678","v":"51"},{"$f":"IF(V2678&W2678=V2677&W2677,X2677+1,1)","v":5},{"$f":"V2678&U2678&T2678&X2678","v":"2031155"},{"$f":"S2678","v":"2031-01-30"}]
[null,null,null,null,null,null,null,null,null,null,null,null,null,null,null,null,null,null,"2031-01-03",{"$f":"WEEKDAY(S2679)","v":6},{"$f":"MONTH(S2679)","v":1},{"$f":"YEAR(S2679)","v":2031},{"$f":"T2679&U2679","v":"61"},{"$f":"IF(V2679&W2679=V2678&W2678,X2678+1,1)","v":1},{"$f":"V2679&U2679&T2679&X2679","v":"2031161"},{"$f":"S2679","v":"2031-01-03"}]
[null,null,null,null,null,null,null,null,null,null,null,null,null,null,null,null,null,null,"2031-01-10",{"$f":"WEEKDAY(S2680)","v":6},{"$f":"MONTH(S2680)","v":1},{"$f":"YEAR(S2680)","v":2031},{"$f":"T2680&U2680","v":"61"},{"$f":"IF(V2680&W2680=V2679&W2679,X2679+1,1)","v":2},{"$f":"V2680&U2680&T2680&X2680","v":"2031162"},{"$f":"S2680","v":"2031-01-10"}]
[null,null,null,null,null,null,null,null,null,null,null,null,null,null,null,null,null,null,"2031-01-17",{"$f":"WEEKDAY(S2681)","v":6},{"$f":"MONTH(S2681)","v":1},{"$f":"YEAR(S2681)","v":2031},{"$f":"T2681&U2681","v":"61"},{"$f":"IF(V2681&W2681=V2680&W2680,X2680+1,1)","v":3},{"$f":"V2681&U2681&T2681&X2681","v":"2031163"},{"$f":"S2681","v":"2031-01-17"}]
[null,null,null,null,null,null,null,null,null,null,null,null,null,null,null,null,null,null,"2031-01-24",{"$f":"WEEKDAY(S2682)","v":6},{"$f":"MONTH(S2682)","v":1},{"$f":"YEAR(S2682)","v":2031},{"$f":"T2682&U2682","v":"61"},{"$f":"IF(V2682&W2682=V2681&W2681,X2681+1,1)","v":4},{"$f":"V2682&U2682&T2682&X2682","v":"2031164"},{"$f":"S2682","v":"2031-01-24"}]
[null,null,null,null,null,null,null,null,null,null,null,null,null,null,null,null,null,null,"2031-01-31",{"$f":"WEEKDAY(S2683)","v":6},{"$f":"MONTH(S2683)","v":1},{"$f":"YEAR(S2683)","v":2031},{"$f":"T2683&U2683","v":"61"},{"$f":"IF(V2683&W2683=V2682&W2682,X2682+1,1)","v":5},{"$f":"V2683&U2683&T2683&X2683","v":"2031165"},{"$f":"S2683","v":"2031-01-31"}]
[null,null,null,null,null,null,null,null,null,null,null,null,null,null,null,null,null,null,"2031-01-04",{"$f":"WEEKDAY(S2684)","v":7},{"$f":"MONTH(S2684)","v":1},{"$f":"YEAR(S2684)","v":2031},{"$f":"T2684&U2684","v":"71"},{"$f":"IF(V2684&W2684=V2683&W2683,X2683+1,1)","v":1},{"$f":"V2684&U2684&T2684&X2684","v":"2031171"},{"$f":"S2684","v":"2031-01-04"}]
[null,null,null,null,null,null,null,null,null,null,null,null,null,null,null,null,null,null,"2031-01-11",{"$f":"WEEKDAY(S2685)","v":7},{"$f":"MONTH(S2685)","v":1},{"$f":"YEAR(S2685)","v":2031},{"$f":"T2685&U2685","v":"71"},{"$f":"IF(V2685&W2685=V2684&W2684,X2684+1,1)","v":2},{"$f":"V2685&U2685&T2685&X2685","v":"2031172"},{"$f":"S2685","v":"2031-01-11"}]
[null,null,null,null,null,null,null,null,null,null,null,null,null,null,null,null,null,null,"2031-01-18",{"$f":"WEEKDAY(S2686)","v":7},{"$f":"MONTH(S2686)","v":1},{"$f":"YEAR(S2686)","v":2031},{"$f":"T2686&U2686","v":"71"},{"$f":"IF(V2686&W2686=V2685&W2685,X2685+1,1)","v":3},{"$f":"V2686&U2686&T2686&X2686","v":"2031173"},{"$f":"S2686","v":"2031-01-18"}]
[null,null,null,null,null,null,null,null,null,null,null,null,null,null,null,null,null,null,"2031-01-25",{"$f":"WEEKDAY(S2687)","v":7},{"$f":"MONTH(S2687)","v":1},{"$f":"YEAR(S2687)","v":2031},{"$f":"T2687&U2687","v":"71"},{"$f":"IF(V2687&W2687=V2686&W2686,X2686+1,1)","v":4},{"$f":"V2687&U2687&T2687&X2687","v":"2031174"},{"$f":"S2687","v":"2031-01-25"}]
[null,null,null,null,null,null,null,null,null,null,null,null,null,null,null,null,null,null,"2031-02-02",{"$f":"WEEKDAY(S2688)","v":1},{"$f":"MONTH(S2688)","v":2},{"$f":"YEAR(S2688)","v":2031},{"$f":"T2688&U2688","v":"12"},{"$f":"IF(V2688&W2688=V2687&W2687,X2687+1,1)","v":1},{"$f":"V2688&U2688&T2688&X2688","v":"2031211"},{"$f":"S2688","v":"2031-02-02"}]
[null,null,null,null,null,null,null,null,null,null,null,null,null,null,null,null,null,null,"2031-02-09",{"$f":"WEEKDAY(S2689)","v":1},{"$f":"MONTH(S2689)","v":2},{"$f":"YEAR(S2689)","v":2031},{"$f":"T2689&U2689","v":"12"},{"$f":"IF(V2689&W2689=V2688&W2688,X2688+1,1)","v":2},{"$f":"V2689&U2689&T2689&X2689","v":"2031212"},{"$f":"S2689","v":"2031-02-09"}]
[null,null,null,null,null,null,null,null,null,null,null,null,null,null,null,null,null,null,"2031-02-16",{"$f":"WEEKDAY(S2690)","v":1},{"$f":"MONTH(S2690)","v":2},{"$f":"YEAR(S2690)","v":2031},{"$f":"T2690&U2690","v":"12"},{"$f":"IF(V2690&W2690=V2689&W2689,X2689+1,1)","v":3},{"$f":"V2690&U2690&T2690&X2690","v":"2031213"},{"$f":"S2690","v":"2031-02-16"}]
[null,null,null,null,null,null,null,null,null,null,null,null,null,null,null,null,null,null,"2031-02-23",{"$f":"WEEKDAY(S2691)","v":1},{"$f":"MONTH(S2691)","v":2},{"$f":"YEAR(S2691)","v":2031},{"$f":"T2691&U2691","v":"12"},{"$f":"IF(V2691&W2691=V2690&W2690,X2690+1,1)","v":4},{"$f":"V2691&U2691&T2691&X2691","v":"2031214"},{"$f":"S2691","v":"2031-02-23"}]
[null,null,null,null,null,null,null,null,null,null,null,null,null,null,null,null,null,null,"2031-02-03",{"$f":"WEEKDAY(S2692)","v":2},{"$f":"MONTH(S2692)","v":2},{"$f":"YEAR(S2692)","v":2031},{"$f":"T2692&U2692","v":"22"},{"$f":"IF(V2692&W2692=V2691&W2691,X2691+1,1)","v":1},{"$f":"V2692&U2692&T2692&X2692","v":"2031221"},{"$f":"S2692","v":"2031-02-03"}]
[null,null,null,null,null,null,null,null,null,null,null,null,null,null,null,null,null,null,"2031-02-10",{"$f":"WEEKDAY(S2693)","v":2},{"$f":"MONTH(S2693)","v":2},{"$f":"YEAR(S2693)","v":2031},{"$f":"T2693&U2693","v":"22"},{"$f":"IF(V2693&W2693=V2692&W2692,X2692+1,1)","v":2},{"$f":"V2693&U2693&T2693&X2693","v":"2031222"},{"$f":"S2693","v":"2031-02-10"}]
[null,null,null,null,null,null,null,null,null,null,null,null,null,null,null,null,null,null,"2031-02-17",{"$f":"WEEKDAY(S2694)","v":2},{"$f":"MONTH(S2694)","v":2},{"$f":"YEAR(S2694)","v":2031},{"$f":"T2694&U2694","v":"22"},{"$f":"IF(V2694&W2694=V2693&W2693,X2693+1,1)","v":3},{"$f":"V2694&U2694&T2694&X2694","v":"2031223"},{"$f":"S2694","v":"2031-02-17"}]
[null,null,null,null,null,null,null,null,null,null,null,null,null,null,null,null,null,null,"2031-02-24",{"$f":"WEEKDAY(S2695)","v":2},{"$f":"MONTH(S2695)","v":2},{"$f":"YEAR(S2695)","v":2031},{"$f":"T2695&U2695","v":"22"},{"$f":"IF(V2695&W2695=V2694&W2694,X2694+1,1)","v":4},{"$f":"V2695&U2695&T2695&X2695","v":"2031224"},{"$f":"S2695","v":"2031-02-24"}]
[null,null,null,null,null,null,null,null,null,null,null,null,null,null,null,null,null,null,"2031-02-04",{"$f":"WEEKDAY(S2696)","v":3},{"$f":"MONTH(S2696)","v":2},{"$f":"YEAR(S2696)","v":2031},{"$f":"T2696&U2696","v":"32"},{"$f":"IF(V2696&W2696=V2695&W2695,X2695+1,1)","v":1},{"$f":"V2696&U2696&T2696&X2696","v":"2031231"},{"$f":"S2696","v":"2031-02-04"}]
[null,null,null,null,null,null,null,null,null,null,null,null,null,null,null,null,null,null,"2031-02-11",{"$f":"WEEKDAY(S2697)","v":3},{"$f":"MONTH(S2697)","v":2},{"$f":"YEAR(S2697)","v":2031},{"$f":"T2697&U2697","v":"32"},{"$f":"IF(V2697&W2697=V2696&W2696,X2696+1,1)","v":2},{"$f":"V2697&U2697&T2697&X2697","v":"2031232"},{"$f":"S2697","v":"2031-02-11"}]
[null,null,null,null,null,null,null,null,null,null,null,null,null,null,null,null,null,null,"2031-02-18",{"$f":"WEEKDAY(S2698)","v":3},{"$f":"MONTH(S2698)","v":2},{"$f":"YEAR(S2698)","v":2031},{"$f":"T2698&U2698","v":"32"},{"$f":"IF(V2698&W2698=V2697&W2697,X2697+1,1)","v":3},{"$f":"V2698&U2698&T2698&X2698","v":"2031233"},{"$f":"S2698","v":"2031-02-18"}]
[null,null,null,null,null,null,null,null,null,null,null,null,null,null,null,null,null,null,"2031-02-25",{"$f":"WEEKDAY(S2699)","v":3},{"$f":"MONTH(S2699)","v":2},{"$f":"YEAR(S2699)","v":2031},{"$f":"T2699&U2699","v":"32"},{"$f":"IF(V2699&W2699=V2698&W2698,X2698+1,1)","v":4},{"$f":"V2699&U2699&T2699&X2699","v":"2031234"},{"$f":"S2699","v":"2031-02-25"}]
[null,null,null,null,null,null,null,null,null,null,null,null,null,null,null,null,null,null,"2031-02-05",{"$f":"WEEKDAY(S2700)","v":4},{"$f":"MONTH(S2700)","v":2},{"$f":"YEAR(S2700)","v":2031},{"$f":"T2700&U2700","v":"42"},{"$f":"IF(V2700&W2700=V2699&W2699,X2699+1,1)","v":1},{"$f":"V2700&U2700&T2700&X2700","v":"2031241"},{"$f":"S2700","v":"2031-02-05"}]
[null,null,null,null,null,null,null,null,null,null,null,null,null,null,null,null,null,null,"2031-02-12",{"$f":"WEEKDAY(S2701)","v":4},{"$f":"MONTH(S2701)","v":2},{"$f":"YEAR(S2701)","v":2031},{"$f":"T2701&U2701","v":"42"},{"$f":"IF(V2701&W2701=V2700&W2700,X2700+1,1)","v":2},{"$f":"V2701&U2701&T2701&X2701","v":"2031242"},{"$f":"S2701","v":"2031-02-12"}]
[null,null,null,null,null,null,null,null,null,null,null,null,null,null,null,null,null,null,"2031-02-19",{"$f":"WEEKDAY(S2702)","v":4},{"$f":"MONTH(S2702)","v":2},{"$f":"YEAR(S2702)","v":2031},{"$f":"T2702&U2702","v":"42"},{"$f":"IF(V2702&W2702=V2701&W2701,X2701+1,1)","v":3},{"$f":"V2702&U2702&T2702&X2702","v":"2031243"},{"$f":"S2702","v":"2031-02-19"}]
[null,null,null,null,null,null,null,null,null,null,null,null,null,null,null,null,null,null,"2031-02-26",{"$f":"WEEKDAY(S2703)","v":4},{"$f":"MONTH(S2703)","v":2},{"$f":"YEAR(S2703)","v":2031},{"$f":"T2703&U2703","v":"42"},{"$f":"IF(V2703&W2703=V2702&W2702,X2702+1,1)","v":4},{"$f":"V2703&U2703&T2703&X2703","v":"2031244"},{"$f":"S2703","v":"2031-02-26"}]
[null,null,null,null,null,null,null,null,null,null,null,null,null,null,null,null,null,null,"2031-02-06",{"$f":"WEEKDAY(S2704)","v":5},{"$f":"MONTH(S2704)","v":2},{"$f":"YEAR(S2704)","v":2031},{"$f":"T2704&U2704","v":"52"},{"$f":"IF(V2704&W2704=V2703&W2703,X2703+1,1)","v":1},{"$f":"V2704&U2704&T2704&X2704","v":"2031251"},{"$f":"S2704","v":"2031-02-06"}]
[null,null,null,null,null,null,null,null,null,null,null,null,null,null,null,null,null,null,"2031-02-13",{"$f":"WEEKDAY(S2705)","v":5},{"$f":"MONTH(S2705)","v":2},{"$f":"YEAR(S2705)","v":2031},{"$f":"T2705&U2705","v":"52"},{"$f":"IF(V2705&W2705=V2704&W2704,X2704+1,1)","v":2},{"$f":"V2705&U2705&T2705&X2705","v":"2031252"},{"$f":"S2705","v":"2031-02-13"}]
[null,null,null,null,null,null,null,null,null,null,null,null,null,null,null,null,null,null,"2031-02-20",{"$f":"WEEKDAY(S2706)","v":5},{"$f":"MONTH(S2706)","v":2},{"$f":"YEAR(S2706)","v":2031},{"$f":"T2706&U2706","v":"52"},{"$f":"IF(V2706&W2706=V2705&W2705,X2705+1,1)","v":3},{"$f":"V2706&U2706&T2706&X2706","v":"2031253"},{"$f":"S2706","v":"2031-02-20"}]
[null,null,null,null,null,null,null,null,null,null,null,null,null,null,null,null,null,null,"2031-02-27",{"$f":"WEEKDAY(S2707)","v":5},{"$f":"MONTH(S2707)","v":2},{"$f":"YEAR(S2707)","v":2031},{"$f":"T2707&U2707","v":"52"},{"$f":"IF(V2707&W2707=V2706&W2706,X2706+1,1)","v":4},{"$f":"V2707&U2707&T2707&X2707","v":"2031254"},{"$f":"S2707","v":"2031-02-27"}]
[null,null,null,null,null,null,null,null,null,null,null,null,null,null,null,null,null,null,"2031-02-07",{"$f":"WEEKDAY(S2708)","v":6},{"$f":"MONTH(S2708)","v":2},{"$f":"YEAR(S2708)","v":2031},{"$f":"T2708&U2708","v":"62"},{"$f":"IF(V2708&W2708=V2707&W2707,X2707+1,1)","v":1},{"$f":"V2708&U2708&T2708&X2708","v":"2031261"},{"$f":"S2708","v":"2031-02-07"}]
[null,null,null,null,null,null,null,null,null,null,null,null,null,null,null,null,null,null,"2031-02-14",{"$f":"WEEKDAY(S2709)","v":6},{"$f":"MONTH(S2709)","v":2},{"$f":"YEAR(S2709)","v":2031},{"$f":"T2709&U2709","v":"62"},{"$f":"IF(V2709&W2709=V2708&W2708,X2708+1,1)","v":2},{"$f":"V2709&U2709&T2709&X2709","v":"2031262"},{"$f":"S2709","v":"2031-02-14"}]
[null,null,null,null,null,null,null,null,null,null,null,null,null,null,null,null,null,null,"2031-02-21",{"$f":"WEEKDAY(S2710)","v":6},{"$f":"MONTH(S2710)","v":2},{"$f":"YEAR(S2710)","v":2031},{"$f":"T2710&U2710","v":"62"},{"$f":"IF(V2710&W2710=V2709&W2709,X2709+1,1)","v":3},{"$f":"V2710&U2710&T2710&X2710","v":"2031263"},{"$f":"S2710","v":"2031-02-21"}]
[null,null,null,null,null,null,null,null,null,null,null,null,null,null,null,null,null,null,"2031-02-28",{"$f":"WEEKDAY(S2711)","v":6},{"$f":"MONTH(S2711)","v":2},{"$f":"YEAR(S2711)","v":2031},{"$f":"T2711&U2711","v":"62"},{"$f":"IF(V2711&W2711=V2710&W2710,X2710+1,1)","v":4},{"$f":"V2711&U2711&T2711&X2711","v":"2031264"},{"$f":"S2711","v":"2031-02-28"}]
[null,null,null,null,null,null,null,null,null,null,null,null,null,null,null,null,null,null,"2031-02-01",{"$f":"WEEKDAY(S2712)","v":7},{"$f":"MONTH(S2712)","v":2},{"$f":"YEAR(S2712)","v":2031},{"$f":"T2712&U2712","v":"72"},{"$f":"IF(V2712&W2712=V2711&W2711,X2711+1,1)","v":1},{"$f":"V2712&U2712&T2712&X2712","v":"2031271"},{"$f":"S2712","v":"2031-02-01"}]
[null,null,null,null,null,null,null,null,null,null,null,null,null,null,null,null,null,null,"2031-02-08",{"$f":"WEEKDAY(S2713)","v":7},{"$f":"MONTH(S2713)","v":2},{"$f":"YEAR(S2713)","v":2031},{"$f":"T2713&U2713","v":"72"},{"$f":"IF(V2713&W2713=V2712&W2712,X2712+1,1)","v":2},{"$f":"V2713&U2713&T2713&X2713","v":"2031272"},{"$f":"S2713","v":"2031-02-08"}]
[null,null,null,null,null,null,null,null,null,null,null,null,null,null,null,null,null,null,"2031-02-15",{"$f":"WEEKDAY(S2714)","v":7},{"$f":"MONTH(S2714)","v":2},{"$f":"YEAR(S2714)","v":2031},{"$f":"T2714&U2714","v":"72"},{"$f":"IF(V2714&W2714=V2713&W2713,X2713+1,1)","v":3},{"$f":"V2714&U2714&T2714&X2714","v":"2031273"},{"$f":"S2714","v":"2031-02-15"}]
[null,null,null,null,null,null,null,null,null,null,null,null,null,null,null,null,null,null,"2031-02-22",{"$f":"WEEKDAY(S2715)","v":7},{"$f":"MONTH(S2715)","v":2},{"$f":"YEAR(S2715)","v":2031},{"$f":"T2715&U2715","v":"72"},{"$f":"IF(V2715&W2715=V2714&W2714,X2714+1,1)","v":4},{"$f":"V2715&U2715&T2715&X2715","v":"2031274"},{"$f":"S2715","v":"2031-02-22"}]
[null,null,null,null,null,null,null,null,null,null,null,null,null,null,null,null,null,null,"2031-03-02",{"$f":"WEEKDAY(S2716)","v":1},{"$f":"MONTH(S2716)","v":3},{"$f":"YEAR(S2716)","v":2031},{"$f":"T2716&U2716","v":"13"},{"$f":"IF(V2716&W2716=V2715&W2715,X2715+1,1)","v":1},{"$f":"V2716&U2716&T2716&X2716","v":"2031311"},{"$f":"S2716","v":"2031-03-02"}]
[null,null,null,null,null,null,null,null,null,null,null,null,null,null,null,null,null,null,"2031-03-09",{"$f":"WEEKDAY(S2717)","v":1},{"$f":"MONTH(S2717)","v":3},{"$f":"YEAR(S2717)","v":2031},{"$f":"T2717&U2717","v":"13"},{"$f":"IF(V2717&W2717=V2716&W2716,X2716+1,1)","v":2},{"$f":"V2717&U2717&T2717&X2717","v":"2031312"},{"$f":"S2717","v":"2031-03-09"}]
[null,null,null,null,null,null,null,null,null,null,null,null,null,null,null,null,null,null,"2031-03-16",{"$f":"WEEKDAY(S2718)","v":1},{"$f":"MONTH(S2718)","v":3},{"$f":"YEAR(S2718)","v":2031},{"$f":"T2718&U2718","v":"13"},{"$f":"IF(V2718&W2718=V2717&W2717,X2717+1,1)","v":3},{"$f":"V2718&U2718&T2718&X2718","v":"2031313"},{"$f":"S2718","v":"2031-03-16"}]
[null,null,null,null,null,null,null,null,null,null,null,null,null,null,null,null,null,null,"2031-03-23",{"$f":"WEEKDAY(S2719)","v":1},{"$f":"MONTH(S2719)","v":3},{"$f":"YEAR(S2719)","v":2031},{"$f":"T2719&U2719","v":"13"},{"$f":"IF(V2719&W2719=V2718&W2718,X2718+1,1)","v":4},{"$f":"V2719&U2719&T2719&X2719","v":"2031314"},{"$f":"S2719","v":"2031-03-23"}]
[null,null,null,null,null,null,null,null,null,null,null,null,null,null,null,null,null,null,"2031-03-30",{"$f":"WEEKDAY(S2720)","v":1},{"$f":"MONTH(S2720)","v":3},{"$f":"YEAR(S2720)","v":2031},{"$f":"T2720&U2720","v":"13"},{"$f":"IF(V2720&W2720=V2719&W2719,X2719+1,1)","v":5},{"$f":"V2720&U2720&T2720&X2720","v":"2031315"},{"$f":"S2720","v":"2031-03-30"}]
[null,null,null,null,null,null,null,null,null,null,null,null,null,null,null,null,null,null,"2031-03-03",{"$f":"WEEKDAY(S2721)","v":2},{"$f":"MONTH(S2721)","v":3},{"$f":"YEAR(S2721)","v":2031},{"$f":"T2721&U2721","v":"23"},{"$f":"IF(V2721&W2721=V2720&W2720,X2720+1,1)","v":1},{"$f":"V2721&U2721&T2721&X2721","v":"2031321"},{"$f":"S2721","v":"2031-03-03"}]
[null,null,null,null,null,null,null,null,null,null,null,null,null,null,null,null,null,null,"2031-03-10",{"$f":"WEEKDAY(S2722)","v":2},{"$f":"MONTH(S2722)","v":3},{"$f":"YEAR(S2722)","v":2031},{"$f":"T2722&U2722","v":"23"},{"$f":"IF(V2722&W2722=V2721&W2721,X2721+1,1)","v":2},{"$f":"V2722&U2722&T2722&X2722","v":"2031322"},{"$f":"S2722","v":"2031-03-10"}]
[null,null,null,null,null,null,null,null,null,null,null,null,null,null,null,null,null,null,"2031-03-17",{"$f":"WEEKDAY(S2723)","v":2},{"$f":"MONTH(S2723)","v":3},{"$f":"YEAR(S2723)","v":2031},{"$f":"T2723&U2723","v":"23"},{"$f":"IF(V2723&W2723=V2722&W2722,X2722+1,1)","v":3},{"$f":"V2723&U2723&T2723&X2723","v":"2031323"},{"$f":"S2723","v":"2031-03-17"}]
[null,null,null,null,null,null,null,null,null,null,null,null,null,null,null,null,null,null,"2031-03-24",{"$f":"WEEKDAY(S2724)","v":2},{"$f":"MONTH(S2724)","v":3},{"$f":"YEAR(S2724)","v":2031},{"$f":"T2724&U2724","v":"23"},{"$f":"IF(V2724&W2724=V2723&W2723,X2723+1,1)","v":4},{"$f":"V2724&U2724&T2724&X2724","v":"2031324"},{"$f":"S2724","v":"2031-03-24"}]
[null,null,null,null,null,null,null,null,null,null,null,null,null,null,null,null,null,null,"2031-03-31",{"$f":"WEEKDAY(S2725)","v":2},{"$f":"MONTH(S2725)","v":3},{"$f":"YEAR(S2725)","v":2031},{"$f":"T2725&U2725","v":"23"},{"$f":"IF(V2725&W2725=V2724&W2724,X2724+1,1)","v":5},{"$f":"V2725&U2725&T2725&X2725","v":"2031325"},{"$f":"S2725","v":"2031-03-31"}]
[null,null,null,null,null,null,null,null,null,null,null,null,null,null,null,null,null,null,"2031-03-04",{"$f":"WEEKDAY(S2726)","v":3},{"$f":"MONTH(S2726)","v":3},{"$f":"YEAR(S2726)","v":2031},{"$f":"T2726&U2726","v":"33"},{"$f":"IF(V2726&W2726=V2725&W2725,X2725+1,1)","v":1},{"$f":"V2726&U2726&T2726&X2726","v":"2031331"},{"$f":"S2726","v":"2031-03-04"}]
[null,null,null,null,null,null,null,null,null,null,null,null,null,null,null,null,null,null,"2031-03-11",{"$f":"WEEKDAY(S2727)","v":3},{"$f":"MONTH(S2727)","v":3},{"$f":"YEAR(S2727)","v":2031},{"$f":"T2727&U2727","v":"33"},{"$f":"IF(V2727&W2727=V2726&W2726,X2726+1,1)","v":2},{"$f":"V2727&U2727&T2727&X2727","v":"2031332"},{"$f":"S2727","v":"2031-03-11"}]
[null,null,null,null,null,null,null,null,null,null,null,null,null,null,null,null,null,null,"2031-03-18",{"$f":"WEEKDAY(S2728)","v":3},{"$f":"MONTH(S2728)","v":3},{"$f":"YEAR(S2728)","v":2031},{"$f":"T2728&U2728","v":"33"},{"$f":"IF(V2728&W2728=V2727&W2727,X2727+1,1)","v":3},{"$f":"V2728&U2728&T2728&X2728","v":"2031333"},{"$f":"S2728","v":"2031-03-18"}]
[null,null,null,null,null,null,null,null,null,null,null,null,null,null,null,null,null,null,"2031-03-25",{"$f":"WEEKDAY(S2729)","v":3},{"$f":"MONTH(S2729)","v":3},{"$f":"YEAR(S2729)","v":2031},{"$f":"T2729&U2729","v":"33"},{"$f":"IF(V2729&W2729=V2728&W2728,X2728+1,1)","v":4},{"$f":"V2729&U2729&T2729&X2729","v":"2031334"},{"$f":"S2729","v":"2031-03-25"}]
[null,null,null,null,null,null,null,null,null,null,null,null,null,null,null,null,null,null,"2031-03-05",{"$f":"WEEKDAY(S2730)","v":4},{"$f":"MONTH(S2730)","v":3},{"$f":"YEAR(S2730)","v":2031},{"$f":"T2730&U2730","v":"43"},{"$f":"IF(V2730&W2730=V2729&W2729,X2729+1,1)","v":1},{"$f":"V2730&U2730&T2730&X2730","v":"2031341"},{"$f":"S2730","v":"2031-03-05"}]
[null,null,null,null,null,null,null,null,null,null,null,null,null,null,null,null,null,null,"2031-03-12",{"$f":"WEEKDAY(S2731)","v":4},{"$f":"MONTH(S2731)","v":3},{"$f":"YEAR(S2731)","v":2031},{"$f":"T2731&U2731","v":"43"},{"$f":"IF(V2731&W2731=V2730&W2730,X2730+1,1)","v":2},{"$f":"V2731&U2731&T2731&X2731","v":"2031342"},{"$f":"S2731","v":"2031-03-12"}]
[null,null,null,null,null,null,null,null,null,null,null,null,null,null,null,null,null,null,"2031-03-19",{"$f":"WEEKDAY(S2732)","v":4},{"$f":"MONTH(S2732)","v":3},{"$f":"YEAR(S2732)","v":2031},{"$f":"T2732&U2732","v":"43"},{"$f":"IF(V2732&W2732=V2731&W2731,X2731+1,1)","v":3},{"$f":"V2732&U2732&T2732&X2732","v":"2031343"},{"$f":"S2732","v":"2031-03-19"}]
[null,null,null,null,null,null,null,null,null,null,null,null,null,null,null,null,null,null,"2031-03-26",{"$f":"WEEKDAY(S2733)","v":4},{"$f":"MONTH(S2733)","v":3},{"$f":"YEAR(S2733)","v":2031},{"$f":"T2733&U2733","v":"43"},{"$f":"IF(V2733&W2733=V2732&W2732,X2732+1,1)","v":4},{"$f":"V2733&U2733&T2733&X2733","v":"2031344"},{"$f":"S2733","v":"2031-03-26"}]
[null,null,null,null,null,null,null,null,null,null,null,null,null,null,null,null,null,null,"2031-03-06",{"$f":"WEEKDAY(S2734)","v":5},{"$f":"MONTH(S2734)","v":3},{"$f":"YEAR(S2734)","v":2031},{"$f":"T2734&U2734","v":"53"},{"$f":"IF(V2734&W2734=V2733&W2733,X2733+1,1)","v":1},{"$f":"V2734&U2734&T2734&X2734","v":"2031351"},{"$f":"S2734","v":"2031-03-06"}]
[null,null,null,null,null,null,null,null,null,null,null,null,null,null,null,null,null,null,"2031-03-13",{"$f":"WEEKDAY(S2735)","v":5},{"$f":"MONTH(S2735)","v":3},{"$f":"YEAR(S2735)","v":2031},{"$f":"T2735&U2735","v":"53"},{"$f":"IF(V2735&W2735=V2734&W2734,X2734+1,1)","v":2},{"$f":"V2735&U2735&T2735&X2735","v":"2031352"},{"$f":"S2735","v":"2031-03-13"}]
[null,null,null,null,null,null,null,null,null,null,null,null,null,null,null,null,null,null,"2031-03-20",{"$f":"WEEKDAY(S2736)","v":5},{"$f":"MONTH(S2736)","v":3},{"$f":"YEAR(S2736)","v":2031},{"$f":"T2736&U2736","v":"53"},{"$f":"IF(V2736&W2736=V2735&W2735,X2735+1,1)","v":3},{"$f":"V2736&U2736&T2736&X2736","v":"2031353"},{"$f":"S2736","v":"2031-03-20"}]
[null,null,null,null,null,null,null,null,null,null,null,null,null,null,null,null,null,null,"2031-03-27",{"$f":"WEEKDAY(S2737)","v":5},{"$f":"MONTH(S2737)","v":3},{"$f":"YEAR(S2737)","v":2031},{"$f":"T2737&U2737","v":"53"},{"$f":"IF(V2737&W2737=V2736&W2736,X2736+1,1)","v":4},{"$f":"V2737&U2737&T2737&X2737","v":"2031354"},{"$f":"S2737","v":"2031-03-27"}]
[null,null,null,null,null,null,null,null,null,null,null,null,null,null,null,null,null,null,"2031-03-07",{"$f":"WEEKDAY(S2738)","v":6},{"$f":"MONTH(S2738)","v":3},{"$f":"YEAR(S2738)","v":2031},{"$f":"T2738&U2738","v":"63"},{"$f":"IF(V2738&W2738=V2737&W2737,X2737+1,1)","v":1},{"$f":"V2738&U2738&T2738&X2738","v":"2031361"},{"$f":"S2738","v":"2031-03-07"}]
[null,null,null,null,null,null,null,null,null,null,null,null,null,null,null,null,null,null,"2031-03-14",{"$f":"WEEKDAY(S2739)","v":6},{"$f":"MONTH(S2739)","v":3},{"$f":"YEAR(S2739)","v":2031},{"$f":"T2739&U2739","v":"63"},{"$f":"IF(V2739&W2739=V2738&W2738,X2738+1,1)","v":2},{"$f":"V2739&U2739&T2739&X2739","v":"2031362"},{"$f":"S2739","v":"2031-03-14"}]
[null,null,null,null,null,null,null,null,null,null,null,null,null,null,null,null,null,null,"2031-03-21",{"$f":"WEEKDAY(S2740)","v":6},{"$f":"MONTH(S2740)","v":3},{"$f":"YEAR(S2740)","v":2031},{"$f":"T2740&U2740","v":"63"},{"$f":"IF(V2740&W2740=V2739&W2739,X2739+1,1)","v":3},{"$f":"V2740&U2740&T2740&X2740","v":"2031363"},{"$f":"S2740","v":"2031-03-21"}]
[null,null,null,null,null,null,null,null,null,null,null,null,null,null,null,null,null,null,"2031-03-28",{"$f":"WEEKDAY(S2741)","v":6},{"$f":"MONTH(S2741)","v":3},{"$f":"YEAR(S2741)","v":2031},{"$f":"T2741&U2741","v":"63"},{"$f":"IF(V2741&W2741=V2740&W2740,X2740+1,1)","v":4},{"$f":"V2741&U2741&T2741&X2741","v":"2031364"},{"$f":"S2741","v":"2031-03-28"}]
[null,null,null,null,null,null,null,null,null,null,null,null,null,null,null,null,null,null,"2031-03-01",{"$f":"WEEKDAY(S2742)","v":7},{"$f":"MONTH(S2742)","v":3},{"$f":"YEAR(S2742)","v":2031},{"$f":"T2742&U2742","v":"73"},{"$f":"IF(V2742&W2742=V2741&W2741,X2741+1,1)","v":1},{"$f":"V2742&U2742&T2742&X2742","v":"2031371"},{"$f":"S2742","v":"2031-03-01"}]
[null,null,null,null,null,null,null,null,null,null,null,null,null,null,null,null,null,null,"2031-03-08",{"$f":"WEEKDAY(S2743)","v":7},{"$f":"MONTH(S2743)","v":3},{"$f":"YEAR(S2743)","v":2031},{"$f":"T2743&U2743","v":"73"},{"$f":"IF(V2743&W2743=V2742&W2742,X2742+1,1)","v":2},{"$f":"V2743&U2743&T2743&X2743","v":"2031372"},{"$f":"S2743","v":"2031-03-08"}]
[null,null,null,null,null,null,null,null,null,null,null,null,null,null,null,null,null,null,"2031-03-15",{"$f":"WEEKDAY(S2744)","v":7},{"$f":"MONTH(S2744)","v":3},{"$f":"YEAR(S2744)","v":2031},{"$f":"T2744&U2744","v":"73"},{"$f":"IF(V2744&W2744=V2743&W2743,X2743+1,1)","v":3},{"$f":"V2744&U2744&T2744&X2744","v":"2031373"},{"$f":"S2744","v":"2031-03-15"}]
[null,null,null,null,null,null,null,null,null,null,null,null,null,null,null,null,null,null,"2031-03-22",{"$f":"WEEKDAY(S2745)","v":7},{"$f":"MONTH(S2745)","v":3},{"$f":"YEAR(S2745)","v":2031},{"$f":"T2745&U2745","v":"73"},{"$f":"IF(V2745&W2745=V2744&W2744,X2744+1,1)","v":4},{"$f":"V2745&U2745&T2745&X2745","v":"2031374"},{"$f":"S2745","v":"2031-03-22"}]
[null,null,null,null,null,null,null,null,null,null,null,null,null,null,null,null,null,null,"2031-03-29",{"$f":"WEEKDAY(S2746)","v":7},{"$f":"MONTH(S2746)","v":3},{"$f":"YEAR(S2746)","v":2031},{"$f":"T2746&U2746","v":"73"},{"$f":"IF(V2746&W2746=V2745&W2745,X2745+1,1)","v":5},{"$f":"V2746&U2746&T2746&X2746","v":"2031375"},{"$f":"S2746","v":"2031-03-29"}]
[null,null,null,null,null,null,null,null,null,null,null,null,null,null,null,null,null,null,"2031-04-06",{"$f":"WEEKDAY(S2747)","v":1},{"$f":"MONTH(S2747)","v":4},{"$f":"YEAR(S2747)","v":2031},{"$f":"T2747&U2747","v":"14"},{"$f":"IF(V2747&W2747=V2746&W2746,X2746+1,1)","v":1},{"$f":"V2747&U2747&T2747&X2747","v":"2031411"},{"$f":"S2747","v":"2031-04-06"}]
[null,null,null,null,null,null,null,null,null,null,null,null,null,null,null,null,null,null,"2031-04-13",{"$f":"WEEKDAY(S2748)","v":1},{"$f":"MONTH(S2748)","v":4},{"$f":"YEAR(S2748)","v":2031},{"$f":"T2748&U2748","v":"14"},{"$f":"IF(V2748&W2748=V2747&W2747,X2747+1,1)","v":2},{"$f":"V2748&U2748&T2748&X2748","v":"2031412"},{"$f":"S2748","v":"2031-04-13"}]
[null,null,null,null,null,null,null,null,null,null,null,null,null,null,null,null,null,null,"2031-04-20",{"$f":"WEEKDAY(S2749)","v":1},{"$f":"MONTH(S2749)","v":4},{"$f":"YEAR(S2749)","v":2031},{"$f":"T2749&U2749","v":"14"},{"$f":"IF(V2749&W2749=V2748&W2748,X2748+1,1)","v":3},{"$f":"V2749&U2749&T2749&X2749","v":"2031413"},{"$f":"S2749","v":"2031-04-20"}]
[null,null,null,null,null,null,null,null,null,null,null,null,null,null,null,null,null,null,"2031-04-27",{"$f":"WEEKDAY(S2750)","v":1},{"$f":"MONTH(S2750)","v":4},{"$f":"YEAR(S2750)","v":2031},{"$f":"T2750&U2750","v":"14"},{"$f":"IF(V2750&W2750=V2749&W2749,X2749+1,1)","v":4},{"$f":"V2750&U2750&T2750&X2750","v":"2031414"},{"$f":"S2750","v":"2031-04-27"}]
[null,null,null,null,null,null,null,null,null,null,null,null,null,null,null,null,null,null,"2031-04-07",{"$f":"WEEKDAY(S2751)","v":2},{"$f":"MONTH(S2751)","v":4},{"$f":"YEAR(S2751)","v":2031},{"$f":"T2751&U2751","v":"24"},{"$f":"IF(V2751&W2751=V2750&W2750,X2750+1,1)","v":1},{"$f":"V2751&U2751&T2751&X2751","v":"2031421"},{"$f":"S2751","v":"2031-04-07"}]
[null,null,null,null,null,null,null,null,null,null,null,null,null,null,null,null,null,null,"2031-04-14",{"$f":"WEEKDAY(S2752)","v":2},{"$f":"MONTH(S2752)","v":4},{"$f":"YEAR(S2752)","v":2031},{"$f":"T2752&U2752","v":"24"},{"$f":"IF(V2752&W2752=V2751&W2751,X2751+1,1)","v":2},{"$f":"V2752&U2752&T2752&X2752","v":"2031422"},{"$f":"S2752","v":"2031-04-14"}]
[null,null,null,null,null,null,null,null,null,null,null,null,null,null,null,null,null,null,"2031-04-21",{"$f":"WEEKDAY(S2753)","v":2},{"$f":"MONTH(S2753)","v":4},{"$f":"YEAR(S2753)","v":2031},{"$f":"T2753&U2753","v":"24"},{"$f":"IF(V2753&W2753=V2752&W2752,X2752+1,1)","v":3},{"$f":"V2753&U2753&T2753&X2753","v":"2031423"},{"$f":"S2753","v":"2031-04-21"}]
[null,null,null,null,null,null,null,null,null,null,null,null,null,null,null,null,null,null,"2031-04-28",{"$f":"WEEKDAY(S2754)","v":2},{"$f":"MONTH(S2754)","v":4},{"$f":"YEAR(S2754)","v":2031},{"$f":"T2754&U2754","v":"24"},{"$f":"IF(V2754&W2754=V2753&W2753,X2753+1,1)","v":4},{"$f":"V2754&U2754&T2754&X2754","v":"2031424"},{"$f":"S2754","v":"2031-04-28"}]
[null,null,null,null,null,null,null,null,null,null,null,null,null,null,null,null,null,null,"2031-04-01",{"$f":"WEEKDAY(S2755)","v":3},{"$f":"MONTH(S2755)","v":4},{"$f":"YEAR(S2755)","v":2031},{"$f":"T2755&U2755","v":"34"},{"$f":"IF(V2755&W2755=V2754&W2754,X2754+1,1)","v":1},{"$f":"V2755&U2755&T2755&X2755","v":"2031431"},{"$f":"S2755","v":"2031-04-01"}]
[null,null,null,null,null,null,null,null,null,null,null,null,null,null,null,null,null,null,"2031-04-08",{"$f":"WEEKDAY(S2756)","v":3},{"$f":"MONTH(S2756)","v":4},{"$f":"YEAR(S2756)","v":2031},{"$f":"T2756&U2756","v":"34"},{"$f":"IF(V2756&W2756=V2755&W2755,X2755+1,1)","v":2},{"$f":"V2756&U2756&T2756&X2756","v":"2031432"},{"$f":"S2756","v":"2031-04-08"}]
[null,null,null,null,null,null,null,null,null,null,null,null,null,null,null,null,null,null,"2031-04-15",{"$f":"WEEKDAY(S2757)","v":3},{"$f":"MONTH(S2757)","v":4},{"$f":"YEAR(S2757)","v":2031},{"$f":"T2757&U2757","v":"34"},{"$f":"IF(V2757&W2757=V2756&W2756,X2756+1,1)","v":3},{"$f":"V2757&U2757&T2757&X2757","v":"2031433"},{"$f":"S2757","v":"2031-04-15"}]
[null,null,null,null,null,null,null,null,null,null,null,null,null,null,null,null,null,null,"2031-04-22",{"$f":"WEEKDAY(S2758)","v":3},{"$f":"MONTH(S2758)","v":4},{"$f":"YEAR(S2758)","v":2031},{"$f":"T2758&U2758","v":"34"},{"$f":"IF(V2758&W2758=V2757&W2757,X2757+1,1)","v":4},{"$f":"V2758&U2758&T2758&X2758","v":"2031434"},{"$f":"S2758","v":"2031-04-22"}]
[null,null,null,null,null,null,null,null,null,null,null,null,null,null,null,null,null,null,"2031-04-29",{"$f":"WEEKDAY(S2759)","v":3},{"$f":"MONTH(S2759)","v":4},{"$f":"YEAR(S2759)","v":2031},{"$f":"T2759&U2759","v":"34"},{"$f":"IF(V2759&W2759=V2758&W2758,X2758+1,1)","v":5},{"$f":"V2759&U2759&T2759&X2759","v":"2031435"},{"$f":"S2759","v":"2031-04-29"}]
[null,null,null,null,null,null,null,null,null,null,null,null,null,null,null,null,null,null,"2031-04-02",{"$f":"WEEKDAY(S2760)","v":4},{"$f":"MONTH(S2760)","v":4},{"$f":"YEAR(S2760)","v":2031},{"$f":"T2760&U2760","v":"44"},{"$f":"IF(V2760&W2760=V2759&W2759,X2759+1,1)","v":1},{"$f":"V2760&U2760&T2760&X2760","v":"2031441"},{"$f":"S2760","v":"2031-04-02"}]
[null,null,null,null,null,null,null,null,null,null,null,null,null,null,null,null,null,null,"2031-04-09",{"$f":"WEEKDAY(S2761)","v":4},{"$f":"MONTH(S2761)","v":4},{"$f":"YEAR(S2761)","v":2031},{"$f":"T2761&U2761","v":"44"},{"$f":"IF(V2761&W2761=V2760&W2760,X2760+1,1)","v":2},{"$f":"V2761&U2761&T2761&X2761","v":"2031442"},{"$f":"S2761","v":"2031-04-09"}]
[null,null,null,null,null,null,null,null,null,null,null,null,null,null,null,null,null,null,"2031-04-16",{"$f":"WEEKDAY(S2762)","v":4},{"$f":"MONTH(S2762)","v":4},{"$f":"YEAR(S2762)","v":2031},{"$f":"T2762&U2762","v":"44"},{"$f":"IF(V2762&W2762=V2761&W2761,X2761+1,1)","v":3},{"$f":"V2762&U2762&T2762&X2762","v":"2031443"},{"$f":"S2762","v":"2031-04-16"}]
[null,null,null,null,null,null,null,null,null,null,null,null,null,null,null,null,null,null,"2031-04-23",{"$f":"WEEKDAY(S2763)","v":4},{"$f":"MONTH(S2763)","v":4},{"$f":"YEAR(S2763)","v":2031},{"$f":"T2763&U2763","v":"44"},{"$f":"IF(V2763&W2763=V2762&W2762,X2762+1,1)","v":4},{"$f":"V2763&U2763&T2763&X2763","v":"2031444"},{"$f":"S2763","v":"2031-04-23"}]
[null,null,null,null,null,null,null,null,null,null,null,null,null,null,null,null,null,null,"2031-04-30",{"$f":"WEEKDAY(S2764)","v":4},{"$f":"MONTH(S2764)","v":4},{"$f":"YEAR(S2764)","v":2031},{"$f":"T2764&U2764","v":"44"},{"$f":"IF(V2764&W2764=V2763&W2763,X2763+1,1)","v":5},{"$f":"V2764&U2764&T2764&X2764","v":"2031445"},{"$f":"S2764","v":"2031-04-30"}]
[null,null,null,null,null,null,null,null,null,null,null,null,null,null,null,null,null,null,"2031-04-03",{"$f":"WEEKDAY(S2765)","v":5},{"$f":"MONTH(S2765)","v":4},{"$f":"YEAR(S2765)","v":2031},{"$f":"T2765&U2765","v":"54"},{"$f":"IF(V2765&W2765=V2764&W2764,X2764+1,1)","v":1},{"$f":"V2765&U2765&T2765&X2765","v":"2031451"},{"$f":"S2765","v":"2031-04-03"}]
[null,null,null,null,null,null,null,null,null,null,null,null,null,null,null,null,null,null,"2031-04-10",{"$f":"WEEKDAY(S2766)","v":5},{"$f":"MONTH(S2766)","v":4},{"$f":"YEAR(S2766)","v":2031},{"$f":"T2766&U2766","v":"54"},{"$f":"IF(V2766&W2766=V2765&W2765,X2765+1,1)","v":2},{"$f":"V2766&U2766&T2766&X2766","v":"2031452"},{"$f":"S2766","v":"2031-04-10"}]
[null,null,null,null,null,null,null,null,null,null,null,null,null,null,null,null,null,null,"2031-04-17",{"$f":"WEEKDAY(S2767)","v":5},{"$f":"MONTH(S2767)","v":4},{"$f":"YEAR(S2767)","v":2031},{"$f":"T2767&U2767","v":"54"},{"$f":"IF(V2767&W2767=V2766&W2766,X2766+1,1)","v":3},{"$f":"V2767&U2767&T2767&X2767","v":"2031453"},{"$f":"S2767","v":"2031-04-17"}]
[null,null,null,null,null,null,null,null,null,null,null,null,null,null,null,null,null,null,"2031-04-24",{"$f":"WEEKDAY(S2768)","v":5},{"$f":"MONTH(S2768)","v":4},{"$f":"YEAR(S2768)","v":2031},{"$f":"T2768&U2768","v":"54"},{"$f":"IF(V2768&W2768=V2767&W2767,X2767+1,1)","v":4},{"$f":"V2768&U2768&T2768&X2768","v":"2031454"},{"$f":"S2768","v":"2031-04-24"}]
[null,null,null,null,null,null,null,null,null,null,null,null,null,null,null,null,null,null,"2031-04-04",{"$f":"WEEKDAY(S2769)","v":6},{"$f":"MONTH(S2769)","v":4},{"$f":"YEAR(S2769)","v":2031},{"$f":"T2769&U2769","v":"64"},{"$f":"IF(V2769&W2769=V2768&W2768,X2768+1,1)","v":1},{"$f":"V2769&U2769&T2769&X2769","v":"2031461"},{"$f":"S2769","v":"2031-04-04"}]
[null,null,null,null,null,null,null,null,null,null,null,null,null,null,null,null,null,null,"2031-04-11",{"$f":"WEEKDAY(S2770)","v":6},{"$f":"MONTH(S2770)","v":4},{"$f":"YEAR(S2770)","v":2031},{"$f":"T2770&U2770","v":"64"},{"$f":"IF(V2770&W2770=V2769&W2769,X2769+1,1)","v":2},{"$f":"V2770&U2770&T2770&X2770","v":"2031462"},{"$f":"S2770","v":"2031-04-11"}]
[null,null,null,null,null,null,null,null,null,null,null,null,null,null,null,null,null,null,"2031-04-18",{"$f":"WEEKDAY(S2771)","v":6},{"$f":"MONTH(S2771)","v":4},{"$f":"YEAR(S2771)","v":2031},{"$f":"T2771&U2771","v":"64"},{"$f":"IF(V2771&W2771=V2770&W2770,X2770+1,1)","v":3},{"$f":"V2771&U2771&T2771&X2771","v":"2031463"},{"$f":"S2771","v":"2031-04-18"}]
[null,null,null,null,null,null,null,null,null,null,null,null,null,null,null,null,null,null,"2031-04-25",{"$f":"WEEKDAY(S2772)","v":6},{"$f":"MONTH(S2772)","v":4},{"$f":"YEAR(S2772)","v":2031},{"$f":"T2772&U2772","v":"64"},{"$f":"IF(V2772&W2772=V2771&W2771,X2771+1,1)","v":4},{"$f":"V2772&U2772&T2772&X2772","v":"2031464"},{"$f":"S2772","v":"2031-04-25"}]
[null,null,null,null,null,null,null,null,null,null,null,null,null,null,null,null,null,null,"2031-04-05",{"$f":"WEEKDAY(S2773)","v":7},{"$f":"MONTH(S2773)","v":4},{"$f":"YEAR(S2773)","v":2031},{"$f":"T2773&U2773","v":"74"},{"$f":"IF(V2773&W2773=V2772&W2772,X2772+1,1)","v":1},{"$f":"V2773&U2773&T2773&X2773","v":"2031471"},{"$f":"S2773","v":"2031-04-05"}]
[null,null,null,null,null,null,null,null,null,null,null,null,null,null,null,null,null,null,"2031-04-12",{"$f":"WEEKDAY(S2774)","v":7},{"$f":"MONTH(S2774)","v":4},{"$f":"YEAR(S2774)","v":2031},{"$f":"T2774&U2774","v":"74"},{"$f":"IF(V2774&W2774=V2773&W2773,X2773+1,1)","v":2},{"$f":"V2774&U2774&T2774&X2774","v":"2031472"},{"$f":"S2774","v":"2031-04-12"}]
[null,null,null,null,null,null,null,null,null,null,null,null,null,null,null,null,null,null,"2031-04-19",{"$f":"WEEKDAY(S2775)","v":7},{"$f":"MONTH(S2775)","v":4},{"$f":"YEAR(S2775)","v":2031},{"$f":"T2775&U2775","v":"74"},{"$f":"IF(V2775&W2775=V2774&W2774,X2774+1,1)","v":3},{"$f":"V2775&U2775&T2775&X2775","v":"2031473"},{"$f":"S2775","v":"2031-04-19"}]
[null,null,null,null,null,null,null,null,null,null,null,null,null,null,null,null,null,null,"2031-04-26",{"$f":"WEEKDAY(S2776)","v":7},{"$f":"MONTH(S2776)","v":4},{"$f":"YEAR(S2776)","v":2031},{"$f":"T2776&U2776","v":"74"},{"$f":"IF(V2776&W2776=V2775&W2775,X2775+1,1)","v":4},{"$f":"V2776&U2776&T2776&X2776","v":"2031474"},{"$f":"S2776","v":"2031-04-26"}]
[null,null,null,null,null,null,null,null,null,null,null,null,null,null,null,null,null,null,"2031-05-04",{"$f":"WEEKDAY(S2777)","v":1},{"$f":"MONTH(S2777)","v":5},{"$f":"YEAR(S2777)","v":2031},{"$f":"T2777&U2777","v":"15"},{"$f":"IF(V2777&W2777=V2776&W2776,X2776+1,1)","v":1},{"$f":"V2777&U2777&T2777&X2777","v":"2031511"},{"$f":"S2777","v":"2031-05-04"}]
[null,null,null,null,null,null,null,null,null,null,null,null,null,null,null,null,null,null,"2031-05-11",{"$f":"WEEKDAY(S2778)","v":1},{"$f":"MONTH(S2778)","v":5},{"$f":"YEAR(S2778)","v":2031},{"$f":"T2778&U2778","v":"15"},{"$f":"IF(V2778&W2778=V2777&W2777,X2777+1,1)","v":2},{"$f":"V2778&U2778&T2778&X2778","v":"2031512"},{"$f":"S2778","v":"2031-05-11"}]
[null,null,null,null,null,null,null,null,null,null,null,null,null,null,null,null,null,null,"2031-05-18",{"$f":"WEEKDAY(S2779)","v":1},{"$f":"MONTH(S2779)","v":5},{"$f":"YEAR(S2779)","v":2031},{"$f":"T2779&U2779","v":"15"},{"$f":"IF(V2779&W2779=V2778&W2778,X2778+1,1)","v":3},{"$f":"V2779&U2779&T2779&X2779","v":"2031513"},{"$f":"S2779","v":"2031-05-18"}]
[null,null,null,null,null,null,null,null,null,null,null,null,null,null,null,null,null,null,"2031-05-25",{"$f":"WEEKDAY(S2780)","v":1},{"$f":"MONTH(S2780)","v":5},{"$f":"YEAR(S2780)","v":2031},{"$f":"T2780&U2780","v":"15"},{"$f":"IF(V2780&W2780=V2779&W2779,X2779+1,1)","v":4},{"$f":"V2780&U2780&T2780&X2780","v":"2031514"},{"$f":"S2780","v":"2031-05-25"}]
[null,null,null,null,null,null,null,null,null,null,null,null,null,null,null,null,null,null,"2031-05-05",{"$f":"WEEKDAY(S2781)","v":2},{"$f":"MONTH(S2781)","v":5},{"$f":"YEAR(S2781)","v":2031},{"$f":"T2781&U2781","v":"25"},{"$f":"IF(V2781&W2781=V2780&W2780,X2780+1,1)","v":1},{"$f":"V2781&U2781&T2781&X2781","v":"2031521"},{"$f":"S2781","v":"2031-05-05"}]
[null,null,null,null,null,null,null,null,null,null,null,null,null,null,null,null,null,null,"2031-05-12",{"$f":"WEEKDAY(S2782)","v":2},{"$f":"MONTH(S2782)","v":5},{"$f":"YEAR(S2782)","v":2031},{"$f":"T2782&U2782","v":"25"},{"$f":"IF(V2782&W2782=V2781&W2781,X2781+1,1)","v":2},{"$f":"V2782&U2782&T2782&X2782","v":"2031522"},{"$f":"S2782","v":"2031-05-12"}]
[null,null,null,null,null,null,null,null,null,null,null,null,null,null,null,null,null,null,"2031-05-19",{"$f":"WEEKDAY(S2783)","v":2},{"$f":"MONTH(S2783)","v":5},{"$f":"YEAR(S2783)","v":2031},{"$f":"T2783&U2783","v":"25"},{"$f":"IF(V2783&W2783=V2782&W2782,X2782+1,1)","v":3},{"$f":"V2783&U2783&T2783&X2783","v":"2031523"},{"$f":"S2783","v":"2031-05-19"}]
[null,null,null,null,null,null,null,null,null,null,null,null,null,null,null,null,null,null,"2031-05-26",{"$f":"WEEKDAY(S2784)","v":2},{"$f":"MONTH(S2784)","v":5},{"$f":"YEAR(S2784)","v":2031},{"$f":"T2784&U2784","v":"25"},{"$f":"IF(V2784&W2784=V2783&W2783,X2783+1,1)","v":4},{"$f":"V2784&U2784&T2784&X2784","v":"2031524"},{"$f":"S2784","v":"2031-05-26"}]
[null,null,null,null,null,null,null,null,null,null,null,null,null,null,null,null,null,null,"2031-05-06",{"$f":"WEEKDAY(S2785)","v":3},{"$f":"MONTH(S2785)","v":5},{"$f":"YEAR(S2785)","v":2031},{"$f":"T2785&U2785","v":"35"},{"$f":"IF(V2785&W2785=V2784&W2784,X2784+1,1)","v":1},{"$f":"V2785&U2785&T2785&X2785","v":"2031531"},{"$f":"S2785","v":"2031-05-06"}]
[null,null,null,null,null,null,null,null,null,null,null,null,null,null,null,null,null,null,"2031-05-13",{"$f":"WEEKDAY(S2786)","v":3},{"$f":"MONTH(S2786)","v":5},{"$f":"YEAR(S2786)","v":2031},{"$f":"T2786&U2786","v":"35"},{"$f":"IF(V2786&W2786=V2785&W2785,X2785+1,1)","v":2},{"$f":"V2786&U2786&T2786&X2786","v":"2031532"},{"$f":"S2786","v":"2031-05-13"}]
[null,null,null,null,null,null,null,null,null,null,null,null,null,null,null,null,null,null,"2031-05-20",{"$f":"WEEKDAY(S2787)","v":3},{"$f":"MONTH(S2787)","v":5},{"$f":"YEAR(S2787)","v":2031},{"$f":"T2787&U2787","v":"35"},{"$f":"IF(V2787&W2787=V2786&W2786,X2786+1,1)","v":3},{"$f":"V2787&U2787&T2787&X2787","v":"2031533"},{"$f":"S2787","v":"2031-05-20"}]
[null,null,null,null,null,null,null,null,null,null,null,null,null,null,null,null,null,null,"2031-05-27",{"$f":"WEEKDAY(S2788)","v":3},{"$f":"MONTH(S2788)","v":5},{"$f":"YEAR(S2788)","v":2031},{"$f":"T2788&U2788","v":"35"},{"$f":"IF(V2788&W2788=V2787&W2787,X2787+1,1)","v":4},{"$f":"V2788&U2788&T2788&X2788","v":"2031534"},{"$f":"S2788","v":"2031-05-27"}]
[null,null,null,null,null,null,null,null,null,null,null,null,null,null,null,null,null,null,"2031-05-07",{"$f":"WEEKDAY(S2789)","v":4},{"$f":"MONTH(S2789)","v":5},{"$f":"YEAR(S2789)","v":2031},{"$f":"T2789&U2789","v":"45"},{"$f":"IF(V2789&W2789=V2788&W2788,X2788+1,1)","v":1},{"$f":"V2789&U2789&T2789&X2789","v":"2031541"},{"$f":"S2789","v":"2031-05-07"}]
[null,null,null,null,null,null,null,null,null,null,null,null,null,null,null,null,null,null,"2031-05-14",{"$f":"WEEKDAY(S2790)","v":4},{"$f":"MONTH(S2790)","v":5},{"$f":"YEAR(S2790)","v":2031},{"$f":"T2790&U2790","v":"45"},{"$f":"IF(V2790&W2790=V2789&W2789,X2789+1,1)","v":2},{"$f":"V2790&U2790&T2790&X2790","v":"2031542"},{"$f":"S2790","v":"2031-05-14"}]
[null,null,null,null,null,null,null,null,null,null,null,null,null,null,null,null,null,null,"2031-05-21",{"$f":"WEEKDAY(S2791)","v":4},{"$f":"MONTH(S2791)","v":5},{"$f":"YEAR(S2791)","v":2031},{"$f":"T2791&U2791","v":"45"},{"$f":"IF(V2791&W2791=V2790&W2790,X2790+1,1)","v":3},{"$f":"V2791&U2791&T2791&X2791","v":"2031543"},{"$f":"S2791","v":"2031-05-21"}]
[null,null,null,null,null,null,null,null,null,null,null,null,null,null,null,null,null,null,"2031-05-28",{"$f":"WEEKDAY(S2792)","v":4},{"$f":"MONTH(S2792)","v":5},{"$f":"YEAR(S2792)","v":2031},{"$f":"T2792&U2792","v":"45"},{"$f":"IF(V2792&W2792=V2791&W2791,X2791+1,1)","v":4},{"$f":"V2792&U2792&T2792&X2792","v":"2031544"},{"$f":"S2792","v":"2031-05-28"}]
[null,null,null,null,null,null,null,null,null,null,null,null,null,null,null,null,null,null,"2031-05-01",{"$f":"WEEKDAY(S2793)","v":5},{"$f":"MONTH(S2793)","v":5},{"$f":"YEAR(S2793)","v":2031},{"$f":"T2793&U2793","v":"55"},{"$f":"IF(V2793&W2793=V2792&W2792,X2792+1,1)","v":1},{"$f":"V2793&U2793&T2793&X2793","v":"2031551"},{"$f":"S2793","v":"2031-05-01"}]
[null,null,null,null,null,null,null,null,null,null,null,null,null,null,null,null,null,null,"2031-05-08",{"$f":"WEEKDAY(S2794)","v":5},{"$f":"MONTH(S2794)","v":5},{"$f":"YEAR(S2794)","v":2031},{"$f":"T2794&U2794","v":"55"},{"$f":"IF(V2794&W2794=V2793&W2793,X2793+1,1)","v":2},{"$f":"V2794&U2794&T2794&X2794","v":"2031552"},{"$f":"S2794","v":"2031-05-08"}]
[null,null,null,null,null,null,null,null,null,null,null,null,null,null,null,null,null,null,"2031-05-15",{"$f":"WEEKDAY(S2795)","v":5},{"$f":"MONTH(S2795)","v":5},{"$f":"YEAR(S2795)","v":2031},{"$f":"T2795&U2795","v":"55"},{"$f":"IF(V2795&W2795=V2794&W2794,X2794+1,1)","v":3},{"$f":"V2795&U2795&T2795&X2795","v":"2031553"},{"$f":"S2795","v":"2031-05-15"}]
[null,null,null,null,null,null,null,null,null,null,null,null,null,null,null,null,null,null,"2031-05-22",{"$f":"WEEKDAY(S2796)","v":5},{"$f":"MONTH(S2796)","v":5},{"$f":"YEAR(S2796)","v":2031},{"$f":"T2796&U2796","v":"55"},{"$f":"IF(V2796&W2796=V2795&W2795,X2795+1,1)","v":4},{"$f":"V2796&U2796&T2796&X2796","v":"2031554"},{"$f":"S2796","v":"2031-05-22"}]
[null,null,null,null,null,null,null,null,null,null,null,null,null,null,null,null,null,null,"2031-05-29",{"$f":"WEEKDAY(S2797)","v":5},{"$f":"MONTH(S2797)","v":5},{"$f":"YEAR(S2797)","v":2031},{"$f":"T2797&U2797","v":"55"},{"$f":"IF(V2797&W2797=V2796&W2796,X2796+1,1)","v":5},{"$f":"V2797&U2797&T2797&X2797","v":"2031555"},{"$f":"S2797","v":"2031-05-29"}]
[null,null,null,null,null,null,null,null,null,null,null,null,null,null,null,null,null,null,"2031-05-02",{"$f":"WEEKDAY(S2798)","v":6},{"$f":"MONTH(S2798)","v":5},{"$f":"YEAR(S2798)","v":2031},{"$f":"T2798&U2798","v":"65"},{"$f":"IF(V2798&W2798=V2797&W2797,X2797+1,1)","v":1},{"$f":"V2798&U2798&T2798&X2798","v":"2031561"},{"$f":"S2798","v":"2031-05-02"}]
[null,null,null,null,null,null,null,null,null,null,null,null,null,null,null,null,null,null,"2031-05-09",{"$f":"WEEKDAY(S2799)","v":6},{"$f":"MONTH(S2799)","v":5},{"$f":"YEAR(S2799)","v":2031},{"$f":"T2799&U2799","v":"65"},{"$f":"IF(V2799&W2799=V2798&W2798,X2798+1,1)","v":2},{"$f":"V2799&U2799&T2799&X2799","v":"2031562"},{"$f":"S2799","v":"2031-05-09"}]
[null,null,null,null,null,null,null,null,null,null,null,null,null,null,null,null,null,null,"2031-05-16",{"$f":"WEEKDAY(S2800)","v":6},{"$f":"MONTH(S2800)","v":5},{"$f":"YEAR(S2800)","v":2031},{"$f":"T2800&U2800","v":"65"},{"$f":"IF(V2800&W2800=V2799&W2799,X2799+1,1)","v":3},{"$f":"V2800&U2800&T2800&X2800","v":"2031563"},{"$f":"S2800","v":"2031-05-16"}]
[null,null,null,null,null,null,null,null,null,null,null,null,null,null,null,null,null,null,"2031-05-23",{"$f":"WEEKDAY(S2801)","v":6},{"$f":"MONTH(S2801)","v":5},{"$f":"YEAR(S2801)","v":2031},{"$f":"T2801&U2801","v":"65"},{"$f":"IF(V2801&W2801=V2800&W2800,X2800+1,1)","v":4},{"$f":"V2801&U2801&T2801&X2801","v":"2031564"},{"$f":"S2801","v":"2031-05-23"}]
[null,null,null,null,null,null,null,null,null,null,null,null,null,null,null,null,null,null,"2031-05-30",{"$f":"WEEKDAY(S2802)","v":6},{"$f":"MONTH(S2802)","v":5},{"$f":"YEAR(S2802)","v":2031},{"$f":"T2802&U2802","v":"65"},{"$f":"IF(V2802&W2802=V2801&W2801,X2801+1,1)","v":5},{"$f":"V2802&U2802&T2802&X2802","v":"2031565"},{"$f":"S2802","v":"2031-05-30"}]
[null,null,null,null,null,null,null,null,null,null,null,null,null,null,null,null,null,null,"2031-05-03",{"$f":"WEEKDAY(S2803)","v":7},{"$f":"MONTH(S2803)","v":5},{"$f":"YEAR(S2803)","v":2031},{"$f":"T2803&U2803","v":"75"},{"$f":"IF(V2803&W2803=V2802&W2802,X2802+1,1)","v":1},{"$f":"V2803&U2803&T2803&X2803","v":"2031571"},{"$f":"S2803","v":"2031-05-03"}]
[null,null,null,null,null,null,null,null,null,null,null,null,null,null,null,null,null,null,"2031-05-10",{"$f":"WEEKDAY(S2804)","v":7},{"$f":"MONTH(S2804)","v":5},{"$f":"YEAR(S2804)","v":2031},{"$f":"T2804&U2804","v":"75"},{"$f":"IF(V2804&W2804=V2803&W2803,X2803+1,1)","v":2},{"$f":"V2804&U2804&T2804&X2804","v":"2031572"},{"$f":"S2804","v":"2031-05-10"}]
[null,null,null,null,null,null,null,null,null,null,null,null,null,null,null,null,null,null,"2031-05-17",{"$f":"WEEKDAY(S2805)","v":7},{"$f":"MONTH(S2805)","v":5},{"$f":"YEAR(S2805)","v":2031},{"$f":"T2805&U2805","v":"75"},{"$f":"IF(V2805&W2805=V2804&W2804,X2804+1,1)","v":3},{"$f":"V2805&U2805&T2805&X2805","v":"2031573"},{"$f":"S2805","v":"2031-05-17"}]
[null,null,null,null,null,null,null,null,null,null,null,null,null,null,null,null,null,null,"2031-05-24",{"$f":"WEEKDAY(S2806)","v":7},{"$f":"MONTH(S2806)","v":5},{"$f":"YEAR(S2806)","v":2031},{"$f":"T2806&U2806","v":"75"},{"$f":"IF(V2806&W2806=V2805&W2805,X2805+1,1)","v":4},{"$f":"V2806&U2806&T2806&X2806","v":"2031574"},{"$f":"S2806","v":"2031-05-24"}]
[null,null,null,null,null,null,null,null,null,null,null,null,null,null,null,null,null,null,"2031-05-31",{"$f":"WEEKDAY(S2807)","v":7},{"$f":"MONTH(S2807)","v":5},{"$f":"YEAR(S2807)","v":2031},{"$f":"T2807&U2807","v":"75"},{"$f":"IF(V2807&W2807=V2806&W2806,X2806+1,1)","v":5},{"$f":"V2807&U2807&T2807&X2807","v":"2031575"},{"$f":"S2807","v":"2031-05-31"}]
[null,null,null,null,null,null,null,null,null,null,null,null,null,null,null,null,null,null,"2031-06-01",{"$f":"WEEKDAY(S2808)","v":1},{"$f":"MONTH(S2808)","v":6},{"$f":"YEAR(S2808)","v":2031},{"$f":"T2808&U2808","v":"16"},{"$f":"IF(V2808&W2808=V2807&W2807,X2807+1,1)","v":1},{"$f":"V2808&U2808&T2808&X2808","v":"2031611"},{"$f":"S2808","v":"2031-06-01"}]
[null,null,null,null,null,null,null,null,null,null,null,null,null,null,null,null,null,null,"2031-06-08",{"$f":"WEEKDAY(S2809)","v":1},{"$f":"MONTH(S2809)","v":6},{"$f":"YEAR(S2809)","v":2031},{"$f":"T2809&U2809","v":"16"},{"$f":"IF(V2809&W2809=V2808&W2808,X2808+1,1)","v":2},{"$f":"V2809&U2809&T2809&X2809","v":"2031612"},{"$f":"S2809","v":"2031-06-08"}]
[null,null,null,null,null,null,null,null,null,null,null,null,null,null,null,null,null,null,"2031-06-15",{"$f":"WEEKDAY(S2810)","v":1},{"$f":"MONTH(S2810)","v":6},{"$f":"YEAR(S2810)","v":2031},{"$f":"T2810&U2810","v":"16"},{"$f":"IF(V2810&W2810=V2809&W2809,X2809+1,1)","v":3},{"$f":"V2810&U2810&T2810&X2810","v":"2031613"},{"$f":"S2810","v":"2031-06-15"}]
[null,null,null,null,null,null,null,null,null,null,null,null,null,null,null,null,null,null,"2031-06-22",{"$f":"WEEKDAY(S2811)","v":1},{"$f":"MONTH(S2811)","v":6},{"$f":"YEAR(S2811)","v":2031},{"$f":"T2811&U2811","v":"16"},{"$f":"IF(V2811&W2811=V2810&W2810,X2810+1,1)","v":4},{"$f":"V2811&U2811&T2811&X2811","v":"2031614"},{"$f":"S2811","v":"2031-06-22"}]
[null,null,null,null,null,null,null,null,null,null,null,null,null,null,null,null,null,null,"2031-06-29",{"$f":"WEEKDAY(S2812)","v":1},{"$f":"MONTH(S2812)","v":6},{"$f":"YEAR(S2812)","v":2031},{"$f":"T2812&U2812","v":"16"},{"$f":"IF(V2812&W2812=V2811&W2811,X2811+1,1)","v":5},{"$f":"V2812&U2812&T2812&X2812","v":"2031615"},{"$f":"S2812","v":"2031-06-29"}]
[null,null,null,null,null,null,null,null,null,null,null,null,null,null,null,null,null,null,"2031-06-02",{"$f":"WEEKDAY(S2813)","v":2},{"$f":"MONTH(S2813)","v":6},{"$f":"YEAR(S2813)","v":2031},{"$f":"T2813&U2813","v":"26"},{"$f":"IF(V2813&W2813=V2812&W2812,X2812+1,1)","v":1},{"$f":"V2813&U2813&T2813&X2813","v":"2031621"},{"$f":"S2813","v":"2031-06-02"}]
[null,null,null,null,null,null,null,null,null,null,null,null,null,null,null,null,null,null,"2031-06-09",{"$f":"WEEKDAY(S2814)","v":2},{"$f":"MONTH(S2814)","v":6},{"$f":"YEAR(S2814)","v":2031},{"$f":"T2814&U2814","v":"26"},{"$f":"IF(V2814&W2814=V2813&W2813,X2813+1,1)","v":2},{"$f":"V2814&U2814&T2814&X2814","v":"2031622"},{"$f":"S2814","v":"2031-06-09"}]
[null,null,null,null,null,null,null,null,null,null,null,null,null,null,null,null,null,null,"2031-06-16",{"$f":"WEEKDAY(S2815)","v":2},{"$f":"MONTH(S2815)","v":6},{"$f":"YEAR(S2815)","v":2031},{"$f":"T2815&U2815","v":"26"},{"$f":"IF(V2815&W2815=V2814&W2814,X2814+1,1)","v":3},{"$f":"V2815&U2815&T2815&X2815","v":"2031623"},{"$f":"S2815","v":"2031-06-16"}]
[null,null,null,null,null,null,null,null,null,null,null,null,null,null,null,null,null,null,"2031-06-23",{"$f":"WEEKDAY(S2816)","v":2},{"$f":"MONTH(S2816)","v":6},{"$f":"YEAR(S2816)","v":2031},{"$f":"T2816&U2816","v":"26"},{"$f":"IF(V2816&W2816=V2815&W2815,X2815+1,1)","v":4},{"$f":"V2816&U2816&T2816&X2816","v":"2031624"},{"$f":"S2816","v":"2031-06-23"}]
[null,null,null,null,null,null,null,null,null,null,null,null,null,null,null,null,null,null,"2031-06-30",{"$f":"WEEKDAY(S2817)","v":2},{"$f":"MONTH(S2817)","v":6},{"$f":"YEAR(S2817)","v":2031},{"$f":"T2817&U2817","v":"26"},{"$f":"IF(V2817&W2817=V2816&W2816,X2816+1,1)","v":5},{"$f":"V2817&U2817&T2817&X2817","v":"2031625"},{"$f":"S2817","v":"2031-06-30"}]
[null,null,null,null,null,null,null,null,null,null,null,null,null,null,null,null,null,null,"2031-06-03",{"$f":"WEEKDAY(S2818)","v":3},{"$f":"MONTH(S2818)","v":6},{"$f":"YEAR(S2818)","v":2031},{"$f":"T2818&U2818","v":"36"},{"$f":"IF(V2818&W2818=V2817&W2817,X2817+1,1)","v":1},{"$f":"V2818&U2818&T2818&X2818","v":"2031631"},{"$f":"S2818","v":"2031-06-03"}]
[null,null,null,null,null,null,null,null,null,null,null,null,null,null,null,null,null,null,"2031-06-10",{"$f":"WEEKDAY(S2819)","v":3},{"$f":"MONTH(S2819)","v":6},{"$f":"YEAR(S2819)","v":2031},{"$f":"T2819&U2819","v":"36"},{"$f":"IF(V2819&W2819=V2818&W2818,X2818+1,1)","v":2},{"$f":"V2819&U2819&T2819&X2819","v":"2031632"},{"$f":"S2819","v":"2031-06-10"}]
[null,null,null,null,null,null,null,null,null,null,null,null,null,null,null,null,null,null,"2031-06-17",{"$f":"WEEKDAY(S2820)","v":3},{"$f":"MONTH(S2820)","v":6},{"$f":"YEAR(S2820)","v":2031},{"$f":"T2820&U2820","v":"36"},{"$f":"IF(V2820&W2820=V2819&W2819,X2819+1,1)","v":3},{"$f":"V2820&U2820&T2820&X2820","v":"2031633"},{"$f":"S2820","v":"2031-06-17"}]
[null,null,null,null,null,null,null,null,null,null,null,null,null,null,null,null,null,null,"2031-06-24",{"$f":"WEEKDAY(S2821)","v":3},{"$f":"MONTH(S2821)","v":6},{"$f":"YEAR(S2821)","v":2031},{"$f":"T2821&U2821","v":"36"},{"$f":"IF(V2821&W2821=V2820&W2820,X2820+1,1)","v":4},{"$f":"V2821&U2821&T2821&X2821","v":"2031634"},{"$f":"S2821","v":"2031-06-24"}]
[null,null,null,null,null,null,null,null,null,null,null,null,null,null,null,null,null,null,"2031-06-04",{"$f":"WEEKDAY(S2822)","v":4},{"$f":"MONTH(S2822)","v":6},{"$f":"YEAR(S2822)","v":2031},{"$f":"T2822&U2822","v":"46"},{"$f":"IF(V2822&W2822=V2821&W2821,X2821+1,1)","v":1},{"$f":"V2822&U2822&T2822&X2822","v":"2031641"},{"$f":"S2822","v":"2031-06-04"}]
[null,null,null,null,null,null,null,null,null,null,null,null,null,null,null,null,null,null,"2031-06-11",{"$f":"WEEKDAY(S2823)","v":4},{"$f":"MONTH(S2823)","v":6},{"$f":"YEAR(S2823)","v":2031},{"$f":"T2823&U2823","v":"46"},{"$f":"IF(V2823&W2823=V2822&W2822,X2822+1,1)","v":2},{"$f":"V2823&U2823&T2823&X2823","v":"2031642"},{"$f":"S2823","v":"2031-06-11"}]
[null,null,null,null,null,null,null,null,null,null,null,null,null,null,null,null,null,null,"2031-06-18",{"$f":"WEEKDAY(S2824)","v":4},{"$f":"MONTH(S2824)","v":6},{"$f":"YEAR(S2824)","v":2031},{"$f":"T2824&U2824","v":"46"},{"$f":"IF(V2824&W2824=V2823&W2823,X2823+1,1)","v":3},{"$f":"V2824&U2824&T2824&X2824","v":"2031643"},{"$f":"S2824","v":"2031-06-18"}]
[null,null,null,null,null,null,null,null,null,null,null,null,null,null,null,null,null,null,"2031-06-25",{"$f":"WEEKDAY(S2825)","v":4},{"$f":"MONTH(S2825)","v":6},{"$f":"YEAR(S2825)","v":2031},{"$f":"T2825&U2825","v":"46"},{"$f":"IF(V2825&W2825=V2824&W2824,X2824+1,1)","v":4},{"$f":"V2825&U2825&T2825&X2825","v":"2031644"},{"$f":"S2825","v":"2031-06-25"}]
[null,null,null,null,null,null,null,null,null,null,null,null,null,null,null,null,null,null,"2031-06-05",{"$f":"WEEKDAY(S2826)","v":5},{"$f":"MONTH(S2826)","v":6},{"$f":"YEAR(S2826)","v":2031},{"$f":"T2826&U2826","v":"56"},{"$f":"IF(V2826&W2826=V2825&W2825,X2825+1,1)","v":1},{"$f":"V2826&U2826&T2826&X2826","v":"2031651"},{"$f":"S2826","v":"2031-06-05"}]
[null,null,null,null,null,null,null,null,null,null,null,null,null,null,null,null,null,null,"2031-06-12",{"$f":"WEEKDAY(S2827)","v":5},{"$f":"MONTH(S2827)","v":6},{"$f":"YEAR(S2827)","v":2031},{"$f":"T2827&U2827","v":"56"},{"$f":"IF(V2827&W2827=V2826&W2826,X2826+1,1)","v":2},{"$f":"V2827&U2827&T2827&X2827","v":"2031652"},{"$f":"S2827","v":"2031-06-12"}]
[null,null,null,null,null,null,null,null,null,null,null,null,null,null,null,null,null,null,"2031-06-19",{"$f":"WEEKDAY(S2828)","v":5},{"$f":"MONTH(S2828)","v":6},{"$f":"YEAR(S2828)","v":2031},{"$f":"T2828&U2828","v":"56"},{"$f":"IF(V2828&W2828=V2827&W2827,X2827+1,1)","v":3},{"$f":"V2828&U2828&T2828&X2828","v":"2031653"},{"$f":"S2828","v":"2031-06-19"}]
[null,null,null,null,null,null,null,null,null,null,null,null,null,null,null,null,null,null,"2031-06-26",{"$f":"WEEKDAY(S2829)","v":5},{"$f":"MONTH(S2829)","v":6},{"$f":"YEAR(S2829)","v":2031},{"$f":"T2829&U2829","v":"56"},{"$f":"IF(V2829&W2829=V2828&W2828,X2828+1,1)","v":4},{"$f":"V2829&U2829&T2829&X2829","v":"2031654"},{"$f":"S2829","v":"2031-06-26"}]
[null,null,null,null,null,null,null,null,null,null,null,null,null,null,null,null,null,null,"2031-06-06",{"$f":"WEEKDAY(S2830)","v":6},{"$f":"MONTH(S2830)","v":6},{"$f":"YEAR(S2830)","v":2031},{"$f":"T2830&U2830","v":"66"},{"$f":"IF(V2830&W2830=V2829&W2829,X2829+1,1)","v":1},{"$f":"V2830&U2830&T2830&X2830","v":"2031661"},{"$f":"S2830","v":"2031-06-06"}]
[null,null,null,null,null,null,null,null,null,null,null,null,null,null,null,null,null,null,"2031-06-13",{"$f":"WEEKDAY(S2831)","v":6},{"$f":"MONTH(S2831)","v":6},{"$f":"YEAR(S2831)","v":2031},{"$f":"T2831&U2831","v":"66"},{"$f":"IF(V2831&W2831=V2830&W2830,X2830+1,1)","v":2},{"$f":"V2831&U2831&T2831&X2831","v":"2031662"},{"$f":"S2831","v":"2031-06-13"}]
[null,null,null,null,null,null,null,null,null,null,null,null,null,null,null,null,null,null,"2031-06-20",{"$f":"WEEKDAY(S2832)","v":6},{"$f":"MONTH(S2832)","v":6},{"$f":"YEAR(S2832)","v":2031},{"$f":"T2832&U2832","v":"66"},{"$f":"IF(V2832&W2832=V2831&W2831,X2831+1,1)","v":3},{"$f":"V2832&U2832&T2832&X2832","v":"2031663"},{"$f":"S2832","v":"2031-06-20"}]
[null,null,null,null,null,null,null,null,null,null,null,null,null,null,null,null,null,null,"2031-06-27",{"$f":"WEEKDAY(S2833)","v":6},{"$f":"MONTH(S2833)","v":6},{"$f":"YEAR(S2833)","v":2031},{"$f":"T2833&U2833","v":"66"},{"$f":"IF(V2833&W2833=V2832&W2832,X2832+1,1)","v":4},{"$f":"V2833&U2833&T2833&X2833","v":"2031664"},{"$f":"S2833","v":"2031-06-27"}]
[null,null,null,null,null,null,null,null,null,null,null,null,null,null,null,null,null,null,"2031-06-07",{"$f":"WEEKDAY(S2834)","v":7},{"$f":"MONTH(S2834)","v":6},{"$f":"YEAR(S2834)","v":2031},{"$f":"T2834&U2834","v":"76"},{"$f":"IF(V2834&W2834=V2833&W2833,X2833+1,1)","v":1},{"$f":"V2834&U2834&T2834&X2834","v":"2031671"},{"$f":"S2834","v":"2031-06-07"}]
[null,null,null,null,null,null,null,null,null,null,null,null,null,null,null,null,null,null,"2031-06-14",{"$f":"WEEKDAY(S2835)","v":7},{"$f":"MONTH(S2835)","v":6},{"$f":"YEAR(S2835)","v":2031},{"$f":"T2835&U2835","v":"76"},{"$f":"IF(V2835&W2835=V2834&W2834,X2834+1,1)","v":2},{"$f":"V2835&U2835&T2835&X2835","v":"2031672"},{"$f":"S2835","v":"2031-06-14"}]
[null,null,null,null,null,null,null,null,null,null,null,null,null,null,null,null,null,null,"2031-06-21",{"$f":"WEEKDAY(S2836)","v":7},{"$f":"MONTH(S2836)","v":6},{"$f":"YEAR(S2836)","v":2031},{"$f":"T2836&U2836","v":"76"},{"$f":"IF(V2836&W2836=V2835&W2835,X2835+1,1)","v":3},{"$f":"V2836&U2836&T2836&X2836","v":"2031673"},{"$f":"S2836","v":"2031-06-21"}]
[null,null,null,null,null,null,null,null,null,null,null,null,null,null,null,null,null,null,"2031-06-28",{"$f":"WEEKDAY(S2837)","v":7},{"$f":"MONTH(S2837)","v":6},{"$f":"YEAR(S2837)","v":2031},{"$f":"T2837&U2837","v":"76"},{"$f":"IF(V2837&W2837=V2836&W2836,X2836+1,1)","v":4},{"$f":"V2837&U2837&T2837&X2837","v":"2031674"},{"$f":"S2837","v":"2031-06-28"}]
[null,null,null,null,null,null,null,null,null,null,null,null,null,null,null,null,null,null,"2031-07-06",{"$f":"WEEKDAY(S2838)","v":1},{"$f":"MONTH(S2838)","v":7},{"$f":"YEAR(S2838)","v":2031},{"$f":"T2838&U2838","v":"17"},{"$f":"IF(V2838&W2838=V2837&W2837,X2837+1,1)","v":1},{"$f":"V2838&U2838&T2838&X2838","v":"2031711"},{"$f":"S2838","v":"2031-07-06"}]
[null,null,null,null,null,null,null,null,null,null,null,null,null,null,null,null,null,null,"2031-07-13",{"$f":"WEEKDAY(S2839)","v":1},{"$f":"MONTH(S2839)","v":7},{"$f":"YEAR(S2839)","v":2031},{"$f":"T2839&U2839","v":"17"},{"$f":"IF(V2839&W2839=V2838&W2838,X2838+1,1)","v":2},{"$f":"V2839&U2839&T2839&X2839","v":"2031712"},{"$f":"S2839","v":"2031-07-13"}]
[null,null,null,null,null,null,null,null,null,null,null,null,null,null,null,null,null,null,"2031-07-20",{"$f":"WEEKDAY(S2840)","v":1},{"$f":"MONTH(S2840)","v":7},{"$f":"YEAR(S2840)","v":2031},{"$f":"T2840&U2840","v":"17"},{"$f":"IF(V2840&W2840=V2839&W2839,X2839+1,1)","v":3},{"$f":"V2840&U2840&T2840&X2840","v":"2031713"},{"$f":"S2840","v":"2031-07-20"}]
[null,null,null,null,null,null,null,null,null,null,null,null,null,null,null,null,null,null,"2031-07-27",{"$f":"WEEKDAY(S2841)","v":1},{"$f":"MONTH(S2841)","v":7},{"$f":"YEAR(S2841)","v":2031},{"$f":"T2841&U2841","v":"17"},{"$f":"IF(V2841&W2841=V2840&W2840,X2840+1,1)","v":4},{"$f":"V2841&U2841&T2841&X2841","v":"2031714"},{"$f":"S2841","v":"2031-07-27"}]
[null,null,null,null,null,null,null,null,null,null,null,null,null,null,null,null,null,null,"2031-07-07",{"$f":"WEEKDAY(S2842)","v":2},{"$f":"MONTH(S2842)","v":7},{"$f":"YEAR(S2842)","v":2031},{"$f":"T2842&U2842","v":"27"},{"$f":"IF(V2842&W2842=V2841&W2841,X2841+1,1)","v":1},{"$f":"V2842&U2842&T2842&X2842","v":"2031721"},{"$f":"S2842","v":"2031-07-07"}]
[null,null,null,null,null,null,null,null,null,null,null,null,null,null,null,null,null,null,"2031-07-14",{"$f":"WEEKDAY(S2843)","v":2},{"$f":"MONTH(S2843)","v":7},{"$f":"YEAR(S2843)","v":2031},{"$f":"T2843&U2843","v":"27"},{"$f":"IF(V2843&W2843=V2842&W2842,X2842+1,1)","v":2},{"$f":"V2843&U2843&T2843&X2843","v":"2031722"},{"$f":"S2843","v":"2031-07-14"}]
[null,null,null,null,null,null,null,null,null,null,null,null,null,null,null,null,null,null,"2031-07-21",{"$f":"WEEKDAY(S2844)","v":2},{"$f":"MONTH(S2844)","v":7},{"$f":"YEAR(S2844)","v":2031},{"$f":"T2844&U2844","v":"27"},{"$f":"IF(V2844&W2844=V2843&W2843,X2843+1,1)","v":3},{"$f":"V2844&U2844&T2844&X2844","v":"2031723"},{"$f":"S2844","v":"2031-07-21"}]
[null,null,null,null,null,null,null,null,null,null,null,null,null,null,null,null,null,null,"2031-07-28",{"$f":"WEEKDAY(S2845)","v":2},{"$f":"MONTH(S2845)","v":7},{"$f":"YEAR(S2845)","v":2031},{"$f":"T2845&U2845","v":"27"},{"$f":"IF(V2845&W2845=V2844&W2844,X2844+1,1)","v":4},{"$f":"V2845&U2845&T2845&X2845","v":"2031724"},{"$f":"S2845","v":"2031-07-28"}]
[null,null,null,null,null,null,null,null,null,null,null,null,null,null,null,null,null,null,"2031-07-01",{"$f":"WEEKDAY(S2846)","v":3},{"$f":"MONTH(S2846)","v":7},{"$f":"YEAR(S2846)","v":2031},{"$f":"T2846&U2846","v":"37"},{"$f":"IF(V2846&W2846=V2845&W2845,X2845+1,1)","v":1},{"$f":"V2846&U2846&T2846&X2846","v":"2031731"},{"$f":"S2846","v":"2031-07-01"}]
[null,null,null,null,null,null,null,null,null,null,null,null,null,null,null,null,null,null,"2031-07-08",{"$f":"WEEKDAY(S2847)","v":3},{"$f":"MONTH(S2847)","v":7},{"$f":"YEAR(S2847)","v":2031},{"$f":"T2847&U2847","v":"37"},{"$f":"IF(V2847&W2847=V2846&W2846,X2846+1,1)","v":2},{"$f":"V2847&U2847&T2847&X2847","v":"2031732"},{"$f":"S2847","v":"2031-07-08"}]
[null,null,null,null,null,null,null,null,null,null,null,null,null,null,null,null,null,null,"2031-07-15",{"$f":"WEEKDAY(S2848)","v":3},{"$f":"MONTH(S2848)","v":7},{"$f":"YEAR(S2848)","v":2031},{"$f":"T2848&U2848","v":"37"},{"$f":"IF(V2848&W2848=V2847&W2847,X2847+1,1)","v":3},{"$f":"V2848&U2848&T2848&X2848","v":"2031733"},{"$f":"S2848","v":"2031-07-15"}]
[null,null,null,null,null,null,null,null,null,null,null,null,null,null,null,null,null,null,"2031-07-22",{"$f":"WEEKDAY(S2849)","v":3},{"$f":"MONTH(S2849)","v":7},{"$f":"YEAR(S2849)","v":2031},{"$f":"T2849&U2849","v":"37"},{"$f":"IF(V2849&W2849=V2848&W2848,X2848+1,1)","v":4},{"$f":"V2849&U2849&T2849&X2849","v":"2031734"},{"$f":"S2849","v":"2031-07-22"}]
[null,null,null,null,null,null,null,null,null,null,null,null,null,null,null,null,null,null,"2031-07-29",{"$f":"WEEKDAY(S2850)","v":3},{"$f":"MONTH(S2850)","v":7},{"$f":"YEAR(S2850)","v":2031},{"$f":"T2850&U2850","v":"37"},{"$f":"IF(V2850&W2850=V2849&W2849,X2849+1,1)","v":5},{"$f":"V2850&U2850&T2850&X2850","v":"2031735"},{"$f":"S2850","v":"2031-07-29"}]
[null,null,null,null,null,null,null,null,null,null,null,null,null,null,null,null,null,null,"2031-07-02",{"$f":"WEEKDAY(S2851)","v":4},{"$f":"MONTH(S2851)","v":7},{"$f":"YEAR(S2851)","v":2031},{"$f":"T2851&U2851","v":"47"},{"$f":"IF(V2851&W2851=V2850&W2850,X2850+1,1)","v":1},{"$f":"V2851&U2851&T2851&X2851","v":"2031741"},{"$f":"S2851","v":"2031-07-02"}]
[null,null,null,null,null,null,null,null,null,null,null,null,null,null,null,null,null,null,"2031-07-09",{"$f":"WEEKDAY(S2852)","v":4},{"$f":"MONTH(S2852)","v":7},{"$f":"YEAR(S2852)","v":2031},{"$f":"T2852&U2852","v":"47"},{"$f":"IF(V2852&W2852=V2851&W2851,X2851+1,1)","v":2},{"$f":"V2852&U2852&T2852&X2852","v":"2031742"},{"$f":"S2852","v":"2031-07-09"}]
[null,null,null,null,null,null,null,null,null,null,null,null,null,null,null,null,null,null,"2031-07-16",{"$f":"WEEKDAY(S2853)","v":4},{"$f":"MONTH(S2853)","v":7},{"$f":"YEAR(S2853)","v":2031},{"$f":"T2853&U2853","v":"47"},{"$f":"IF(V2853&W2853=V2852&W2852,X2852+1,1)","v":3},{"$f":"V2853&U2853&T2853&X2853","v":"2031743"},{"$f":"S2853","v":"2031-07-16"}]
[null,null,null,null,null,null,null,null,null,null,null,null,null,null,null,null,null,null,"2031-07-23",{"$f":"WEEKDAY(S2854)","v":4},{"$f":"MONTH(S2854)","v":7},{"$f":"YEAR(S2854)","v":2031},{"$f":"T2854&U2854","v":"47"},{"$f":"IF(V2854&W2854=V2853&W2853,X2853+1,1)","v":4},{"$f":"V2854&U2854&T2854&X2854","v":"2031744"},{"$f":"S2854","v":"2031-07-23"}]
[null,null,null,null,null,null,null,null,null,null,null,null,null,null,null,null,null,null,"2031-07-30",{"$f":"WEEKDAY(S2855)","v":4},{"$f":"MONTH(S2855)","v":7},{"$f":"YEAR(S2855)","v":2031},{"$f":"T2855&U2855","v":"47"},{"$f":"IF(V2855&W2855=V2854&W2854,X2854+1,1)","v":5},{"$f":"V2855&U2855&T2855&X2855","v":"2031745"},{"$f":"S2855","v":"2031-07-30"}]
[null,null,null,null,null,null,null,null,null,null,null,null,null,null,null,null,null,null,"2031-07-03",{"$f":"WEEKDAY(S2856)","v":5},{"$f":"MONTH(S2856)","v":7},{"$f":"YEAR(S2856)","v":2031},{"$f":"T2856&U2856","v":"57"},{"$f":"IF(V2856&W2856=V2855&W2855,X2855+1,1)","v":1},{"$f":"V2856&U2856&T2856&X2856","v":"2031751"},{"$f":"S2856","v":"2031-07-03"}]
[null,null,null,null,null,null,null,null,null,null,null,null,null,null,null,null,null,null,"2031-07-10",{"$f":"WEEKDAY(S2857)","v":5},{"$f":"MONTH(S2857)","v":7},{"$f":"YEAR(S2857)","v":2031},{"$f":"T2857&U2857","v":"57"},{"$f":"IF(V2857&W2857=V2856&W2856,X2856+1,1)","v":2},{"$f":"V2857&U2857&T2857&X2857","v":"2031752"},{"$f":"S2857","v":"2031-07-10"}]
[null,null,null,null,null,null,null,null,null,null,null,null,null,null,null,null,null,null,"2031-07-17",{"$f":"WEEKDAY(S2858)","v":5},{"$f":"MONTH(S2858)","v":7},{"$f":"YEAR(S2858)","v":2031},{"$f":"T2858&U2858","v":"57"},{"$f":"IF(V2858&W2858=V2857&W2857,X2857+1,1)","v":3},{"$f":"V2858&U2858&T2858&X2858","v":"2031753"},{"$f":"S2858","v":"2031-07-17"}]
[null,null,null,null,null,null,null,null,null,null,null,null,null,null,null,null,null,null,"2031-07-24",{"$f":"WEEKDAY(S2859)","v":5},{"$f":"MONTH(S2859)","v":7},{"$f":"YEAR(S2859)","v":2031},{"$f":"T2859&U2859","v":"57"},{"$f":"IF(V2859&W2859=V2858&W2858,X2858+1,1)","v":4},{"$f":"V2859&U2859&T2859&X2859","v":"2031754"},{"$f":"S2859","v":"2031-07-24"}]
[null,null,null,null,null,null,null,null,null,null,null,null,null,null,null,null,null,null,"2031-07-31",{"$f":"WEEKDAY(S2860)","v":5},{"$f":"MONTH(S2860)","v":7},{"$f":"YEAR(S2860)","v":2031},{"$f":"T2860&U2860","v":"57"},{"$f":"IF(V2860&W2860=V2859&W2859,X2859+1,1)","v":5},{"$f":"V2860&U2860&T2860&X2860","v":"2031755"},{"$f":"S2860","v":"2031-07-31"}]
[null,null,null,null,null,null,null,null,null,null,null,null,null,null,null,null,null,null,"2031-07-04",{"$f":"WEEKDAY(S2861)","v":6},{"$f":"MONTH(S2861)","v":7},{"$f":"YEAR(S2861)","v":2031},{"$f":"T2861&U2861","v":"67"},{"$f":"IF(V2861&W2861=V2860&W2860,X2860+1,1)","v":1},{"$f":"V2861&U2861&T2861&X2861","v":"2031761"},{"$f":"S2861","v":"2031-07-04"}]
[null,null,null,null,null,null,null,null,null,null,null,null,null,null,null,null,null,null,"2031-07-11",{"$f":"WEEKDAY(S2862)","v":6},{"$f":"MONTH(S2862)","v":7},{"$f":"YEAR(S2862)","v":2031},{"$f":"T2862&U2862","v":"67"},{"$f":"IF(V2862&W2862=V2861&W2861,X2861+1,1)","v":2},{"$f":"V2862&U2862&T2862&X2862","v":"2031762"},{"$f":"S2862","v":"2031-07-11"}]
[null,null,null,null,null,null,null,null,null,null,null,null,null,null,null,null,null,null,"2031-07-18",{"$f":"WEEKDAY(S2863)","v":6},{"$f":"MONTH(S2863)","v":7},{"$f":"YEAR(S2863)","v":2031},{"$f":"T2863&U2863","v":"67"},{"$f":"IF(V2863&W2863=V2862&W2862,X2862+1,1)","v":3},{"$f":"V2863&U2863&T2863&X2863","v":"2031763"},{"$f":"S2863","v":"2031-07-18"}]
[null,null,null,null,null,null,null,null,null,null,null,null,null,null,null,null,null,null,"2031-07-25",{"$f":"WEEKDAY(S2864)","v":6},{"$f":"MONTH(S2864)","v":7},{"$f":"YEAR(S2864)","v":2031},{"$f":"T2864&U2864","v":"67"},{"$f":"IF(V2864&W2864=V2863&W2863,X2863+1,1)","v":4},{"$f":"V2864&U2864&T2864&X2864","v":"2031764"},{"$f":"S2864","v":"2031-07-25"}]
[null,null,null,null,null,null,null,null,null,null,null,null,null,null,null,null,null,null,"2031-07-05",{"$f":"WEEKDAY(S2865)","v":7},{"$f":"MONTH(S2865)","v":7},{"$f":"YEAR(S2865)","v":2031},{"$f":"T2865&U2865","v":"77"},{"$f":"IF(V2865&W2865=V2864&W2864,X2864+1,1)","v":1},{"$f":"V2865&U2865&T2865&X2865","v":"2031771"},{"$f":"S2865","v":"2031-07-05"}]
[null,null,null,null,null,null,null,null,null,null,null,null,null,null,null,null,null,null,"2031-07-12",{"$f":"WEEKDAY(S2866)","v":7},{"$f":"MONTH(S2866)","v":7},{"$f":"YEAR(S2866)","v":2031},{"$f":"T2866&U2866","v":"77"},{"$f":"IF(V2866&W2866=V2865&W2865,X2865+1,1)","v":2},{"$f":"V2866&U2866&T2866&X2866","v":"2031772"},{"$f":"S2866","v":"2031-07-12"}]
[null,null,null,null,null,null,null,null,null,null,null,null,null,null,null,null,null,null,"2031-07-19",{"$f":"WEEKDAY(S2867)","v":7},{"$f":"MONTH(S2867)","v":7},{"$f":"YEAR(S2867)","v":2031},{"$f":"T2867&U2867","v":"77"},{"$f":"IF(V2867&W2867=V2866&W2866,X2866+1,1)","v":3},{"$f":"V2867&U2867&T2867&X2867","v":"2031773"},{"$f":"S2867","v":"2031-07-19"}]
[null,null,null,null,null,null,null,null,null,null,null,null,null,null,null,null,null,null,"2031-07-26",{"$f":"WEEKDAY(S2868)","v":7},{"$f":"MONTH(S2868)","v":7},{"$f":"YEAR(S2868)","v":2031},{"$f":"T2868&U2868","v":"77"},{"$f":"IF(V2868&W2868=V2867&W2867,X2867+1,1)","v":4},{"$f":"V2868&U2868&T2868&X2868","v":"2031774"},{"$f":"S2868","v":"2031-07-26"}]
[null,null,null,null,null,null,null,null,null,null,null,null,null,null,null,null,null,null,"2031-08-03",{"$f":"WEEKDAY(S2869)","v":1},{"$f":"MONTH(S2869)","v":8},{"$f":"YEAR(S2869)","v":2031},{"$f":"T2869&U2869","v":"18"},{"$f":"IF(V2869&W2869=V2868&W2868,X2868+1,1)","v":1},{"$f":"V2869&U2869&T2869&X2869","v":"2031811"},{"$f":"S2869","v":"2031-08-03"}]
[null,null,null,null,null,null,null,null,null,null,null,null,null,null,null,null,null,null,"2031-08-10",{"$f":"WEEKDAY(S2870)","v":1},{"$f":"MONTH(S2870)","v":8},{"$f":"YEAR(S2870)","v":2031},{"$f":"T2870&U2870","v":"18"},{"$f":"IF(V2870&W2870=V2869&W2869,X2869+1,1)","v":2},{"$f":"V2870&U2870&T2870&X2870","v":"2031812"},{"$f":"S2870","v":"2031-08-10"}]
[null,null,null,null,null,null,null,null,null,null,null,null,null,null,null,null,null,null,"2031-08-17",{"$f":"WEEKDAY(S2871)","v":1},{"$f":"MONTH(S2871)","v":8},{"$f":"YEAR(S2871)","v":2031},{"$f":"T2871&U2871","v":"18"},{"$f":"IF(V2871&W2871=V2870&W2870,X2870+1,1)","v":3},{"$f":"V2871&U2871&T2871&X2871","v":"2031813"},{"$f":"S2871","v":"2031-08-17"}]
[null,null,null,null,null,null,null,null,null,null,null,null,null,null,null,null,null,null,"2031-08-24",{"$f":"WEEKDAY(S2872)","v":1},{"$f":"MONTH(S2872)","v":8},{"$f":"YEAR(S2872)","v":2031},{"$f":"T2872&U2872","v":"18"},{"$f":"IF(V2872&W2872=V2871&W2871,X2871+1,1)","v":4},{"$f":"V2872&U2872&T2872&X2872","v":"2031814"},{"$f":"S2872","v":"2031-08-24"}]
[null,null,null,null,null,null,null,null,null,null,null,null,null,null,null,null,null,null,"2031-08-31",{"$f":"WEEKDAY(S2873)","v":1},{"$f":"MONTH(S2873)","v":8},{"$f":"YEAR(S2873)","v":2031},{"$f":"T2873&U2873","v":"18"},{"$f":"IF(V2873&W2873=V2872&W2872,X2872+1,1)","v":5},{"$f":"V2873&U2873&T2873&X2873","v":"2031815"},{"$f":"S2873","v":"2031-08-31"}]
[null,null,null,null,null,null,null,null,null,null,null,null,null,null,null,null,null,null,"2031-08-04",{"$f":"WEEKDAY(S2874)","v":2},{"$f":"MONTH(S2874)","v":8},{"$f":"YEAR(S2874)","v":2031},{"$f":"T2874&U2874","v":"28"},{"$f":"IF(V2874&W2874=V2873&W2873,X2873+1,1)","v":1},{"$f":"V2874&U2874&T2874&X2874","v":"2031821"},{"$f":"S2874","v":"2031-08-04"}]
[null,null,null,null,null,null,null,null,null,null,null,null,null,null,null,null,null,null,"2031-08-11",{"$f":"WEEKDAY(S2875)","v":2},{"$f":"MONTH(S2875)","v":8},{"$f":"YEAR(S2875)","v":2031},{"$f":"T2875&U2875","v":"28"},{"$f":"IF(V2875&W2875=V2874&W2874,X2874+1,1)","v":2},{"$f":"V2875&U2875&T2875&X2875","v":"2031822"},{"$f":"S2875","v":"2031-08-11"}]
[null,null,null,null,null,null,null,null,null,null,null,null,null,null,null,null,null,null,"2031-08-18",{"$f":"WEEKDAY(S2876)","v":2},{"$f":"MONTH(S2876)","v":8},{"$f":"YEAR(S2876)","v":2031},{"$f":"T2876&U2876","v":"28"},{"$f":"IF(V2876&W2876=V2875&W2875,X2875+1,1)","v":3},{"$f":"V2876&U2876&T2876&X2876","v":"2031823"},{"$f":"S2876","v":"2031-08-18"}]
[null,null,null,null,null,null,null,null,null,null,null,null,null,null,null,null,null,null,"2031-08-25",{"$f":"WEEKDAY(S2877)","v":2},{"$f":"MONTH(S2877)","v":8},{"$f":"YEAR(S2877)","v":2031},{"$f":"T2877&U2877","v":"28"},{"$f":"IF(V2877&W2877=V2876&W2876,X2876+1,1)","v":4},{"$f":"V2877&U2877&T2877&X2877","v":"2031824"},{"$f":"S2877","v":"2031-08-25"}]
[null,null,null,null,null,null,null,null,null,null,null,null,null,null,null,null,null,null,"2031-08-05",{"$f":"WEEKDAY(S2878)","v":3},{"$f":"MONTH(S2878)","v":8},{"$f":"YEAR(S2878)","v":2031},{"$f":"T2878&U2878","v":"38"},{"$f":"IF(V2878&W2878=V2877&W2877,X2877+1,1)","v":1},{"$f":"V2878&U2878&T2878&X2878","v":"2031831"},{"$f":"S2878","v":"2031-08-05"}]
[null,null,null,null,null,null,null,null,null,null,null,null,null,null,null,null,null,null,"2031-08-12",{"$f":"WEEKDAY(S2879)","v":3},{"$f":"MONTH(S2879)","v":8},{"$f":"YEAR(S2879)","v":2031},{"$f":"T2879&U2879","v":"38"},{"$f":"IF(V2879&W2879=V2878&W2878,X2878+1,1)","v":2},{"$f":"V2879&U2879&T2879&X2879","v":"2031832"},{"$f":"S2879","v":"2031-08-12"}]
[null,null,null,null,null,null,null,null,null,null,null,null,null,null,null,null,null,null,"2031-08-19",{"$f":"WEEKDAY(S2880)","v":3},{"$f":"MONTH(S2880)","v":8},{"$f":"YEAR(S2880)","v":2031},{"$f":"T2880&U2880","v":"38"},{"$f":"IF(V2880&W2880=V2879&W2879,X2879+1,1)","v":3},{"$f":"V2880&U2880&T2880&X2880","v":"2031833"},{"$f":"S2880","v":"2031-08-19"}]
[null,null,null,null,null,null,null,null,null,null,null,null,null,null,null,null,null,null,"2031-08-26",{"$f":"WEEKDAY(S2881)","v":3},{"$f":"MONTH(S2881)","v":8},{"$f":"YEAR(S2881)","v":2031},{"$f":"T2881&U2881","v":"38"},{"$f":"IF(V2881&W2881=V2880&W2880,X2880+1,1)","v":4},{"$f":"V2881&U2881&T2881&X2881","v":"2031834"},{"$f":"S2881","v":"2031-08-26"}]
[null,null,null,null,null,null,null,null,null,null,null,null,null,null,null,null,null,null,"2031-08-06",{"$f":"WEEKDAY(S2882)","v":4},{"$f":"MONTH(S2882)","v":8},{"$f":"YEAR(S2882)","v":2031},{"$f":"T2882&U2882","v":"48"},{"$f":"IF(V2882&W2882=V2881&W2881,X2881+1,1)","v":1},{"$f":"V2882&U2882&T2882&X2882","v":"2031841"},{"$f":"S2882","v":"2031-08-06"}]
[null,null,null,null,null,null,null,null,null,null,null,null,null,null,null,null,null,null,"2031-08-13",{"$f":"WEEKDAY(S2883)","v":4},{"$f":"MONTH(S2883)","v":8},{"$f":"YEAR(S2883)","v":2031},{"$f":"T2883&U2883","v":"48"},{"$f":"IF(V2883&W2883=V2882&W2882,X2882+1,1)","v":2},{"$f":"V2883&U2883&T2883&X2883","v":"2031842"},{"$f":"S2883","v":"2031-08-13"}]
[null,null,null,null,null,null,null,null,null,null,null,null,null,null,null,null,null,null,"2031-08-20",{"$f":"WEEKDAY(S2884)","v":4},{"$f":"MONTH(S2884)","v":8},{"$f":"YEAR(S2884)","v":2031},{"$f":"T2884&U2884","v":"48"},{"$f":"IF(V2884&W2884=V2883&W2883,X2883+1,1)","v":3},{"$f":"V2884&U2884&T2884&X2884","v":"2031843"},{"$f":"S2884","v":"2031-08-20"}]
[null,null,null,null,null,null,null,null,null,null,null,null,null,null,null,null,null,null,"2031-08-27",{"$f":"WEEKDAY(S2885)","v":4},{"$f":"MONTH(S2885)","v":8},{"$f":"YEAR(S2885)","v":2031},{"$f":"T2885&U2885","v":"48"},{"$f":"IF(V2885&W2885=V2884&W2884,X2884+1,1)","v":4},{"$f":"V2885&U2885&T2885&X2885","v":"2031844"},{"$f":"S2885","v":"2031-08-27"}]
[null,null,null,null,null,null,null,null,null,null,null,null,null,null,null,null,null,null,"2031-08-07",{"$f":"WEEKDAY(S2886)","v":5},{"$f":"MONTH(S2886)","v":8},{"$f":"YEAR(S2886)","v":2031},{"$f":"T2886&U2886","v":"58"},{"$f":"IF(V2886&W2886=V2885&W2885,X2885+1,1)","v":1},{"$f":"V2886&U2886&T2886&X2886","v":"2031851"},{"$f":"S2886","v":"2031-08-07"}]
[null,null,null,null,null,null,null,null,null,null,null,null,null,null,null,null,null,null,"2031-08-14",{"$f":"WEEKDAY(S2887)","v":5},{"$f":"MONTH(S2887)","v":8},{"$f":"YEAR(S2887)","v":2031},{"$f":"T2887&U2887","v":"58"},{"$f":"IF(V2887&W2887=V2886&W2886,X2886+1,1)","v":2},{"$f":"V2887&U2887&T2887&X2887","v":"2031852"},{"$f":"S2887","v":"2031-08-14"}]
[null,null,null,null,null,null,null,null,null,null,null,null,null,null,null,null,null,null,"2031-08-21",{"$f":"WEEKDAY(S2888)","v":5},{"$f":"MONTH(S2888)","v":8},{"$f":"YEAR(S2888)","v":2031},{"$f":"T2888&U2888","v":"58"},{"$f":"IF(V2888&W2888=V2887&W2887,X2887+1,1)","v":3},{"$f":"V2888&U2888&T2888&X2888","v":"2031853"},{"$f":"S2888","v":"2031-08-21"}]
[null,null,null,null,null,null,null,null,null,null,null,null,null,null,null,null,null,null,"2031-08-28",{"$f":"WEEKDAY(S2889)","v":5},{"$f":"MONTH(S2889)","v":8},{"$f":"YEAR(S2889)","v":2031},{"$f":"T2889&U2889","v":"58"},{"$f":"IF(V2889&W2889=V2888&W2888,X2888+1,1)","v":4},{"$f":"V2889&U2889&T2889&X2889","v":"2031854"},{"$f":"S2889","v":"2031-08-28"}]
[null,null,null,null,null,null,null,null,null,null,null,null,null,null,null,null,null,null,"2031-08-01",{"$f":"WEEKDAY(S2890)","v":6},{"$f":"MONTH(S2890)","v":8},{"$f":"YEAR(S2890)","v":2031},{"$f":"T2890&U2890","v":"68"},{"$f":"IF(V2890&W2890=V2889&W2889,X2889+1,1)","v":1},{"$f":"V2890&U2890&T2890&X2890","v":"2031861"},{"$f":"S2890","v":"2031-08-01"}]
[null,null,null,null,null,null,null,null,null,null,null,null,null,null,null,null,null,null,"2031-08-08",{"$f":"WEEKDAY(S2891)","v":6},{"$f":"MONTH(S2891)","v":8},{"$f":"YEAR(S2891)","v":2031},{"$f":"T2891&U2891","v":"68"},{"$f":"IF(V2891&W2891=V2890&W2890,X2890+1,1)","v":2},{"$f":"V2891&U2891&T2891&X2891","v":"2031862"},{"$f":"S2891","v":"2031-08-08"}]
[null,null,null,null,null,null,null,null,null,null,null,null,null,null,null,null,null,null,"2031-08-15",{"$f":"WEEKDAY(S2892)","v":6},{"$f":"MONTH(S2892)","v":8},{"$f":"YEAR(S2892)","v":2031},{"$f":"T2892&U2892","v":"68"},{"$f":"IF(V2892&W2892=V2891&W2891,X2891+1,1)","v":3},{"$f":"V2892&U2892&T2892&X2892","v":"2031863"},{"$f":"S2892","v":"2031-08-15"}]
[null,null,null,null,null,null,null,null,null,null,null,null,null,null,null,null,null,null,"2031-08-22",{"$f":"WEEKDAY(S2893)","v":6},{"$f":"MONTH(S2893)","v":8},{"$f":"YEAR(S2893)","v":2031},{"$f":"T2893&U2893","v":"68"},{"$f":"IF(V2893&W2893=V2892&W2892,X2892+1,1)","v":4},{"$f":"V2893&U2893&T2893&X2893","v":"2031864"},{"$f":"S2893","v":"2031-08-22"}]
[null,null,null,null,null,null,null,null,null,null,null,null,null,null,null,null,null,null,"2031-08-29",{"$f":"WEEKDAY(S2894)","v":6},{"$f":"MONTH(S2894)","v":8},{"$f":"YEAR(S2894)","v":2031},{"$f":"T2894&U2894","v":"68"},{"$f":"IF(V2894&W2894=V2893&W2893,X2893+1,1)","v":5},{"$f":"V2894&U2894&T2894&X2894","v":"2031865"},{"$f":"S2894","v":"2031-08-29"}]
[null,null,null,null,null,null,null,null,null,null,null,null,null,null,null,null,null,null,"2031-08-02",{"$f":"WEEKDAY(S2895)","v":7},{"$f":"MONTH(S2895)","v":8},{"$f":"YEAR(S2895)","v":2031},{"$f":"T2895&U2895","v":"78"},{"$f":"IF(V2895&W2895=V2894&W2894,X2894+1,1)","v":1},{"$f":"V2895&U2895&T2895&X2895","v":"2031871"},{"$f":"S2895","v":"2031-08-02"}]
[null,null,null,null,null,null,null,null,null,null,null,null,null,null,null,null,null,null,"2031-08-09",{"$f":"WEEKDAY(S2896)","v":7},{"$f":"MONTH(S2896)","v":8},{"$f":"YEAR(S2896)","v":2031},{"$f":"T2896&U2896","v":"78"},{"$f":"IF(V2896&W2896=V2895&W2895,X2895+1,1)","v":2},{"$f":"V2896&U2896&T2896&X2896","v":"2031872"},{"$f":"S2896","v":"2031-08-09"}]
[null,null,null,null,null,null,null,null,null,null,null,null,null,null,null,null,null,null,"2031-08-16",{"$f":"WEEKDAY(S2897)","v":7},{"$f":"MONTH(S2897)","v":8},{"$f":"YEAR(S2897)","v":2031},{"$f":"T2897&U2897","v":"78"},{"$f":"IF(V2897&W2897=V2896&W2896,X2896+1,1)","v":3},{"$f":"V2897&U2897&T2897&X2897","v":"2031873"},{"$f":"S2897","v":"2031-08-16"}]
[null,null,null,null,null,null,null,null,null,null,null,null,null,null,null,null,null,null,"2031-08-23",{"$f":"WEEKDAY(S2898)","v":7},{"$f":"MONTH(S2898)","v":8},{"$f":"YEAR(S2898)","v":2031},{"$f":"T2898&U2898","v":"78"},{"$f":"IF(V2898&W2898=V2897&W2897,X2897+1,1)","v":4},{"$f":"V2898&U2898&T2898&X2898","v":"2031874"},{"$f":"S2898","v":"2031-08-23"}]
[null,null,null,null,null,null,null,null,null,null,null,null,null,null,null,null,null,null,"2031-08-30",{"$f":"WEEKDAY(S2899)","v":7},{"$f":"MONTH(S2899)","v":8},{"$f":"YEAR(S2899)","v":2031},{"$f":"T2899&U2899","v":"78"},{"$f":"IF(V2899&W2899=V2898&W2898,X2898+1,1)","v":5},{"$f":"V2899&U2899&T2899&X2899","v":"2031875"},{"$f":"S2899","v":"2031-08-30"}]
[null,null,null,null,null,null,null,null,null,null,null,null,null,null,null,null,null,null,"2031-09-07",{"$f":"WEEKDAY(S2900)","v":1},{"$f":"MONTH(S2900)","v":9},{"$f":"YEAR(S2900)","v":2031},{"$f":"T2900&U2900","v":"19"},{"$f":"IF(V2900&W2900=V2899&W2899,X2899+1,1)","v":1},{"$f":"V2900&U2900&T2900&X2900","v":"2031911"},{"$f":"S2900","v":"2031-09-07"}]
[null,null,null,null,null,null,null,null,null,null,null,null,null,null,null,null,null,null,"2031-09-14",{"$f":"WEEKDAY(S2901)","v":1},{"$f":"MONTH(S2901)","v":9},{"$f":"YEAR(S2901)","v":2031},{"$f":"T2901&U2901","v":"19"},{"$f":"IF(V2901&W2901=V2900&W2900,X2900+1,1)","v":2},{"$f":"V2901&U2901&T2901&X2901","v":"2031912"},{"$f":"S2901","v":"2031-09-14"}]
[null,null,null,null,null,null,null,null,null,null,null,null,null,null,null,null,null,null,"2031-09-21",{"$f":"WEEKDAY(S2902)","v":1},{"$f":"MONTH(S2902)","v":9},{"$f":"YEAR(S2902)","v":2031},{"$f":"T2902&U2902","v":"19"},{"$f":"IF(V2902&W2902=V2901&W2901,X2901+1,1)","v":3},{"$f":"V2902&U2902&T2902&X2902","v":"2031913"},{"$f":"S2902","v":"2031-09-21"}]
[null,null,null,null,null,null,null,null,null,null,null,null,null,null,null,null,null,null,"2031-09-28",{"$f":"WEEKDAY(S2903)","v":1},{"$f":"MONTH(S2903)","v":9},{"$f":"YEAR(S2903)","v":2031},{"$f":"T2903&U2903","v":"19"},{"$f":"IF(V2903&W2903=V2902&W2902,X2902+1,1)","v":4},{"$f":"V2903&U2903&T2903&X2903","v":"2031914"},{"$f":"S2903","v":"2031-09-28"}]
[null,null,null,null,null,null,null,null,null,null,null,null,null,null,null,null,null,null,"2031-09-01",{"$f":"WEEKDAY(S2904)","v":2},{"$f":"MONTH(S2904)","v":9},{"$f":"YEAR(S2904)","v":2031},{"$f":"T2904&U2904","v":"29"},{"$f":"IF(V2904&W2904=V2903&W2903,X2903+1,1)","v":1},{"$f":"V2904&U2904&T2904&X2904","v":"2031921"},{"$f":"S2904","v":"2031-09-01"}]
[null,null,null,null,null,null,null,null,null,null,null,null,null,null,null,null,null,null,"2031-09-08",{"$f":"WEEKDAY(S2905)","v":2},{"$f":"MONTH(S2905)","v":9},{"$f":"YEAR(S2905)","v":2031},{"$f":"T2905&U2905","v":"29"},{"$f":"IF(V2905&W2905=V2904&W2904,X2904+1,1)","v":2},{"$f":"V2905&U2905&T2905&X2905","v":"2031922"},{"$f":"S2905","v":"2031-09-08"}]
[null,null,null,null,null,null,null,null,null,null,null,null,null,null,null,null,null,null,"2031-09-15",{"$f":"WEEKDAY(S2906)","v":2},{"$f":"MONTH(S2906)","v":9},{"$f":"YEAR(S2906)","v":2031},{"$f":"T2906&U2906","v":"29"},{"$f":"IF(V2906&W2906=V2905&W2905,X2905+1,1)","v":3},{"$f":"V2906&U2906&T2906&X2906","v":"2031923"},{"$f":"S2906","v":"2031-09-15"}]
[null,null,null,null,null,null,null,null,null,null,null,null,null,null,null,null,null,null,"2031-09-22",{"$f":"WEEKDAY(S2907)","v":2},{"$f":"MONTH(S2907)","v":9},{"$f":"YEAR(S2907)","v":2031},{"$f":"T2907&U2907","v":"29"},{"$f":"IF(V2907&W2907=V2906&W2906,X2906+1,1)","v":4},{"$f":"V2907&U2907&T2907&X2907","v":"2031924"},{"$f":"S2907","v":"2031-09-22"}]
[null,null,null,null,null,null,null,null,null,null,null,null,null,null,null,null,null,null,"2031-09-29",{"$f":"WEEKDAY(S2908)","v":2},{"$f":"MONTH(S2908)","v":9},{"$f":"YEAR(S2908)","v":2031},{"$f":"T2908&U2908","v":"29"},{"$f":"IF(V2908&W2908=V2907&W2907,X2907+1,1)","v":5},{"$f":"V2908&U2908&T2908&X2908","v":"2031925"},{"$f":"S2908","v":"2031-09-29"}]
[null,null,null,null,null,null,null,null,null,null,null,null,null,null,null,null,null,null,"2031-09-02",{"$f":"WEEKDAY(S2909)","v":3},{"$f":"MONTH(S2909)","v":9},{"$f":"YEAR(S2909)","v":2031},{"$f":"T2909&U2909","v":"39"},{"$f":"IF(V2909&W2909=V2908&W2908,X2908+1,1)","v":1},{"$f":"V2909&U2909&T2909&X2909","v":"2031931"},{"$f":"S2909","v":"2031-09-02"}]
[null,null,null,null,null,null,null,null,null,null,null,null,null,null,null,null,null,null,"2031-09-09",{"$f":"WEEKDAY(S2910)","v":3},{"$f":"MONTH(S2910)","v":9},{"$f":"YEAR(S2910)","v":2031},{"$f":"T2910&U2910","v":"39"},{"$f":"IF(V2910&W2910=V2909&W2909,X2909+1,1)","v":2},{"$f":"V2910&U2910&T2910&X2910","v":"2031932"},{"$f":"S2910","v":"2031-09-09"}]
[null,null,null,null,null,null,null,null,null,null,null,null,null,null,null,null,null,null,"2031-09-16",{"$f":"WEEKDAY(S2911)","v":3},{"$f":"MONTH(S2911)","v":9},{"$f":"YEAR(S2911)","v":2031},{"$f":"T2911&U2911","v":"39"},{"$f":"IF(V2911&W2911=V2910&W2910,X2910+1,1)","v":3},{"$f":"V2911&U2911&T2911&X2911","v":"2031933"},{"$f":"S2911","v":"2031-09-16"}]
[null,null,null,null,null,null,null,null,null,null,null,null,null,null,null,null,null,null,"2031-09-23",{"$f":"WEEKDAY(S2912)","v":3},{"$f":"MONTH(S2912)","v":9},{"$f":"YEAR(S2912)","v":2031},{"$f":"T2912&U2912","v":"39"},{"$f":"IF(V2912&W2912=V2911&W2911,X2911+1,1)","v":4},{"$f":"V2912&U2912&T2912&X2912","v":"2031934"},{"$f":"S2912","v":"2031-09-23"}]
[null,null,null,null,null,null,null,null,null,null,null,null,null,null,null,null,null,null,"2031-09-30",{"$f":"WEEKDAY(S2913)","v":3},{"$f":"MONTH(S2913)","v":9},{"$f":"YEAR(S2913)","v":2031},{"$f":"T2913&U2913","v":"39"},{"$f":"IF(V2913&W2913=V2912&W2912,X2912+1,1)","v":5},{"$f":"V2913&U2913&T2913&X2913","v":"2031935"},{"$f":"S2913","v":"2031-09-30"}]
[null,null,null,null,null,null,null,null,null,null,null,null,null,null,null,null,null,null,"2031-09-03",{"$f":"WEEKDAY(S2914)","v":4},{"$f":"MONTH(S2914)","v":9},{"$f":"YEAR(S2914)","v":2031},{"$f":"T2914&U2914","v":"49"},{"$f":"IF(V2914&W2914=V2913&W2913,X2913+1,1)","v":1},{"$f":"V2914&U2914&T2914&X2914","v":"2031941"},{"$f":"S2914","v":"2031-09-03"}]
[null,null,null,null,null,null,null,null,null,null,null,null,null,null,null,null,null,null,"2031-09-10",{"$f":"WEEKDAY(S2915)","v":4},{"$f":"MONTH(S2915)","v":9},{"$f":"YEAR(S2915)","v":2031},{"$f":"T2915&U2915","v":"49"},{"$f":"IF(V2915&W2915=V2914&W2914,X2914+1,1)","v":2},{"$f":"V2915&U2915&T2915&X2915","v":"2031942"},{"$f":"S2915","v":"2031-09-10"}]
[null,null,null,null,null,null,null,null,null,null,null,null,null,null,null,null,null,null,"2031-09-17",{"$f":"WEEKDAY(S2916)","v":4},{"$f":"MONTH(S2916)","v":9},{"$f":"YEAR(S2916)","v":2031},{"$f":"T2916&U2916","v":"49"},{"$f":"IF(V2916&W2916=V2915&W2915,X2915+1,1)","v":3},{"$f":"V2916&U2916&T2916&X2916","v":"2031943"},{"$f":"S2916","v":"2031-09-17"}]
[null,null,null,null,null,null,null,null,null,null,null,null,null,null,null,null,null,null,"2031-09-24",{"$f":"WEEKDAY(S2917)","v":4},{"$f":"MONTH(S2917)","v":9},{"$f":"YEAR(S2917)","v":2031},{"$f":"T2917&U2917","v":"49"},{"$f":"IF(V2917&W2917=V2916&W2916,X2916+1,1)","v":4},{"$f":"V2917&U2917&T2917&X2917","v":"2031944"},{"$f":"S2917","v":"2031-09-24"}]
[null,null,null,null,null,null,null,null,null,null,null,null,null,null,null,null,null,null,"2031-09-04",{"$f":"WEEKDAY(S2918)","v":5},{"$f":"MONTH(S2918)","v":9},{"$f":"YEAR(S2918)","v":2031},{"$f":"T2918&U2918","v":"59"},{"$f":"IF(V2918&W2918=V2917&W2917,X2917+1,1)","v":1},{"$f":"V2918&U2918&T2918&X2918","v":"2031951"},{"$f":"S2918","v":"2031-09-04"}]
[null,null,null,null,null,null,null,null,null,null,null,null,null,null,null,null,null,null,"2031-09-11",{"$f":"WEEKDAY(S2919)","v":5},{"$f":"MONTH(S2919)","v":9},{"$f":"YEAR(S2919)","v":2031},{"$f":"T2919&U2919","v":"59"},{"$f":"IF(V2919&W2919=V2918&W2918,X2918+1,1)","v":2},{"$f":"V2919&U2919&T2919&X2919","v":"2031952"},{"$f":"S2919","v":"2031-09-11"}]
[null,null,null,null,null,null,null,null,null,null,null,null,null,null,null,null,null,null,"2031-09-18",{"$f":"WEEKDAY(S2920)","v":5},{"$f":"MONTH(S2920)","v":9},{"$f":"YEAR(S2920)","v":2031},{"$f":"T2920&U2920","v":"59"},{"$f":"IF(V2920&W2920=V2919&W2919,X2919+1,1)","v":3},{"$f":"V2920&U2920&T2920&X2920","v":"2031953"},{"$f":"S2920","v":"2031-09-18"}]
[null,null,null,null,null,null,null,null,null,null,null,null,null,null,null,null,null,null,"2031-09-25",{"$f":"WEEKDAY(S2921)","v":5},{"$f":"MONTH(S2921)","v":9},{"$f":"YEAR(S2921)","v":2031},{"$f":"T2921&U2921","v":"59"},{"$f":"IF(V2921&W2921=V2920&W2920,X2920+1,1)","v":4},{"$f":"V2921&U2921&T2921&X2921","v":"2031954"},{"$f":"S2921","v":"2031-09-25"}]
[null,null,null,null,null,null,null,null,null,null,null,null,null,null,null,null,null,null,"2031-09-05",{"$f":"WEEKDAY(S2922)","v":6},{"$f":"MONTH(S2922)","v":9},{"$f":"YEAR(S2922)","v":2031},{"$f":"T2922&U2922","v":"69"},{"$f":"IF(V2922&W2922=V2921&W2921,X2921+1,1)","v":1},{"$f":"V2922&U2922&T2922&X2922","v":"2031961"},{"$f":"S2922","v":"2031-09-05"}]
[null,null,null,null,null,null,null,null,null,null,null,null,null,null,null,null,null,null,"2031-09-12",{"$f":"WEEKDAY(S2923)","v":6},{"$f":"MONTH(S2923)","v":9},{"$f":"YEAR(S2923)","v":2031},{"$f":"T2923&U2923","v":"69"},{"$f":"IF(V2923&W2923=V2922&W2922,X2922+1,1)","v":2},{"$f":"V2923&U2923&T2923&X2923","v":"2031962"},{"$f":"S2923","v":"2031-09-12"}]
[null,null,null,null,null,null,null,null,null,null,null,null,null,null,null,null,null,null,"2031-09-19",{"$f":"WEEKDAY(S2924)","v":6},{"$f":"MONTH(S2924)","v":9},{"$f":"YEAR(S2924)","v":2031},{"$f":"T2924&U2924","v":"69"},{"$f":"IF(V2924&W2924=V2923&W2923,X2923+1,1)","v":3},{"$f":"V2924&U2924&T2924&X2924","v":"2031963"},{"$f":"S2924","v":"2031-09-19"}]
[null,null,null,null,null,null,null,null,null,null,null,null,null,null,null,null,null,null,"2031-09-26",{"$f":"WEEKDAY(S2925)","v":6},{"$f":"MONTH(S2925)","v":9},{"$f":"YEAR(S2925)","v":2031},{"$f":"T2925&U2925","v":"69"},{"$f":"IF(V2925&W2925=V2924&W2924,X2924+1,1)","v":4},{"$f":"V2925&U2925&T2925&X2925","v":"2031964"},{"$f":"S2925","v":"2031-09-26"}]
[null,null,null,null,null,null,null,null,null,null,null,null,null,null,null,null,null,null,"2031-09-06",{"$f":"WEEKDAY(S2926)","v":7},{"$f":"MONTH(S2926)","v":9},{"$f":"YEAR(S2926)","v":2031},{"$f":"T2926&U2926","v":"79"},{"$f":"IF(V2926&W2926=V2925&W2925,X2925+1,1)","v":1},{"$f":"V2926&U2926&T2926&X2926","v":"2031971"},{"$f":"S2926","v":"2031-09-06"}]
[null,null,null,null,null,null,null,null,null,null,null,null,null,null,null,null,null,null,"2031-09-13",{"$f":"WEEKDAY(S2927)","v":7},{"$f":"MONTH(S2927)","v":9},{"$f":"YEAR(S2927)","v":2031},{"$f":"T2927&U2927","v":"79"},{"$f":"IF(V2927&W2927=V2926&W2926,X2926+1,1)","v":2},{"$f":"V2927&U2927&T2927&X2927","v":"2031972"},{"$f":"S2927","v":"2031-09-13"}]
[null,null,null,null,null,null,null,null,null,null,null,null,null,null,null,null,null,null,"2031-09-20",{"$f":"WEEKDAY(S2928)","v":7},{"$f":"MONTH(S2928)","v":9},{"$f":"YEAR(S2928)","v":2031},{"$f":"T2928&U2928","v":"79"},{"$f":"IF(V2928&W2928=V2927&W2927,X2927+1,1)","v":3},{"$f":"V2928&U2928&T2928&X2928","v":"2031973"},{"$f":"S2928","v":"2031-09-20"}]
[null,null,null,null,null,null,null,null,null,null,null,null,null,null,null,null,null,null,"2031-09-27",{"$f":"WEEKDAY(S2929)","v":7},{"$f":"MONTH(S2929)","v":9},{"$f":"YEAR(S2929)","v":2031},{"$f":"T2929&U2929","v":"79"},{"$f":"IF(V2929&W2929=V2928&W2928,X2928+1,1)","v":4},{"$f":"V2929&U2929&T2929&X2929","v":"2031974"},{"$f":"S2929","v":"2031-09-27"}]
[null,null,null,null,null,null,null,null,null,null,null,null,null,null,null,null,null,null,"2032-10-03",{"$f":"WEEKDAY(S2930)","v":1},{"$f":"MONTH(S2930)","v":10},{"$f":"YEAR(S2930)","v":2032},{"$f":"T2930&U2930","v":"110"},{"$f":"IF(V2930&W2930=V2929&W2929,X2929+1,1)","v":1},{"$f":"V2930&U2930&T2930&X2930","v":"20321011"},{"$f":"S2930","v":"2032-10-03"}]
[null,null,null,null,null,null,null,null,null,null,null,null,null,null,null,null,null,null,"2032-10-10",{"$f":"WEEKDAY(S2931)","v":1},{"$f":"MONTH(S2931)","v":10},{"$f":"YEAR(S2931)","v":2032},{"$f":"T2931&U2931","v":"110"},{"$f":"IF(V2931&W2931=V2930&W2930,X2930+1,1)","v":2},{"$f":"V2931&U2931&T2931&X2931","v":"20321012"},{"$f":"S2931","v":"2032-10-10"}]
[null,null,null,null,null,null,null,null,null,null,null,null,null,null,null,null,null,null,"2032-10-17",{"$f":"WEEKDAY(S2932)","v":1},{"$f":"MONTH(S2932)","v":10},{"$f":"YEAR(S2932)","v":2032},{"$f":"T2932&U2932","v":"110"},{"$f":"IF(V2932&W2932=V2931&W2931,X2931+1,1)","v":3},{"$f":"V2932&U2932&T2932&X2932","v":"20321013"},{"$f":"S2932","v":"2032-10-17"}]
[null,null,null,null,null,null,null,null,null,null,null,null,null,null,null,null,null,null,"2032-10-24",{"$f":"WEEKDAY(S2933)","v":1},{"$f":"MONTH(S2933)","v":10},{"$f":"YEAR(S2933)","v":2032},{"$f":"T2933&U2933","v":"110"},{"$f":"IF(V2933&W2933=V2932&W2932,X2932+1,1)","v":4},{"$f":"V2933&U2933&T2933&X2933","v":"20321014"},{"$f":"S2933","v":"2032-10-24"}]
[null,null,null,null,null,null,null,null,null,null,null,null,null,null,null,null,null,null,"2032-10-31",{"$f":"WEEKDAY(S2934)","v":1},{"$f":"MONTH(S2934)","v":10},{"$f":"YEAR(S2934)","v":2032},{"$f":"T2934&U2934","v":"110"},{"$f":"IF(V2934&W2934=V2933&W2933,X2933+1,1)","v":5},{"$f":"V2934&U2934&T2934&X2934","v":"20321015"},{"$f":"S2934","v":"2032-10-31"}]
[null,null,null,null,null,null,null,null,null,null,null,null,null,null,null,null,null,null,"2032-10-04",{"$f":"WEEKDAY(S2935)","v":2},{"$f":"MONTH(S2935)","v":10},{"$f":"YEAR(S2935)","v":2032},{"$f":"T2935&U2935","v":"210"},{"$f":"IF(V2935&W2935=V2934&W2934,X2934+1,1)","v":1},{"$f":"V2935&U2935&T2935&X2935","v":"20321021"},{"$f":"S2935","v":"2032-10-04"}]
[null,null,null,null,null,null,null,null,null,null,null,null,null,null,null,null,null,null,"2032-10-11",{"$f":"WEEKDAY(S2936)","v":2},{"$f":"MONTH(S2936)","v":10},{"$f":"YEAR(S2936)","v":2032},{"$f":"T2936&U2936","v":"210"},{"$f":"IF(V2936&W2936=V2935&W2935,X2935+1,1)","v":2},{"$f":"V2936&U2936&T2936&X2936","v":"20321022"},{"$f":"S2936","v":"2032-10-11"}]
[null,null,null,null,null,null,null,null,null,null,null,null,null,null,null,null,null,null,"2032-10-18",{"$f":"WEEKDAY(S2937)","v":2},{"$f":"MONTH(S2937)","v":10},{"$f":"YEAR(S2937)","v":2032},{"$f":"T2937&U2937","v":"210"},{"$f":"IF(V2937&W2937=V2936&W2936,X2936+1,1)","v":3},{"$f":"V2937&U2937&T2937&X2937","v":"20321023"},{"$f":"S2937","v":"2032-10-18"}]
[null,null,null,null,null,null,null,null,null,null,null,null,null,null,null,null,null,null,"2032-10-25",{"$f":"WEEKDAY(S2938)","v":2},{"$f":"MONTH(S2938)","v":10},{"$f":"YEAR(S2938)","v":2032},{"$f":"T2938&U2938","v":"210"},{"$f":"IF(V2938&W2938=V2937&W2937,X2937+1,1)","v":4},{"$f":"V2938&U2938&T2938&X2938","v":"20321024"},{"$f":"S2938","v":"2032-10-25"}]
[null,null,null,null,null,null,null,null,null,null,null,null,null,null,null,null,null,null,"2032-10-05",{"$f":"WEEKDAY(S2939)","v":3},{"$f":"MONTH(S2939)","v":10},{"$f":"YEAR(S2939)","v":2032},{"$f":"T2939&U2939","v":"310"},{"$f":"IF(V2939&W2939=V2938&W2938,X2938+1,1)","v":1},{"$f":"V2939&U2939&T2939&X2939","v":"20321031"},{"$f":"S2939","v":"2032-10-05"}]
[null,null,null,null,null,null,null,null,null,null,null,null,null,null,null,null,null,null,"2032-10-12",{"$f":"WEEKDAY(S2940)","v":3},{"$f":"MONTH(S2940)","v":10},{"$f":"YEAR(S2940)","v":2032},{"$f":"T2940&U2940","v":"310"},{"$f":"IF(V2940&W2940=V2939&W2939,X2939+1,1)","v":2},{"$f":"V2940&U2940&T2940&X2940","v":"20321032"},{"$f":"S2940","v":"2032-10-12"}]
[null,null,null,null,null,null,null,null,null,null,null,null,null,null,null,null,null,null,"2032-10-19",{"$f":"WEEKDAY(S2941)","v":3},{"$f":"MONTH(S2941)","v":10},{"$f":"YEAR(S2941)","v":2032},{"$f":"T2941&U2941","v":"310"},{"$f":"IF(V2941&W2941=V2940&W2940,X2940+1,1)","v":3},{"$f":"V2941&U2941&T2941&X2941","v":"20321033"},{"$f":"S2941","v":"2032-10-19"}]
[null,null,null,null,null,null,null,null,null,null,null,null,null,null,null,null,null,null,"2032-10-26",{"$f":"WEEKDAY(S2942)","v":3},{"$f":"MONTH(S2942)","v":10},{"$f":"YEAR(S2942)","v":2032},{"$f":"T2942&U2942","v":"310"},{"$f":"IF(V2942&W2942=V2941&W2941,X2941+1,1)","v":4},{"$f":"V2942&U2942&T2942&X2942","v":"20321034"},{"$f":"S2942","v":"2032-10-26"}]
[null,null,null,null,null,null,null,null,null,null,null,null,null,null,null,null,null,null,"2032-10-06",{"$f":"WEEKDAY(S2943)","v":4},{"$f":"MONTH(S2943)","v":10},{"$f":"YEAR(S2943)","v":2032},{"$f":"T2943&U2943","v":"410"},{"$f":"IF(V2943&W2943=V2942&W2942,X2942+1,1)","v":1},{"$f":"V2943&U2943&T2943&X2943","v":"20321041"},{"$f":"S2943","v":"2032-10-06"}]
[null,null,null,null,null,null,null,null,null,null,null,null,null,null,null,null,null,null,"2032-10-13",{"$f":"WEEKDAY(S2944)","v":4},{"$f":"MONTH(S2944)","v":10},{"$f":"YEAR(S2944)","v":2032},{"$f":"T2944&U2944","v":"410"},{"$f":"IF(V2944&W2944=V2943&W2943,X2943+1,1)","v":2},{"$f":"V2944&U2944&T2944&X2944","v":"20321042"},{"$f":"S2944","v":"2032-10-13"}]
[null,null,null,null,null,null,null,null,null,null,null,null,null,null,null,null,null,null,"2032-10-20",{"$f":"WEEKDAY(S2945)","v":4},{"$f":"MONTH(S2945)","v":10},{"$f":"YEAR(S2945)","v":2032},{"$f":"T2945&U2945","v":"410"},{"$f":"IF(V2945&W2945=V2944&W2944,X2944+1,1)","v":3},{"$f":"V2945&U2945&T2945&X2945","v":"20321043"},{"$f":"S2945","v":"2032-10-20"}]
[null,null,null,null,null,null,null,null,null,null,null,null,null,null,null,null,null,null,"2032-10-27",{"$f":"WEEKDAY(S2946)","v":4},{"$f":"MONTH(S2946)","v":10},{"$f":"YEAR(S2946)","v":2032},{"$f":"T2946&U2946","v":"410"},{"$f":"IF(V2946&W2946=V2945&W2945,X2945+1,1)","v":4},{"$f":"V2946&U2946&T2946&X2946","v":"20321044"},{"$f":"S2946","v":"2032-10-27"}]
[null,null,null,null,null,null,null,null,null,null,null,null,null,null,null,null,null,null,"2032-10-07",{"$f":"WEEKDAY(S2947)","v":5},{"$f":"MONTH(S2947)","v":10},{"$f":"YEAR(S2947)","v":2032},{"$f":"T2947&U2947","v":"510"},{"$f":"IF(V2947&W2947=V2946&W2946,X2946+1,1)","v":1},{"$f":"V2947&U2947&T2947&X2947","v":"20321051"},{"$f":"S2947","v":"2032-10-07"}]
[null,null,null,null,null,null,null,null,null,null,null,null,null,null,null,null,null,null,"2032-10-14",{"$f":"WEEKDAY(S2948)","v":5},{"$f":"MONTH(S2948)","v":10},{"$f":"YEAR(S2948)","v":2032},{"$f":"T2948&U2948","v":"510"},{"$f":"IF(V2948&W2948=V2947&W2947,X2947+1,1)","v":2},{"$f":"V2948&U2948&T2948&X2948","v":"20321052"},{"$f":"S2948","v":"2032-10-14"}]
[null,null,null,null,null,null,null,null,null,null,null,null,null,null,null,null,null,null,"2032-10-21",{"$f":"WEEKDAY(S2949)","v":5},{"$f":"MONTH(S2949)","v":10},{"$f":"YEAR(S2949)","v":2032},{"$f":"T2949&U2949","v":"510"},{"$f":"IF(V2949&W2949=V2948&W2948,X2948+1,1)","v":3},{"$f":"V2949&U2949&T2949&X2949","v":"20321053"},{"$f":"S2949","v":"2032-10-21"}]
[null,null,null,null,null,null,null,null,null,null,null,null,null,null,null,null,null,null,"2032-10-28",{"$f":"WEEKDAY(S2950)","v":5},{"$f":"MONTH(S2950)","v":10},{"$f":"YEAR(S2950)","v":2032},{"$f":"T2950&U2950","v":"510"},{"$f":"IF(V2950&W2950=V2949&W2949,X2949+1,1)","v":4},{"$f":"V2950&U2950&T2950&X2950","v":"20321054"},{"$f":"S2950","v":"2032-10-28"}]
[null,null,null,null,null,null,null,null,null,null,null,null,null,null,null,null,null,null,"2032-10-01",{"$f":"WEEKDAY(S2951)","v":6},{"$f":"MONTH(S2951)","v":10},{"$f":"YEAR(S2951)","v":2032},{"$f":"T2951&U2951","v":"610"},{"$f":"IF(V2951&W2951=V2950&W2950,X2950+1,1)","v":1},{"$f":"V2951&U2951&T2951&X2951","v":"20321061"},{"$f":"S2951","v":"2032-10-01"}]
[null,null,null,null,null,null,null,null,null,null,null,null,null,null,null,null,null,null,"2032-10-08",{"$f":"WEEKDAY(S2952)","v":6},{"$f":"MONTH(S2952)","v":10},{"$f":"YEAR(S2952)","v":2032},{"$f":"T2952&U2952","v":"610"},{"$f":"IF(V2952&W2952=V2951&W2951,X2951+1,1)","v":2},{"$f":"V2952&U2952&T2952&X2952","v":"20321062"},{"$f":"S2952","v":"2032-10-08"}]
[null,null,null,null,null,null,null,null,null,null,null,null,null,null,null,null,null,null,"2032-10-15",{"$f":"WEEKDAY(S2953)","v":6},{"$f":"MONTH(S2953)","v":10},{"$f":"YEAR(S2953)","v":2032},{"$f":"T2953&U2953","v":"610"},{"$f":"IF(V2953&W2953=V2952&W2952,X2952+1,1)","v":3},{"$f":"V2953&U2953&T2953&X2953","v":"20321063"},{"$f":"S2953","v":"2032-10-15"}]
[null,null,null,null,null,null,null,null,null,null,null,null,null,null,null,null,null,null,"2032-10-22",{"$f":"WEEKDAY(S2954)","v":6},{"$f":"MONTH(S2954)","v":10},{"$f":"YEAR(S2954)","v":2032},{"$f":"T2954&U2954","v":"610"},{"$f":"IF(V2954&W2954=V2953&W2953,X2953+1,1)","v":4},{"$f":"V2954&U2954&T2954&X2954","v":"20321064"},{"$f":"S2954","v":"2032-10-22"}]
[null,null,null,null,null,null,null,null,null,null,null,null,null,null,null,null,null,null,"2032-10-29",{"$f":"WEEKDAY(S2955)","v":6},{"$f":"MONTH(S2955)","v":10},{"$f":"YEAR(S2955)","v":2032},{"$f":"T2955&U2955","v":"610"},{"$f":"IF(V2955&W2955=V2954&W2954,X2954+1,1)","v":5},{"$f":"V2955&U2955&T2955&X2955","v":"20321065"},{"$f":"S2955","v":"2032-10-29"}]
[null,null,null,null,null,null,null,null,null,null,null,null,null,null,null,null,null,null,"2032-10-02",{"$f":"WEEKDAY(S2956)","v":7},{"$f":"MONTH(S2956)","v":10},{"$f":"YEAR(S2956)","v":2032},{"$f":"T2956&U2956","v":"710"},{"$f":"IF(V2956&W2956=V2955&W2955,X2955+1,1)","v":1},{"$f":"V2956&U2956&T2956&X2956","v":"20321071"},{"$f":"S2956","v":"2032-10-02"}]
[null,null,null,null,null,null,null,null,null,null,null,null,null,null,null,null,null,null,"2032-10-09",{"$f":"WEEKDAY(S2957)","v":7},{"$f":"MONTH(S2957)","v":10},{"$f":"YEAR(S2957)","v":2032},{"$f":"T2957&U2957","v":"710"},{"$f":"IF(V2957&W2957=V2956&W2956,X2956+1,1)","v":2},{"$f":"V2957&U2957&T2957&X2957","v":"20321072"},{"$f":"S2957","v":"2032-10-09"}]
[null,null,null,null,null,null,null,null,null,null,null,null,null,null,null,null,null,null,"2032-10-16",{"$f":"WEEKDAY(S2958)","v":7},{"$f":"MONTH(S2958)","v":10},{"$f":"YEAR(S2958)","v":2032},{"$f":"T2958&U2958","v":"710"},{"$f":"IF(V2958&W2958=V2957&W2957,X2957+1,1)","v":3},{"$f":"V2958&U2958&T2958&X2958","v":"20321073"},{"$f":"S2958","v":"2032-10-16"}]
[null,null,null,null,null,null,null,null,null,null,null,null,null,null,null,null,null,null,"2032-10-23",{"$f":"WEEKDAY(S2959)","v":7},{"$f":"MONTH(S2959)","v":10},{"$f":"YEAR(S2959)","v":2032},{"$f":"T2959&U2959","v":"710"},{"$f":"IF(V2959&W2959=V2958&W2958,X2958+1,1)","v":4},{"$f":"V2959&U2959&T2959&X2959","v":"20321074"},{"$f":"S2959","v":"2032-10-23"}]
[null,null,null,null,null,null,null,null,null,null,null,null,null,null,null,null,null,null,"2032-10-30",{"$f":"WEEKDAY(S2960)","v":7},{"$f":"MONTH(S2960)","v":10},{"$f":"YEAR(S2960)","v":2032},{"$f":"T2960&U2960","v":"710"},{"$f":"IF(V2960&W2960=V2959&W2959,X2959+1,1)","v":5},{"$f":"V2960&U2960&T2960&X2960","v":"20321075"},{"$f":"S2960","v":"2032-10-30"}]
[null,null,null,null,null,null,null,null,null,null,null,null,null,null,null,null,null,null,"2032-01-04",{"$f":"WEEKDAY(S2961)","v":1},{"$f":"MONTH(S2961)","v":1},{"$f":"YEAR(S2961)","v":2032},{"$f":"T2961&U2961","v":"11"},{"$f":"IF(V2961&W2961=V2960&W2960,X2960+1,1)","v":1},{"$f":"V2961&U2961&T2961&X2961","v":"2032111"},{"$f":"S2961","v":"2032-01-04"}]
[null,null,null,null,null,null,null,null,null,null,null,null,null,null,null,null,null,null,"2032-11-07",{"$f":"WEEKDAY(S2962)","v":1},{"$f":"MONTH(S2962)","v":11},{"$f":"YEAR(S2962)","v":2032},{"$f":"T2962&U2962","v":"111"},{"$f":"IF(V2962&W2962=V2961&W2961,X2961+1,1)","v":1},{"$f":"V2962&U2962&T2962&X2962","v":"20321111"},{"$f":"S2962","v":"2032-11-07"}]
[null,null,null,null,null,null,null,null,null,null,null,null,null,null,null,null,null,null,"2032-11-14",{"$f":"WEEKDAY(S2963)","v":1},{"$f":"MONTH(S2963)","v":11},{"$f":"YEAR(S2963)","v":2032},{"$f":"T2963&U2963","v":"111"},{"$f":"IF(V2963&W2963=V2962&W2962,X2962+1,1)","v":2},{"$f":"V2963&U2963&T2963&X2963","v":"20321112"},{"$f":"S2963","v":"2032-11-14"}]
[null,null,null,null,null,null,null,null,null,null,null,null,null,null,null,null,null,null,"2032-11-21",{"$f":"WEEKDAY(S2964)","v":1},{"$f":"MONTH(S2964)","v":11},{"$f":"YEAR(S2964)","v":2032},{"$f":"T2964&U2964","v":"111"},{"$f":"IF(V2964&W2964=V2963&W2963,X2963+1,1)","v":3},{"$f":"V2964&U2964&T2964&X2964","v":"20321113"},{"$f":"S2964","v":"2032-11-21"}]
[null,null,null,null,null,null,null,null,null,null,null,null,null,null,null,null,null,null,"2032-11-28",{"$f":"WEEKDAY(S2965)","v":1},{"$f":"MONTH(S2965)","v":11},{"$f":"YEAR(S2965)","v":2032},{"$f":"T2965&U2965","v":"111"},{"$f":"IF(V2965&W2965=V2964&W2964,X2964+1,1)","v":4},{"$f":"V2965&U2965&T2965&X2965","v":"20321114"},{"$f":"S2965","v":"2032-11-28"}]
[null,null,null,null,null,null,null,null,null,null,null,null,null,null,null,null,null,null,"2032-01-11",{"$f":"WEEKDAY(S2966)","v":1},{"$f":"MONTH(S2966)","v":1},{"$f":"YEAR(S2966)","v":2032},{"$f":"T2966&U2966","v":"11"},{"$f":"IF(V2966&W2966=V2965&W2965,X2965+1,1)","v":1},{"$f":"V2966&U2966&T2966&X2966","v":"2032111"},{"$f":"S2966","v":"2032-01-11"}]
[null,null,null,null,null,null,null,null,null,null,null,null,null,null,null,null,null,null,"2032-11-01",{"$f":"WEEKDAY(S2967)","v":2},{"$f":"MONTH(S2967)","v":11},{"$f":"YEAR(S2967)","v":2032},{"$f":"T2967&U2967","v":"211"},{"$f":"IF(V2967&W2967=V2966&W2966,X2966+1,1)","v":1},{"$f":"V2967&U2967&T2967&X2967","v":"20321121"},{"$f":"S2967","v":"2032-11-01"}]
[null,null,null,null,null,null,null,null,null,null,null,null,null,null,null,null,null,null,"2032-11-08",{"$f":"WEEKDAY(S2968)","v":2},{"$f":"MONTH(S2968)","v":11},{"$f":"YEAR(S2968)","v":2032},{"$f":"T2968&U2968","v":"211"},{"$f":"IF(V2968&W2968=V2967&W2967,X2967+1,1)","v":2},{"$f":"V2968&U2968&T2968&X2968","v":"20321122"},{"$f":"S2968","v":"2032-11-08"}]
[null,null,null,null,null,null,null,null,null,null,null,null,null,null,null,null,null,null,"2032-11-15",{"$f":"WEEKDAY(S2969)","v":2},{"$f":"MONTH(S2969)","v":11},{"$f":"YEAR(S2969)","v":2032},{"$f":"T2969&U2969","v":"211"},{"$f":"IF(V2969&W2969=V2968&W2968,X2968+1,1)","v":3},{"$f":"V2969&U2969&T2969&X2969","v":"20321123"},{"$f":"S2969","v":"2032-11-15"}]
[null,null,null,null,null,null,null,null,null,null,null,null,null,null,null,null,null,null,"2032-11-22",{"$f":"WEEKDAY(S2970)","v":2},{"$f":"MONTH(S2970)","v":11},{"$f":"YEAR(S2970)","v":2032},{"$f":"T2970&U2970","v":"211"},{"$f":"IF(V2970&W2970=V2969&W2969,X2969+1,1)","v":4},{"$f":"V2970&U2970&T2970&X2970","v":"20321124"},{"$f":"S2970","v":"2032-11-22"}]
[null,null,null,null,null,null,null,null,null,null,null,null,null,null,null,null,null,null,"2032-11-29",{"$f":"WEEKDAY(S2971)","v":2},{"$f":"MONTH(S2971)","v":11},{"$f":"YEAR(S2971)","v":2032},{"$f":"T2971&U2971","v":"211"},{"$f":"IF(V2971&W2971=V2970&W2970,X2970+1,1)","v":5},{"$f":"V2971&U2971&T2971&X2971","v":"20321125"},{"$f":"S2971","v":"2032-11-29"}]
[null,null,null,null,null,null,null,null,null,null,null,null,null,null,null,null,null,null,"2032-01-18",{"$f":"WEEKDAY(S2972)","v":1},{"$f":"MONTH(S2972)","v":1},{"$f":"YEAR(S2972)","v":2032},{"$f":"T2972&U2972","v":"11"},{"$f":"IF(V2972&W2972=V2971&W2971,X2971+1,1)","v":1},{"$f":"V2972&U2972&T2972&X2972","v":"2032111"},{"$f":"S2972","v":"2032-01-18"}]
[null,null,null,null,null,null,null,null,null,null,null,null,null,null,null,null,null,null,"2032-11-02",{"$f":"WEEKDAY(S2973)","v":3},{"$f":"MONTH(S2973)","v":11},{"$f":"YEAR(S2973)","v":2032},{"$f":"T2973&U2973","v":"311"},{"$f":"IF(V2973&W2973=V2972&W2972,X2972+1,1)","v":1},{"$f":"V2973&U2973&T2973&X2973","v":"20321131"},{"$f":"S2973","v":"2032-11-02"}]
[null,null,null,null,null,null,null,null,null,null,null,null,null,null,null,null,null,null,"2032-11-09",{"$f":"WEEKDAY(S2974)","v":3},{"$f":"MONTH(S2974)","v":11},{"$f":"YEAR(S2974)","v":2032},{"$f":"T2974&U2974","v":"311"},{"$f":"IF(V2974&W2974=V2973&W2973,X2973+1,1)","v":2},{"$f":"V2974&U2974&T2974&X2974","v":"20321132"},{"$f":"S2974","v":"2032-11-09"}]
[null,null,null,null,null,null,null,null,null,null,null,null,null,null,null,null,null,null,"2032-11-16",{"$f":"WEEKDAY(S2975)","v":3},{"$f":"MONTH(S2975)","v":11},{"$f":"YEAR(S2975)","v":2032},{"$f":"T2975&U2975","v":"311"},{"$f":"IF(V2975&W2975=V2974&W2974,X2974+1,1)","v":3},{"$f":"V2975&U2975&T2975&X2975","v":"20321133"},{"$f":"S2975","v":"2032-11-16"}]
[null,null,null,null,null,null,null,null,null,null,null,null,null,null,null,null,null,null,"2032-11-23",{"$f":"WEEKDAY(S2976)","v":3},{"$f":"MONTH(S2976)","v":11},{"$f":"YEAR(S2976)","v":2032},{"$f":"T2976&U2976","v":"311"},{"$f":"IF(V2976&W2976=V2975&W2975,X2975+1,1)","v":4},{"$f":"V2976&U2976&T2976&X2976","v":"20321134"},{"$f":"S2976","v":"2032-11-23"}]
[null,null,null,null,null,null,null,null,null,null,null,null,null,null,null,null,null,null,"2032-11-30",{"$f":"WEEKDAY(S2977)","v":3},{"$f":"MONTH(S2977)","v":11},{"$f":"YEAR(S2977)","v":2032},{"$f":"T2977&U2977","v":"311"},{"$f":"IF(V2977&W2977=V2976&W2976,X2976+1,1)","v":5},{"$f":"V2977&U2977&T2977&X2977","v":"20321135"},{"$f":"S2977","v":"2032-11-30"}]
[null,null,null,null,null,null,null,null,null,null,null,null,null,null,null,null,null,null,"2032-01-25",{"$f":"WEEKDAY(S2978)","v":1},{"$f":"MONTH(S2978)","v":1},{"$f":"YEAR(S2978)","v":2032},{"$f":"T2978&U2978","v":"11"},{"$f":"IF(V2978&W2978=V2977&W2977,X2977+1,1)","v":1},{"$f":"V2978&U2978&T2978&X2978","v":"2032111"},{"$f":"S2978","v":"2032-01-25"}]
[null,null,null,null,null,null,null,null,null,null,null,null,null,null,null,null,null,null,"2032-11-03",{"$f":"WEEKDAY(S2979)","v":4},{"$f":"MONTH(S2979)","v":11},{"$f":"YEAR(S2979)","v":2032},{"$f":"T2979&U2979","v":"411"},{"$f":"IF(V2979&W2979=V2978&W2978,X2978+1,1)","v":1},{"$f":"V2979&U2979&T2979&X2979","v":"20321141"},{"$f":"S2979","v":"2032-11-03"}]
[null,null,null,null,null,null,null,null,null,null,null,null,null,null,null,null,null,null,"2032-11-10",{"$f":"WEEKDAY(S2980)","v":4},{"$f":"MONTH(S2980)","v":11},{"$f":"YEAR(S2980)","v":2032},{"$f":"T2980&U2980","v":"411"},{"$f":"IF(V2980&W2980=V2979&W2979,X2979+1,1)","v":2},{"$f":"V2980&U2980&T2980&X2980","v":"20321142"},{"$f":"S2980","v":"2032-11-10"}]
[null,null,null,null,null,null,null,null,null,null,null,null,null,null,null,null,null,null,"2032-11-17",{"$f":"WEEKDAY(S2981)","v":4},{"$f":"MONTH(S2981)","v":11},{"$f":"YEAR(S2981)","v":2032},{"$f":"T2981&U2981","v":"411"},{"$f":"IF(V2981&W2981=V2980&W2980,X2980+1,1)","v":3},{"$f":"V2981&U2981&T2981&X2981","v":"20321143"},{"$f":"S2981","v":"2032-11-17"}]
[null,null,null,null,null,null,null,null,null,null,null,null,null,null,null,null,null,null,"2032-11-24",{"$f":"WEEKDAY(S2982)","v":4},{"$f":"MONTH(S2982)","v":11},{"$f":"YEAR(S2982)","v":2032},{"$f":"T2982&U2982","v":"411"},{"$f":"IF(V2982&W2982=V2981&W2981,X2981+1,1)","v":4},{"$f":"V2982&U2982&T2982&X2982","v":"20321144"},{"$f":"S2982","v":"2032-11-24"}]
[null,null,null,null,null,null,null,null,null,null,null,null,null,null,null,null,null,null,"2032-11-04",{"$f":"WEEKDAY(S2983)","v":5},{"$f":"MONTH(S2983)","v":11},{"$f":"YEAR(S2983)","v":2032},{"$f":"T2983&U2983","v":"511"},{"$f":"IF(V2983&W2983=V2982&W2982,X2982+1,1)","v":1},{"$f":"V2983&U2983&T2983&X2983","v":"20321151"},{"$f":"S2983","v":"2032-11-04"}]
[null,null,null,null,null,null,null,null,null,null,null,null,null,null,null,null,null,null,"2032-11-11",{"$f":"WEEKDAY(S2984)","v":5},{"$f":"MONTH(S2984)","v":11},{"$f":"YEAR(S2984)","v":2032},{"$f":"T2984&U2984","v":"511"},{"$f":"IF(V2984&W2984=V2983&W2983,X2983+1,1)","v":2},{"$f":"V2984&U2984&T2984&X2984","v":"20321152"},{"$f":"S2984","v":"2032-11-11"}]
[null,null,null,null,null,null,null,null,null,null,null,null,null,null,null,null,null,null,"2032-11-18",{"$f":"WEEKDAY(S2985)","v":5},{"$f":"MONTH(S2985)","v":11},{"$f":"YEAR(S2985)","v":2032},{"$f":"T2985&U2985","v":"511"},{"$f":"IF(V2985&W2985=V2984&W2984,X2984+1,1)","v":3},{"$f":"V2985&U2985&T2985&X2985","v":"20321153"},{"$f":"S2985","v":"2032-11-18"}]
[null,null,null,null,null,null,null,null,null,null,null,null,null,null,null,null,null,null,"2032-11-25",{"$f":"WEEKDAY(S2986)","v":5},{"$f":"MONTH(S2986)","v":11},{"$f":"YEAR(S2986)","v":2032},{"$f":"T2986&U2986","v":"511"},{"$f":"IF(V2986&W2986=V2985&W2985,X2985+1,1)","v":4},{"$f":"V2986&U2986&T2986&X2986","v":"20321154"},{"$f":"S2986","v":"2032-11-25"}]
[null,null,null,null,null,null,null,null,null,null,null,null,null,null,null,null,null,null,"2032-11-05",{"$f":"WEEKDAY(S2987)","v":6},{"$f":"MONTH(S2987)","v":11},{"$f":"YEAR(S2987)","v":2032},{"$f":"T2987&U2987","v":"611"},{"$f":"IF(V2987&W2987=V2986&W2986,X2986+1,1)","v":1},{"$f":"V2987&U2987&T2987&X2987","v":"20321161"},{"$f":"S2987","v":"2032-11-05"}]
[null,null,null,null,null,null,null,null,null,null,null,null,null,null,null,null,null,null,"2032-11-12",{"$f":"WEEKDAY(S2988)","v":6},{"$f":"MONTH(S2988)","v":11},{"$f":"YEAR(S2988)","v":2032},{"$f":"T2988&U2988","v":"611"},{"$f":"IF(V2988&W2988=V2987&W2987,X2987+1,1)","v":2},{"$f":"V2988&U2988&T2988&X2988","v":"20321162"},{"$f":"S2988","v":"2032-11-12"}]
[null,null,null,null,null,null,null,null,null,null,null,null,null,null,null,null,null,null,"2032-11-19",{"$f":"WEEKDAY(S2989)","v":6},{"$f":"MONTH(S2989)","v":11},{"$f":"YEAR(S2989)","v":2032},{"$f":"T2989&U2989","v":"611"},{"$f":"IF(V2989&W2989=V2988&W2988,X2988+1,1)","v":3},{"$f":"V2989&U2989&T2989&X2989","v":"20321163"},{"$f":"S2989","v":"2032-11-19"}]
[null,null,null,null,null,null,null,null,null,null,null,null,null,null,null,null,null,null,"2032-11-26",{"$f":"WEEKDAY(S2990)","v":6},{"$f":"MONTH(S2990)","v":11},{"$f":"YEAR(S2990)","v":2032},{"$f":"T2990&U2990","v":"611"},{"$f":"IF(V2990&W2990=V2989&W2989,X2989+1,1)","v":4},{"$f":"V2990&U2990&T2990&X2990","v":"20321164"},{"$f":"S2990","v":"2032-11-26"}]
[null,null,null,null,null,null,null,null,null,null,null,null,null,null,null,null,null,null,"2032-11-06",{"$f":"WEEKDAY(S2991)","v":7},{"$f":"MONTH(S2991)","v":11},{"$f":"YEAR(S2991)","v":2032},{"$f":"T2991&U2991","v":"711"},{"$f":"IF(V2991&W2991=V2990&W2990,X2990+1,1)","v":1},{"$f":"V2991&U2991&T2991&X2991","v":"20321171"},{"$f":"S2991","v":"2032-11-06"}]
[null,null,null,null,null,null,null,null,null,null,null,null,null,null,null,null,null,null,"2032-11-13",{"$f":"WEEKDAY(S2992)","v":7},{"$f":"MONTH(S2992)","v":11},{"$f":"YEAR(S2992)","v":2032},{"$f":"T2992&U2992","v":"711"},{"$f":"IF(V2992&W2992=V2991&W2991,X2991+1,1)","v":2},{"$f":"V2992&U2992&T2992&X2992","v":"20321172"},{"$f":"S2992","v":"2032-11-13"}]
[null,null,null,null,null,null,null,null,null,null,null,null,null,null,null,null,null,null,"2032-11-20",{"$f":"WEEKDAY(S2993)","v":7},{"$f":"MONTH(S2993)","v":11},{"$f":"YEAR(S2993)","v":2032},{"$f":"T2993&U2993","v":"711"},{"$f":"IF(V2993&W2993=V2992&W2992,X2992+1,1)","v":3},{"$f":"V2993&U2993&T2993&X2993","v":"20321173"},{"$f":"S2993","v":"2032-11-20"}]
[null,null,null,null,null,null,null,null,null,null,null,null,null,null,null,null,null,null,"2032-11-27",{"$f":"WEEKDAY(S2994)","v":7},{"$f":"MONTH(S2994)","v":11},{"$f":"YEAR(S2994)","v":2032},{"$f":"T2994&U2994","v":"711"},{"$f":"IF(V2994&W2994=V2993&W2993,X2993+1,1)","v":4},{"$f":"V2994&U2994&T2994&X2994","v":"20321174"},{"$f":"S2994","v":"2032-11-27"}]
[null,null,null,null,null,null,null,null,null,null,null,null,null,null,null,null,null,null,"2032-01-05",{"$f":"WEEKDAY(S2995)","v":2},{"$f":"MONTH(S2995)","v":1},{"$f":"YEAR(S2995)","v":2032},{"$f":"T2995&U2995","v":"21"},{"$f":"IF(V2995&W2995=V2994&W2994,X2994+1,1)","v":1},{"$f":"V2995&U2995&T2995&X2995","v":"2032121"},{"$f":"S2995","v":"2032-01-05"}]
[null,null,null,null,null,null,null,null,null,null,null,null,null,null,null,null,null,null,"2032-12-05",{"$f":"WEEKDAY(S2996)","v":1},{"$f":"MONTH(S2996)","v":12},{"$f":"YEAR(S2996)","v":2032},{"$f":"T2996&U2996","v":"112"},{"$f":"IF(V2996&W2996=V2995&W2995,X2995+1,1)","v":1},{"$f":"V2996&U2996&T2996&X2996","v":"20321211"},{"$f":"S2996","v":"2032-12-05"}]
[null,null,null,null,null,null,null,null,null,null,null,null,null,null,null,null,null,null,"2032-12-12",{"$f":"WEEKDAY(S2997)","v":1},{"$f":"MONTH(S2997)","v":12},{"$f":"YEAR(S2997)","v":2032},{"$f":"T2997&U2997","v":"112"},{"$f":"IF(V2997&W2997=V2996&W2996,X2996+1,1)","v":2},{"$f":"V2997&U2997&T2997&X2997","v":"20321212"},{"$f":"S2997","v":"2032-12-12"}]
[null,null,null,null,null,null,null,null,null,null,null,null,null,null,null,null,null,null,"2032-12-19",{"$f":"WEEKDAY(S2998)","v":1},{"$f":"MONTH(S2998)","v":12},{"$f":"YEAR(S2998)","v":2032},{"$f":"T2998&U2998","v":"112"},{"$f":"IF(V2998&W2998=V2997&W2997,X2997+1,1)","v":3},{"$f":"V2998&U2998&T2998&X2998","v":"20321213"},{"$f":"S2998","v":"2032-12-19"}]
[null,null,null,null,null,null,null,null,null,null,null,null,null,null,null,null,null,null,"2032-12-26",{"$f":"WEEKDAY(S2999)","v":1},{"$f":"MONTH(S2999)","v":12},{"$f":"YEAR(S2999)","v":2032},{"$f":"T2999&U2999","v":"112"},{"$f":"IF(V2999&W2999=V2998&W2998,X2998+1,1)","v":4},{"$f":"V2999&U2999&T2999&X2999","v":"20321214"},{"$f":"S2999","v":"2032-12-26"}]
[null,null,null,null,null,null,null,null,null,null,null,null,null,null,null,null,null,null,"2032-01-12",{"$f":"WEEKDAY(S3000)","v":2},{"$f":"MONTH(S3000)","v":1},{"$f":"YEAR(S3000)","v":2032},{"$f":"T3000&U3000","v":"21"},{"$f":"IF(V3000&W3000=V2999&W2999,X2999+1,1)","v":1},{"$f":"V3000&U3000&T3000&X3000","v":"2032121"},{"$f":"S3000","v":"2032-01-12"}]
[null,null,null,null,null,null,null,null,null,null,null,null,null,null,null,null,null,null,"2032-12-06",{"$f":"WEEKDAY(S3001)","v":2},{"$f":"MONTH(S3001)","v":12},{"$f":"YEAR(S3001)","v":2032},{"$f":"T3001&U3001","v":"212"},{"$f":"IF(V3001&W3001=V3000&W3000,X3000+1,1)","v":1},{"$f":"V3001&U3001&T3001&X3001","v":"20321221"},{"$f":"S3001","v":"2032-12-06"}]
[null,null,null,null,null,null,null,null,null,null,null,null,null,null,null,null,null,null,"2032-12-13",{"$f":"WEEKDAY(S3002)","v":2},{"$f":"MONTH(S3002)","v":12},{"$f":"YEAR(S3002)","v":2032},{"$f":"T3002&U3002","v":"212"},{"$f":"IF(V3002&W3002=V3001&W3001,X3001+1,1)","v":2},{"$f":"V3002&U3002&T3002&X3002","v":"20321222"},{"$f":"S3002","v":"2032-12-13"}]
[null,null,null,null,null,null,null,null,null,null,null,null,null,null,null,null,null,null,"2032-12-20",{"$f":"WEEKDAY(S3003)","v":2},{"$f":"MONTH(S3003)","v":12},{"$f":"YEAR(S3003)","v":2032},{"$f":"T3003&U3003","v":"212"},{"$f":"IF(V3003&W3003=V3002&W3002,X3002+1,1)","v":3},{"$f":"V3003&U3003&T3003&X3003","v":"20321223"},{"$f":"S3003","v":"2032-12-20"}]
[null,null,null,null,null,null,null,null,null,null,null,null,null,null,null,null,null,null,"2032-12-27",{"$f":"WEEKDAY(S3004)","v":2},{"$f":"MONTH(S3004)","v":12},{"$f":"YEAR(S3004)","v":2032},{"$f":"T3004&U3004","v":"212"},{"$f":"IF(V3004&W3004=V3003&W3003,X3003+1,1)","v":4},{"$f":"V3004&U3004&T3004&X3004","v":"20321224"},{"$f":"S3004","v":"2032-12-27"}]
[null,null,null,null,null,null,null,null,null,null,null,null,null,null,null,null,null,null,"2032-01-19",{"$f":"WEEKDAY(S3005)","v":2},{"$f":"MONTH(S3005)","v":1},{"$f":"YEAR(S3005)","v":2032},{"$f":"T3005&U3005","v":"21"},{"$f":"IF(V3005&W3005=V3004&W3004,X3004+1,1)","v":1},{"$f":"V3005&U3005&T3005&X3005","v":"2032121"},{"$f":"S3005","v":"2032-01-19"}]
[null,null,null,null,null,null,null,null,null,null,null,null,null,null,null,null,null,null,"2032-12-07",{"$f":"WEEKDAY(S3006)","v":3},{"$f":"MONTH(S3006)","v":12},{"$f":"YEAR(S3006)","v":2032},{"$f":"T3006&U3006","v":"312"},{"$f":"IF(V3006&W3006=V3005&W3005,X3005+1,1)","v":1},{"$f":"V3006&U3006&T3006&X3006","v":"20321231"},{"$f":"S3006","v":"2032-12-07"}]
[null,null,null,null,null,null,null,null,null,null,null,null,null,null,null,null,null,null,"2032-12-14",{"$f":"WEEKDAY(S3007)","v":3},{"$f":"MONTH(S3007)","v":12},{"$f":"YEAR(S3007)","v":2032},{"$f":"T3007&U3007","v":"312"},{"$f":"IF(V3007&W3007=V3006&W3006,X3006+1,1)","v":2},{"$f":"V3007&U3007&T3007&X3007","v":"20321232"},{"$f":"S3007","v":"2032-12-14"}]
[null,null,null,null,null,null,null,null,null,null,null,null,null,null,null,null,null,null,"2032-12-21",{"$f":"WEEKDAY(S3008)","v":3},{"$f":"MONTH(S3008)","v":12},{"$f":"YEAR(S3008)","v":2032},{"$f":"T3008&U3008","v":"312"},{"$f":"IF(V3008&W3008=V3007&W3007,X3007+1,1)","v":3},{"$f":"V3008&U3008&T3008&X3008","v":"20321233"},{"$f":"S3008","v":"2032-12-21"}]
[null,null,null,null,null,null,null,null,null,null,null,null,null,null,null,null,null,null,"2032-12-28",{"$f":"WEEKDAY(S3009)","v":3},{"$f":"MONTH(S3009)","v":12},{"$f":"YEAR(S3009)","v":2032},{"$f":"T3009&U3009","v":"312"},{"$f":"IF(V3009&W3009=V3008&W3008,X3008+1,1)","v":4},{"$f":"V3009&U3009&T3009&X3009","v":"20321234"},{"$f":"S3009","v":"2032-12-28"}]
[null,null,null,null,null,null,null,null,null,null,null,null,null,null,null,null,null,null,"2032-01-26",{"$f":"WEEKDAY(S3010)","v":2},{"$f":"MONTH(S3010)","v":1},{"$f":"YEAR(S3010)","v":2032},{"$f":"T3010&U3010","v":"21"},{"$f":"IF(V3010&W3010=V3009&W3009,X3009+1,1)","v":1},{"$f":"V3010&U3010&T3010&X3010","v":"2032121"},{"$f":"S3010","v":"2032-01-26"}]
[null,null,null,null,null,null,null,null,null,null,null,null,null,null,null,null,null,null,"2032-12-01",{"$f":"WEEKDAY(S3011)","v":4},{"$f":"MONTH(S3011)","v":12},{"$f":"YEAR(S3011)","v":2032},{"$f":"T3011&U3011","v":"412"},{"$f":"IF(V3011&W3011=V3010&W3010,X3010+1,1)","v":1},{"$f":"V3011&U3011&T3011&X3011","v":"20321241"},{"$f":"S3011","v":"2032-12-01"}]
[null,null,null,null,null,null,null,null,null,null,null,null,null,null,null,null,null,null,"2032-12-08",{"$f":"WEEKDAY(S3012)","v":4},{"$f":"MONTH(S3012)","v":12},{"$f":"YEAR(S3012)","v":2032},{"$f":"T3012&U3012","v":"412"},{"$f":"IF(V3012&W3012=V3011&W3011,X3011+1,1)","v":2},{"$f":"V3012&U3012&T3012&X3012","v":"20321242"},{"$f":"S3012","v":"2032-12-08"}]
[null,null,null,null,null,null,null,null,null,null,null,null,null,null,null,null,null,null,"2032-12-15",{"$f":"WEEKDAY(S3013)","v":4},{"$f":"MONTH(S3013)","v":12},{"$f":"YEAR(S3013)","v":2032},{"$f":"T3013&U3013","v":"412"},{"$f":"IF(V3013&W3013=V3012&W3012,X3012+1,1)","v":3},{"$f":"V3013&U3013&T3013&X3013","v":"20321243"},{"$f":"S3013","v":"2032-12-15"}]
[null,null,null,null,null,null,null,null,null,null,null,null,null,null,null,null,null,null,"2032-12-22",{"$f":"WEEKDAY(S3014)","v":4},{"$f":"MONTH(S3014)","v":12},{"$f":"YEAR(S3014)","v":2032},{"$f":"T3014&U3014","v":"412"},{"$f":"IF(V3014&W3014=V3013&W3013,X3013+1,1)","v":4},{"$f":"V3014&U3014&T3014&X3014","v":"20321244"},{"$f":"S3014","v":"2032-12-22"}]
[null,null,null,null,null,null,null,null,null,null,null,null,null,null,null,null,null,null,"2032-12-29",{"$f":"WEEKDAY(S3015)","v":4},{"$f":"MONTH(S3015)","v":12},{"$f":"YEAR(S3015)","v":2032},{"$f":"T3015&U3015","v":"412"},{"$f":"IF(V3015&W3015=V3014&W3014,X3014+1,1)","v":5},{"$f":"V3015&U3015&T3015&X3015","v":"20321245"},{"$f":"S3015","v":"2032-12-29"}]
[null,null,null,null,null,null,null,null,null,null,null,null,null,null,null,null,null,null,"2032-12-02",{"$f":"WEEKDAY(S3016)","v":5},{"$f":"MONTH(S3016)","v":12},{"$f":"YEAR(S3016)","v":2032},{"$f":"T3016&U3016","v":"512"},{"$f":"IF(V3016&W3016=V3015&W3015,X3015+1,1)","v":1},{"$f":"V3016&U3016&T3016&X3016","v":"20321251"},{"$f":"S3016","v":"2032-12-02"}]
[null,null,null,null,null,null,null,null,null,null,null,null,null,null,null,null,null,null,"2032-12-09",{"$f":"WEEKDAY(S3017)","v":5},{"$f":"MONTH(S3017)","v":12},{"$f":"YEAR(S3017)","v":2032},{"$f":"T3017&U3017","v":"512"},{"$f":"IF(V3017&W3017=V3016&W3016,X3016+1,1)","v":2},{"$f":"V3017&U3017&T3017&X3017","v":"20321252"},{"$f":"S3017","v":"2032-12-09"}]
[null,null,null,null,null,null,null,null,null,null,null,null,null,null,null,null,null,null,"2032-12-16",{"$f":"WEEKDAY(S3018)","v":5},{"$f":"MONTH(S3018)","v":12},{"$f":"YEAR(S3018)","v":2032},{"$f":"T3018&U3018","v":"512"},{"$f":"IF(V3018&W3018=V3017&W3017,X3017+1,1)","v":3},{"$f":"V3018&U3018&T3018&X3018","v":"20321253"},{"$f":"S3018","v":"2032-12-16"}]
[null,null,null,null,null,null,null,null,null,null,null,null,null,null,null,null,null,null,"2032-12-23",{"$f":"WEEKDAY(S3019)","v":5},{"$f":"MONTH(S3019)","v":12},{"$f":"YEAR(S3019)","v":2032},{"$f":"T3019&U3019","v":"512"},{"$f":"IF(V3019&W3019=V3018&W3018,X3018+1,1)","v":4},{"$f":"V3019&U3019&T3019&X3019","v":"20321254"},{"$f":"S3019","v":"2032-12-23"}]
[null,null,null,null,null,null,null,null,null,null,null,null,null,null,null,null,null,null,"2032-12-30",{"$f":"WEEKDAY(S3020)","v":5},{"$f":"MONTH(S3020)","v":12},{"$f":"YEAR(S3020)","v":2032},{"$f":"T3020&U3020","v":"512"},{"$f":"IF(V3020&W3020=V3019&W3019,X3019+1,1)","v":5},{"$f":"V3020&U3020&T3020&X3020","v":"20321255"},{"$f":"S3020","v":"2032-12-30"}]
[null,null,null,null,null,null,null,null,null,null,null,null,null,null,null,null,null,null,"2032-12-03",{"$f":"WEEKDAY(S3021)","v":6},{"$f":"MONTH(S3021)","v":12},{"$f":"YEAR(S3021)","v":2032},{"$f":"T3021&U3021","v":"612"},{"$f":"IF(V3021&W3021=V3020&W3020,X3020+1,1)","v":1},{"$f":"V3021&U3021&T3021&X3021","v":"20321261"},{"$f":"S3021","v":"2032-12-03"}]
[null,null,null,null,null,null,null,null,null,null,null,null,null,null,null,null,null,null,"2032-12-10",{"$f":"WEEKDAY(S3022)","v":6},{"$f":"MONTH(S3022)","v":12},{"$f":"YEAR(S3022)","v":2032},{"$f":"T3022&U3022","v":"612"},{"$f":"IF(V3022&W3022=V3021&W3021,X3021+1,1)","v":2},{"$f":"V3022&U3022&T3022&X3022","v":"20321262"},{"$f":"S3022","v":"2032-12-10"}]
[null,null,null,null,null,null,null,null,null,null,null,null,null,null,null,null,null,null,"2032-12-17",{"$f":"WEEKDAY(S3023)","v":6},{"$f":"MONTH(S3023)","v":12},{"$f":"YEAR(S3023)","v":2032},{"$f":"T3023&U3023","v":"612"},{"$f":"IF(V3023&W3023=V3022&W3022,X3022+1,1)","v":3},{"$f":"V3023&U3023&T3023&X3023","v":"20321263"},{"$f":"S3023","v":"2032-12-17"}]
[null,null,null,null,null,null,null,null,null,null,null,null,null,null,null,null,null,null,"2032-12-24",{"$f":"WEEKDAY(S3024)","v":6},{"$f":"MONTH(S3024)","v":12},{"$f":"YEAR(S3024)","v":2032},{"$f":"T3024&U3024","v":"612"},{"$f":"IF(V3024&W3024=V3023&W3023,X3023+1,1)","v":4},{"$f":"V3024&U3024&T3024&X3024","v":"20321264"},{"$f":"S3024","v":"2032-12-24"}]
[null,null,null,null,null,null,null,null,null,null,null,null,null,null,null,null,null,null,"2032-12-31",{"$f":"WEEKDAY(S3025)","v":6},{"$f":"MONTH(S3025)","v":12},{"$f":"YEAR(S3025)","v":2032},{"$f":"T3025&U3025","v":"612"},{"$f":"IF(V3025&W3025=V3024&W3024,X3024+1,1)","v":5},{"$f":"V3025&U3025&T3025&X3025","v":"20321265"},{"$f":"S3025","v":"2032-12-31"}]
[null,null,null,null,null,null,null,null,null,null,null,null,null,null,null,null,null,null,"2032-12-04",{"$f":"WEEKDAY(S3026)","v":7},{"$f":"MONTH(S3026)","v":12},{"$f":"YEAR(S3026)","v":2032},{"$f":"T3026&U3026","v":"712"},{"$f":"IF(V3026&W3026=V3025&W3025,X3025+1,1)","v":1},{"$f":"V3026&U3026&T3026&X3026","v":"20321271"},{"$f":"S3026","v":"2032-12-04"}]
[null,null,null,null,null,null,null,null,null,null,null,null,null,null,null,null,null,null,"2032-12-11",{"$f":"WEEKDAY(S3027)","v":7},{"$f":"MONTH(S3027)","v":12},{"$f":"YEAR(S3027)","v":2032},{"$f":"T3027&U3027","v":"712"},{"$f":"IF(V3027&W3027=V3026&W3026,X3026+1,1)","v":2},{"$f":"V3027&U3027&T3027&X3027","v":"20321272"},{"$f":"S3027","v":"2032-12-11"}]
[null,null,null,null,null,null,null,null,null,null,null,null,null,null,null,null,null,null,"2032-12-18",{"$f":"WEEKDAY(S3028)","v":7},{"$f":"MONTH(S3028)","v":12},{"$f":"YEAR(S3028)","v":2032},{"$f":"T3028&U3028","v":"712"},{"$f":"IF(V3028&W3028=V3027&W3027,X3027+1,1)","v":3},{"$f":"V3028&U3028&T3028&X3028","v":"20321273"},{"$f":"S3028","v":"2032-12-18"}]
[null,null,null,null,null,null,null,null,null,null,null,null,null,null,null,null,null,null,"2032-12-25",{"$f":"WEEKDAY(S3029)","v":7},{"$f":"MONTH(S3029)","v":12},{"$f":"YEAR(S3029)","v":2032},{"$f":"T3029&U3029","v":"712"},{"$f":"IF(V3029&W3029=V3028&W3028,X3028+1,1)","v":4},{"$f":"V3029&U3029&T3029&X3029","v":"20321274"},{"$f":"S3029","v":"2032-12-25"}]
[null,null,null,null,null,null,null,null,null,null,null,null,null,null,null,null,null,null,"2032-01-06",{"$f":"WEEKDAY(S3030)","v":3},{"$f":"MONTH(S3030)","v":1},{"$f":"YEAR(S3030)","v":2032},{"$f":"T3030&U3030","v":"31"},{"$f":"IF(V3030&W3030=V3029&W3029,X3029+1,1)","v":1},{"$f":"V3030&U3030&T3030&X3030","v":"2032131"},{"$f":"S3030","v":"2032-01-06"}]
[null,null,null,null,null,null,null,null,null,null,null,null,null,null,null,null,null,null,"2032-01-13",{"$f":"WEEKDAY(S3031)","v":3},{"$f":"MONTH(S3031)","v":1},{"$f":"YEAR(S3031)","v":2032},{"$f":"T3031&U3031","v":"31"},{"$f":"IF(V3031&W3031=V3030&W3030,X3030+1,1)","v":2},{"$f":"V3031&U3031&T3031&X3031","v":"2032132"},{"$f":"S3031","v":"2032-01-13"}]
[null,null,null,null,null,null,null,null,null,null,null,null,null,null,null,null,null,null,"2032-01-20",{"$f":"WEEKDAY(S3032)","v":3},{"$f":"MONTH(S3032)","v":1},{"$f":"YEAR(S3032)","v":2032},{"$f":"T3032&U3032","v":"31"},{"$f":"IF(V3032&W3032=V3031&W3031,X3031+1,1)","v":3},{"$f":"V3032&U3032&T3032&X3032","v":"2032133"},{"$f":"S3032","v":"2032-01-20"}]
[null,null,null,null,null,null,null,null,null,null,null,null,null,null,null,null,null,null,"2032-01-27",{"$f":"WEEKDAY(S3033)","v":3},{"$f":"MONTH(S3033)","v":1},{"$f":"YEAR(S3033)","v":2032},{"$f":"T3033&U3033","v":"31"},{"$f":"IF(V3033&W3033=V3032&W3032,X3032+1,1)","v":4},{"$f":"V3033&U3033&T3033&X3033","v":"2032134"},{"$f":"S3033","v":"2032-01-27"}]
[null,null,null,null,null,null,null,null,null,null,null,null,null,null,null,null,null,null,"2032-01-07",{"$f":"WEEKDAY(S3034)","v":4},{"$f":"MONTH(S3034)","v":1},{"$f":"YEAR(S3034)","v":2032},{"$f":"T3034&U3034","v":"41"},{"$f":"IF(V3034&W3034=V3033&W3033,X3033+1,1)","v":1},{"$f":"V3034&U3034&T3034&X3034","v":"2032141"},{"$f":"S3034","v":"2032-01-07"}]
[null,null,null,null,null,null,null,null,null,null,null,null,null,null,null,null,null,null,"2032-01-14",{"$f":"WEEKDAY(S3035)","v":4},{"$f":"MONTH(S3035)","v":1},{"$f":"YEAR(S3035)","v":2032},{"$f":"T3035&U3035","v":"41"},{"$f":"IF(V3035&W3035=V3034&W3034,X3034+1,1)","v":2},{"$f":"V3035&U3035&T3035&X3035","v":"2032142"},{"$f":"S3035","v":"2032-01-14"}]
[null,null,null,null,null,null,null,null,null,null,null,null,null,null,null,null,null,null,"2032-01-21",{"$f":"WEEKDAY(S3036)","v":4},{"$f":"MONTH(S3036)","v":1},{"$f":"YEAR(S3036)","v":2032},{"$f":"T3036&U3036","v":"41"},{"$f":"IF(V3036&W3036=V3035&W3035,X3035+1,1)","v":3},{"$f":"V3036&U3036&T3036&X3036","v":"2032143"},{"$f":"S3036","v":"2032-01-21"}]
[null,null,null,null,null,null,null,null,null,null,null,null,null,null,null,null,null,null,"2032-01-28",{"$f":"WEEKDAY(S3037)","v":4},{"$f":"MONTH(S3037)","v":1},{"$f":"YEAR(S3037)","v":2032},{"$f":"T3037&U3037","v":"41"},{"$f":"IF(V3037&W3037=V3036&W3036,X3036+1,1)","v":4},{"$f":"V3037&U3037&T3037&X3037","v":"2032144"},{"$f":"S3037","v":"2032-01-28"}]
[null,null,null,null,null,null,null,null,null,null,null,null,null,null,null,null,null,null,"2032-01-01",{"$f":"WEEKDAY(S3038)","v":5},{"$f":"MONTH(S3038)","v":1},{"$f":"YEAR(S3038)","v":2032},{"$f":"T3038&U3038","v":"51"},{"$f":"IF(V3038&W3038=V3037&W3037,X3037+1,1)","v":1},{"$f":"V3038&U3038&T3038&X3038","v":"2032151"},{"$f":"S3038","v":"2032-01-01"}]
[null,null,null,null,null,null,null,null,null,null,null,null,null,null,null,null,null,null,"2032-01-08",{"$f":"WEEKDAY(S3039)","v":5},{"$f":"MONTH(S3039)","v":1},{"$f":"YEAR(S3039)","v":2032},{"$f":"T3039&U3039","v":"51"},{"$f":"IF(V3039&W3039=V3038&W3038,X3038+1,1)","v":2},{"$f":"V3039&U3039&T3039&X3039","v":"2032152"},{"$f":"S3039","v":"2032-01-08"}]
[null,null,null,null,null,null,null,null,null,null,null,null,null,null,null,null,null,null,"2032-01-15",{"$f":"WEEKDAY(S3040)","v":5},{"$f":"MONTH(S3040)","v":1},{"$f":"YEAR(S3040)","v":2032},{"$f":"T3040&U3040","v":"51"},{"$f":"IF(V3040&W3040=V3039&W3039,X3039+1,1)","v":3},{"$f":"V3040&U3040&T3040&X3040","v":"2032153"},{"$f":"S3040","v":"2032-01-15"}]
[null,null,null,null,null,null,null,null,null,null,null,null,null,null,null,null,null,null,"2032-01-22",{"$f":"WEEKDAY(S3041)","v":5},{"$f":"MONTH(S3041)","v":1},{"$f":"YEAR(S3041)","v":2032},{"$f":"T3041&U3041","v":"51"},{"$f":"IF(V3041&W3041=V3040&W3040,X3040+1,1)","v":4},{"$f":"V3041&U3041&T3041&X3041","v":"2032154"},{"$f":"S3041","v":"2032-01-22"}]
[null,null,null,null,null,null,null,null,null,null,null,null,null,null,null,null,null,null,"2032-01-29",{"$f":"WEEKDAY(S3042)","v":5},{"$f":"MONTH(S3042)","v":1},{"$f":"YEAR(S3042)","v":2032},{"$f":"T3042&U3042","v":"51"},{"$f":"IF(V3042&W3042=V3041&W3041,X3041+1,1)","v":5},{"$f":"V3042&U3042&T3042&X3042","v":"2032155"},{"$f":"S3042","v":"2032-01-29"}]
[null,null,null,null,null,null,null,null,null,null,null,null,null,null,null,null,null,null,"2032-01-02",{"$f":"WEEKDAY(S3043)","v":6},{"$f":"MONTH(S3043)","v":1},{"$f":"YEAR(S3043)","v":2032},{"$f":"T3043&U3043","v":"61"},{"$f":"IF(V3043&W3043=V3042&W3042,X3042+1,1)","v":1},{"$f":"V3043&U3043&T3043&X3043","v":"2032161"},{"$f":"S3043","v":"2032-01-02"}]
[null,null,null,null,null,null,null,null,null,null,null,null,null,null,null,null,null,null,"2032-01-09",{"$f":"WEEKDAY(S3044)","v":6},{"$f":"MONTH(S3044)","v":1},{"$f":"YEAR(S3044)","v":2032},{"$f":"T3044&U3044","v":"61"},{"$f":"IF(V3044&W3044=V3043&W3043,X3043+1,1)","v":2},{"$f":"V3044&U3044&T3044&X3044","v":"2032162"},{"$f":"S3044","v":"2032-01-09"}]
[null,null,null,null,null,null,null,null,null,null,null,null,null,null,null,null,null,null,"2032-01-16",{"$f":"WEEKDAY(S3045)","v":6},{"$f":"MONTH(S3045)","v":1},{"$f":"YEAR(S3045)","v":2032},{"$f":"T3045&U3045","v":"61"},{"$f":"IF(V3045&W3045=V3044&W3044,X3044+1,1)","v":3},{"$f":"V3045&U3045&T3045&X3045","v":"2032163"},{"$f":"S3045","v":"2032-01-16"}]
[null,null,null,null,null,null,null,null,null,null,null,null,null,null,null,null,null,null,"2032-01-23",{"$f":"WEEKDAY(S3046)","v":6},{"$f":"MONTH(S3046)","v":1},{"$f":"YEAR(S3046)","v":2032},{"$f":"T3046&U3046","v":"61"},{"$f":"IF(V3046&W3046=V3045&W3045,X3045+1,1)","v":4},{"$f":"V3046&U3046&T3046&X3046","v":"2032164"},{"$f":"S3046","v":"2032-01-23"}]
[null,null,null,null,null,null,null,null,null,null,null,null,null,null,null,null,null,null,"2032-01-30",{"$f":"WEEKDAY(S3047)","v":6},{"$f":"MONTH(S3047)","v":1},{"$f":"YEAR(S3047)","v":2032},{"$f":"T3047&U3047","v":"61"},{"$f":"IF(V3047&W3047=V3046&W3046,X3046+1,1)","v":5},{"$f":"V3047&U3047&T3047&X3047","v":"2032165"},{"$f":"S3047","v":"2032-01-30"}]
[null,null,null,null,null,null,null,null,null,null,null,null,null,null,null,null,null,null,"2032-01-03",{"$f":"WEEKDAY(S3048)","v":7},{"$f":"MONTH(S3048)","v":1},{"$f":"YEAR(S3048)","v":2032},{"$f":"T3048&U3048","v":"71"},{"$f":"IF(V3048&W3048=V3047&W3047,X3047+1,1)","v":1},{"$f":"V3048&U3048&T3048&X3048","v":"2032171"},{"$f":"S3048","v":"2032-01-03"}]
[null,null,null,null,null,null,null,null,null,null,null,null,null,null,null,null,null,null,"2032-01-10",{"$f":"WEEKDAY(S3049)","v":7},{"$f":"MONTH(S3049)","v":1},{"$f":"YEAR(S3049)","v":2032},{"$f":"T3049&U3049","v":"71"},{"$f":"IF(V3049&W3049=V3048&W3048,X3048+1,1)","v":2},{"$f":"V3049&U3049&T3049&X3049","v":"2032172"},{"$f":"S3049","v":"2032-01-10"}]
[null,null,null,null,null,null,null,null,null,null,null,null,null,null,null,null,null,null,"2032-01-17",{"$f":"WEEKDAY(S3050)","v":7},{"$f":"MONTH(S3050)","v":1},{"$f":"YEAR(S3050)","v":2032},{"$f":"T3050&U3050","v":"71"},{"$f":"IF(V3050&W3050=V3049&W3049,X3049+1,1)","v":3},{"$f":"V3050&U3050&T3050&X3050","v":"2032173"},{"$f":"S3050","v":"2032-01-17"}]
[null,null,null,null,null,null,null,null,null,null,null,null,null,null,null,null,null,null,"2032-01-24",{"$f":"WEEKDAY(S3051)","v":7},{"$f":"MONTH(S3051)","v":1},{"$f":"YEAR(S3051)","v":2032},{"$f":"T3051&U3051","v":"71"},{"$f":"IF(V3051&W3051=V3050&W3050,X3050+1,1)","v":4},{"$f":"V3051&U3051&T3051&X3051","v":"2032174"},{"$f":"S3051","v":"2032-01-24"}]
[null,null,null,null,null,null,null,null,null,null,null,null,null,null,null,null,null,null,"2032-01-31",{"$f":"WEEKDAY(S3052)","v":7},{"$f":"MONTH(S3052)","v":1},{"$f":"YEAR(S3052)","v":2032},{"$f":"T3052&U3052","v":"71"},{"$f":"IF(V3052&W3052=V3051&W3051,X3051+1,1)","v":5},{"$f":"V3052&U3052&T3052&X3052","v":"2032175"},{"$f":"S3052","v":"2032-01-31"}]
[null,null,null,null,null,null,null,null,null,null,null,null,null,null,null,null,null,null,"2032-02-01",{"$f":"WEEKDAY(S3053)","v":1},{"$f":"MONTH(S3053)","v":2},{"$f":"YEAR(S3053)","v":2032},{"$f":"T3053&U3053","v":"12"},{"$f":"IF(V3053&W3053=V3052&W3052,X3052+1,1)","v":1},{"$f":"V3053&U3053&T3053&X3053","v":"2032211"},{"$f":"S3053","v":"2032-02-01"}]
[null,null,null,null,null,null,null,null,null,null,null,null,null,null,null,null,null,null,"2032-02-08",{"$f":"WEEKDAY(S3054)","v":1},{"$f":"MONTH(S3054)","v":2},{"$f":"YEAR(S3054)","v":2032},{"$f":"T3054&U3054","v":"12"},{"$f":"IF(V3054&W3054=V3053&W3053,X3053+1,1)","v":2},{"$f":"V3054&U3054&T3054&X3054","v":"2032212"},{"$f":"S3054","v":"2032-02-08"}]
[null,null,null,null,null,null,null,null,null,null,null,null,null,null,null,null,null,null,"2032-02-15",{"$f":"WEEKDAY(S3055)","v":1},{"$f":"MONTH(S3055)","v":2},{"$f":"YEAR(S3055)","v":2032},{"$f":"T3055&U3055","v":"12"},{"$f":"IF(V3055&W3055=V3054&W3054,X3054+1,1)","v":3},{"$f":"V3055&U3055&T3055&X3055","v":"2032213"},{"$f":"S3055","v":"2032-02-15"}]
[null,null,null,null,null,null,null,null,null,null,null,null,null,null,null,null,null,null,"2032-02-22",{"$f":"WEEKDAY(S3056)","v":1},{"$f":"MONTH(S3056)","v":2},{"$f":"YEAR(S3056)","v":2032},{"$f":"T3056&U3056","v":"12"},{"$f":"IF(V3056&W3056=V3055&W3055,X3055+1,1)","v":4},{"$f":"V3056&U3056&T3056&X3056","v":"2032214"},{"$f":"S3056","v":"2032-02-22"}]
[null,null,null,null,null,null,null,null,null,null,null,null,null,null,null,null,null,null,"2032-02-29",{"$f":"WEEKDAY(S3057)","v":1},{"$f":"MONTH(S3057)","v":2},{"$f":"YEAR(S3057)","v":2032},{"$f":"T3057&U3057","v":"12"},{"$f":"IF(V3057&W3057=V3056&W3056,X3056+1,1)","v":5},{"$f":"V3057&U3057&T3057&X3057","v":"2032215"},{"$f":"S3057","v":"2032-02-29"}]
[null,null,null,null,null,null,null,null,null,null,null,null,null,null,null,null,null,null,"2032-02-02",{"$f":"WEEKDAY(S3058)","v":2},{"$f":"MONTH(S3058)","v":2},{"$f":"YEAR(S3058)","v":2032},{"$f":"T3058&U3058","v":"22"},{"$f":"IF(V3058&W3058=V3057&W3057,X3057+1,1)","v":1},{"$f":"V3058&U3058&T3058&X3058","v":"2032221"},{"$f":"S3058","v":"2032-02-02"}]
[null,null,null,null,null,null,null,null,null,null,null,null,null,null,null,null,null,null,"2032-02-09",{"$f":"WEEKDAY(S3059)","v":2},{"$f":"MONTH(S3059)","v":2},{"$f":"YEAR(S3059)","v":2032},{"$f":"T3059&U3059","v":"22"},{"$f":"IF(V3059&W3059=V3058&W3058,X3058+1,1)","v":2},{"$f":"V3059&U3059&T3059&X3059","v":"2032222"},{"$f":"S3059","v":"2032-02-09"}]
[null,null,null,null,null,null,null,null,null,null,null,null,null,null,null,null,null,null,"2032-02-16",{"$f":"WEEKDAY(S3060)","v":2},{"$f":"MONTH(S3060)","v":2},{"$f":"YEAR(S3060)","v":2032},{"$f":"T3060&U3060","v":"22"},{"$f":"IF(V3060&W3060=V3059&W3059,X3059+1,1)","v":3},{"$f":"V3060&U3060&T3060&X3060","v":"2032223"},{"$f":"S3060","v":"2032-02-16"}]
[null,null,null,null,null,null,null,null,null,null,null,null,null,null,null,null,null,null,"2032-02-23",{"$f":"WEEKDAY(S3061)","v":2},{"$f":"MONTH(S3061)","v":2},{"$f":"YEAR(S3061)","v":2032},{"$f":"T3061&U3061","v":"22"},{"$f":"IF(V3061&W3061=V3060&W3060,X3060+1,1)","v":4},{"$f":"V3061&U3061&T3061&X3061","v":"2032224"},{"$f":"S3061","v":"2032-02-23"}]
[null,null,null,null,null,null,null,null,null,null,null,null,null,null,null,null,null,null,"2032-02-03",{"$f":"WEEKDAY(S3062)","v":3},{"$f":"MONTH(S3062)","v":2},{"$f":"YEAR(S3062)","v":2032},{"$f":"T3062&U3062","v":"32"},{"$f":"IF(V3062&W3062=V3061&W3061,X3061+1,1)","v":1},{"$f":"V3062&U3062&T3062&X3062","v":"2032231"},{"$f":"S3062","v":"2032-02-03"}]
[null,null,null,null,null,null,null,null,null,null,null,null,null,null,null,null,null,null,"2032-02-10",{"$f":"WEEKDAY(S3063)","v":3},{"$f":"MONTH(S3063)","v":2},{"$f":"YEAR(S3063)","v":2032},{"$f":"T3063&U3063","v":"32"},{"$f":"IF(V3063&W3063=V3062&W3062,X3062+1,1)","v":2},{"$f":"V3063&U3063&T3063&X3063","v":"2032232"},{"$f":"S3063","v":"2032-02-10"}]
[null,null,null,null,null,null,null,null,null,null,null,null,null,null,null,null,null,null,"2032-02-17",{"$f":"WEEKDAY(S3064)","v":3},{"$f":"MONTH(S3064)","v":2},{"$f":"YEAR(S3064)","v":2032},{"$f":"T3064&U3064","v":"32"},{"$f":"IF(V3064&W3064=V3063&W3063,X3063+1,1)","v":3},{"$f":"V3064&U3064&T3064&X3064","v":"2032233"},{"$f":"S3064","v":"2032-02-17"}]
[null,null,null,null,null,null,null,null,null,null,null,null,null,null,null,null,null,null,"2032-02-24",{"$f":"WEEKDAY(S3065)","v":3},{"$f":"MONTH(S3065)","v":2},{"$f":"YEAR(S3065)","v":2032},{"$f":"T3065&U3065","v":"32"},{"$f":"IF(V3065&W3065=V3064&W3064,X3064+1,1)","v":4},{"$f":"V3065&U3065&T3065&X3065","v":"2032234"},{"$f":"S3065","v":"2032-02-24"}]
[null,null,null,null,null,null,null,null,null,null,null,null,null,null,null,null,null,null,"2032-02-04",{"$f":"WEEKDAY(S3066)","v":4},{"$f":"MONTH(S3066)","v":2},{"$f":"YEAR(S3066)","v":2032},{"$f":"T3066&U3066","v":"42"},{"$f":"IF(V3066&W3066=V3065&W3065,X3065+1,1)","v":1},{"$f":"V3066&U3066&T3066&X3066","v":"2032241"},{"$f":"S3066","v":"2032-02-04"}]
[null,null,null,null,null,null,null,null,null,null,null,null,null,null,null,null,null,null,"2032-02-11",{"$f":"WEEKDAY(S3067)","v":4},{"$f":"MONTH(S3067)","v":2},{"$f":"YEAR(S3067)","v":2032},{"$f":"T3067&U3067","v":"42"},{"$f":"IF(V3067&W3067=V3066&W3066,X3066+1,1)","v":2},{"$f":"V3067&U3067&T3067&X3067","v":"2032242"},{"$f":"S3067","v":"2032-02-11"}]
[null,null,null,null,null,null,null,null,null,null,null,null,null,null,null,null,null,null,"2032-02-18",{"$f":"WEEKDAY(S3068)","v":4},{"$f":"MONTH(S3068)","v":2},{"$f":"YEAR(S3068)","v":2032},{"$f":"T3068&U3068","v":"42"},{"$f":"IF(V3068&W3068=V3067&W3067,X3067+1,1)","v":3},{"$f":"V3068&U3068&T3068&X3068","v":"2032243"},{"$f":"S3068","v":"2032-02-18"}]
[null,null,null,null,null,null,null,null,null,null,null,null,null,null,null,null,null,null,"2032-02-25",{"$f":"WEEKDAY(S3069)","v":4},{"$f":"MONTH(S3069)","v":2},{"$f":"YEAR(S3069)","v":2032},{"$f":"T3069&U3069","v":"42"},{"$f":"IF(V3069&W3069=V3068&W3068,X3068+1,1)","v":4},{"$f":"V3069&U3069&T3069&X3069","v":"2032244"},{"$f":"S3069","v":"2032-02-25"}]
[null,null,null,null,null,null,null,null,null,null,null,null,null,null,null,null,null,null,"2032-02-05",{"$f":"WEEKDAY(S3070)","v":5},{"$f":"MONTH(S3070)","v":2},{"$f":"YEAR(S3070)","v":2032},{"$f":"T3070&U3070","v":"52"},{"$f":"IF(V3070&W3070=V3069&W3069,X3069+1,1)","v":1},{"$f":"V3070&U3070&T3070&X3070","v":"2032251"},{"$f":"S3070","v":"2032-02-05"}]
[null,null,null,null,null,null,null,null,null,null,null,null,null,null,null,null,null,null,"2032-02-12",{"$f":"WEEKDAY(S3071)","v":5},{"$f":"MONTH(S3071)","v":2},{"$f":"YEAR(S3071)","v":2032},{"$f":"T3071&U3071","v":"52"},{"$f":"IF(V3071&W3071=V3070&W3070,X3070+1,1)","v":2},{"$f":"V3071&U3071&T3071&X3071","v":"2032252"},{"$f":"S3071","v":"2032-02-12"}]
[null,null,null,null,null,null,null,null,null,null,null,null,null,null,null,null,null,null,"2032-02-19",{"$f":"WEEKDAY(S3072)","v":5},{"$f":"MONTH(S3072)","v":2},{"$f":"YEAR(S3072)","v":2032},{"$f":"T3072&U3072","v":"52"},{"$f":"IF(V3072&W3072=V3071&W3071,X3071+1,1)","v":3},{"$f":"V3072&U3072&T3072&X3072","v":"2032253"},{"$f":"S3072","v":"2032-02-19"}]
[null,null,null,null,null,null,null,null,null,null,null,null,null,null,null,null,null,null,"2032-02-26",{"$f":"WEEKDAY(S3073)","v":5},{"$f":"MONTH(S3073)","v":2},{"$f":"YEAR(S3073)","v":2032},{"$f":"T3073&U3073","v":"52"},{"$f":"IF(V3073&W3073=V3072&W3072,X3072+1,1)","v":4},{"$f":"V3073&U3073&T3073&X3073","v":"2032254"},{"$f":"S3073","v":"2032-02-26"}]
[null,null,null,null,null,null,null,null,null,null,null,null,null,null,null,null,null,null,"2032-02-06",{"$f":"WEEKDAY(S3074)","v":6},{"$f":"MONTH(S3074)","v":2},{"$f":"YEAR(S3074)","v":2032},{"$f":"T3074&U3074","v":"62"},{"$f":"IF(V3074&W3074=V3073&W3073,X3073+1,1)","v":1},{"$f":"V3074&U3074&T3074&X3074","v":"2032261"},{"$f":"S3074","v":"2032-02-06"}]
[null,null,null,null,null,null,null,null,null,null,null,null,null,null,null,null,null,null,"2032-02-13",{"$f":"WEEKDAY(S3075)","v":6},{"$f":"MONTH(S3075)","v":2},{"$f":"YEAR(S3075)","v":2032},{"$f":"T3075&U3075","v":"62"},{"$f":"IF(V3075&W3075=V3074&W3074,X3074+1,1)","v":2},{"$f":"V3075&U3075&T3075&X3075","v":"2032262"},{"$f":"S3075","v":"2032-02-13"}]
[null,null,null,null,null,null,null,null,null,null,null,null,null,null,null,null,null,null,"2032-02-20",{"$f":"WEEKDAY(S3076)","v":6},{"$f":"MONTH(S3076)","v":2},{"$f":"YEAR(S3076)","v":2032},{"$f":"T3076&U3076","v":"62"},{"$f":"IF(V3076&W3076=V3075&W3075,X3075+1,1)","v":3},{"$f":"V3076&U3076&T3076&X3076","v":"2032263"},{"$f":"S3076","v":"2032-02-20"}]
[null,null,null,null,null,null,null,null,null,null,null,null,null,null,null,null,null,null,"2032-02-27",{"$f":"WEEKDAY(S3077)","v":6},{"$f":"MONTH(S3077)","v":2},{"$f":"YEAR(S3077)","v":2032},{"$f":"T3077&U3077","v":"62"},{"$f":"IF(V3077&W3077=V3076&W3076,X3076+1,1)","v":4},{"$f":"V3077&U3077&T3077&X3077","v":"2032264"},{"$f":"S3077","v":"2032-02-27"}]
[null,null,null,null,null,null,null,null,null,null,null,null,null,null,null,null,null,null,"2032-02-07",{"$f":"WEEKDAY(S3078)","v":7},{"$f":"MONTH(S3078)","v":2},{"$f":"YEAR(S3078)","v":2032},{"$f":"T3078&U3078","v":"72"},{"$f":"IF(V3078&W3078=V3077&W3077,X3077+1,1)","v":1},{"$f":"V3078&U3078&T3078&X3078","v":"2032271"},{"$f":"S3078","v":"2032-02-07"}]
[null,null,null,null,null,null,null,null,null,null,null,null,null,null,null,null,null,null,"2032-02-14",{"$f":"WEEKDAY(S3079)","v":7},{"$f":"MONTH(S3079)","v":2},{"$f":"YEAR(S3079)","v":2032},{"$f":"T3079&U3079","v":"72"},{"$f":"IF(V3079&W3079=V3078&W3078,X3078+1,1)","v":2},{"$f":"V3079&U3079&T3079&X3079","v":"2032272"},{"$f":"S3079","v":"2032-02-14"}]
[null,null,null,null,null,null,null,null,null,null,null,null,null,null,null,null,null,null,"2032-02-21",{"$f":"WEEKDAY(S3080)","v":7},{"$f":"MONTH(S3080)","v":2},{"$f":"YEAR(S3080)","v":2032},{"$f":"T3080&U3080","v":"72"},{"$f":"IF(V3080&W3080=V3079&W3079,X3079+1,1)","v":3},{"$f":"V3080&U3080&T3080&X3080","v":"2032273"},{"$f":"S3080","v":"2032-02-21"}]
[null,null,null,null,null,null,null,null,null,null,null,null,null,null,null,null,null,null,"2032-02-28",{"$f":"WEEKDAY(S3081)","v":7},{"$f":"MONTH(S3081)","v":2},{"$f":"YEAR(S3081)","v":2032},{"$f":"T3081&U3081","v":"72"},{"$f":"IF(V3081&W3081=V3080&W3080,X3080+1,1)","v":4},{"$f":"V3081&U3081&T3081&X3081","v":"2032274"},{"$f":"S3081","v":"2032-02-28"}]
[null,null,null,null,null,null,null,null,null,null,null,null,null,null,null,null,null,null,"2032-03-07",{"$f":"WEEKDAY(S3082)","v":1},{"$f":"MONTH(S3082)","v":3},{"$f":"YEAR(S3082)","v":2032},{"$f":"T3082&U3082","v":"13"},{"$f":"IF(V3082&W3082=V3081&W3081,X3081+1,1)","v":1},{"$f":"V3082&U3082&T3082&X3082","v":"2032311"},{"$f":"S3082","v":"2032-03-07"}]
[null,null,null,null,null,null,null,null,null,null,null,null,null,null,null,null,null,null,"2032-03-14",{"$f":"WEEKDAY(S3083)","v":1},{"$f":"MONTH(S3083)","v":3},{"$f":"YEAR(S3083)","v":2032},{"$f":"T3083&U3083","v":"13"},{"$f":"IF(V3083&W3083=V3082&W3082,X3082+1,1)","v":2},{"$f":"V3083&U3083&T3083&X3083","v":"2032312"},{"$f":"S3083","v":"2032-03-14"}]
[null,null,null,null,null,null,null,null,null,null,null,null,null,null,null,null,null,null,"2032-03-21",{"$f":"WEEKDAY(S3084)","v":1},{"$f":"MONTH(S3084)","v":3},{"$f":"YEAR(S3084)","v":2032},{"$f":"T3084&U3084","v":"13"},{"$f":"IF(V3084&W3084=V3083&W3083,X3083+1,1)","v":3},{"$f":"V3084&U3084&T3084&X3084","v":"2032313"},{"$f":"S3084","v":"2032-03-21"}]
[null,null,null,null,null,null,null,null,null,null,null,null,null,null,null,null,null,null,"2032-03-28",{"$f":"WEEKDAY(S3085)","v":1},{"$f":"MONTH(S3085)","v":3},{"$f":"YEAR(S3085)","v":2032},{"$f":"T3085&U3085","v":"13"},{"$f":"IF(V3085&W3085=V3084&W3084,X3084+1,1)","v":4},{"$f":"V3085&U3085&T3085&X3085","v":"2032314"},{"$f":"S3085","v":"2032-03-28"}]
[null,null,null,null,null,null,null,null,null,null,null,null,null,null,null,null,null,null,"2032-03-01",{"$f":"WEEKDAY(S3086)","v":2},{"$f":"MONTH(S3086)","v":3},{"$f":"YEAR(S3086)","v":2032},{"$f":"T3086&U3086","v":"23"},{"$f":"IF(V3086&W3086=V3085&W3085,X3085+1,1)","v":1},{"$f":"V3086&U3086&T3086&X3086","v":"2032321"},{"$f":"S3086","v":"2032-03-01"}]
[null,null,null,null,null,null,null,null,null,null,null,null,null,null,null,null,null,null,"2032-03-08",{"$f":"WEEKDAY(S3087)","v":2},{"$f":"MONTH(S3087)","v":3},{"$f":"YEAR(S3087)","v":2032},{"$f":"T3087&U3087","v":"23"},{"$f":"IF(V3087&W3087=V3086&W3086,X3086+1,1)","v":2},{"$f":"V3087&U3087&T3087&X3087","v":"2032322"},{"$f":"S3087","v":"2032-03-08"}]
[null,null,null,null,null,null,null,null,null,null,null,null,null,null,null,null,null,null,"2032-03-15",{"$f":"WEEKDAY(S3088)","v":2},{"$f":"MONTH(S3088)","v":3},{"$f":"YEAR(S3088)","v":2032},{"$f":"T3088&U3088","v":"23"},{"$f":"IF(V3088&W3088=V3087&W3087,X3087+1,1)","v":3},{"$f":"V3088&U3088&T3088&X3088","v":"2032323"},{"$f":"S3088","v":"2032-03-15"}]
[null,null,null,null,null,null,null,null,null,null,null,null,null,null,null,null,null,null,"2032-03-22",{"$f":"WEEKDAY(S3089)","v":2},{"$f":"MONTH(S3089)","v":3},{"$f":"YEAR(S3089)","v":2032},{"$f":"T3089&U3089","v":"23"},{"$f":"IF(V3089&W3089=V3088&W3088,X3088+1,1)","v":4},{"$f":"V3089&U3089&T3089&X3089","v":"2032324"},{"$f":"S3089","v":"2032-03-22"}]
[null,null,null,null,null,null,null,null,null,null,null,null,null,null,null,null,null,null,"2032-03-29",{"$f":"WEEKDAY(S3090)","v":2},{"$f":"MONTH(S3090)","v":3},{"$f":"YEAR(S3090)","v":2032},{"$f":"T3090&U3090","v":"23"},{"$f":"IF(V3090&W3090=V3089&W3089,X3089+1,1)","v":5},{"$f":"V3090&U3090&T3090&X3090","v":"2032325"},{"$f":"S3090","v":"2032-03-29"}]
[null,null,null,null,null,null,null,null,null,null,null,null,null,null,null,null,null,null,"2032-03-02",{"$f":"WEEKDAY(S3091)","v":3},{"$f":"MONTH(S3091)","v":3},{"$f":"YEAR(S3091)","v":2032},{"$f":"T3091&U3091","v":"33"},{"$f":"IF(V3091&W3091=V3090&W3090,X3090+1,1)","v":1},{"$f":"V3091&U3091&T3091&X3091","v":"2032331"},{"$f":"S3091","v":"2032-03-02"}]
[null,null,null,null,null,null,null,null,null,null,null,null,null,null,null,null,null,null,"2032-03-09",{"$f":"WEEKDAY(S3092)","v":3},{"$f":"MONTH(S3092)","v":3},{"$f":"YEAR(S3092)","v":2032},{"$f":"T3092&U3092","v":"33"},{"$f":"IF(V3092&W3092=V3091&W3091,X3091+1,1)","v":2},{"$f":"V3092&U3092&T3092&X3092","v":"2032332"},{"$f":"S3092","v":"2032-03-09"}]
[null,null,null,null,null,null,null,null,null,null,null,null,null,null,null,null,null,null,"2032-03-16",{"$f":"WEEKDAY(S3093)","v":3},{"$f":"MONTH(S3093)","v":3},{"$f":"YEAR(S3093)","v":2032},{"$f":"T3093&U3093","v":"33"},{"$f":"IF(V3093&W3093=V3092&W3092,X3092+1,1)","v":3},{"$f":"V3093&U3093&T3093&X3093","v":"2032333"},{"$f":"S3093","v":"2032-03-16"}]
[null,null,null,null,null,null,null,null,null,null,null,null,null,null,null,null,null,null,"2032-03-23",{"$f":"WEEKDAY(S3094)","v":3},{"$f":"MONTH(S3094)","v":3},{"$f":"YEAR(S3094)","v":2032},{"$f":"T3094&U3094","v":"33"},{"$f":"IF(V3094&W3094=V3093&W3093,X3093+1,1)","v":4},{"$f":"V3094&U3094&T3094&X3094","v":"2032334"},{"$f":"S3094","v":"2032-03-23"}]
[null,null,null,null,null,null,null,null,null,null,null,null,null,null,null,null,null,null,"2032-03-30",{"$f":"WEEKDAY(S3095)","v":3},{"$f":"MONTH(S3095)","v":3},{"$f":"YEAR(S3095)","v":2032},{"$f":"T3095&U3095","v":"33"},{"$f":"IF(V3095&W3095=V3094&W3094,X3094+1,1)","v":5},{"$f":"V3095&U3095&T3095&X3095","v":"2032335"},{"$f":"S3095","v":"2032-03-30"}]
[null,null,null,null,null,null,null,null,null,null,null,null,null,null,null,null,null,null,"2032-03-03",{"$f":"WEEKDAY(S3096)","v":4},{"$f":"MONTH(S3096)","v":3},{"$f":"YEAR(S3096)","v":2032},{"$f":"T3096&U3096","v":"43"},{"$f":"IF(V3096&W3096=V3095&W3095,X3095+1,1)","v":1},{"$f":"V3096&U3096&T3096&X3096","v":"2032341"},{"$f":"S3096","v":"2032-03-03"}]
[null,null,null,null,null,null,null,null,null,null,null,null,null,null,null,null,null,null,"2032-03-10",{"$f":"WEEKDAY(S3097)","v":4},{"$f":"MONTH(S3097)","v":3},{"$f":"YEAR(S3097)","v":2032},{"$f":"T3097&U3097","v":"43"},{"$f":"IF(V3097&W3097=V3096&W3096,X3096+1,1)","v":2},{"$f":"V3097&U3097&T3097&X3097","v":"2032342"},{"$f":"S3097","v":"2032-03-10"}]
[null,null,null,null,null,null,null,null,null,null,null,null,null,null,null,null,null,null,"2032-03-17",{"$f":"WEEKDAY(S3098)","v":4},{"$f":"MONTH(S3098)","v":3},{"$f":"YEAR(S3098)","v":2032},{"$f":"T3098&U3098","v":"43"},{"$f":"IF(V3098&W3098=V3097&W3097,X3097+1,1)","v":3},{"$f":"V3098&U3098&T3098&X3098","v":"2032343"},{"$f":"S3098","v":"2032-03-17"}]
[null,null,null,null,null,null,null,null,null,null,null,null,null,null,null,null,null,null,"2032-03-24",{"$f":"WEEKDAY(S3099)","v":4},{"$f":"MONTH(S3099)","v":3},{"$f":"YEAR(S3099)","v":2032},{"$f":"T3099&U3099","v":"43"},{"$f":"IF(V3099&W3099=V3098&W3098,X3098+1,1)","v":4},{"$f":"V3099&U3099&T3099&X3099","v":"2032344"},{"$f":"S3099","v":"2032-03-24"}]
[null,null,null,null,null,null,null,null,null,null,null,null,null,null,null,null,null,null,"2032-03-31",{"$f":"WEEKDAY(S3100)","v":4},{"$f":"MONTH(S3100)","v":3},{"$f":"YEAR(S3100)","v":2032},{"$f":"T3100&U3100","v":"43"},{"$f":"IF(V3100&W3100=V3099&W3099,X3099+1,1)","v":5},{"$f":"V3100&U3100&T3100&X3100","v":"2032345"},{"$f":"S3100","v":"2032-03-31"}]
[null,null,null,null,null,null,null,null,null,null,null,null,null,null,null,null,null,null,"2032-03-04",{"$f":"WEEKDAY(S3101)","v":5},{"$f":"MONTH(S3101)","v":3},{"$f":"YEAR(S3101)","v":2032},{"$f":"T3101&U3101","v":"53"},{"$f":"IF(V3101&W3101=V3100&W3100,X3100+1,1)","v":1},{"$f":"V3101&U3101&T3101&X3101","v":"2032351"},{"$f":"S3101","v":"2032-03-04"}]
[null,null,null,null,null,null,null,null,null,null,null,null,null,null,null,null,null,null,"2032-03-11",{"$f":"WEEKDAY(S3102)","v":5},{"$f":"MONTH(S3102)","v":3},{"$f":"YEAR(S3102)","v":2032},{"$f":"T3102&U3102","v":"53"},{"$f":"IF(V3102&W3102=V3101&W3101,X3101+1,1)","v":2},{"$f":"V3102&U3102&T3102&X3102","v":"2032352"},{"$f":"S3102","v":"2032-03-11"}]
[null,null,null,null,null,null,null,null,null,null,null,null,null,null,null,null,null,null,"2032-03-18",{"$f":"WEEKDAY(S3103)","v":5},{"$f":"MONTH(S3103)","v":3},{"$f":"YEAR(S3103)","v":2032},{"$f":"T3103&U3103","v":"53"},{"$f":"IF(V3103&W3103=V3102&W3102,X3102+1,1)","v":3},{"$f":"V3103&U3103&T3103&X3103","v":"2032353"},{"$f":"S3103","v":"2032-03-18"}]
[null,null,null,null,null,null,null,null,null,null,null,null,null,null,null,null,null,null,"2032-03-25",{"$f":"WEEKDAY(S3104)","v":5},{"$f":"MONTH(S3104)","v":3},{"$f":"YEAR(S3104)","v":2032},{"$f":"T3104&U3104","v":"53"},{"$f":"IF(V3104&W3104=V3103&W3103,X3103+1,1)","v":4},{"$f":"V3104&U3104&T3104&X3104","v":"2032354"},{"$f":"S3104","v":"2032-03-25"}]
[null,null,null,null,null,null,null,null,null,null,null,null,null,null,null,null,null,null,"2032-03-05",{"$f":"WEEKDAY(S3105)","v":6},{"$f":"MONTH(S3105)","v":3},{"$f":"YEAR(S3105)","v":2032},{"$f":"T3105&U3105","v":"63"},{"$f":"IF(V3105&W3105=V3104&W3104,X3104+1,1)","v":1},{"$f":"V3105&U3105&T3105&X3105","v":"2032361"},{"$f":"S3105","v":"2032-03-05"}]
[null,null,null,null,null,null,null,null,null,null,null,null,null,null,null,null,null,null,"2032-03-12",{"$f":"WEEKDAY(S3106)","v":6},{"$f":"MONTH(S3106)","v":3},{"$f":"YEAR(S3106)","v":2032},{"$f":"T3106&U3106","v":"63"},{"$f":"IF(V3106&W3106=V3105&W3105,X3105+1,1)","v":2},{"$f":"V3106&U3106&T3106&X3106","v":"2032362"},{"$f":"S3106","v":"2032-03-12"}]
[null,null,null,null,null,null,null,null,null,null,null,null,null,null,null,null,null,null,"2032-03-19",{"$f":"WEEKDAY(S3107)","v":6},{"$f":"MONTH(S3107)","v":3},{"$f":"YEAR(S3107)","v":2032},{"$f":"T3107&U3107","v":"63"},{"$f":"IF(V3107&W3107=V3106&W3106,X3106+1,1)","v":3},{"$f":"V3107&U3107&T3107&X3107","v":"2032363"},{"$f":"S3107","v":"2032-03-19"}]
[null,null,null,null,null,null,null,null,null,null,null,null,null,null,null,null,null,null,"2032-03-26",{"$f":"WEEKDAY(S3108)","v":6},{"$f":"MONTH(S3108)","v":3},{"$f":"YEAR(S3108)","v":2032},{"$f":"T3108&U3108","v":"63"},{"$f":"IF(V3108&W3108=V3107&W3107,X3107+1,1)","v":4},{"$f":"V3108&U3108&T3108&X3108","v":"2032364"},{"$f":"S3108","v":"2032-03-26"}]
[null,null,null,null,null,null,null,null,null,null,null,null,null,null,null,null,null,null,"2032-03-06",{"$f":"WEEKDAY(S3109)","v":7},{"$f":"MONTH(S3109)","v":3},{"$f":"YEAR(S3109)","v":2032},{"$f":"T3109&U3109","v":"73"},{"$f":"IF(V3109&W3109=V3108&W3108,X3108+1,1)","v":1},{"$f":"V3109&U3109&T3109&X3109","v":"2032371"},{"$f":"S3109","v":"2032-03-06"}]
[null,null,null,null,null,null,null,null,null,null,null,null,null,null,null,null,null,null,"2032-03-13",{"$f":"WEEKDAY(S3110)","v":7},{"$f":"MONTH(S3110)","v":3},{"$f":"YEAR(S3110)","v":2032},{"$f":"T3110&U3110","v":"73"},{"$f":"IF(V3110&W3110=V3109&W3109,X3109+1,1)","v":2},{"$f":"V3110&U3110&T3110&X3110","v":"2032372"},{"$f":"S3110","v":"2032-03-13"}]
[null,null,null,null,null,null,null,null,null,null,null,null,null,null,null,null,null,null,"2032-03-20",{"$f":"WEEKDAY(S3111)","v":7},{"$f":"MONTH(S3111)","v":3},{"$f":"YEAR(S3111)","v":2032},{"$f":"T3111&U3111","v":"73"},{"$f":"IF(V3111&W3111=V3110&W3110,X3110+1,1)","v":3},{"$f":"V3111&U3111&T3111&X3111","v":"2032373"},{"$f":"S3111","v":"2032-03-20"}]
[null,null,null,null,null,null,null,null,null,null,null,null,null,null,null,null,null,null,"2032-03-27",{"$f":"WEEKDAY(S3112)","v":7},{"$f":"MONTH(S3112)","v":3},{"$f":"YEAR(S3112)","v":2032},{"$f":"T3112&U3112","v":"73"},{"$f":"IF(V3112&W3112=V3111&W3111,X3111+1,1)","v":4},{"$f":"V3112&U3112&T3112&X3112","v":"2032374"},{"$f":"S3112","v":"2032-03-27"}]
[null,null,null,null,null,null,null,null,null,null,null,null,null,null,null,null,null,null,"2032-04-04",{"$f":"WEEKDAY(S3113)","v":1},{"$f":"MONTH(S3113)","v":4},{"$f":"YEAR(S3113)","v":2032},{"$f":"T3113&U3113","v":"14"},{"$f":"IF(V3113&W3113=V3112&W3112,X3112+1,1)","v":1},{"$f":"V3113&U3113&T3113&X3113","v":"2032411"},{"$f":"S3113","v":"2032-04-04"}]
[null,null,null,null,null,null,null,null,null,null,null,null,null,null,null,null,null,null,"2032-04-11",{"$f":"WEEKDAY(S3114)","v":1},{"$f":"MONTH(S3114)","v":4},{"$f":"YEAR(S3114)","v":2032},{"$f":"T3114&U3114","v":"14"},{"$f":"IF(V3114&W3114=V3113&W3113,X3113+1,1)","v":2},{"$f":"V3114&U3114&T3114&X3114","v":"2032412"},{"$f":"S3114","v":"2032-04-11"}]
[null,null,null,null,null,null,null,null,null,null,null,null,null,null,null,null,null,null,"2032-04-18",{"$f":"WEEKDAY(S3115)","v":1},{"$f":"MONTH(S3115)","v":4},{"$f":"YEAR(S3115)","v":2032},{"$f":"T3115&U3115","v":"14"},{"$f":"IF(V3115&W3115=V3114&W3114,X3114+1,1)","v":3},{"$f":"V3115&U3115&T3115&X3115","v":"2032413"},{"$f":"S3115","v":"2032-04-18"}]
[null,null,null,null,null,null,null,null,null,null,null,null,null,null,null,null,null,null,"2032-04-25",{"$f":"WEEKDAY(S3116)","v":1},{"$f":"MONTH(S3116)","v":4},{"$f":"YEAR(S3116)","v":2032},{"$f":"T3116&U3116","v":"14"},{"$f":"IF(V3116&W3116=V3115&W3115,X3115+1,1)","v":4},{"$f":"V3116&U3116&T3116&X3116","v":"2032414"},{"$f":"S3116","v":"2032-04-25"}]
[null,null,null,null,null,null,null,null,null,null,null,null,null,null,null,null,null,null,"2032-04-05",{"$f":"WEEKDAY(S3117)","v":2},{"$f":"MONTH(S3117)","v":4},{"$f":"YEAR(S3117)","v":2032},{"$f":"T3117&U3117","v":"24"},{"$f":"IF(V3117&W3117=V3116&W3116,X3116+1,1)","v":1},{"$f":"V3117&U3117&T3117&X3117","v":"2032421"},{"$f":"S3117","v":"2032-04-05"}]
[null,null,null,null,null,null,null,null,null,null,null,null,null,null,null,null,null,null,"2032-04-12",{"$f":"WEEKDAY(S3118)","v":2},{"$f":"MONTH(S3118)","v":4},{"$f":"YEAR(S3118)","v":2032},{"$f":"T3118&U3118","v":"24"},{"$f":"IF(V3118&W3118=V3117&W3117,X3117+1,1)","v":2},{"$f":"V3118&U3118&T3118&X3118","v":"2032422"},{"$f":"S3118","v":"2032-04-12"}]
[null,null,null,null,null,null,null,null,null,null,null,null,null,null,null,null,null,null,"2032-04-19",{"$f":"WEEKDAY(S3119)","v":2},{"$f":"MONTH(S3119)","v":4},{"$f":"YEAR(S3119)","v":2032},{"$f":"T3119&U3119","v":"24"},{"$f":"IF(V3119&W3119=V3118&W3118,X3118+1,1)","v":3},{"$f":"V3119&U3119&T3119&X3119","v":"2032423"},{"$f":"S3119","v":"2032-04-19"}]
[null,null,null,null,null,null,null,null,null,null,null,null,null,null,null,null,null,null,"2032-04-26",{"$f":"WEEKDAY(S3120)","v":2},{"$f":"MONTH(S3120)","v":4},{"$f":"YEAR(S3120)","v":2032},{"$f":"T3120&U3120","v":"24"},{"$f":"IF(V3120&W3120=V3119&W3119,X3119+1,1)","v":4},{"$f":"V3120&U3120&T3120&X3120","v":"2032424"},{"$f":"S3120","v":"2032-04-26"}]
[null,null,null,null,null,null,null,null,null,null,null,null,null,null,null,null,null,null,"2032-04-06",{"$f":"WEEKDAY(S3121)","v":3},{"$f":"MONTH(S3121)","v":4},{"$f":"YEAR(S3121)","v":2032},{"$f":"T3121&U3121","v":"34"},{"$f":"IF(V3121&W3121=V3120&W3120,X3120+1,1)","v":1},{"$f":"V3121&U3121&T3121&X3121","v":"2032431"},{"$f":"S3121","v":"2032-04-06"}]
[null,null,null,null,null,null,null,null,null,null,null,null,null,null,null,null,null,null,"2032-04-13",{"$f":"WEEKDAY(S3122)","v":3},{"$f":"MONTH(S3122)","v":4},{"$f":"YEAR(S3122)","v":2032},{"$f":"T3122&U3122","v":"34"},{"$f":"IF(V3122&W3122=V3121&W3121,X3121+1,1)","v":2},{"$f":"V3122&U3122&T3122&X3122","v":"2032432"},{"$f":"S3122","v":"2032-04-13"}]
[null,null,null,null,null,null,null,null,null,null,null,null,null,null,null,null,null,null,"2032-04-20",{"$f":"WEEKDAY(S3123)","v":3},{"$f":"MONTH(S3123)","v":4},{"$f":"YEAR(S3123)","v":2032},{"$f":"T3123&U3123","v":"34"},{"$f":"IF(V3123&W3123=V3122&W3122,X3122+1,1)","v":3},{"$f":"V3123&U3123&T3123&X3123","v":"2032433"},{"$f":"S3123","v":"2032-04-20"}]
[null,null,null,null,null,null,null,null,null,null,null,null,null,null,null,null,null,null,"2032-04-27",{"$f":"WEEKDAY(S3124)","v":3},{"$f":"MONTH(S3124)","v":4},{"$f":"YEAR(S3124)","v":2032},{"$f":"T3124&U3124","v":"34"},{"$f":"IF(V3124&W3124=V3123&W3123,X3123+1,1)","v":4},{"$f":"V3124&U3124&T3124&X3124","v":"2032434"},{"$f":"S3124","v":"2032-04-27"}]
[null,null,null,null,null,null,null,null,null,null,null,null,null,null,null,null,null,null,"2032-04-07",{"$f":"WEEKDAY(S3125)","v":4},{"$f":"MONTH(S3125)","v":4},{"$f":"YEAR(S3125)","v":2032},{"$f":"T3125&U3125","v":"44"},{"$f":"IF(V3125&W3125=V3124&W3124,X3124+1,1)","v":1},{"$f":"V3125&U3125&T3125&X3125","v":"2032441"},{"$f":"S3125","v":"2032-04-07"}]
[null,null,null,null,null,null,null,null,null,null,null,null,null,null,null,null,null,null,"2032-04-14",{"$f":"WEEKDAY(S3126)","v":4},{"$f":"MONTH(S3126)","v":4},{"$f":"YEAR(S3126)","v":2032},{"$f":"T3126&U3126","v":"44"},{"$f":"IF(V3126&W3126=V3125&W3125,X3125+1,1)","v":2},{"$f":"V3126&U3126&T3126&X3126","v":"2032442"},{"$f":"S3126","v":"2032-04-14"}]
[null,null,null,null,null,null,null,null,null,null,null,null,null,null,null,null,null,null,"2032-04-21",{"$f":"WEEKDAY(S3127)","v":4},{"$f":"MONTH(S3127)","v":4},{"$f":"YEAR(S3127)","v":2032},{"$f":"T3127&U3127","v":"44"},{"$f":"IF(V3127&W3127=V3126&W3126,X3126+1,1)","v":3},{"$f":"V3127&U3127&T3127&X3127","v":"2032443"},{"$f":"S3127","v":"2032-04-21"}]
[null,null,null,null,null,null,null,null,null,null,null,null,null,null,null,null,null,null,"2032-04-28",{"$f":"WEEKDAY(S3128)","v":4},{"$f":"MONTH(S3128)","v":4},{"$f":"YEAR(S3128)","v":2032},{"$f":"T3128&U3128","v":"44"},{"$f":"IF(V3128&W3128=V3127&W3127,X3127+1,1)","v":4},{"$f":"V3128&U3128&T3128&X3128","v":"2032444"},{"$f":"S3128","v":"2032-04-28"}]
[null,null,null,null,null,null,null,null,null,null,null,null,null,null,null,null,null,null,"2032-04-01",{"$f":"WEEKDAY(S3129)","v":5},{"$f":"MONTH(S3129)","v":4},{"$f":"YEAR(S3129)","v":2032},{"$f":"T3129&U3129","v":"54"},{"$f":"IF(V3129&W3129=V3128&W3128,X3128+1,1)","v":1},{"$f":"V3129&U3129&T3129&X3129","v":"2032451"},{"$f":"S3129","v":"2032-04-01"}]
[null,null,null,null,null,null,null,null,null,null,null,null,null,null,null,null,null,null,"2032-04-08",{"$f":"WEEKDAY(S3130)","v":5},{"$f":"MONTH(S3130)","v":4},{"$f":"YEAR(S3130)","v":2032},{"$f":"T3130&U3130","v":"54"},{"$f":"IF(V3130&W3130=V3129&W3129,X3129+1,1)","v":2},{"$f":"V3130&U3130&T3130&X3130","v":"2032452"},{"$f":"S3130","v":"2032-04-08"}]
[null,null,null,null,null,null,null,null,null,null,null,null,null,null,null,null,null,null,"2032-04-15",{"$f":"WEEKDAY(S3131)","v":5},{"$f":"MONTH(S3131)","v":4},{"$f":"YEAR(S3131)","v":2032},{"$f":"T3131&U3131","v":"54"},{"$f":"IF(V3131&W3131=V3130&W3130,X3130+1,1)","v":3},{"$f":"V3131&U3131&T3131&X3131","v":"2032453"},{"$f":"S3131","v":"2032-04-15"}]
[null,null,null,null,null,null,null,null,null,null,null,null,null,null,null,null,null,null,"2032-04-22",{"$f":"WEEKDAY(S3132)","v":5},{"$f":"MONTH(S3132)","v":4},{"$f":"YEAR(S3132)","v":2032},{"$f":"T3132&U3132","v":"54"},{"$f":"IF(V3132&W3132=V3131&W3131,X3131+1,1)","v":4},{"$f":"V3132&U3132&T3132&X3132","v":"2032454"},{"$f":"S3132","v":"2032-04-22"}]
[null,null,null,null,null,null,null,null,null,null,null,null,null,null,null,null,null,null,"2032-04-29",{"$f":"WEEKDAY(S3133)","v":5},{"$f":"MONTH(S3133)","v":4},{"$f":"YEAR(S3133)","v":2032},{"$f":"T3133&U3133","v":"54"},{"$f":"IF(V3133&W3133=V3132&W3132,X3132+1,1)","v":5},{"$f":"V3133&U3133&T3133&X3133","v":"2032455"},{"$f":"S3133","v":"2032-04-29"}]
[null,null,null,null,null,null,null,null,null,null,null,null,null,null,null,null,null,null,"2032-04-02",{"$f":"WEEKDAY(S3134)","v":6},{"$f":"MONTH(S3134)","v":4},{"$f":"YEAR(S3134)","v":2032},{"$f":"T3134&U3134","v":"64"},{"$f":"IF(V3134&W3134=V3133&W3133,X3133+1,1)","v":1},{"$f":"V3134&U3134&T3134&X3134","v":"2032461"},{"$f":"S3134","v":"2032-04-02"}]
[null,null,null,null,null,null,null,null,null,null,null,null,null,null,null,null,null,null,"2032-04-09",{"$f":"WEEKDAY(S3135)","v":6},{"$f":"MONTH(S3135)","v":4},{"$f":"YEAR(S3135)","v":2032},{"$f":"T3135&U3135","v":"64"},{"$f":"IF(V3135&W3135=V3134&W3134,X3134+1,1)","v":2},{"$f":"V3135&U3135&T3135&X3135","v":"2032462"},{"$f":"S3135","v":"2032-04-09"}]
[null,null,null,null,null,null,null,null,null,null,null,null,null,null,null,null,null,null,"2032-04-16",{"$f":"WEEKDAY(S3136)","v":6},{"$f":"MONTH(S3136)","v":4},{"$f":"YEAR(S3136)","v":2032},{"$f":"T3136&U3136","v":"64"},{"$f":"IF(V3136&W3136=V3135&W3135,X3135+1,1)","v":3},{"$f":"V3136&U3136&T3136&X3136","v":"2032463"},{"$f":"S3136","v":"2032-04-16"}]
[null,null,null,null,null,null,null,null,null,null,null,null,null,null,null,null,null,null,"2032-04-23",{"$f":"WEEKDAY(S3137)","v":6},{"$f":"MONTH(S3137)","v":4},{"$f":"YEAR(S3137)","v":2032},{"$f":"T3137&U3137","v":"64"},{"$f":"IF(V3137&W3137=V3136&W3136,X3136+1,1)","v":4},{"$f":"V3137&U3137&T3137&X3137","v":"2032464"},{"$f":"S3137","v":"2032-04-23"}]
[null,null,null,null,null,null,null,null,null,null,null,null,null,null,null,null,null,null,"2032-04-30",{"$f":"WEEKDAY(S3138)","v":6},{"$f":"MONTH(S3138)","v":4},{"$f":"YEAR(S3138)","v":2032},{"$f":"T3138&U3138","v":"64"},{"$f":"IF(V3138&W3138=V3137&W3137,X3137+1,1)","v":5},{"$f":"V3138&U3138&T3138&X3138","v":"2032465"},{"$f":"S3138","v":"2032-04-30"}]
[null,null,null,null,null,null,null,null,null,null,null,null,null,null,null,null,null,null,"2032-04-03",{"$f":"WEEKDAY(S3139)","v":7},{"$f":"MONTH(S3139)","v":4},{"$f":"YEAR(S3139)","v":2032},{"$f":"T3139&U3139","v":"74"},{"$f":"IF(V3139&W3139=V3138&W3138,X3138+1,1)","v":1},{"$f":"V3139&U3139&T3139&X3139","v":"2032471"},{"$f":"S3139","v":"2032-04-03"}]
[null,null,null,null,null,null,null,null,null,null,null,null,null,null,null,null,null,null,"2032-04-10",{"$f":"WEEKDAY(S3140)","v":7},{"$f":"MONTH(S3140)","v":4},{"$f":"YEAR(S3140)","v":2032},{"$f":"T3140&U3140","v":"74"},{"$f":"IF(V3140&W3140=V3139&W3139,X3139+1,1)","v":2},{"$f":"V3140&U3140&T3140&X3140","v":"2032472"},{"$f":"S3140","v":"2032-04-10"}]
[null,null,null,null,null,null,null,null,null,null,null,null,null,null,null,null,null,null,"2032-04-17",{"$f":"WEEKDAY(S3141)","v":7},{"$f":"MONTH(S3141)","v":4},{"$f":"YEAR(S3141)","v":2032},{"$f":"T3141&U3141","v":"74"},{"$f":"IF(V3141&W3141=V3140&W3140,X3140+1,1)","v":3},{"$f":"V3141&U3141&T3141&X3141","v":"2032473"},{"$f":"S3141","v":"2032-04-17"}]
[null,null,null,null,null,null,null,null,null,null,null,null,null,null,null,null,null,null,"2032-04-24",{"$f":"WEEKDAY(S3142)","v":7},{"$f":"MONTH(S3142)","v":4},{"$f":"YEAR(S3142)","v":2032},{"$f":"T3142&U3142","v":"74"},{"$f":"IF(V3142&W3142=V3141&W3141,X3141+1,1)","v":4},{"$f":"V3142&U3142&T3142&X3142","v":"2032474"},{"$f":"S3142","v":"2032-04-24"}]
[null,null,null,null,null,null,null,null,null,null,null,null,null,null,null,null,null,null,"2032-05-02",{"$f":"WEEKDAY(S3143)","v":1},{"$f":"MONTH(S3143)","v":5},{"$f":"YEAR(S3143)","v":2032},{"$f":"T3143&U3143","v":"15"},{"$f":"IF(V3143&W3143=V3142&W3142,X3142+1,1)","v":1},{"$f":"V3143&U3143&T3143&X3143","v":"2032511"},{"$f":"S3143","v":"2032-05-02"}]
[null,null,null,null,null,null,null,null,null,null,null,null,null,null,null,null,null,null,"2032-05-09",{"$f":"WEEKDAY(S3144)","v":1},{"$f":"MONTH(S3144)","v":5},{"$f":"YEAR(S3144)","v":2032},{"$f":"T3144&U3144","v":"15"},{"$f":"IF(V3144&W3144=V3143&W3143,X3143+1,1)","v":2},{"$f":"V3144&U3144&T3144&X3144","v":"2032512"},{"$f":"S3144","v":"2032-05-09"}]
[null,null,null,null,null,null,null,null,null,null,null,null,null,null,null,null,null,null,"2032-05-16",{"$f":"WEEKDAY(S3145)","v":1},{"$f":"MONTH(S3145)","v":5},{"$f":"YEAR(S3145)","v":2032},{"$f":"T3145&U3145","v":"15"},{"$f":"IF(V3145&W3145=V3144&W3144,X3144+1,1)","v":3},{"$f":"V3145&U3145&T3145&X3145","v":"2032513"},{"$f":"S3145","v":"2032-05-16"}]
[null,null,null,null,null,null,null,null,null,null,null,null,null,null,null,null,null,null,"2032-05-23",{"$f":"WEEKDAY(S3146)","v":1},{"$f":"MONTH(S3146)","v":5},{"$f":"YEAR(S3146)","v":2032},{"$f":"T3146&U3146","v":"15"},{"$f":"IF(V3146&W3146=V3145&W3145,X3145+1,1)","v":4},{"$f":"V3146&U3146&T3146&X3146","v":"2032514"},{"$f":"S3146","v":"2032-05-23"}]
[null,null,null,null,null,null,null,null,null,null,null,null,null,null,null,null,null,null,"2032-05-30",{"$f":"WEEKDAY(S3147)","v":1},{"$f":"MONTH(S3147)","v":5},{"$f":"YEAR(S3147)","v":2032},{"$f":"T3147&U3147","v":"15"},{"$f":"IF(V3147&W3147=V3146&W3146,X3146+1,1)","v":5},{"$f":"V3147&U3147&T3147&X3147","v":"2032515"},{"$f":"S3147","v":"2032-05-30"}]
[null,null,null,null,null,null,null,null,null,null,null,null,null,null,null,null,null,null,"2032-05-03",{"$f":"WEEKDAY(S3148)","v":2},{"$f":"MONTH(S3148)","v":5},{"$f":"YEAR(S3148)","v":2032},{"$f":"T3148&U3148","v":"25"},{"$f":"IF(V3148&W3148=V3147&W3147,X3147+1,1)","v":1},{"$f":"V3148&U3148&T3148&X3148","v":"2032521"},{"$f":"S3148","v":"2032-05-03"}]
[null,null,null,null,null,null,null,null,null,null,null,null,null,null,null,null,null,null,"2032-05-10",{"$f":"WEEKDAY(S3149)","v":2},{"$f":"MONTH(S3149)","v":5},{"$f":"YEAR(S3149)","v":2032},{"$f":"T3149&U3149","v":"25"},{"$f":"IF(V3149&W3149=V3148&W3148,X3148+1,1)","v":2},{"$f":"V3149&U3149&T3149&X3149","v":"2032522"},{"$f":"S3149","v":"2032-05-10"}]
[null,null,null,null,null,null,null,null,null,null,null,null,null,null,null,null,null,null,"2032-05-17",{"$f":"WEEKDAY(S3150)","v":2},{"$f":"MONTH(S3150)","v":5},{"$f":"YEAR(S3150)","v":2032},{"$f":"T3150&U3150","v":"25"},{"$f":"IF(V3150&W3150=V3149&W3149,X3149+1,1)","v":3},{"$f":"V3150&U3150&T3150&X3150","v":"2032523"},{"$f":"S3150","v":"2032-05-17"}]
[null,null,null,null,null,null,null,null,null,null,null,null,null,null,null,null,null,null,"2032-05-24",{"$f":"WEEKDAY(S3151)","v":2},{"$f":"MONTH(S3151)","v":5},{"$f":"YEAR(S3151)","v":2032},{"$f":"T3151&U3151","v":"25"},{"$f":"IF(V3151&W3151=V3150&W3150,X3150+1,1)","v":4},{"$f":"V3151&U3151&T3151&X3151","v":"2032524"},{"$f":"S3151","v":"2032-05-24"}]
[null,null,null,null,null,null,null,null,null,null,null,null,null,null,null,null,null,null,"2032-05-31",{"$f":"WEEKDAY(S3152)","v":2},{"$f":"MONTH(S3152)","v":5},{"$f":"YEAR(S3152)","v":2032},{"$f":"T3152&U3152","v":"25"},{"$f":"IF(V3152&W3152=V3151&W3151,X3151+1,1)","v":5},{"$f":"V3152&U3152&T3152&X3152","v":"2032525"},{"$f":"S3152","v":"2032-05-31"}]
[null,null,null,null,null,null,null,null,null,null,null,null,null,null,null,null,null,null,"2032-05-04",{"$f":"WEEKDAY(S3153)","v":3},{"$f":"MONTH(S3153)","v":5},{"$f":"YEAR(S3153)","v":2032},{"$f":"T3153&U3153","v":"35"},{"$f":"IF(V3153&W3153=V3152&W3152,X3152+1,1)","v":1},{"$f":"V3153&U3153&T3153&X3153","v":"2032531"},{"$f":"S3153","v":"2032-05-04"}]
[null,null,null,null,null,null,null,null,null,null,null,null,null,null,null,null,null,null,"2032-05-11",{"$f":"WEEKDAY(S3154)","v":3},{"$f":"MONTH(S3154)","v":5},{"$f":"YEAR(S3154)","v":2032},{"$f":"T3154&U3154","v":"35"},{"$f":"IF(V3154&W3154=V3153&W3153,X3153+1,1)","v":2},{"$f":"V3154&U3154&T3154&X3154","v":"2032532"},{"$f":"S3154","v":"2032-05-11"}]
[null,null,null,null,null,null,null,null,null,null,null,null,null,null,null,null,null,null,"2032-05-18",{"$f":"WEEKDAY(S3155)","v":3},{"$f":"MONTH(S3155)","v":5},{"$f":"YEAR(S3155)","v":2032},{"$f":"T3155&U3155","v":"35"},{"$f":"IF(V3155&W3155=V3154&W3154,X3154+1,1)","v":3},{"$f":"V3155&U3155&T3155&X3155","v":"2032533"},{"$f":"S3155","v":"2032-05-18"}]
[null,null,null,null,null,null,null,null,null,null,null,null,null,null,null,null,null,null,"2032-05-25",{"$f":"WEEKDAY(S3156)","v":3},{"$f":"MONTH(S3156)","v":5},{"$f":"YEAR(S3156)","v":2032},{"$f":"T3156&U3156","v":"35"},{"$f":"IF(V3156&W3156=V3155&W3155,X3155+1,1)","v":4},{"$f":"V3156&U3156&T3156&X3156","v":"2032534"},{"$f":"S3156","v":"2032-05-25"}]
[null,null,null,null,null,null,null,null,null,null,null,null,null,null,null,null,null,null,"2032-05-05",{"$f":"WEEKDAY(S3157)","v":4},{"$f":"MONTH(S3157)","v":5},{"$f":"YEAR(S3157)","v":2032},{"$f":"T3157&U3157","v":"45"},{"$f":"IF(V3157&W3157=V3156&W3156,X3156+1,1)","v":1},{"$f":"V3157&U3157&T3157&X3157","v":"2032541"},{"$f":"S3157","v":"2032-05-05"}]
[null,null,null,null,null,null,null,null,null,null,null,null,null,null,null,null,null,null,"2032-05-12",{"$f":"WEEKDAY(S3158)","v":4},{"$f":"MONTH(S3158)","v":5},{"$f":"YEAR(S3158)","v":2032},{"$f":"T3158&U3158","v":"45"},{"$f":"IF(V3158&W3158=V3157&W3157,X3157+1,1)","v":2},{"$f":"V3158&U3158&T3158&X3158","v":"2032542"},{"$f":"S3158","v":"2032-05-12"}]
[null,null,null,null,null,null,null,null,null,null,null,null,null,null,null,null,null,null,"2032-05-19",{"$f":"WEEKDAY(S3159)","v":4},{"$f":"MONTH(S3159)","v":5},{"$f":"YEAR(S3159)","v":2032},{"$f":"T3159&U3159","v":"45"},{"$f":"IF(V3159&W3159=V3158&W3158,X3158+1,1)","v":3},{"$f":"V3159&U3159&T3159&X3159","v":"2032543"},{"$f":"S3159","v":"2032-05-19"}]
[null,null,null,null,null,null,null,null,null,null,null,null,null,null,null,null,null,null,"2032-05-26",{"$f":"WEEKDAY(S3160)","v":4},{"$f":"MONTH(S3160)","v":5},{"$f":"YEAR(S3160)","v":2032},{"$f":"T3160&U3160","v":"45"},{"$f":"IF(V3160&W3160=V3159&W3159,X3159+1,1)","v":4},{"$f":"V3160&U3160&T3160&X3160","v":"2032544"},{"$f":"S3160","v":"2032-05-26"}]
[null,null,null,null,null,null,null,null,null,null,null,null,null,null,null,null,null,null,"2032-05-06",{"$f":"WEEKDAY(S3161)","v":5},{"$f":"MONTH(S3161)","v":5},{"$f":"YEAR(S3161)","v":2032},{"$f":"T3161&U3161","v":"55"},{"$f":"IF(V3161&W3161=V3160&W3160,X3160+1,1)","v":1},{"$f":"V3161&U3161&T3161&X3161","v":"2032551"},{"$f":"S3161","v":"2032-05-06"}]
[null,null,null,null,null,null,null,null,null,null,null,null,null,null,null,null,null,null,"2032-05-13",{"$f":"WEEKDAY(S3162)","v":5},{"$f":"MONTH(S3162)","v":5},{"$f":"YEAR(S3162)","v":2032},{"$f":"T3162&U3162","v":"55"},{"$f":"IF(V3162&W3162=V3161&W3161,X3161+1,1)","v":2},{"$f":"V3162&U3162&T3162&X3162","v":"2032552"},{"$f":"S3162","v":"2032-05-13"}]
[null,null,null,null,null,null,null,null,null,null,null,null,null,null,null,null,null,null,"2032-05-20",{"$f":"WEEKDAY(S3163)","v":5},{"$f":"MONTH(S3163)","v":5},{"$f":"YEAR(S3163)","v":2032},{"$f":"T3163&U3163","v":"55"},{"$f":"IF(V3163&W3163=V3162&W3162,X3162+1,1)","v":3},{"$f":"V3163&U3163&T3163&X3163","v":"2032553"},{"$f":"S3163","v":"2032-05-20"}]
[null,null,null,null,null,null,null,null,null,null,null,null,null,null,null,null,null,null,"2032-05-27",{"$f":"WEEKDAY(S3164)","v":5},{"$f":"MONTH(S3164)","v":5},{"$f":"YEAR(S3164)","v":2032},{"$f":"T3164&U3164","v":"55"},{"$f":"IF(V3164&W3164=V3163&W3163,X3163+1,1)","v":4},{"$f":"V3164&U3164&T3164&X3164","v":"2032554"},{"$f":"S3164","v":"2032-05-27"}]
[null,null,null,null,null,null,null,null,null,null,null,null,null,null,null,null,null,null,"2032-05-07",{"$f":"WEEKDAY(S3165)","v":6},{"$f":"MONTH(S3165)","v":5},{"$f":"YEAR(S3165)","v":2032},{"$f":"T3165&U3165","v":"65"},{"$f":"IF(V3165&W3165=V3164&W3164,X3164+1,1)","v":1},{"$f":"V3165&U3165&T3165&X3165","v":"2032561"},{"$f":"S3165","v":"2032-05-07"}]
[null,null,null,null,null,null,null,null,null,null,null,null,null,null,null,null,null,null,"2032-05-14",{"$f":"WEEKDAY(S3166)","v":6},{"$f":"MONTH(S3166)","v":5},{"$f":"YEAR(S3166)","v":2032},{"$f":"T3166&U3166","v":"65"},{"$f":"IF(V3166&W3166=V3165&W3165,X3165+1,1)","v":2},{"$f":"V3166&U3166&T3166&X3166","v":"2032562"},{"$f":"S3166","v":"2032-05-14"}]
[null,null,null,null,null,null,null,null,null,null,null,null,null,null,null,null,null,null,"2032-05-21",{"$f":"WEEKDAY(S3167)","v":6},{"$f":"MONTH(S3167)","v":5},{"$f":"YEAR(S3167)","v":2032},{"$f":"T3167&U3167","v":"65"},{"$f":"IF(V3167&W3167=V3166&W3166,X3166+1,1)","v":3},{"$f":"V3167&U3167&T3167&X3167","v":"2032563"},{"$f":"S3167","v":"2032-05-21"}]
[null,null,null,null,null,null,null,null,null,null,null,null,null,null,null,null,null,null,"2032-05-28",{"$f":"WEEKDAY(S3168)","v":6},{"$f":"MONTH(S3168)","v":5},{"$f":"YEAR(S3168)","v":2032},{"$f":"T3168&U3168","v":"65"},{"$f":"IF(V3168&W3168=V3167&W3167,X3167+1,1)","v":4},{"$f":"V3168&U3168&T3168&X3168","v":"2032564"},{"$f":"S3168","v":"2032-05-28"}]
[null,null,null,null,null,null,null,null,null,null,null,null,null,null,null,null,null,null,"2032-05-01",{"$f":"WEEKDAY(S3169)","v":7},{"$f":"MONTH(S3169)","v":5},{"$f":"YEAR(S3169)","v":2032},{"$f":"T3169&U3169","v":"75"},{"$f":"IF(V3169&W3169=V3168&W3168,X3168+1,1)","v":1},{"$f":"V3169&U3169&T3169&X3169","v":"2032571"},{"$f":"S3169","v":"2032-05-01"}]
[null,null,null,null,null,null,null,null,null,null,null,null,null,null,null,null,null,null,"2032-05-08",{"$f":"WEEKDAY(S3170)","v":7},{"$f":"MONTH(S3170)","v":5},{"$f":"YEAR(S3170)","v":2032},{"$f":"T3170&U3170","v":"75"},{"$f":"IF(V3170&W3170=V3169&W3169,X3169+1,1)","v":2},{"$f":"V3170&U3170&T3170&X3170","v":"2032572"},{"$f":"S3170","v":"2032-05-08"}]
[null,null,null,null,null,null,null,null,null,null,null,null,null,null,null,null,null,null,"2032-05-15",{"$f":"WEEKDAY(S3171)","v":7},{"$f":"MONTH(S3171)","v":5},{"$f":"YEAR(S3171)","v":2032},{"$f":"T3171&U3171","v":"75"},{"$f":"IF(V3171&W3171=V3170&W3170,X3170+1,1)","v":3},{"$f":"V3171&U3171&T3171&X3171","v":"2032573"},{"$f":"S3171","v":"2032-05-15"}]
[null,null,null,null,null,null,null,null,null,null,null,null,null,null,null,null,null,null,"2032-05-22",{"$f":"WEEKDAY(S3172)","v":7},{"$f":"MONTH(S3172)","v":5},{"$f":"YEAR(S3172)","v":2032},{"$f":"T3172&U3172","v":"75"},{"$f":"IF(V3172&W3172=V3171&W3171,X3171+1,1)","v":4},{"$f":"V3172&U3172&T3172&X3172","v":"2032574"},{"$f":"S3172","v":"2032-05-22"}]
[null,null,null,null,null,null,null,null,null,null,null,null,null,null,null,null,null,null,"2032-05-29",{"$f":"WEEKDAY(S3173)","v":7},{"$f":"MONTH(S3173)","v":5},{"$f":"YEAR(S3173)","v":2032},{"$f":"T3173&U3173","v":"75"},{"$f":"IF(V3173&W3173=V3172&W3172,X3172+1,1)","v":5},{"$f":"V3173&U3173&T3173&X3173","v":"2032575"},{"$f":"S3173","v":"2032-05-29"}]
[null,null,null,null,null,null,null,null,null,null,null,null,null,null,null,null,null,null,"2032-06-06",{"$f":"WEEKDAY(S3174)","v":1},{"$f":"MONTH(S3174)","v":6},{"$f":"YEAR(S3174)","v":2032},{"$f":"T3174&U3174","v":"16"},{"$f":"IF(V3174&W3174=V3173&W3173,X3173+1,1)","v":1},{"$f":"V3174&U3174&T3174&X3174","v":"2032611"},{"$f":"S3174","v":"2032-06-06"}]
[null,null,null,null,null,null,null,null,null,null,null,null,null,null,null,null,null,null,"2032-06-13",{"$f":"WEEKDAY(S3175)","v":1},{"$f":"MONTH(S3175)","v":6},{"$f":"YEAR(S3175)","v":2032},{"$f":"T3175&U3175","v":"16"},{"$f":"IF(V3175&W3175=V3174&W3174,X3174+1,1)","v":2},{"$f":"V3175&U3175&T3175&X3175","v":"2032612"},{"$f":"S3175","v":"2032-06-13"}]
[null,null,null,null,null,null,null,null,null,null,null,null,null,null,null,null,null,null,"2032-06-20",{"$f":"WEEKDAY(S3176)","v":1},{"$f":"MONTH(S3176)","v":6},{"$f":"YEAR(S3176)","v":2032},{"$f":"T3176&U3176","v":"16"},{"$f":"IF(V3176&W3176=V3175&W3175,X3175+1,1)","v":3},{"$f":"V3176&U3176&T3176&X3176","v":"2032613"},{"$f":"S3176","v":"2032-06-20"}]
[null,null,null,null,null,null,null,null,null,null,null,null,null,null,null,null,null,null,"2032-06-27",{"$f":"WEEKDAY(S3177)","v":1},{"$f":"MONTH(S3177)","v":6},{"$f":"YEAR(S3177)","v":2032},{"$f":"T3177&U3177","v":"16"},{"$f":"IF(V3177&W3177=V3176&W3176,X3176+1,1)","v":4},{"$f":"V3177&U3177&T3177&X3177","v":"2032614"},{"$f":"S3177","v":"2032-06-27"}]
[null,null,null,null,null,null,null,null,null,null,null,null,null,null,null,null,null,null,"2032-06-07",{"$f":"WEEKDAY(S3178)","v":2},{"$f":"MONTH(S3178)","v":6},{"$f":"YEAR(S3178)","v":2032},{"$f":"T3178&U3178","v":"26"},{"$f":"IF(V3178&W3178=V3177&W3177,X3177+1,1)","v":1},{"$f":"V3178&U3178&T3178&X3178","v":"2032621"},{"$f":"S3178","v":"2032-06-07"}]
[null,null,null,null,null,null,null,null,null,null,null,null,null,null,null,null,null,null,"2032-06-14",{"$f":"WEEKDAY(S3179)","v":2},{"$f":"MONTH(S3179)","v":6},{"$f":"YEAR(S3179)","v":2032},{"$f":"T3179&U3179","v":"26"},{"$f":"IF(V3179&W3179=V3178&W3178,X3178+1,1)","v":2},{"$f":"V3179&U3179&T3179&X3179","v":"2032622"},{"$f":"S3179","v":"2032-06-14"}]
[null,null,null,null,null,null,null,null,null,null,null,null,null,null,null,null,null,null,"2032-06-21",{"$f":"WEEKDAY(S3180)","v":2},{"$f":"MONTH(S3180)","v":6},{"$f":"YEAR(S3180)","v":2032},{"$f":"T3180&U3180","v":"26"},{"$f":"IF(V3180&W3180=V3179&W3179,X3179+1,1)","v":3},{"$f":"V3180&U3180&T3180&X3180","v":"2032623"},{"$f":"S3180","v":"2032-06-21"}]
[null,null,null,null,null,null,null,null,null,null,null,null,null,null,null,null,null,null,"2032-06-28",{"$f":"WEEKDAY(S3181)","v":2},{"$f":"MONTH(S3181)","v":6},{"$f":"YEAR(S3181)","v":2032},{"$f":"T3181&U3181","v":"26"},{"$f":"IF(V3181&W3181=V3180&W3180,X3180+1,1)","v":4},{"$f":"V3181&U3181&T3181&X3181","v":"2032624"},{"$f":"S3181","v":"2032-06-28"}]
[null,null,null,null,null,null,null,null,null,null,null,null,null,null,null,null,null,null,"2032-06-01",{"$f":"WEEKDAY(S3182)","v":3},{"$f":"MONTH(S3182)","v":6},{"$f":"YEAR(S3182)","v":2032},{"$f":"T3182&U3182","v":"36"},{"$f":"IF(V3182&W3182=V3181&W3181,X3181+1,1)","v":1},{"$f":"V3182&U3182&T3182&X3182","v":"2032631"},{"$f":"S3182","v":"2032-06-01"}]
[null,null,null,null,null,null,null,null,null,null,null,null,null,null,null,null,null,null,"2032-06-08",{"$f":"WEEKDAY(S3183)","v":3},{"$f":"MONTH(S3183)","v":6},{"$f":"YEAR(S3183)","v":2032},{"$f":"T3183&U3183","v":"36"},{"$f":"IF(V3183&W3183=V3182&W3182,X3182+1,1)","v":2},{"$f":"V3183&U3183&T3183&X3183","v":"2032632"},{"$f":"S3183","v":"2032-06-08"}]
[null,null,null,null,null,null,null,null,null,null,null,null,null,null,null,null,null,null,"2032-06-15",{"$f":"WEEKDAY(S3184)","v":3},{"$f":"MONTH(S3184)","v":6},{"$f":"YEAR(S3184)","v":2032},{"$f":"T3184&U3184","v":"36"},{"$f":"IF(V3184&W3184=V3183&W3183,X3183+1,1)","v":3},{"$f":"V3184&U3184&T3184&X3184","v":"2032633"},{"$f":"S3184","v":"2032-06-15"}]
[null,null,null,null,null,null,null,null,null,null,null,null,null,null,null,null,null,null,"2032-06-22",{"$f":"WEEKDAY(S3185)","v":3},{"$f":"MONTH(S3185)","v":6},{"$f":"YEAR(S3185)","v":2032},{"$f":"T3185&U3185","v":"36"},{"$f":"IF(V3185&W3185=V3184&W3184,X3184+1,1)","v":4},{"$f":"V3185&U3185&T3185&X3185","v":"2032634"},{"$f":"S3185","v":"2032-06-22"}]
[null,null,null,null,null,null,null,null,null,null,null,null,null,null,null,null,null,null,"2032-06-29",{"$f":"WEEKDAY(S3186)","v":3},{"$f":"MONTH(S3186)","v":6},{"$f":"YEAR(S3186)","v":2032},{"$f":"T3186&U3186","v":"36"},{"$f":"IF(V3186&W3186=V3185&W3185,X3185+1,1)","v":5},{"$f":"V3186&U3186&T3186&X3186","v":"2032635"},{"$f":"S3186","v":"2032-06-29"}]
[null,null,null,null,null,null,null,null,null,null,null,null,null,null,null,null,null,null,"2032-06-02",{"$f":"WEEKDAY(S3187)","v":4},{"$f":"MONTH(S3187)","v":6},{"$f":"YEAR(S3187)","v":2032},{"$f":"T3187&U3187","v":"46"},{"$f":"IF(V3187&W3187=V3186&W3186,X3186+1,1)","v":1},{"$f":"V3187&U3187&T3187&X3187","v":"2032641"},{"$f":"S3187","v":"2032-06-02"}]
[null,null,null,null,null,null,null,null,null,null,null,null,null,null,null,null,null,null,"2032-06-09",{"$f":"WEEKDAY(S3188)","v":4},{"$f":"MONTH(S3188)","v":6},{"$f":"YEAR(S3188)","v":2032},{"$f":"T3188&U3188","v":"46"},{"$f":"IF(V3188&W3188=V3187&W3187,X3187+1,1)","v":2},{"$f":"V3188&U3188&T3188&X3188","v":"2032642"},{"$f":"S3188","v":"2032-06-09"}]
[null,null,null,null,null,null,null,null,null,null,null,null,null,null,null,null,null,null,"2032-06-16",{"$f":"WEEKDAY(S3189)","v":4},{"$f":"MONTH(S3189)","v":6},{"$f":"YEAR(S3189)","v":2032},{"$f":"T3189&U3189","v":"46"},{"$f":"IF(V3189&W3189=V3188&W3188,X3188+1,1)","v":3},{"$f":"V3189&U3189&T3189&X3189","v":"2032643"},{"$f":"S3189","v":"2032-06-16"}]
[null,null,null,null,null,null,null,null,null,null,null,null,null,null,null,null,null,null,"2032-06-23",{"$f":"WEEKDAY(S3190)","v":4},{"$f":"MONTH(S3190)","v":6},{"$f":"YEAR(S3190)","v":2032},{"$f":"T3190&U3190","v":"46"},{"$f":"IF(V3190&W3190=V3189&W3189,X3189+1,1)","v":4},{"$f":"V3190&U3190&T3190&X3190","v":"2032644"},{"$f":"S3190","v":"2032-06-23"}]
[null,null,null,null,null,null,null,null,null,null,null,null,null,null,null,null,null,null,"2032-06-30",{"$f":"WEEKDAY(S3191)","v":4},{"$f":"MONTH(S3191)","v":6},{"$f":"YEAR(S3191)","v":2032},{"$f":"T3191&U3191","v":"46"},{"$f":"IF(V3191&W3191=V3190&W3190,X3190+1,1)","v":5},{"$f":"V3191&U3191&T3191&X3191","v":"2032645"},{"$f":"S3191","v":"2032-06-30"}]
[null,null,null,null,null,null,null,null,null,null,null,null,null,null,null,null,null,null,"2032-06-03",{"$f":"WEEKDAY(S3192)","v":5},{"$f":"MONTH(S3192)","v":6},{"$f":"YEAR(S3192)","v":2032},{"$f":"T3192&U3192","v":"56"},{"$f":"IF(V3192&W3192=V3191&W3191,X3191+1,1)","v":1},{"$f":"V3192&U3192&T3192&X3192","v":"2032651"},{"$f":"S3192","v":"2032-06-03"}]
[null,null,null,null,null,null,null,null,null,null,null,null,null,null,null,null,null,null,"2032-06-10",{"$f":"WEEKDAY(S3193)","v":5},{"$f":"MONTH(S3193)","v":6},{"$f":"YEAR(S3193)","v":2032},{"$f":"T3193&U3193","v":"56"},{"$f":"IF(V3193&W3193=V3192&W3192,X3192+1,1)","v":2},{"$f":"V3193&U3193&T3193&X3193","v":"2032652"},{"$f":"S3193","v":"2032-06-10"}]
[null,null,null,null,null,null,null,null,null,null,null,null,null,null,null,null,null,null,"2032-06-17",{"$f":"WEEKDAY(S3194)","v":5},{"$f":"MONTH(S3194)","v":6},{"$f":"YEAR(S3194)","v":2032},{"$f":"T3194&U3194","v":"56"},{"$f":"IF(V3194&W3194=V3193&W3193,X3193+1,1)","v":3},{"$f":"V3194&U3194&T3194&X3194","v":"2032653"},{"$f":"S3194","v":"2032-06-17"}]
[null,null,null,null,null,null,null,null,null,null,null,null,null,null,null,null,null,null,"2032-06-24",{"$f":"WEEKDAY(S3195)","v":5},{"$f":"MONTH(S3195)","v":6},{"$f":"YEAR(S3195)","v":2032},{"$f":"T3195&U3195","v":"56"},{"$f":"IF(V3195&W3195=V3194&W3194,X3194+1,1)","v":4},{"$f":"V3195&U3195&T3195&X3195","v":"2032654"},{"$f":"S3195","v":"2032-06-24"}]
[null,null,null,null,null,null,null,null,null,null,null,null,null,null,null,null,null,null,"2032-06-04",{"$f":"WEEKDAY(S3196)","v":6},{"$f":"MONTH(S3196)","v":6},{"$f":"YEAR(S3196)","v":2032},{"$f":"T3196&U3196","v":"66"},{"$f":"IF(V3196&W3196=V3195&W3195,X3195+1,1)","v":1},{"$f":"V3196&U3196&T3196&X3196","v":"2032661"},{"$f":"S3196","v":"2032-06-04"}]
[null,null,null,null,null,null,null,null,null,null,null,null,null,null,null,null,null,null,"2032-06-11",{"$f":"WEEKDAY(S3197)","v":6},{"$f":"MONTH(S3197)","v":6},{"$f":"YEAR(S3197)","v":2032},{"$f":"T3197&U3197","v":"66"},{"$f":"IF(V3197&W3197=V3196&W3196,X3196+1,1)","v":2},{"$f":"V3197&U3197&T3197&X3197","v":"2032662"},{"$f":"S3197","v":"2032-06-11"}]
[null,null,null,null,null,null,null,null,null,null,null,null,null,null,null,null,null,null,"2032-06-18",{"$f":"WEEKDAY(S3198)","v":6},{"$f":"MONTH(S3198)","v":6},{"$f":"YEAR(S3198)","v":2032},{"$f":"T3198&U3198","v":"66"},{"$f":"IF(V3198&W3198=V3197&W3197,X3197+1,1)","v":3},{"$f":"V3198&U3198&T3198&X3198","v":"2032663"},{"$f":"S3198","v":"2032-06-18"}]
[null,null,null,null,null,null,null,null,null,null,null,null,null,null,null,null,null,null,"2032-06-25",{"$f":"WEEKDAY(S3199)","v":6},{"$f":"MONTH(S3199)","v":6},{"$f":"YEAR(S3199)","v":2032},{"$f":"T3199&U3199","v":"66"},{"$f":"IF(V3199&W3199=V3198&W3198,X3198+1,1)","v":4},{"$f":"V3199&U3199&T3199&X3199","v":"2032664"},{"$f":"S3199","v":"2032-06-25"}]
[null,null,null,null,null,null,null,null,null,null,null,null,null,null,null,null,null,null,"2032-06-05",{"$f":"WEEKDAY(S3200)","v":7},{"$f":"MONTH(S3200)","v":6},{"$f":"YEAR(S3200)","v":2032},{"$f":"T3200&U3200","v":"76"},{"$f":"IF(V3200&W3200=V3199&W3199,X3199+1,1)","v":1},{"$f":"V3200&U3200&T3200&X3200","v":"2032671"},{"$f":"S3200","v":"2032-06-05"}]
[null,null,null,null,null,null,null,null,null,null,null,null,null,null,null,null,null,null,"2032-06-12",{"$f":"WEEKDAY(S3201)","v":7},{"$f":"MONTH(S3201)","v":6},{"$f":"YEAR(S3201)","v":2032},{"$f":"T3201&U3201","v":"76"},{"$f":"IF(V3201&W3201=V3200&W3200,X3200+1,1)","v":2},{"$f":"V3201&U3201&T3201&X3201","v":"2032672"},{"$f":"S3201","v":"2032-06-12"}]
[null,null,null,null,null,null,null,null,null,null,null,null,null,null,null,null,null,null,"2032-06-19",{"$f":"WEEKDAY(S3202)","v":7},{"$f":"MONTH(S3202)","v":6},{"$f":"YEAR(S3202)","v":2032},{"$f":"T3202&U3202","v":"76"},{"$f":"IF(V3202&W3202=V3201&W3201,X3201+1,1)","v":3},{"$f":"V3202&U3202&T3202&X3202","v":"2032673"},{"$f":"S3202","v":"2032-06-19"}]
[null,null,null,null,null,null,null,null,null,null,null,null,null,null,null,null,null,null,"2032-06-26",{"$f":"WEEKDAY(S3203)","v":7},{"$f":"MONTH(S3203)","v":6},{"$f":"YEAR(S3203)","v":2032},{"$f":"T3203&U3203","v":"76"},{"$f":"IF(V3203&W3203=V3202&W3202,X3202+1,1)","v":4},{"$f":"V3203&U3203&T3203&X3203","v":"2032674"},{"$f":"S3203","v":"2032-06-26"}]
[null,null,null,null,null,null,null,null,null,null,null,null,null,null,null,null,null,null,"2032-07-04",{"$f":"WEEKDAY(S3204)","v":1},{"$f":"MONTH(S3204)","v":7},{"$f":"YEAR(S3204)","v":2032},{"$f":"T3204&U3204","v":"17"},{"$f":"IF(V3204&W3204=V3203&W3203,X3203+1,1)","v":1},{"$f":"V3204&U3204&T3204&X3204","v":"2032711"},{"$f":"S3204","v":"2032-07-04"}]
[null,null,null,null,null,null,null,null,null,null,null,null,null,null,null,null,null,null,"2032-07-11",{"$f":"WEEKDAY(S3205)","v":1},{"$f":"MONTH(S3205)","v":7},{"$f":"YEAR(S3205)","v":2032},{"$f":"T3205&U3205","v":"17"},{"$f":"IF(V3205&W3205=V3204&W3204,X3204+1,1)","v":2},{"$f":"V3205&U3205&T3205&X3205","v":"2032712"},{"$f":"S3205","v":"2032-07-11"}]
[null,null,null,null,null,null,null,null,null,null,null,null,null,null,null,null,null,null,"2032-07-18",{"$f":"WEEKDAY(S3206)","v":1},{"$f":"MONTH(S3206)","v":7},{"$f":"YEAR(S3206)","v":2032},{"$f":"T3206&U3206","v":"17"},{"$f":"IF(V3206&W3206=V3205&W3205,X3205+1,1)","v":3},{"$f":"V3206&U3206&T3206&X3206","v":"2032713"},{"$f":"S3206","v":"2032-07-18"}]
[null,null,null,null,null,null,null,null,null,null,null,null,null,null,null,null,null,null,"2032-07-25",{"$f":"WEEKDAY(S3207)","v":1},{"$f":"MONTH(S3207)","v":7},{"$f":"YEAR(S3207)","v":2032},{"$f":"T3207&U3207","v":"17"},{"$f":"IF(V3207&W3207=V3206&W3206,X3206+1,1)","v":4},{"$f":"V3207&U3207&T3207&X3207","v":"2032714"},{"$f":"S3207","v":"2032-07-25"}]
[null,null,null,null,null,null,null,null,null,null,null,null,null,null,null,null,null,null,"2032-07-05",{"$f":"WEEKDAY(S3208)","v":2},{"$f":"MONTH(S3208)","v":7},{"$f":"YEAR(S3208)","v":2032},{"$f":"T3208&U3208","v":"27"},{"$f":"IF(V3208&W3208=V3207&W3207,X3207+1,1)","v":1},{"$f":"V3208&U3208&T3208&X3208","v":"2032721"},{"$f":"S3208","v":"2032-07-05"}]
[null,null,null,null,null,null,null,null,null,null,null,null,null,null,null,null,null,null,"2032-07-12",{"$f":"WEEKDAY(S3209)","v":2},{"$f":"MONTH(S3209)","v":7},{"$f":"YEAR(S3209)","v":2032},{"$f":"T3209&U3209","v":"27"},{"$f":"IF(V3209&W3209=V3208&W3208,X3208+1,1)","v":2},{"$f":"V3209&U3209&T3209&X3209","v":"2032722"},{"$f":"S3209","v":"2032-07-12"}]
[null,null,null,null,null,null,null,null,null,null,null,null,null,null,null,null,null,null,"2032-07-19",{"$f":"WEEKDAY(S3210)","v":2},{"$f":"MONTH(S3210)","v":7},{"$f":"YEAR(S3210)","v":2032},{"$f":"T3210&U3210","v":"27"},{"$f":"IF(V3210&W3210=V3209&W3209,X3209+1,1)","v":3},{"$f":"V3210&U3210&T3210&X3210","v":"2032723"},{"$f":"S3210","v":"2032-07-19"}]
[null,null,null,null,null,null,null,null,null,null,null,null,null,null,null,null,null,null,"2032-07-26",{"$f":"WEEKDAY(S3211)","v":2},{"$f":"MONTH(S3211)","v":7},{"$f":"YEAR(S3211)","v":2032},{"$f":"T3211&U3211","v":"27"},{"$f":"IF(V3211&W3211=V3210&W3210,X3210+1,1)","v":4},{"$f":"V3211&U3211&T3211&X3211","v":"2032724"},{"$f":"S3211","v":"2032-07-26"}]
[null,null,null,null,null,null,null,null,null,null,null,null,null,null,null,null,null,null,"2032-07-06",{"$f":"WEEKDAY(S3212)","v":3},{"$f":"MONTH(S3212)","v":7},{"$f":"YEAR(S3212)","v":2032},{"$f":"T3212&U3212","v":"37"},{"$f":"IF(V3212&W3212=V3211&W3211,X3211+1,1)","v":1},{"$f":"V3212&U3212&T3212&X3212","v":"2032731"},{"$f":"S3212","v":"2032-07-06"}]
[null,null,null,null,null,null,null,null,null,null,null,null,null,null,null,null,null,null,"2032-07-13",{"$f":"WEEKDAY(S3213)","v":3},{"$f":"MONTH(S3213)","v":7},{"$f":"YEAR(S3213)","v":2032},{"$f":"T3213&U3213","v":"37"},{"$f":"IF(V3213&W3213=V3212&W3212,X3212+1,1)","v":2},{"$f":"V3213&U3213&T3213&X3213","v":"2032732"},{"$f":"S3213","v":"2032-07-13"}]
[null,null,null,null,null,null,null,null,null,null,null,null,null,null,null,null,null,null,"2032-07-20",{"$f":"WEEKDAY(S3214)","v":3},{"$f":"MONTH(S3214)","v":7},{"$f":"YEAR(S3214)","v":2032},{"$f":"T3214&U3214","v":"37"},{"$f":"IF(V3214&W3214=V3213&W3213,X3213+1,1)","v":3},{"$f":"V3214&U3214&T3214&X3214","v":"2032733"},{"$f":"S3214","v":"2032-07-20"}]
[null,null,null,null,null,null,null,null,null,null,null,null,null,null,null,null,null,null,"2032-07-27",{"$f":"WEEKDAY(S3215)","v":3},{"$f":"MONTH(S3215)","v":7},{"$f":"YEAR(S3215)","v":2032},{"$f":"T3215&U3215","v":"37"},{"$f":"IF(V3215&W3215=V3214&W3214,X3214+1,1)","v":4},{"$f":"V3215&U3215&T3215&X3215","v":"2032734"},{"$f":"S3215","v":"2032-07-27"}]
[null,null,null,null,null,null,null,null,null,null,null,null,null,null,null,null,null,null,"2032-07-07",{"$f":"WEEKDAY(S3216)","v":4},{"$f":"MONTH(S3216)","v":7},{"$f":"YEAR(S3216)","v":2032},{"$f":"T3216&U3216","v":"47"},{"$f":"IF(V3216&W3216=V3215&W3215,X3215+1,1)","v":1},{"$f":"V3216&U3216&T3216&X3216","v":"2032741"},{"$f":"S3216","v":"2032-07-07"}]
[null,null,null,null,null,null,null,null,null,null,null,null,null,null,null,null,null,null,"2032-07-14",{"$f":"WEEKDAY(S3217)","v":4},{"$f":"MONTH(S3217)","v":7},{"$f":"YEAR(S3217)","v":2032},{"$f":"T3217&U3217","v":"47"},{"$f":"IF(V3217&W3217=V3216&W3216,X3216+1,1)","v":2},{"$f":"V3217&U3217&T3217&X3217","v":"2032742"},{"$f":"S3217","v":"2032-07-14"}]
[null,null,null,null,null,null,null,null,null,null,null,null,null,null,null,null,null,null,"2032-07-21",{"$f":"WEEKDAY(S3218)","v":4},{"$f":"MONTH(S3218)","v":7},{"$f":"YEAR(S3218)","v":2032},{"$f":"T3218&U3218","v":"47"},{"$f":"IF(V3218&W3218=V3217&W3217,X3217+1,1)","v":3},{"$f":"V3218&U3218&T3218&X3218","v":"2032743"},{"$f":"S3218","v":"2032-07-21"}]
[null,null,null,null,null,null,null,null,null,null,null,null,null,null,null,null,null,null,"2032-07-28",{"$f":"WEEKDAY(S3219)","v":4},{"$f":"MONTH(S3219)","v":7},{"$f":"YEAR(S3219)","v":2032},{"$f":"T3219&U3219","v":"47"},{"$f":"IF(V3219&W3219=V3218&W3218,X3218+1,1)","v":4},{"$f":"V3219&U3219&T3219&X3219","v":"2032744"},{"$f":"S3219","v":"2032-07-28"}]
[null,null,null,null,null,null,null,null,null,null,null,null,null,null,null,null,null,null,"2032-07-01",{"$f":"WEEKDAY(S3220)","v":5},{"$f":"MONTH(S3220)","v":7},{"$f":"YEAR(S3220)","v":2032},{"$f":"T3220&U3220","v":"57"},{"$f":"IF(V3220&W3220=V3219&W3219,X3219+1,1)","v":1},{"$f":"V3220&U3220&T3220&X3220","v":"2032751"},{"$f":"S3220","v":"2032-07-01"}]
[null,null,null,null,null,null,null,null,null,null,null,null,null,null,null,null,null,null,"2032-07-08",{"$f":"WEEKDAY(S3221)","v":5},{"$f":"MONTH(S3221)","v":7},{"$f":"YEAR(S3221)","v":2032},{"$f":"T3221&U3221","v":"57"},{"$f":"IF(V3221&W3221=V3220&W3220,X3220+1,1)","v":2},{"$f":"V3221&U3221&T3221&X3221","v":"2032752"},{"$f":"S3221","v":"2032-07-08"}]
[null,null,null,null,null,null,null,null,null,null,null,null,null,null,null,null,null,null,"2032-07-15",{"$f":"WEEKDAY(S3222)","v":5},{"$f":"MONTH(S3222)","v":7},{"$f":"YEAR(S3222)","v":2032},{"$f":"T3222&U3222","v":"57"},{"$f":"IF(V3222&W3222=V3221&W3221,X3221+1,1)","v":3},{"$f":"V3222&U3222&T3222&X3222","v":"2032753"},{"$f":"S3222","v":"2032-07-15"}]
[null,null,null,null,null,null,null,null,null,null,null,null,null,null,null,null,null,null,"2032-07-22",{"$f":"WEEKDAY(S3223)","v":5},{"$f":"MONTH(S3223)","v":7},{"$f":"YEAR(S3223)","v":2032},{"$f":"T3223&U3223","v":"57"},{"$f":"IF(V3223&W3223=V3222&W3222,X3222+1,1)","v":4},{"$f":"V3223&U3223&T3223&X3223","v":"2032754"},{"$f":"S3223","v":"2032-07-22"}]
[null,null,null,null,null,null,null,null,null,null,null,null,null,null,null,null,null,null,"2032-07-29",{"$f":"WEEKDAY(S3224)","v":5},{"$f":"MONTH(S3224)","v":7},{"$f":"YEAR(S3224)","v":2032},{"$f":"T3224&U3224","v":"57"},{"$f":"IF(V3224&W3224=V3223&W3223,X3223+1,1)","v":5},{"$f":"V3224&U3224&T3224&X3224","v":"2032755"},{"$f":"S3224","v":"2032-07-29"}]
[null,null,null,null,null,null,null,null,null,null,null,null,null,null,null,null,null,null,"2032-07-02",{"$f":"WEEKDAY(S3225)","v":6},{"$f":"MONTH(S3225)","v":7},{"$f":"YEAR(S3225)","v":2032},{"$f":"T3225&U3225","v":"67"},{"$f":"IF(V3225&W3225=V3224&W3224,X3224+1,1)","v":1},{"$f":"V3225&U3225&T3225&X3225","v":"2032761"},{"$f":"S3225","v":"2032-07-02"}]
[null,null,null,null,null,null,null,null,null,null,null,null,null,null,null,null,null,null,"2032-07-09",{"$f":"WEEKDAY(S3226)","v":6},{"$f":"MONTH(S3226)","v":7},{"$f":"YEAR(S3226)","v":2032},{"$f":"T3226&U3226","v":"67"},{"$f":"IF(V3226&W3226=V3225&W3225,X3225+1,1)","v":2},{"$f":"V3226&U3226&T3226&X3226","v":"2032762"},{"$f":"S3226","v":"2032-07-09"}]
[null,null,null,null,null,null,null,null,null,null,null,null,null,null,null,null,null,null,"2032-07-16",{"$f":"WEEKDAY(S3227)","v":6},{"$f":"MONTH(S3227)","v":7},{"$f":"YEAR(S3227)","v":2032},{"$f":"T3227&U3227","v":"67"},{"$f":"IF(V3227&W3227=V3226&W3226,X3226+1,1)","v":3},{"$f":"V3227&U3227&T3227&X3227","v":"2032763"},{"$f":"S3227","v":"2032-07-16"}]
[null,null,null,null,null,null,null,null,null,null,null,null,null,null,null,null,null,null,"2032-07-23",{"$f":"WEEKDAY(S3228)","v":6},{"$f":"MONTH(S3228)","v":7},{"$f":"YEAR(S3228)","v":2032},{"$f":"T3228&U3228","v":"67"},{"$f":"IF(V3228&W3228=V3227&W3227,X3227+1,1)","v":4},{"$f":"V3228&U3228&T3228&X3228","v":"2032764"},{"$f":"S3228","v":"2032-07-23"}]
[null,null,null,null,null,null,null,null,null,null,null,null,null,null,null,null,null,null,"2032-07-30",{"$f":"WEEKDAY(S3229)","v":6},{"$f":"MONTH(S3229)","v":7},{"$f":"YEAR(S3229)","v":2032},{"$f":"T3229&U3229","v":"67"},{"$f":"IF(V3229&W3229=V3228&W3228,X3228+1,1)","v":5},{"$f":"V3229&U3229&T3229&X3229","v":"2032765"},{"$f":"S3229","v":"2032-07-30"}]
[null,null,null,null,null,null,null,null,null,null,null,null,null,null,null,null,null,null,"2032-07-03",{"$f":"WEEKDAY(S3230)","v":7},{"$f":"MONTH(S3230)","v":7},{"$f":"YEAR(S3230)","v":2032},{"$f":"T3230&U3230","v":"77"},{"$f":"IF(V3230&W3230=V3229&W3229,X3229+1,1)","v":1},{"$f":"V3230&U3230&T3230&X3230","v":"2032771"},{"$f":"S3230","v":"2032-07-03"}]
[null,null,null,null,null,null,null,null,null,null,null,null,null,null,null,null,null,null,"2032-07-10",{"$f":"WEEKDAY(S3231)","v":7},{"$f":"MONTH(S3231)","v":7},{"$f":"YEAR(S3231)","v":2032},{"$f":"T3231&U3231","v":"77"},{"$f":"IF(V3231&W3231=V3230&W3230,X3230+1,1)","v":2},{"$f":"V3231&U3231&T3231&X3231","v":"2032772"},{"$f":"S3231","v":"2032-07-10"}]
[null,null,null,null,null,null,null,null,null,null,null,null,null,null,null,null,null,null,"2032-07-17",{"$f":"WEEKDAY(S3232)","v":7},{"$f":"MONTH(S3232)","v":7},{"$f":"YEAR(S3232)","v":2032},{"$f":"T3232&U3232","v":"77"},{"$f":"IF(V3232&W3232=V3231&W3231,X3231+1,1)","v":3},{"$f":"V3232&U3232&T3232&X3232","v":"2032773"},{"$f":"S3232","v":"2032-07-17"}]
[null,null,null,null,null,null,null,null,null,null,null,null,null,null,null,null,null,null,"2032-07-24",{"$f":"WEEKDAY(S3233)","v":7},{"$f":"MONTH(S3233)","v":7},{"$f":"YEAR(S3233)","v":2032},{"$f":"T3233&U3233","v":"77"},{"$f":"IF(V3233&W3233=V3232&W3232,X3232+1,1)","v":4},{"$f":"V3233&U3233&T3233&X3233","v":"2032774"},{"$f":"S3233","v":"2032-07-24"}]
[null,null,null,null,null,null,null,null,null,null,null,null,null,null,null,null,null,null,"2032-07-31",{"$f":"WEEKDAY(S3234)","v":7},{"$f":"MONTH(S3234)","v":7},{"$f":"YEAR(S3234)","v":2032},{"$f":"T3234&U3234","v":"77"},{"$f":"IF(V3234&W3234=V3233&W3233,X3233+1,1)","v":5},{"$f":"V3234&U3234&T3234&X3234","v":"2032775"},{"$f":"S3234","v":"2032-07-31"}]
[null,null,null,null,null,null,null,null,null,null,null,null,null,null,null,null,null,null,"2032-08-01",{"$f":"WEEKDAY(S3235)","v":1},{"$f":"MONTH(S3235)","v":8},{"$f":"YEAR(S3235)","v":2032},{"$f":"T3235&U3235","v":"18"},{"$f":"IF(V3235&W3235=V3234&W3234,X3234+1,1)","v":1},{"$f":"V3235&U3235&T3235&X3235","v":"2032811"},{"$f":"S3235","v":"2032-08-01"}]
[null,null,null,null,null,null,null,null,null,null,null,null,null,null,null,null,null,null,"2032-08-08",{"$f":"WEEKDAY(S3236)","v":1},{"$f":"MONTH(S3236)","v":8},{"$f":"YEAR(S3236)","v":2032},{"$f":"T3236&U3236","v":"18"},{"$f":"IF(V3236&W3236=V3235&W3235,X3235+1,1)","v":2},{"$f":"V3236&U3236&T3236&X3236","v":"2032812"},{"$f":"S3236","v":"2032-08-08"}]
[null,null,null,null,null,null,null,null,null,null,null,null,null,null,null,null,null,null,"2032-08-15",{"$f":"WEEKDAY(S3237)","v":1},{"$f":"MONTH(S3237)","v":8},{"$f":"YEAR(S3237)","v":2032},{"$f":"T3237&U3237","v":"18"},{"$f":"IF(V3237&W3237=V3236&W3236,X3236+1,1)","v":3},{"$f":"V3237&U3237&T3237&X3237","v":"2032813"},{"$f":"S3237","v":"2032-08-15"}]
[null,null,null,null,null,null,null,null,null,null,null,null,null,null,null,null,null,null,"2032-08-22",{"$f":"WEEKDAY(S3238)","v":1},{"$f":"MONTH(S3238)","v":8},{"$f":"YEAR(S3238)","v":2032},{"$f":"T3238&U3238","v":"18"},{"$f":"IF(V3238&W3238=V3237&W3237,X3237+1,1)","v":4},{"$f":"V3238&U3238&T3238&X3238","v":"2032814"},{"$f":"S3238","v":"2032-08-22"}]
[null,null,null,null,null,null,null,null,null,null,null,null,null,null,null,null,null,null,"2032-08-29",{"$f":"WEEKDAY(S3239)","v":1},{"$f":"MONTH(S3239)","v":8},{"$f":"YEAR(S3239)","v":2032},{"$f":"T3239&U3239","v":"18"},{"$f":"IF(V3239&W3239=V3238&W3238,X3238+1,1)","v":5},{"$f":"V3239&U3239&T3239&X3239","v":"2032815"},{"$f":"S3239","v":"2032-08-29"}]
[null,null,null,null,null,null,null,null,null,null,null,null,null,null,null,null,null,null,"2032-08-02",{"$f":"WEEKDAY(S3240)","v":2},{"$f":"MONTH(S3240)","v":8},{"$f":"YEAR(S3240)","v":2032},{"$f":"T3240&U3240","v":"28"},{"$f":"IF(V3240&W3240=V3239&W3239,X3239+1,1)","v":1},{"$f":"V3240&U3240&T3240&X3240","v":"2032821"},{"$f":"S3240","v":"2032-08-02"}]
[null,null,null,null,null,null,null,null,null,null,null,null,null,null,null,null,null,null,"2032-08-09",{"$f":"WEEKDAY(S3241)","v":2},{"$f":"MONTH(S3241)","v":8},{"$f":"YEAR(S3241)","v":2032},{"$f":"T3241&U3241","v":"28"},{"$f":"IF(V3241&W3241=V3240&W3240,X3240+1,1)","v":2},{"$f":"V3241&U3241&T3241&X3241","v":"2032822"},{"$f":"S3241","v":"2032-08-09"}]
[null,null,null,null,null,null,null,null,null,null,null,null,null,null,null,null,null,null,"2032-08-16",{"$f":"WEEKDAY(S3242)","v":2},{"$f":"MONTH(S3242)","v":8},{"$f":"YEAR(S3242)","v":2032},{"$f":"T3242&U3242","v":"28"},{"$f":"IF(V3242&W3242=V3241&W3241,X3241+1,1)","v":3},{"$f":"V3242&U3242&T3242&X3242","v":"2032823"},{"$f":"S3242","v":"2032-08-16"}]
[null,null,null,null,null,null,null,null,null,null,null,null,null,null,null,null,null,null,"2032-08-23",{"$f":"WEEKDAY(S3243)","v":2},{"$f":"MONTH(S3243)","v":8},{"$f":"YEAR(S3243)","v":2032},{"$f":"T3243&U3243","v":"28"},{"$f":"IF(V3243&W3243=V3242&W3242,X3242+1,1)","v":4},{"$f":"V3243&U3243&T3243&X3243","v":"2032824"},{"$f":"S3243","v":"2032-08-23"}]
[null,null,null,null,null,null,null,null,null,null,null,null,null,null,null,null,null,null,"2032-08-30",{"$f":"WEEKDAY(S3244)","v":2},{"$f":"MONTH(S3244)","v":8},{"$f":"YEAR(S3244)","v":2032},{"$f":"T3244&U3244","v":"28"},{"$f":"IF(V3244&W3244=V3243&W3243,X3243+1,1)","v":5},{"$f":"V3244&U3244&T3244&X3244","v":"2032825"},{"$f":"S3244","v":"2032-08-30"}]
[null,null,null,null,null,null,null,null,null,null,null,null,null,null,null,null,null,null,"2032-08-03",{"$f":"WEEKDAY(S3245)","v":3},{"$f":"MONTH(S3245)","v":8},{"$f":"YEAR(S3245)","v":2032},{"$f":"T3245&U3245","v":"38"},{"$f":"IF(V3245&W3245=V3244&W3244,X3244+1,1)","v":1},{"$f":"V3245&U3245&T3245&X3245","v":"2032831"},{"$f":"S3245","v":"2032-08-03"}]
[null,null,null,null,null,null,null,null,null,null,null,null,null,null,null,null,null,null,"2032-08-10",{"$f":"WEEKDAY(S3246)","v":3},{"$f":"MONTH(S3246)","v":8},{"$f":"YEAR(S3246)","v":2032},{"$f":"T3246&U3246","v":"38"},{"$f":"IF(V3246&W3246=V3245&W3245,X3245+1,1)","v":2},{"$f":"V3246&U3246&T3246&X3246","v":"2032832"},{"$f":"S3246","v":"2032-08-10"}]
[null,null,null,null,null,null,null,null,null,null,null,null,null,null,null,null,null,null,"2032-08-17",{"$f":"WEEKDAY(S3247)","v":3},{"$f":"MONTH(S3247)","v":8},{"$f":"YEAR(S3247)","v":2032},{"$f":"T3247&U3247","v":"38"},{"$f":"IF(V3247&W3247=V3246&W3246,X3246+1,1)","v":3},{"$f":"V3247&U3247&T3247&X3247","v":"2032833"},{"$f":"S3247","v":"2032-08-17"}]
[null,null,null,null,null,null,null,null,null,null,null,null,null,null,null,null,null,null,"2032-08-24",{"$f":"WEEKDAY(S3248)","v":3},{"$f":"MONTH(S3248)","v":8},{"$f":"YEAR(S3248)","v":2032},{"$f":"T3248&U3248","v":"38"},{"$f":"IF(V3248&W3248=V3247&W3247,X3247+1,1)","v":4},{"$f":"V3248&U3248&T3248&X3248","v":"2032834"},{"$f":"S3248","v":"2032-08-24"}]
[null,null,null,null,null,null,null,null,null,null,null,null,null,null,null,null,null,null,"2032-08-31",{"$f":"WEEKDAY(S3249)","v":3},{"$f":"MONTH(S3249)","v":8},{"$f":"YEAR(S3249)","v":2032},{"$f":"T3249&U3249","v":"38"},{"$f":"IF(V3249&W3249=V3248&W3248,X3248+1,1)","v":5},{"$f":"V3249&U3249&T3249&X3249","v":"2032835"},{"$f":"S3249","v":"2032-08-31"}]
[null,null,null,null,null,null,null,null,null,null,null,null,null,null,null,null,null,null,"2032-08-04",{"$f":"WEEKDAY(S3250)","v":4},{"$f":"MONTH(S3250)","v":8},{"$f":"YEAR(S3250)","v":2032},{"$f":"T3250&U3250","v":"48"},{"$f":"IF(V3250&W3250=V3249&W3249,X3249+1,1)","v":1},{"$f":"V3250&U3250&T3250&X3250","v":"2032841"},{"$f":"S3250","v":"2032-08-04"}]
[null,null,null,null,null,null,null,null,null,null,null,null,null,null,null,null,null,null,"2032-08-11",{"$f":"WEEKDAY(S3251)","v":4},{"$f":"MONTH(S3251)","v":8},{"$f":"YEAR(S3251)","v":2032},{"$f":"T3251&U3251","v":"48"},{"$f":"IF(V3251&W3251=V3250&W3250,X3250+1,1)","v":2},{"$f":"V3251&U3251&T3251&X3251","v":"2032842"},{"$f":"S3251","v":"2032-08-11"}]
[null,null,null,null,null,null,null,null,null,null,null,null,null,null,null,null,null,null,"2032-08-18",{"$f":"WEEKDAY(S3252)","v":4},{"$f":"MONTH(S3252)","v":8},{"$f":"YEAR(S3252)","v":2032},{"$f":"T3252&U3252","v":"48"},{"$f":"IF(V3252&W3252=V3251&W3251,X3251+1,1)","v":3},{"$f":"V3252&U3252&T3252&X3252","v":"2032843"},{"$f":"S3252","v":"2032-08-18"}]
[null,null,null,null,null,null,null,null,null,null,null,null,null,null,null,null,null,null,"2032-08-25",{"$f":"WEEKDAY(S3253)","v":4},{"$f":"MONTH(S3253)","v":8},{"$f":"YEAR(S3253)","v":2032},{"$f":"T3253&U3253","v":"48"},{"$f":"IF(V3253&W3253=V3252&W3252,X3252+1,1)","v":4},{"$f":"V3253&U3253&T3253&X3253","v":"2032844"},{"$f":"S3253","v":"2032-08-25"}]
[null,null,null,null,null,null,null,null,null,null,null,null,null,null,null,null,null,null,"2032-08-05",{"$f":"WEEKDAY(S3254)","v":5},{"$f":"MONTH(S3254)","v":8},{"$f":"YEAR(S3254)","v":2032},{"$f":"T3254&U3254","v":"58"},{"$f":"IF(V3254&W3254=V3253&W3253,X3253+1,1)","v":1},{"$f":"V3254&U3254&T3254&X3254","v":"2032851"},{"$f":"S3254","v":"2032-08-05"}]
[null,null,null,null,null,null,null,null,null,null,null,null,null,null,null,null,null,null,"2032-08-12",{"$f":"WEEKDAY(S3255)","v":5},{"$f":"MONTH(S3255)","v":8},{"$f":"YEAR(S3255)","v":2032},{"$f":"T3255&U3255","v":"58"},{"$f":"IF(V3255&W3255=V3254&W3254,X3254+1,1)","v":2},{"$f":"V3255&U3255&T3255&X3255","v":"2032852"},{"$f":"S3255","v":"2032-08-12"}]
[null,null,null,null,null,null,null,null,null,null,null,null,null,null,null,null,null,null,"2032-08-19",{"$f":"WEEKDAY(S3256)","v":5},{"$f":"MONTH(S3256)","v":8},{"$f":"YEAR(S3256)","v":2032},{"$f":"T3256&U3256","v":"58"},{"$f":"IF(V3256&W3256=V3255&W3255,X3255+1,1)","v":3},{"$f":"V3256&U3256&T3256&X3256","v":"2032853"},{"$f":"S3256","v":"2032-08-19"}]
[null,null,null,null,null,null,null,null,null,null,null,null,null,null,null,null,null,null,"2032-08-26",{"$f":"WEEKDAY(S3257)","v":5},{"$f":"MONTH(S3257)","v":8},{"$f":"YEAR(S3257)","v":2032},{"$f":"T3257&U3257","v":"58"},{"$f":"IF(V3257&W3257=V3256&W3256,X3256+1,1)","v":4},{"$f":"V3257&U3257&T3257&X3257","v":"2032854"},{"$f":"S3257","v":"2032-08-26"}]
[null,null,null,null,null,null,null,null,null,null,null,null,null,null,null,null,null,null,"2032-08-06",{"$f":"WEEKDAY(S3258)","v":6},{"$f":"MONTH(S3258)","v":8},{"$f":"YEAR(S3258)","v":2032},{"$f":"T3258&U3258","v":"68"},{"$f":"IF(V3258&W3258=V3257&W3257,X3257+1,1)","v":1},{"$f":"V3258&U3258&T3258&X3258","v":"2032861"},{"$f":"S3258","v":"2032-08-06"}]
[null,null,null,null,null,null,null,null,null,null,null,null,null,null,null,null,null,null,"2032-08-13",{"$f":"WEEKDAY(S3259)","v":6},{"$f":"MONTH(S3259)","v":8},{"$f":"YEAR(S3259)","v":2032},{"$f":"T3259&U3259","v":"68"},{"$f":"IF(V3259&W3259=V3258&W3258,X3258+1,1)","v":2},{"$f":"V3259&U3259&T3259&X3259","v":"2032862"},{"$f":"S3259","v":"2032-08-13"}]
[null,null,null,null,null,null,null,null,null,null,null,null,null,null,null,null,null,null,"2032-08-20",{"$f":"WEEKDAY(S3260)","v":6},{"$f":"MONTH(S3260)","v":8},{"$f":"YEAR(S3260)","v":2032},{"$f":"T3260&U3260","v":"68"},{"$f":"IF(V3260&W3260=V3259&W3259,X3259+1,1)","v":3},{"$f":"V3260&U3260&T3260&X3260","v":"2032863"},{"$f":"S3260","v":"2032-08-20"}]
[null,null,null,null,null,null,null,null,null,null,null,null,null,null,null,null,null,null,"2032-08-27",{"$f":"WEEKDAY(S3261)","v":6},{"$f":"MONTH(S3261)","v":8},{"$f":"YEAR(S3261)","v":2032},{"$f":"T3261&U3261","v":"68"},{"$f":"IF(V3261&W3261=V3260&W3260,X3260+1,1)","v":4},{"$f":"V3261&U3261&T3261&X3261","v":"2032864"},{"$f":"S3261","v":"2032-08-27"}]
[null,null,null,null,null,null,null,null,null,null,null,null,null,null,null,null,null,null,"2032-08-07",{"$f":"WEEKDAY(S3262)","v":7},{"$f":"MONTH(S3262)","v":8},{"$f":"YEAR(S3262)","v":2032},{"$f":"T3262&U3262","v":"78"},{"$f":"IF(V3262&W3262=V3261&W3261,X3261+1,1)","v":1},{"$f":"V3262&U3262&T3262&X3262","v":"2032871"},{"$f":"S3262","v":"2032-08-07"}]
[null,null,null,null,null,null,null,null,null,null,null,null,null,null,null,null,null,null,"2032-08-14",{"$f":"WEEKDAY(S3263)","v":7},{"$f":"MONTH(S3263)","v":8},{"$f":"YEAR(S3263)","v":2032},{"$f":"T3263&U3263","v":"78"},{"$f":"IF(V3263&W3263=V3262&W3262,X3262+1,1)","v":2},{"$f":"V3263&U3263&T3263&X3263","v":"2032872"},{"$f":"S3263","v":"2032-08-14"}]
[null,null,null,null,null,null,null,null,null,null,null,null,null,null,null,null,null,null,"2032-08-21",{"$f":"WEEKDAY(S3264)","v":7},{"$f":"MONTH(S3264)","v":8},{"$f":"YEAR(S3264)","v":2032},{"$f":"T3264&U3264","v":"78"},{"$f":"IF(V3264&W3264=V3263&W3263,X3263+1,1)","v":3},{"$f":"V3264&U3264&T3264&X3264","v":"2032873"},{"$f":"S3264","v":"2032-08-21"}]
[null,null,null,null,null,null,null,null,null,null,null,null,null,null,null,null,null,null,"2032-08-28",{"$f":"WEEKDAY(S3265)","v":7},{"$f":"MONTH(S3265)","v":8},{"$f":"YEAR(S3265)","v":2032},{"$f":"T3265&U3265","v":"78"},{"$f":"IF(V3265&W3265=V3264&W3264,X3264+1,1)","v":4},{"$f":"V3265&U3265&T3265&X3265","v":"2032874"},{"$f":"S3265","v":"2032-08-28"}]
[null,null,null,null,null,null,null,null,null,null,null,null,null,null,null,null,null,null,"2032-09-05",{"$f":"WEEKDAY(S3266)","v":1},{"$f":"MONTH(S3266)","v":9},{"$f":"YEAR(S3266)","v":2032},{"$f":"T3266&U3266","v":"19"},{"$f":"IF(V3266&W3266=V3265&W3265,X3265+1,1)","v":1},{"$f":"V3266&U3266&T3266&X3266","v":"2032911"},{"$f":"S3266","v":"2032-09-05"}]
[null,null,null,null,null,null,null,null,null,null,null,null,null,null,null,null,null,null,"2032-09-12",{"$f":"WEEKDAY(S3267)","v":1},{"$f":"MONTH(S3267)","v":9},{"$f":"YEAR(S3267)","v":2032},{"$f":"T3267&U3267","v":"19"},{"$f":"IF(V3267&W3267=V3266&W3266,X3266+1,1)","v":2},{"$f":"V3267&U3267&T3267&X3267","v":"2032912"},{"$f":"S3267","v":"2032-09-12"}]
[null,null,null,null,null,null,null,null,null,null,null,null,null,null,null,null,null,null,"2032-09-19",{"$f":"WEEKDAY(S3268)","v":1},{"$f":"MONTH(S3268)","v":9},{"$f":"YEAR(S3268)","v":2032},{"$f":"T3268&U3268","v":"19"},{"$f":"IF(V3268&W3268=V3267&W3267,X3267+1,1)","v":3},{"$f":"V3268&U3268&T3268&X3268","v":"2032913"},{"$f":"S3268","v":"2032-09-19"}]
[null,null,null,null,null,null,null,null,null,null,null,null,null,null,null,null,null,null,"2032-09-26",{"$f":"WEEKDAY(S3269)","v":1},{"$f":"MONTH(S3269)","v":9},{"$f":"YEAR(S3269)","v":2032},{"$f":"T3269&U3269","v":"19"},{"$f":"IF(V3269&W3269=V3268&W3268,X3268+1,1)","v":4},{"$f":"V3269&U3269&T3269&X3269","v":"2032914"},{"$f":"S3269","v":"2032-09-26"}]
[null,null,null,null,null,null,null,null,null,null,null,null,null,null,null,null,null,null,"2032-09-06",{"$f":"WEEKDAY(S3270)","v":2},{"$f":"MONTH(S3270)","v":9},{"$f":"YEAR(S3270)","v":2032},{"$f":"T3270&U3270","v":"29"},{"$f":"IF(V3270&W3270=V3269&W3269,X3269+1,1)","v":1},{"$f":"V3270&U3270&T3270&X3270","v":"2032921"},{"$f":"S3270","v":"2032-09-06"}]
[null,null,null,null,null,null,null,null,null,null,null,null,null,null,null,null,null,null,"2032-09-13",{"$f":"WEEKDAY(S3271)","v":2},{"$f":"MONTH(S3271)","v":9},{"$f":"YEAR(S3271)","v":2032},{"$f":"T3271&U3271","v":"29"},{"$f":"IF(V3271&W3271=V3270&W3270,X3270+1,1)","v":2},{"$f":"V3271&U3271&T3271&X3271","v":"2032922"},{"$f":"S3271","v":"2032-09-13"}]
[null,null,null,null,null,null,null,null,null,null,null,null,null,null,null,null,null,null,"2032-09-20",{"$f":"WEEKDAY(S3272)","v":2},{"$f":"MONTH(S3272)","v":9},{"$f":"YEAR(S3272)","v":2032},{"$f":"T3272&U3272","v":"29"},{"$f":"IF(V3272&W3272=V3271&W3271,X3271+1,1)","v":3},{"$f":"V3272&U3272&T3272&X3272","v":"2032923"},{"$f":"S3272","v":"2032-09-20"}]
[null,null,null,null,null,null,null,null,null,null,null,null,null,null,null,null,null,null,"2032-09-27",{"$f":"WEEKDAY(S3273)","v":2},{"$f":"MONTH(S3273)","v":9},{"$f":"YEAR(S3273)","v":2032},{"$f":"T3273&U3273","v":"29"},{"$f":"IF(V3273&W3273=V3272&W3272,X3272+1,1)","v":4},{"$f":"V3273&U3273&T3273&X3273","v":"2032924"},{"$f":"S3273","v":"2032-09-27"}]
[null,null,null,null,null,null,null,null,null,null,null,null,null,null,null,null,null,null,"2032-09-07",{"$f":"WEEKDAY(S3274)","v":3},{"$f":"MONTH(S3274)","v":9},{"$f":"YEAR(S3274)","v":2032},{"$f":"T3274&U3274","v":"39"},{"$f":"IF(V3274&W3274=V3273&W3273,X3273+1,1)","v":1},{"$f":"V3274&U3274&T3274&X3274","v":"2032931"},{"$f":"S3274","v":"2032-09-07"}]
[null,null,null,null,null,null,null,null,null,null,null,null,null,null,null,null,null,null,"2032-09-14",{"$f":"WEEKDAY(S3275)","v":3},{"$f":"MONTH(S3275)","v":9},{"$f":"YEAR(S3275)","v":2032},{"$f":"T3275&U3275","v":"39"},{"$f":"IF(V3275&W3275=V3274&W3274,X3274+1,1)","v":2},{"$f":"V3275&U3275&T3275&X3275","v":"2032932"},{"$f":"S3275","v":"2032-09-14"}]
[null,null,null,null,null,null,null,null,null,null,null,null,null,null,null,null,null,null,"2032-09-21",{"$f":"WEEKDAY(S3276)","v":3},{"$f":"MONTH(S3276)","v":9},{"$f":"YEAR(S3276)","v":2032},{"$f":"T3276&U3276","v":"39"},{"$f":"IF(V3276&W3276=V3275&W3275,X3275+1,1)","v":3},{"$f":"V3276&U3276&T3276&X3276","v":"2032933"},{"$f":"S3276","v":"2032-09-21"}]
[null,null,null,null,null,null,null,null,null,null,null,null,null,null,null,null,null,null,"2032-09-28",{"$f":"WEEKDAY(S3277)","v":3},{"$f":"MONTH(S3277)","v":9},{"$f":"YEAR(S3277)","v":2032},{"$f":"T3277&U3277","v":"39"},{"$f":"IF(V3277&W3277=V3276&W3276,X3276+1,1)","v":4},{"$f":"V3277&U3277&T3277&X3277","v":"2032934"},{"$f":"S3277","v":"2032-09-28"}]
[null,null,null,null,null,null,null,null,null,null,null,null,null,null,null,null,null,null,"2032-09-01",{"$f":"WEEKDAY(S3278)","v":4},{"$f":"MONTH(S3278)","v":9},{"$f":"YEAR(S3278)","v":2032},{"$f":"T3278&U3278","v":"49"},{"$f":"IF(V3278&W3278=V3277&W3277,X3277+1,1)","v":1},{"$f":"V3278&U3278&T3278&X3278","v":"2032941"},{"$f":"S3278","v":"2032-09-01"}]
[null,null,null,null,null,null,null,null,null,null,null,null,null,null,null,null,null,null,"2032-09-08",{"$f":"WEEKDAY(S3279)","v":4},{"$f":"MONTH(S3279)","v":9},{"$f":"YEAR(S3279)","v":2032},{"$f":"T3279&U3279","v":"49"},{"$f":"IF(V3279&W3279=V3278&W3278,X3278+1,1)","v":2},{"$f":"V3279&U3279&T3279&X3279","v":"2032942"},{"$f":"S3279","v":"2032-09-08"}]
[null,null,null,null,null,null,null,null,null,null,null,null,null,null,null,null,null,null,"2032-09-15",{"$f":"WEEKDAY(S3280)","v":4},{"$f":"MONTH(S3280)","v":9},{"$f":"YEAR(S3280)","v":2032},{"$f":"T3280&U3280","v":"49"},{"$f":"IF(V3280&W3280=V3279&W3279,X3279+1,1)","v":3},{"$f":"V3280&U3280&T3280&X3280","v":"2032943"},{"$f":"S3280","v":"2032-09-15"}]
[null,null,null,null,null,null,null,null,null,null,null,null,null,null,null,null,null,null,"2032-09-22",{"$f":"WEEKDAY(S3281)","v":4},{"$f":"MONTH(S3281)","v":9},{"$f":"YEAR(S3281)","v":2032},{"$f":"T3281&U3281","v":"49"},{"$f":"IF(V3281&W3281=V3280&W3280,X3280+1,1)","v":4},{"$f":"V3281&U3281&T3281&X3281","v":"2032944"},{"$f":"S3281","v":"2032-09-22"}]
[null,null,null,null,null,null,null,null,null,null,null,null,null,null,null,null,null,null,"2032-09-29",{"$f":"WEEKDAY(S3282)","v":4},{"$f":"MONTH(S3282)","v":9},{"$f":"YEAR(S3282)","v":2032},{"$f":"T3282&U3282","v":"49"},{"$f":"IF(V3282&W3282=V3281&W3281,X3281+1,1)","v":5},{"$f":"V3282&U3282&T3282&X3282","v":"2032945"},{"$f":"S3282","v":"2032-09-29"}]
[null,null,null,null,null,null,null,null,null,null,null,null,null,null,null,null,null,null,"2032-09-02",{"$f":"WEEKDAY(S3283)","v":5},{"$f":"MONTH(S3283)","v":9},{"$f":"YEAR(S3283)","v":2032},{"$f":"T3283&U3283","v":"59"},{"$f":"IF(V3283&W3283=V3282&W3282,X3282+1,1)","v":1},{"$f":"V3283&U3283&T3283&X3283","v":"2032951"},{"$f":"S3283","v":"2032-09-02"}]
[null,null,null,null,null,null,null,null,null,null,null,null,null,null,null,null,null,null,"2032-09-09",{"$f":"WEEKDAY(S3284)","v":5},{"$f":"MONTH(S3284)","v":9},{"$f":"YEAR(S3284)","v":2032},{"$f":"T3284&U3284","v":"59"},{"$f":"IF(V3284&W3284=V3283&W3283,X3283+1,1)","v":2},{"$f":"V3284&U3284&T3284&X3284","v":"2032952"},{"$f":"S3284","v":"2032-09-09"}]
[null,null,null,null,null,null,null,null,null,null,null,null,null,null,null,null,null,null,"2032-09-16",{"$f":"WEEKDAY(S3285)","v":5},{"$f":"MONTH(S3285)","v":9},{"$f":"YEAR(S3285)","v":2032},{"$f":"T3285&U3285","v":"59"},{"$f":"IF(V3285&W3285=V3284&W3284,X3284+1,1)","v":3},{"$f":"V3285&U3285&T3285&X3285","v":"2032953"},{"$f":"S3285","v":"2032-09-16"}]
[null,null,null,null,null,null,null,null,null,null,null,null,null,null,null,null,null,null,"2032-09-23",{"$f":"WEEKDAY(S3286)","v":5},{"$f":"MONTH(S3286)","v":9},{"$f":"YEAR(S3286)","v":2032},{"$f":"T3286&U3286","v":"59"},{"$f":"IF(V3286&W3286=V3285&W3285,X3285+1,1)","v":4},{"$f":"V3286&U3286&T3286&X3286","v":"2032954"},{"$f":"S3286","v":"2032-09-23"}]
[null,null,null,null,null,null,null,null,null,null,null,null,null,null,null,null,null,null,"2032-09-30",{"$f":"WEEKDAY(S3287)","v":5},{"$f":"MONTH(S3287)","v":9},{"$f":"YEAR(S3287)","v":2032},{"$f":"T3287&U3287","v":"59"},{"$f":"IF(V3287&W3287=V3286&W3286,X3286+1,1)","v":5},{"$f":"V3287&U3287&T3287&X3287","v":"2032955"},{"$f":"S3287","v":"2032-09-30"}]
[null,null,null,null,null,null,null,null,null,null,null,null,null,null,null,null,null,null,"2032-09-03",{"$f":"WEEKDAY(S3288)","v":6},{"$f":"MONTH(S3288)","v":9},{"$f":"YEAR(S3288)","v":2032},{"$f":"T3288&U3288","v":"69"},{"$f":"IF(V3288&W3288=V3287&W3287,X3287+1,1)","v":1},{"$f":"V3288&U3288&T3288&X3288","v":"2032961"},{"$f":"S3288","v":"2032-09-03"}]
[null,null,null,null,null,null,null,null,null,null,null,null,null,null,null,null,null,null,"2032-09-10",{"$f":"WEEKDAY(S3289)","v":6},{"$f":"MONTH(S3289)","v":9},{"$f":"YEAR(S3289)","v":2032},{"$f":"T3289&U3289","v":"69"},{"$f":"IF(V3289&W3289=V3288&W3288,X3288+1,1)","v":2},{"$f":"V3289&U3289&T3289&X3289","v":"2032962"},{"$f":"S3289","v":"2032-09-10"}]
[null,null,null,null,null,null,null,null,null,null,null,null,null,null,null,null,null,null,"2032-09-17",{"$f":"WEEKDAY(S3290)","v":6},{"$f":"MONTH(S3290)","v":9},{"$f":"YEAR(S3290)","v":2032},{"$f":"T3290&U3290","v":"69"},{"$f":"IF(V3290&W3290=V3289&W3289,X3289+1,1)","v":3},{"$f":"V3290&U3290&T3290&X3290","v":"2032963"},{"$f":"S3290","v":"2032-09-17"}]
[null,null,null,null,null,null,null,null,null,null,null,null,null,null,null,null,null,null,"2032-09-24",{"$f":"WEEKDAY(S3291)","v":6},{"$f":"MONTH(S3291)","v":9},{"$f":"YEAR(S3291)","v":2032},{"$f":"T3291&U3291","v":"69"},{"$f":"IF(V3291&W3291=V3290&W3290,X3290+1,1)","v":4},{"$f":"V3291&U3291&T3291&X3291","v":"2032964"},{"$f":"S3291","v":"2032-09-24"}]
[null,null,null,null,null,null,null,null,null,null,null,null,null,null,null,null,null,null,"2032-09-04",{"$f":"WEEKDAY(S3292)","v":7},{"$f":"MONTH(S3292)","v":9},{"$f":"YEAR(S3292)","v":2032},{"$f":"T3292&U3292","v":"79"},{"$f":"IF(V3292&W3292=V3291&W3291,X3291+1,1)","v":1},{"$f":"V3292&U3292&T3292&X3292","v":"2032971"},{"$f":"S3292","v":"2032-09-04"}]
[null,null,null,null,null,null,null,null,null,null,null,null,null,null,null,null,null,null,"2032-09-11",{"$f":"WEEKDAY(S3293)","v":7},{"$f":"MONTH(S3293)","v":9},{"$f":"YEAR(S3293)","v":2032},{"$f":"T3293&U3293","v":"79"},{"$f":"IF(V3293&W3293=V3292&W3292,X3292+1,1)","v":2},{"$f":"V3293&U3293&T3293&X3293","v":"2032972"},{"$f":"S3293","v":"2032-09-11"}]
[null,null,null,null,null,null,null,null,null,null,null,null,null,null,null,null,null,null,"2032-09-18",{"$f":"WEEKDAY(S3294)","v":7},{"$f":"MONTH(S3294)","v":9},{"$f":"YEAR(S3294)","v":2032},{"$f":"T3294&U3294","v":"79"},{"$f":"IF(V3294&W3294=V3293&W3293,X3293+1,1)","v":3},{"$f":"V3294&U3294&T3294&X3294","v":"2032973"},{"$f":"S3294","v":"2032-09-18"}]
[null,null,null,null,null,null,null,null,null,null,null,null,null,null,null,null,null,null,"2032-09-25",{"$f":"WEEKDAY(S3295)","v":7},{"$f":"MONTH(S3295)","v":9},{"$f":"YEAR(S3295)","v":2032},{"$f":"T3295&U3295","v":"79"},{"$f":"IF(V3295&W3295=V3294&W3294,X3294+1,1)","v":4},{"$f":"V3295&U3295&T3295&X3295","v":"2032974"},{"$f":"S3295","v":"2032-09-25"}]
[null,null,null,null,null,null,null,null,null,null,null,null,null,null,null,null,null,null,"2033-10-02",{"$f":"WEEKDAY(S3296)","v":1},{"$f":"MONTH(S3296)","v":10},{"$f":"YEAR(S3296)","v":2033},{"$f":"T3296&U3296","v":"110"},{"$f":"IF(V3296&W3296=V3295&W3295,X3295+1,1)","v":1},{"$f":"V3296&U3296&T3296&X3296","v":"20331011"},{"$f":"S3296","v":"2033-10-02"}]
[null,null,null,null,null,null,null,null,null,null,null,null,null,null,null,null,null,null,"2033-10-09",{"$f":"WEEKDAY(S3297)","v":1},{"$f":"MONTH(S3297)","v":10},{"$f":"YEAR(S3297)","v":2033},{"$f":"T3297&U3297","v":"110"},{"$f":"IF(V3297&W3297=V3296&W3296,X3296+1,1)","v":2},{"$f":"V3297&U3297&T3297&X3297","v":"20331012"},{"$f":"S3297","v":"2033-10-09"}]
[null,null,null,null,null,null,null,null,null,null,null,null,null,null,null,null,null,null,"2033-10-16",{"$f":"WEEKDAY(S3298)","v":1},{"$f":"MONTH(S3298)","v":10},{"$f":"YEAR(S3298)","v":2033},{"$f":"T3298&U3298","v":"110"},{"$f":"IF(V3298&W3298=V3297&W3297,X3297+1,1)","v":3},{"$f":"V3298&U3298&T3298&X3298","v":"20331013"},{"$f":"S3298","v":"2033-10-16"}]
[null,null,null,null,null,null,null,null,null,null,null,null,null,null,null,null,null,null,"2033-10-23",{"$f":"WEEKDAY(S3299)","v":1},{"$f":"MONTH(S3299)","v":10},{"$f":"YEAR(S3299)","v":2033},{"$f":"T3299&U3299","v":"110"},{"$f":"IF(V3299&W3299=V3298&W3298,X3298+1,1)","v":4},{"$f":"V3299&U3299&T3299&X3299","v":"20331014"},{"$f":"S3299","v":"2033-10-23"}]
[null,null,null,null,null,null,null,null,null,null,null,null,null,null,null,null,null,null,"2033-10-30",{"$f":"WEEKDAY(S3300)","v":1},{"$f":"MONTH(S3300)","v":10},{"$f":"YEAR(S3300)","v":2033},{"$f":"T3300&U3300","v":"110"},{"$f":"IF(V3300&W3300=V3299&W3299,X3299+1,1)","v":5},{"$f":"V3300&U3300&T3300&X3300","v":"20331015"},{"$f":"S3300","v":"2033-10-30"}]
[null,null,null,null,null,null,null,null,null,null,null,null,null,null,null,null,null,null,"2033-10-03",{"$f":"WEEKDAY(S3301)","v":2},{"$f":"MONTH(S3301)","v":10},{"$f":"YEAR(S3301)","v":2033},{"$f":"T3301&U3301","v":"210"},{"$f":"IF(V3301&W3301=V3300&W3300,X3300+1,1)","v":1},{"$f":"V3301&U3301&T3301&X3301","v":"20331021"},{"$f":"S3301","v":"2033-10-03"}]
[null,null,null,null,null,null,null,null,null,null,null,null,null,null,null,null,null,null,"2033-10-10",{"$f":"WEEKDAY(S3302)","v":2},{"$f":"MONTH(S3302)","v":10},{"$f":"YEAR(S3302)","v":2033},{"$f":"T3302&U3302","v":"210"},{"$f":"IF(V3302&W3302=V3301&W3301,X3301+1,1)","v":2},{"$f":"V3302&U3302&T3302&X3302","v":"20331022"},{"$f":"S3302","v":"2033-10-10"}]
[null,null,null,null,null,null,null,null,null,null,null,null,null,null,null,null,null,null,"2033-10-17",{"$f":"WEEKDAY(S3303)","v":2},{"$f":"MONTH(S3303)","v":10},{"$f":"YEAR(S3303)","v":2033},{"$f":"T3303&U3303","v":"210"},{"$f":"IF(V3303&W3303=V3302&W3302,X3302+1,1)","v":3},{"$f":"V3303&U3303&T3303&X3303","v":"20331023"},{"$f":"S3303","v":"2033-10-17"}]
[null,null,null,null,null,null,null,null,null,null,null,null,null,null,null,null,null,null,"2033-10-24",{"$f":"WEEKDAY(S3304)","v":2},{"$f":"MONTH(S3304)","v":10},{"$f":"YEAR(S3304)","v":2033},{"$f":"T3304&U3304","v":"210"},{"$f":"IF(V3304&W3304=V3303&W3303,X3303+1,1)","v":4},{"$f":"V3304&U3304&T3304&X3304","v":"20331024"},{"$f":"S3304","v":"2033-10-24"}]
[null,null,null,null,null,null,null,null,null,null,null,null,null,null,null,null,null,null,"2033-10-31",{"$f":"WEEKDAY(S3305)","v":2},{"$f":"MONTH(S3305)","v":10},{"$f":"YEAR(S3305)","v":2033},{"$f":"T3305&U3305","v":"210"},{"$f":"IF(V3305&W3305=V3304&W3304,X3304+1,1)","v":5},{"$f":"V3305&U3305&T3305&X3305","v":"20331025"},{"$f":"S3305","v":"2033-10-31"}]
[null,null,null,null,null,null,null,null,null,null,null,null,null,null,null,null,null,null,"2033-10-04",{"$f":"WEEKDAY(S3306)","v":3},{"$f":"MONTH(S3306)","v":10},{"$f":"YEAR(S3306)","v":2033},{"$f":"T3306&U3306","v":"310"},{"$f":"IF(V3306&W3306=V3305&W3305,X3305+1,1)","v":1},{"$f":"V3306&U3306&T3306&X3306","v":"20331031"},{"$f":"S3306","v":"2033-10-04"}]
[null,null,null,null,null,null,null,null,null,null,null,null,null,null,null,null,null,null,"2033-10-11",{"$f":"WEEKDAY(S3307)","v":3},{"$f":"MONTH(S3307)","v":10},{"$f":"YEAR(S3307)","v":2033},{"$f":"T3307&U3307","v":"310"},{"$f":"IF(V3307&W3307=V3306&W3306,X3306+1,1)","v":2},{"$f":"V3307&U3307&T3307&X3307","v":"20331032"},{"$f":"S3307","v":"2033-10-11"}]
[null,null,null,null,null,null,null,null,null,null,null,null,null,null,null,null,null,null,"2033-10-18",{"$f":"WEEKDAY(S3308)","v":3},{"$f":"MONTH(S3308)","v":10},{"$f":"YEAR(S3308)","v":2033},{"$f":"T3308&U3308","v":"310"},{"$f":"IF(V3308&W3308=V3307&W3307,X3307+1,1)","v":3},{"$f":"V3308&U3308&T3308&X3308","v":"20331033"},{"$f":"S3308","v":"2033-10-18"}]
[null,null,null,null,null,null,null,null,null,null,null,null,null,null,null,null,null,null,"2033-10-25",{"$f":"WEEKDAY(S3309)","v":3},{"$f":"MONTH(S3309)","v":10},{"$f":"YEAR(S3309)","v":2033},{"$f":"T3309&U3309","v":"310"},{"$f":"IF(V3309&W3309=V3308&W3308,X3308+1,1)","v":4},{"$f":"V3309&U3309&T3309&X3309","v":"20331034"},{"$f":"S3309","v":"2033-10-25"}]
[null,null,null,null,null,null,null,null,null,null,null,null,null,null,null,null,null,null,"2033-10-05",{"$f":"WEEKDAY(S3310)","v":4},{"$f":"MONTH(S3310)","v":10},{"$f":"YEAR(S3310)","v":2033},{"$f":"T3310&U3310","v":"410"},{"$f":"IF(V3310&W3310=V3309&W3309,X3309+1,1)","v":1},{"$f":"V3310&U3310&T3310&X3310","v":"20331041"},{"$f":"S3310","v":"2033-10-05"}]
[null,null,null,null,null,null,null,null,null,null,null,null,null,null,null,null,null,null,"2033-10-12",{"$f":"WEEKDAY(S3311)","v":4},{"$f":"MONTH(S3311)","v":10},{"$f":"YEAR(S3311)","v":2033},{"$f":"T3311&U3311","v":"410"},{"$f":"IF(V3311&W3311=V3310&W3310,X3310+1,1)","v":2},{"$f":"V3311&U3311&T3311&X3311","v":"20331042"},{"$f":"S3311","v":"2033-10-12"}]
[null,null,null,null,null,null,null,null,null,null,null,null,null,null,null,null,null,null,"2033-10-19",{"$f":"WEEKDAY(S3312)","v":4},{"$f":"MONTH(S3312)","v":10},{"$f":"YEAR(S3312)","v":2033},{"$f":"T3312&U3312","v":"410"},{"$f":"IF(V3312&W3312=V3311&W3311,X3311+1,1)","v":3},{"$f":"V3312&U3312&T3312&X3312","v":"20331043"},{"$f":"S3312","v":"2033-10-19"}]
[null,null,null,null,null,null,null,null,null,null,null,null,null,null,null,null,null,null,"2033-10-26",{"$f":"WEEKDAY(S3313)","v":4},{"$f":"MONTH(S3313)","v":10},{"$f":"YEAR(S3313)","v":2033},{"$f":"T3313&U3313","v":"410"},{"$f":"IF(V3313&W3313=V3312&W3312,X3312+1,1)","v":4},{"$f":"V3313&U3313&T3313&X3313","v":"20331044"},{"$f":"S3313","v":"2033-10-26"}]
[null,null,null,null,null,null,null,null,null,null,null,null,null,null,null,null,null,null,"2033-10-06",{"$f":"WEEKDAY(S3314)","v":5},{"$f":"MONTH(S3314)","v":10},{"$f":"YEAR(S3314)","v":2033},{"$f":"T3314&U3314","v":"510"},{"$f":"IF(V3314&W3314=V3313&W3313,X3313+1,1)","v":1},{"$f":"V3314&U3314&T3314&X3314","v":"20331051"},{"$f":"S3314","v":"2033-10-06"}]
[null,null,null,null,null,null,null,null,null,null,null,null,null,null,null,null,null,null,"2033-10-13",{"$f":"WEEKDAY(S3315)","v":5},{"$f":"MONTH(S3315)","v":10},{"$f":"YEAR(S3315)","v":2033},{"$f":"T3315&U3315","v":"510"},{"$f":"IF(V3315&W3315=V3314&W3314,X3314+1,1)","v":2},{"$f":"V3315&U3315&T3315&X3315","v":"20331052"},{"$f":"S3315","v":"2033-10-13"}]
[null,null,null,null,null,null,null,null,null,null,null,null,null,null,null,null,null,null,"2033-10-20",{"$f":"WEEKDAY(S3316)","v":5},{"$f":"MONTH(S3316)","v":10},{"$f":"YEAR(S3316)","v":2033},{"$f":"T3316&U3316","v":"510"},{"$f":"IF(V3316&W3316=V3315&W3315,X3315+1,1)","v":3},{"$f":"V3316&U3316&T3316&X3316","v":"20331053"},{"$f":"S3316","v":"2033-10-20"}]
[null,null,null,null,null,null,null,null,null,null,null,null,null,null,null,null,null,null,"2033-10-27",{"$f":"WEEKDAY(S3317)","v":5},{"$f":"MONTH(S3317)","v":10},{"$f":"YEAR(S3317)","v":2033},{"$f":"T3317&U3317","v":"510"},{"$f":"IF(V3317&W3317=V3316&W3316,X3316+1,1)","v":4},{"$f":"V3317&U3317&T3317&X3317","v":"20331054"},{"$f":"S3317","v":"2033-10-27"}]
[null,null,null,null,null,null,null,null,null,null,null,null,null,null,null,null,null,null,"2033-10-07",{"$f":"WEEKDAY(S3318)","v":6},{"$f":"MONTH(S3318)","v":10},{"$f":"YEAR(S3318)","v":2033},{"$f":"T3318&U3318","v":"610"},{"$f":"IF(V3318&W3318=V3317&W3317,X3317+1,1)","v":1},{"$f":"V3318&U3318&T3318&X3318","v":"20331061"},{"$f":"S3318","v":"2033-10-07"}]
[null,null,null,null,null,null,null,null,null,null,null,null,null,null,null,null,null,null,"2033-10-14",{"$f":"WEEKDAY(S3319)","v":6},{"$f":"MONTH(S3319)","v":10},{"$f":"YEAR(S3319)","v":2033},{"$f":"T3319&U3319","v":"610"},{"$f":"IF(V3319&W3319=V3318&W3318,X3318+1,1)","v":2},{"$f":"V3319&U3319&T3319&X3319","v":"20331062"},{"$f":"S3319","v":"2033-10-14"}]
[null,null,null,null,null,null,null,null,null,null,null,null,null,null,null,null,null,null,"2033-10-21",{"$f":"WEEKDAY(S3320)","v":6},{"$f":"MONTH(S3320)","v":10},{"$f":"YEAR(S3320)","v":2033},{"$f":"T3320&U3320","v":"610"},{"$f":"IF(V3320&W3320=V3319&W3319,X3319+1,1)","v":3},{"$f":"V3320&U3320&T3320&X3320","v":"20331063"},{"$f":"S3320","v":"2033-10-21"}]
[null,null,null,null,null,null,null,null,null,null,null,null,null,null,null,null,null,null,"2033-10-28",{"$f":"WEEKDAY(S3321)","v":6},{"$f":"MONTH(S3321)","v":10},{"$f":"YEAR(S3321)","v":2033},{"$f":"T3321&U3321","v":"610"},{"$f":"IF(V3321&W3321=V3320&W3320,X3320+1,1)","v":4},{"$f":"V3321&U3321&T3321&X3321","v":"20331064"},{"$f":"S3321","v":"2033-10-28"}]
[null,null,null,null,null,null,null,null,null,null,null,null,null,null,null,null,null,null,"2033-10-01",{"$f":"WEEKDAY(S3322)","v":7},{"$f":"MONTH(S3322)","v":10},{"$f":"YEAR(S3322)","v":2033},{"$f":"T3322&U3322","v":"710"},{"$f":"IF(V3322&W3322=V3321&W3321,X3321+1,1)","v":1},{"$f":"V3322&U3322&T3322&X3322","v":"20331071"},{"$f":"S3322","v":"2033-10-01"}]
[null,null,null,null,null,null,null,null,null,null,null,null,null,null,null,null,null,null,"2033-10-08",{"$f":"WEEKDAY(S3323)","v":7},{"$f":"MONTH(S3323)","v":10},{"$f":"YEAR(S3323)","v":2033},{"$f":"T3323&U3323","v":"710"},{"$f":"IF(V3323&W3323=V3322&W3322,X3322+1,1)","v":2},{"$f":"V3323&U3323&T3323&X3323","v":"20331072"},{"$f":"S3323","v":"2033-10-08"}]
[null,null,null,null,null,null,null,null,null,null,null,null,null,null,null,null,null,null,"2033-10-15",{"$f":"WEEKDAY(S3324)","v":7},{"$f":"MONTH(S3324)","v":10},{"$f":"YEAR(S3324)","v":2033},{"$f":"T3324&U3324","v":"710"},{"$f":"IF(V3324&W3324=V3323&W3323,X3323+1,1)","v":3},{"$f":"V3324&U3324&T3324&X3324","v":"20331073"},{"$f":"S3324","v":"2033-10-15"}]
[null,null,null,null,null,null,null,null,null,null,null,null,null,null,null,null,null,null,"2033-10-22",{"$f":"WEEKDAY(S3325)","v":7},{"$f":"MONTH(S3325)","v":10},{"$f":"YEAR(S3325)","v":2033},{"$f":"T3325&U3325","v":"710"},{"$f":"IF(V3325&W3325=V3324&W3324,X3324+1,1)","v":4},{"$f":"V3325&U3325&T3325&X3325","v":"20331074"},{"$f":"S3325","v":"2033-10-22"}]
[null,null,null,null,null,null,null,null,null,null,null,null,null,null,null,null,null,null,"2033-10-29",{"$f":"WEEKDAY(S3326)","v":7},{"$f":"MONTH(S3326)","v":10},{"$f":"YEAR(S3326)","v":2033},{"$f":"T3326&U3326","v":"710"},{"$f":"IF(V3326&W3326=V3325&W3325,X3325+1,1)","v":5},{"$f":"V3326&U3326&T3326&X3326","v":"20331075"},{"$f":"S3326","v":"2033-10-29"}]
[null,null,null,null,null,null,null,null,null,null,null,null,null,null,null,null,null,null,"2033-01-02",{"$f":"WEEKDAY(S3327)","v":1},{"$f":"MONTH(S3327)","v":1},{"$f":"YEAR(S3327)","v":2033},{"$f":"T3327&U3327","v":"11"},{"$f":"IF(V3327&W3327=V3326&W3326,X3326+1,1)","v":1},{"$f":"V3327&U3327&T3327&X3327","v":"2033111"},{"$f":"S3327","v":"2033-01-02"}]
[null,null,null,null,null,null,null,null,null,null,null,null,null,null,null,null,null,null,"2033-11-06",{"$f":"WEEKDAY(S3328)","v":1},{"$f":"MONTH(S3328)","v":11},{"$f":"YEAR(S3328)","v":2033},{"$f":"T3328&U3328","v":"111"},{"$f":"IF(V3328&W3328=V3327&W3327,X3327+1,1)","v":1},{"$f":"V3328&U3328&T3328&X3328","v":"20331111"},{"$f":"S3328","v":"2033-11-06"}]
[null,null,null,null,null,null,null,null,null,null,null,null,null,null,null,null,null,null,"2033-11-13",{"$f":"WEEKDAY(S3329)","v":1},{"$f":"MONTH(S3329)","v":11},{"$f":"YEAR(S3329)","v":2033},{"$f":"T3329&U3329","v":"111"},{"$f":"IF(V3329&W3329=V3328&W3328,X3328+1,1)","v":2},{"$f":"V3329&U3329&T3329&X3329","v":"20331112"},{"$f":"S3329","v":"2033-11-13"}]
[null,null,null,null,null,null,null,null,null,null,null,null,null,null,null,null,null,null,"2033-11-20",{"$f":"WEEKDAY(S3330)","v":1},{"$f":"MONTH(S3330)","v":11},{"$f":"YEAR(S3330)","v":2033},{"$f":"T3330&U3330","v":"111"},{"$f":"IF(V3330&W3330=V3329&W3329,X3329+1,1)","v":3},{"$f":"V3330&U3330&T3330&X3330","v":"20331113"},{"$f":"S3330","v":"2033-11-20"}]
[null,null,null,null,null,null,null,null,null,null,null,null,null,null,null,null,null,null,"2033-11-27",{"$f":"WEEKDAY(S3331)","v":1},{"$f":"MONTH(S3331)","v":11},{"$f":"YEAR(S3331)","v":2033},{"$f":"T3331&U3331","v":"111"},{"$f":"IF(V3331&W3331=V3330&W3330,X3330+1,1)","v":4},{"$f":"V3331&U3331&T3331&X3331","v":"20331114"},{"$f":"S3331","v":"2033-11-27"}]
[null,null,null,null,null,null,null,null,null,null,null,null,null,null,null,null,null,null,"2033-01-09",{"$f":"WEEKDAY(S3332)","v":1},{"$f":"MONTH(S3332)","v":1},{"$f":"YEAR(S3332)","v":2033},{"$f":"T3332&U3332","v":"11"},{"$f":"IF(V3332&W3332=V3331&W3331,X3331+1,1)","v":1},{"$f":"V3332&U3332&T3332&X3332","v":"2033111"},{"$f":"S3332","v":"2033-01-09"}]
[null,null,null,null,null,null,null,null,null,null,null,null,null,null,null,null,null,null,"2033-11-07",{"$f":"WEEKDAY(S3333)","v":2},{"$f":"MONTH(S3333)","v":11},{"$f":"YEAR(S3333)","v":2033},{"$f":"T3333&U3333","v":"211"},{"$f":"IF(V3333&W3333=V3332&W3332,X3332+1,1)","v":1},{"$f":"V3333&U3333&T3333&X3333","v":"20331121"},{"$f":"S3333","v":"2033-11-07"}]
[null,null,null,null,null,null,null,null,null,null,null,null,null,null,null,null,null,null,"2033-11-14",{"$f":"WEEKDAY(S3334)","v":2},{"$f":"MONTH(S3334)","v":11},{"$f":"YEAR(S3334)","v":2033},{"$f":"T3334&U3334","v":"211"},{"$f":"IF(V3334&W3334=V3333&W3333,X3333+1,1)","v":2},{"$f":"V3334&U3334&T3334&X3334","v":"20331122"},{"$f":"S3334","v":"2033-11-14"}]
[null,null,null,null,null,null,null,null,null,null,null,null,null,null,null,null,null,null,"2033-11-21",{"$f":"WEEKDAY(S3335)","v":2},{"$f":"MONTH(S3335)","v":11},{"$f":"YEAR(S3335)","v":2033},{"$f":"T3335&U3335","v":"211"},{"$f":"IF(V3335&W3335=V3334&W3334,X3334+1,1)","v":3},{"$f":"V3335&U3335&T3335&X3335","v":"20331123"},{"$f":"S3335","v":"2033-11-21"}]
[null,null,null,null,null,null,null,null,null,null,null,null,null,null,null,null,null,null,"2033-11-28",{"$f":"WEEKDAY(S3336)","v":2},{"$f":"MONTH(S3336)","v":11},{"$f":"YEAR(S3336)","v":2033},{"$f":"T3336&U3336","v":"211"},{"$f":"IF(V3336&W3336=V3335&W3335,X3335+1,1)","v":4},{"$f":"V3336&U3336&T3336&X3336","v":"20331124"},{"$f":"S3336","v":"2033-11-28"}]
[null,null,null,null,null,null,null,null,null,null,null,null,null,null,null,null,null,null,"2033-01-16",{"$f":"WEEKDAY(S3337)","v":1},{"$f":"MONTH(S3337)","v":1},{"$f":"YEAR(S3337)","v":2033},{"$f":"T3337&U3337","v":"11"},{"$f":"IF(V3337&W3337=V3336&W3336,X3336+1,1)","v":1},{"$f":"V3337&U3337&T3337&X3337","v":"2033111"},{"$f":"S3337","v":"2033-01-16"}]
[null,null,null,null,null,null,null,null,null,null,null,null,null,null,null,null,null,null,"2033-11-01",{"$f":"WEEKDAY(S3338)","v":3},{"$f":"MONTH(S3338)","v":11},{"$f":"YEAR(S3338)","v":2033},{"$f":"T3338&U3338","v":"311"},{"$f":"IF(V3338&W3338=V3337&W3337,X3337+1,1)","v":1},{"$f":"V3338&U3338&T3338&X3338","v":"20331131"},{"$f":"S3338","v":"2033-11-01"}]
[null,null,null,null,null,null,null,null,null,null,null,null,null,null,null,null,null,null,"2033-11-08",{"$f":"WEEKDAY(S3339)","v":3},{"$f":"MONTH(S3339)","v":11},{"$f":"YEAR(S3339)","v":2033},{"$f":"T3339&U3339","v":"311"},{"$f":"IF(V3339&W3339=V3338&W3338,X3338+1,1)","v":2},{"$f":"V3339&U3339&T3339&X3339","v":"20331132"},{"$f":"S3339","v":"2033-11-08"}]
[null,null,null,null,null,null,null,null,null,null,null,null,null,null,null,null,null,null,"2033-11-15",{"$f":"WEEKDAY(S3340)","v":3},{"$f":"MONTH(S3340)","v":11},{"$f":"YEAR(S3340)","v":2033},{"$f":"T3340&U3340","v":"311"},{"$f":"IF(V3340&W3340=V3339&W3339,X3339+1,1)","v":3},{"$f":"V3340&U3340&T3340&X3340","v":"20331133"},{"$f":"S3340","v":"2033-11-15"}]
[null,null,null,null,null,null,null,null,null,null,null,null,null,null,null,null,null,null,"2033-11-22",{"$f":"WEEKDAY(S3341)","v":3},{"$f":"MONTH(S3341)","v":11},{"$f":"YEAR(S3341)","v":2033},{"$f":"T3341&U3341","v":"311"},{"$f":"IF(V3341&W3341=V3340&W3340,X3340+1,1)","v":4},{"$f":"V3341&U3341&T3341&X3341","v":"20331134"},{"$f":"S3341","v":"2033-11-22"}]
[null,null,null,null,null,null,null,null,null,null,null,null,null,null,null,null,null,null,"2033-11-29",{"$f":"WEEKDAY(S3342)","v":3},{"$f":"MONTH(S3342)","v":11},{"$f":"YEAR(S3342)","v":2033},{"$f":"T3342&U3342","v":"311"},{"$f":"IF(V3342&W3342=V3341&W3341,X3341+1,1)","v":5},{"$f":"V3342&U3342&T3342&X3342","v":"20331135"},{"$f":"S3342","v":"2033-11-29"}]
[null,null,null,null,null,null,null,null,null,null,null,null,null,null,null,null,null,null,"2033-01-23",{"$f":"WEEKDAY(S3343)","v":1},{"$f":"MONTH(S3343)","v":1},{"$f":"YEAR(S3343)","v":2033},{"$f":"T3343&U3343","v":"11"},{"$f":"IF(V3343&W3343=V3342&W3342,X3342+1,1)","v":1},{"$f":"V3343&U3343&T3343&X3343","v":"2033111"},{"$f":"S3343","v":"2033-01-23"}]
[null,null,null,null,null,null,null,null,null,null,null,null,null,null,null,null,null,null,"2033-11-02",{"$f":"WEEKDAY(S3344)","v":4},{"$f":"MONTH(S3344)","v":11},{"$f":"YEAR(S3344)","v":2033},{"$f":"T3344&U3344","v":"411"},{"$f":"IF(V3344&W3344=V3343&W3343,X3343+1,1)","v":1},{"$f":"V3344&U3344&T3344&X3344","v":"20331141"},{"$f":"S3344","v":"2033-11-02"}]
[null,null,null,null,null,null,null,null,null,null,null,null,null,null,null,null,null,null,"2033-11-09",{"$f":"WEEKDAY(S3345)","v":4},{"$f":"MONTH(S3345)","v":11},{"$f":"YEAR(S3345)","v":2033},{"$f":"T3345&U3345","v":"411"},{"$f":"IF(V3345&W3345=V3344&W3344,X3344+1,1)","v":2},{"$f":"V3345&U3345&T3345&X3345","v":"20331142"},{"$f":"S3345","v":"2033-11-09"}]
[null,null,null,null,null,null,null,null,null,null,null,null,null,null,null,null,null,null,"2033-11-16",{"$f":"WEEKDAY(S3346)","v":4},{"$f":"MONTH(S3346)","v":11},{"$f":"YEAR(S3346)","v":2033},{"$f":"T3346&U3346","v":"411"},{"$f":"IF(V3346&W3346=V3345&W3345,X3345+1,1)","v":3},{"$f":"V3346&U3346&T3346&X3346","v":"20331143"},{"$f":"S3346","v":"2033-11-16"}]
[null,null,null,null,null,null,null,null,null,null,null,null,null,null,null,null,null,null,"2033-11-23",{"$f":"WEEKDAY(S3347)","v":4},{"$f":"MONTH(S3347)","v":11},{"$f":"YEAR(S3347)","v":2033},{"$f":"T3347&U3347","v":"411"},{"$f":"IF(V3347&W3347=V3346&W3346,X3346+1,1)","v":4},{"$f":"V3347&U3347&T3347&X3347","v":"20331144"},{"$f":"S3347","v":"2033-11-23"}]
[null,null,null,null,null,null,null,null,null,null,null,null,null,null,null,null,null,null,"2033-11-30",{"$f":"WEEKDAY(S3348)","v":4},{"$f":"MONTH(S3348)","v":11},{"$f":"YEAR(S3348)","v":2033},{"$f":"T3348&U3348","v":"411"},{"$f":"IF(V3348&W3348=V3347&W3347,X3347+1,1)","v":5},{"$f":"V3348&U3348&T3348&X3348","v":"20331145"},{"$f":"S3348","v":"2033-11-30"}]
[null,null,null,null,null,null,null,null,null,null,null,null,null,null,null,null,null,null,"2033-01-30",{"$f":"WEEKDAY(S3349)","v":1},{"$f":"MONTH(S3349)","v":1},{"$f":"YEAR(S3349)","v":2033},{"$f":"T3349&U3349","v":"11"},{"$f":"IF(V3349&W3349=V3348&W3348,X3348+1,1)","v":1},{"$f":"V3349&U3349&T3349&X3349","v":"2033111"},{"$f":"S3349","v":"2033-01-30"}]
[null,null,null,null,null,null,null,null,null,null,null,null,null,null,null,null,null,null,"2033-11-03",{"$f":"WEEKDAY(S3350)","v":5},{"$f":"MONTH(S3350)","v":11},{"$f":"YEAR(S3350)","v":2033},{"$f":"T3350&U3350","v":"511"},{"$f":"IF(V3350&W3350=V3349&W3349,X3349+1,1)","v":1},{"$f":"V3350&U3350&T3350&X3350","v":"20331151"},{"$f":"S3350","v":"2033-11-03"}]
[null,null,null,null,null,null,null,null,null,null,null,null,null,null,null,null,null,null,"2033-11-10",{"$f":"WEEKDAY(S3351)","v":5},{"$f":"MONTH(S3351)","v":11},{"$f":"YEAR(S3351)","v":2033},{"$f":"T3351&U3351","v":"511"},{"$f":"IF(V3351&W3351=V3350&W3350,X3350+1,1)","v":2},{"$f":"V3351&U3351&T3351&X3351","v":"20331152"},{"$f":"S3351","v":"2033-11-10"}]
[null,null,null,null,null,null,null,null,null,null,null,null,null,null,null,null,null,null,"2033-11-17",{"$f":"WEEKDAY(S3352)","v":5},{"$f":"MONTH(S3352)","v":11},{"$f":"YEAR(S3352)","v":2033},{"$f":"T3352&U3352","v":"511"},{"$f":"IF(V3352&W3352=V3351&W3351,X3351+1,1)","v":3},{"$f":"V3352&U3352&T3352&X3352","v":"20331153"},{"$f":"S3352","v":"2033-11-17"}]
[null,null,null,null,null,null,null,null,null,null,null,null,null,null,null,null,null,null,"2033-11-24",{"$f":"WEEKDAY(S3353)","v":5},{"$f":"MONTH(S3353)","v":11},{"$f":"YEAR(S3353)","v":2033},{"$f":"T3353&U3353","v":"511"},{"$f":"IF(V3353&W3353=V3352&W3352,X3352+1,1)","v":4},{"$f":"V3353&U3353&T3353&X3353","v":"20331154"},{"$f":"S3353","v":"2033-11-24"}]
[null,null,null,null,null,null,null,null,null,null,null,null,null,null,null,null,null,null,"2033-11-04",{"$f":"WEEKDAY(S3354)","v":6},{"$f":"MONTH(S3354)","v":11},{"$f":"YEAR(S3354)","v":2033},{"$f":"T3354&U3354","v":"611"},{"$f":"IF(V3354&W3354=V3353&W3353,X3353+1,1)","v":1},{"$f":"V3354&U3354&T3354&X3354","v":"20331161"},{"$f":"S3354","v":"2033-11-04"}]
[null,null,null,null,null,null,null,null,null,null,null,null,null,null,null,null,null,null,"2033-11-11",{"$f":"WEEKDAY(S3355)","v":6},{"$f":"MONTH(S3355)","v":11},{"$f":"YEAR(S3355)","v":2033},{"$f":"T3355&U3355","v":"611"},{"$f":"IF(V3355&W3355=V3354&W3354,X3354+1,1)","v":2},{"$f":"V3355&U3355&T3355&X3355","v":"20331162"},{"$f":"S3355","v":"2033-11-11"}]
[null,null,null,null,null,null,null,null,null,null,null,null,null,null,null,null,null,null,"2033-11-18",{"$f":"WEEKDAY(S3356)","v":6},{"$f":"MONTH(S3356)","v":11},{"$f":"YEAR(S3356)","v":2033},{"$f":"T3356&U3356","v":"611"},{"$f":"IF(V3356&W3356=V3355&W3355,X3355+1,1)","v":3},{"$f":"V3356&U3356&T3356&X3356","v":"20331163"},{"$f":"S3356","v":"2033-11-18"}]
[null,null,null,null,null,null,null,null,null,null,null,null,null,null,null,null,null,null,"2033-11-25",{"$f":"WEEKDAY(S3357)","v":6},{"$f":"MONTH(S3357)","v":11},{"$f":"YEAR(S3357)","v":2033},{"$f":"T3357&U3357","v":"611"},{"$f":"IF(V3357&W3357=V3356&W3356,X3356+1,1)","v":4},{"$f":"V3357&U3357&T3357&X3357","v":"20331164"},{"$f":"S3357","v":"2033-11-25"}]
[null,null,null,null,null,null,null,null,null,null,null,null,null,null,null,null,null,null,"2033-11-05",{"$f":"WEEKDAY(S3358)","v":7},{"$f":"MONTH(S3358)","v":11},{"$f":"YEAR(S3358)","v":2033},{"$f":"T3358&U3358","v":"711"},{"$f":"IF(V3358&W3358=V3357&W3357,X3357+1,1)","v":1},{"$f":"V3358&U3358&T3358&X3358","v":"20331171"},{"$f":"S3358","v":"2033-11-05"}]
[null,null,null,null,null,null,null,null,null,null,null,null,null,null,null,null,null,null,"2033-11-12",{"$f":"WEEKDAY(S3359)","v":7},{"$f":"MONTH(S3359)","v":11},{"$f":"YEAR(S3359)","v":2033},{"$f":"T3359&U3359","v":"711"},{"$f":"IF(V3359&W3359=V3358&W3358,X3358+1,1)","v":2},{"$f":"V3359&U3359&T3359&X3359","v":"20331172"},{"$f":"S3359","v":"2033-11-12"}]
[null,null,null,null,null,null,null,null,null,null,null,null,null,null,null,null,null,null,"2033-11-19",{"$f":"WEEKDAY(S3360)","v":7},{"$f":"MONTH(S3360)","v":11},{"$f":"YEAR(S3360)","v":2033},{"$f":"T3360&U3360","v":"711"},{"$f":"IF(V3360&W3360=V3359&W3359,X3359+1,1)","v":3},{"$f":"V3360&U3360&T3360&X3360","v":"20331173"},{"$f":"S3360","v":"2033-11-19"}]
[null,null,null,null,null,null,null,null,null,null,null,null,null,null,null,null,null,null,"2033-11-26",{"$f":"WEEKDAY(S3361)","v":7},{"$f":"MONTH(S3361)","v":11},{"$f":"YEAR(S3361)","v":2033},{"$f":"T3361&U3361","v":"711"},{"$f":"IF(V3361&W3361=V3360&W3360,X3360+1,1)","v":4},{"$f":"V3361&U3361&T3361&X3361","v":"20331174"},{"$f":"S3361","v":"2033-11-26"}]
[null,null,null,null,null,null,null,null,null,null,null,null,null,null,null,null,null,null,"2033-01-03",{"$f":"WEEKDAY(S3362)","v":2},{"$f":"MONTH(S3362)","v":1},{"$f":"YEAR(S3362)","v":2033},{"$f":"T3362&U3362","v":"21"},{"$f":"IF(V3362&W3362=V3361&W3361,X3361+1,1)","v":1},{"$f":"V3362&U3362&T3362&X3362","v":"2033121"},{"$f":"S3362","v":"2033-01-03"}]
[null,null,null,null,null,null,null,null,null,null,null,null,null,null,null,null,null,null,"2033-12-04",{"$f":"WEEKDAY(S3363)","v":1},{"$f":"MONTH(S3363)","v":12},{"$f":"YEAR(S3363)","v":2033},{"$f":"T3363&U3363","v":"112"},{"$f":"IF(V3363&W3363=V3362&W3362,X3362+1,1)","v":1},{"$f":"V3363&U3363&T3363&X3363","v":"20331211"},{"$f":"S3363","v":"2033-12-04"}]
[null,null,null,null,null,null,null,null,null,null,null,null,null,null,null,null,null,null,"2033-12-11",{"$f":"WEEKDAY(S3364)","v":1},{"$f":"MONTH(S3364)","v":12},{"$f":"YEAR(S3364)","v":2033},{"$f":"T3364&U3364","v":"112"},{"$f":"IF(V3364&W3364=V3363&W3363,X3363+1,1)","v":2},{"$f":"V3364&U3364&T3364&X3364","v":"20331212"},{"$f":"S3364","v":"2033-12-11"}]
[null,null,null,null,null,null,null,null,null,null,null,null,null,null,null,null,null,null,"2033-12-18",{"$f":"WEEKDAY(S3365)","v":1},{"$f":"MONTH(S3365)","v":12},{"$f":"YEAR(S3365)","v":2033},{"$f":"T3365&U3365","v":"112"},{"$f":"IF(V3365&W3365=V3364&W3364,X3364+1,1)","v":3},{"$f":"V3365&U3365&T3365&X3365","v":"20331213"},{"$f":"S3365","v":"2033-12-18"}]
[null,null,null,null,null,null,null,null,null,null,null,null,null,null,null,null,null,null,"2033-12-25",{"$f":"WEEKDAY(S3366)","v":1},{"$f":"MONTH(S3366)","v":12},{"$f":"YEAR(S3366)","v":2033},{"$f":"T3366&U3366","v":"112"},{"$f":"IF(V3366&W3366=V3365&W3365,X3365+1,1)","v":4},{"$f":"V3366&U3366&T3366&X3366","v":"20331214"},{"$f":"S3366","v":"2033-12-25"}]
[null,null,null,null,null,null,null,null,null,null,null,null,null,null,null,null,null,null,"2033-01-10",{"$f":"WEEKDAY(S3367)","v":2},{"$f":"MONTH(S3367)","v":1},{"$f":"YEAR(S3367)","v":2033},{"$f":"T3367&U3367","v":"21"},{"$f":"IF(V3367&W3367=V3366&W3366,X3366+1,1)","v":1},{"$f":"V3367&U3367&T3367&X3367","v":"2033121"},{"$f":"S3367","v":"2033-01-10"}]
[null,null,null,null,null,null,null,null,null,null,null,null,null,null,null,null,null,null,"2033-12-05",{"$f":"WEEKDAY(S3368)","v":2},{"$f":"MONTH(S3368)","v":12},{"$f":"YEAR(S3368)","v":2033},{"$f":"T3368&U3368","v":"212"},{"$f":"IF(V3368&W3368=V3367&W3367,X3367+1,1)","v":1},{"$f":"V3368&U3368&T3368&X3368","v":"20331221"},{"$f":"S3368","v":"2033-12-05"}]
[null,null,null,null,null,null,null,null,null,null,null,null,null,null,null,null,null,null,"2033-12-12",{"$f":"WEEKDAY(S3369)","v":2},{"$f":"MONTH(S3369)","v":12},{"$f":"YEAR(S3369)","v":2033},{"$f":"T3369&U3369","v":"212"},{"$f":"IF(V3369&W3369=V3368&W3368,X3368+1,1)","v":2},{"$f":"V3369&U3369&T3369&X3369","v":"20331222"},{"$f":"S3369","v":"2033-12-12"}]
[null,null,null,null,null,null,null,null,null,null,null,null,null,null,null,null,null,null,"2033-12-19",{"$f":"WEEKDAY(S3370)","v":2},{"$f":"MONTH(S3370)","v":12},{"$f":"YEAR(S3370)","v":2033},{"$f":"T3370&U3370","v":"212"},{"$f":"IF(V3370&W3370=V3369&W3369,X3369+1,1)","v":3},{"$f":"V3370&U3370&T3370&X3370","v":"20331223"},{"$f":"S3370","v":"2033-12-19"}]
[null,null,null,null,null,null,null,null,null,null,null,null,null,null,null,null,null,null,"2033-12-26",{"$f":"WEEKDAY(S3371)","v":2},{"$f":"MONTH(S3371)","v":12},{"$f":"YEAR(S3371)","v":2033},{"$f":"T3371&U3371","v":"212"},{"$f":"IF(V3371&W3371=V3370&W3370,X3370+1,1)","v":4},{"$f":"V3371&U3371&T3371&X3371","v":"20331224"},{"$f":"S3371","v":"2033-12-26"}]
[null,null,null,null,null,null,null,null,null,null,null,null,null,null,null,null,null,null,"2033-01-17",{"$f":"WEEKDAY(S3372)","v":2},{"$f":"MONTH(S3372)","v":1},{"$f":"YEAR(S3372)","v":2033},{"$f":"T3372&U3372","v":"21"},{"$f":"IF(V3372&W3372=V3371&W3371,X3371+1,1)","v":1},{"$f":"V3372&U3372&T3372&X3372","v":"2033121"},{"$f":"S3372","v":"2033-01-17"}]
[null,null,null,null,null,null,null,null,null,null,null,null,null,null,null,null,null,null,"2033-12-06",{"$f":"WEEKDAY(S3373)","v":3},{"$f":"MONTH(S3373)","v":12},{"$f":"YEAR(S3373)","v":2033},{"$f":"T3373&U3373","v":"312"},{"$f":"IF(V3373&W3373=V3372&W3372,X3372+1,1)","v":1},{"$f":"V3373&U3373&T3373&X3373","v":"20331231"},{"$f":"S3373","v":"2033-12-06"}]
[null,null,null,null,null,null,null,null,null,null,null,null,null,null,null,null,null,null,"2033-12-13",{"$f":"WEEKDAY(S3374)","v":3},{"$f":"MONTH(S3374)","v":12},{"$f":"YEAR(S3374)","v":2033},{"$f":"T3374&U3374","v":"312"},{"$f":"IF(V3374&W3374=V3373&W3373,X3373+1,1)","v":2},{"$f":"V3374&U3374&T3374&X3374","v":"20331232"},{"$f":"S3374","v":"2033-12-13"}]
[null,null,null,null,null,null,null,null,null,null,null,null,null,null,null,null,null,null,"2033-12-20",{"$f":"WEEKDAY(S3375)","v":3},{"$f":"MONTH(S3375)","v":12},{"$f":"YEAR(S3375)","v":2033},{"$f":"T3375&U3375","v":"312"},{"$f":"IF(V3375&W3375=V3374&W3374,X3374+1,1)","v":3},{"$f":"V3375&U3375&T3375&X3375","v":"20331233"},{"$f":"S3375","v":"2033-12-20"}]
[null,null,null,null,null,null,null,null,null,null,null,null,null,null,null,null,null,null,"2033-12-27",{"$f":"WEEKDAY(S3376)","v":3},{"$f":"MONTH(S3376)","v":12},{"$f":"YEAR(S3376)","v":2033},{"$f":"T3376&U3376","v":"312"},{"$f":"IF(V3376&W3376=V3375&W3375,X3375+1,1)","v":4},{"$f":"V3376&U3376&T3376&X3376","v":"20331234"},{"$f":"S3376","v":"2033-12-27"}]
[null,null,null,null,null,null,null,null,null,null,null,null,null,null,null,null,null,null,"2033-01-24",{"$f":"WEEKDAY(S3377)","v":2},{"$f":"MONTH(S3377)","v":1},{"$f":"YEAR(S3377)","v":2033},{"$f":"T3377&U3377","v":"21"},{"$f":"IF(V3377&W3377=V3376&W3376,X3376+1,1)","v":1},{"$f":"V3377&U3377&T3377&X3377","v":"2033121"},{"$f":"S3377","v":"2033-01-24"}]
[null,null,null,null,null,null,null,null,null,null,null,null,null,null,null,null,null,null,"2033-12-07",{"$f":"WEEKDAY(S3378)","v":4},{"$f":"MONTH(S3378)","v":12},{"$f":"YEAR(S3378)","v":2033},{"$f":"T3378&U3378","v":"412"},{"$f":"IF(V3378&W3378=V3377&W3377,X3377+1,1)","v":1},{"$f":"V3378&U3378&T3378&X3378","v":"20331241"},{"$f":"S3378","v":"2033-12-07"}]
[null,null,null,null,null,null,null,null,null,null,null,null,null,null,null,null,null,null,"2033-12-14",{"$f":"WEEKDAY(S3379)","v":4},{"$f":"MONTH(S3379)","v":12},{"$f":"YEAR(S3379)","v":2033},{"$f":"T3379&U3379","v":"412"},{"$f":"IF(V3379&W3379=V3378&W3378,X3378+1,1)","v":2},{"$f":"V3379&U3379&T3379&X3379","v":"20331242"},{"$f":"S3379","v":"2033-12-14"}]
[null,null,null,null,null,null,null,null,null,null,null,null,null,null,null,null,null,null,"2033-12-21",{"$f":"WEEKDAY(S3380)","v":4},{"$f":"MONTH(S3380)","v":12},{"$f":"YEAR(S3380)","v":2033},{"$f":"T3380&U3380","v":"412"},{"$f":"IF(V3380&W3380=V3379&W3379,X3379+1,1)","v":3},{"$f":"V3380&U3380&T3380&X3380","v":"20331243"},{"$f":"S3380","v":"2033-12-21"}]
[null,null,null,null,null,null,null,null,null,null,null,null,null,null,null,null,null,null,"2033-12-28",{"$f":"WEEKDAY(S3381)","v":4},{"$f":"MONTH(S3381)","v":12},{"$f":"YEAR(S3381)","v":2033},{"$f":"T3381&U3381","v":"412"},{"$f":"IF(V3381&W3381=V3380&W3380,X3380+1,1)","v":4},{"$f":"V3381&U3381&T3381&X3381","v":"20331244"},{"$f":"S3381","v":"2033-12-28"}]
[null,null,null,null,null,null,null,null,null,null,null,null,null,null,null,null,null,null,"2033-01-31",{"$f":"WEEKDAY(S3382)","v":2},{"$f":"MONTH(S3382)","v":1},{"$f":"YEAR(S3382)","v":2033},{"$f":"T3382&U3382","v":"21"},{"$f":"IF(V3382&W3382=V3381&W3381,X3381+1,1)","v":1},{"$f":"V3382&U3382&T3382&X3382","v":"2033121"},{"$f":"S3382","v":"2033-01-31"}]
[null,null,null,null,null,null,null,null,null,null,null,null,null,null,null,null,null,null,"2033-12-01",{"$f":"WEEKDAY(S3383)","v":5},{"$f":"MONTH(S3383)","v":12},{"$f":"YEAR(S3383)","v":2033},{"$f":"T3383&U3383","v":"512"},{"$f":"IF(V3383&W3383=V3382&W3382,X3382+1,1)","v":1},{"$f":"V3383&U3383&T3383&X3383","v":"20331251"},{"$f":"S3383","v":"2033-12-01"}]
[null,null,null,null,null,null,null,null,null,null,null,null,null,null,null,null,null,null,"2033-12-08",{"$f":"WEEKDAY(S3384)","v":5},{"$f":"MONTH(S3384)","v":12},{"$f":"YEAR(S3384)","v":2033},{"$f":"T3384&U3384","v":"512"},{"$f":"IF(V3384&W3384=V3383&W3383,X3383+1,1)","v":2},{"$f":"V3384&U3384&T3384&X3384","v":"20331252"},{"$f":"S3384","v":"2033-12-08"}]
[null,null,null,null,null,null,null,null,null,null,null,null,null,null,null,null,null,null,"2033-12-15",{"$f":"WEEKDAY(S3385)","v":5},{"$f":"MONTH(S3385)","v":12},{"$f":"YEAR(S3385)","v":2033},{"$f":"T3385&U3385","v":"512"},{"$f":"IF(V3385&W3385=V3384&W3384,X3384+1,1)","v":3},{"$f":"V3385&U3385&T3385&X3385","v":"20331253"},{"$f":"S3385","v":"2033-12-15"}]
[null,null,null,null,null,null,null,null,null,null,null,null,null,null,null,null,null,null,"2033-12-22",{"$f":"WEEKDAY(S3386)","v":5},{"$f":"MONTH(S3386)","v":12},{"$f":"YEAR(S3386)","v":2033},{"$f":"T3386&U3386","v":"512"},{"$f":"IF(V3386&W3386=V3385&W3385,X3385+1,1)","v":4},{"$f":"V3386&U3386&T3386&X3386","v":"20331254"},{"$f":"S3386","v":"2033-12-22"}]
[null,null,null,null,null,null,null,null,null,null,null,null,null,null,null,null,null,null,"2033-12-29",{"$f":"WEEKDAY(S3387)","v":5},{"$f":"MONTH(S3387)","v":12},{"$f":"YEAR(S3387)","v":2033},{"$f":"T3387&U3387","v":"512"},{"$f":"IF(V3387&W3387=V3386&W3386,X3386+1,1)","v":5},{"$f":"V3387&U3387&T3387&X3387","v":"20331255"},{"$f":"S3387","v":"2033-12-29"}]
[null,null,null,null,null,null,null,null,null,null,null,null,null,null,null,null,null,null,"2033-12-02",{"$f":"WEEKDAY(S3388)","v":6},{"$f":"MONTH(S3388)","v":12},{"$f":"YEAR(S3388)","v":2033},{"$f":"T3388&U3388","v":"612"},{"$f":"IF(V3388&W3388=V3387&W3387,X3387+1,1)","v":1},{"$f":"V3388&U3388&T3388&X3388","v":"20331261"},{"$f":"S3388","v":"2033-12-02"}]
[null,null,null,null,null,null,null,null,null,null,null,null,null,null,null,null,null,null,"2033-12-09",{"$f":"WEEKDAY(S3389)","v":6},{"$f":"MONTH(S3389)","v":12},{"$f":"YEAR(S3389)","v":2033},{"$f":"T3389&U3389","v":"612"},{"$f":"IF(V3389&W3389=V3388&W3388,X3388+1,1)","v":2},{"$f":"V3389&U3389&T3389&X3389","v":"20331262"},{"$f":"S3389","v":"2033-12-09"}]
[null,null,null,null,null,null,null,null,null,null,null,null,null,null,null,null,null,null,"2033-12-16",{"$f":"WEEKDAY(S3390)","v":6},{"$f":"MONTH(S3390)","v":12},{"$f":"YEAR(S3390)","v":2033},{"$f":"T3390&U3390","v":"612"},{"$f":"IF(V3390&W3390=V3389&W3389,X3389+1,1)","v":3},{"$f":"V3390&U3390&T3390&X3390","v":"20331263"},{"$f":"S3390","v":"2033-12-16"}]
[null,null,null,null,null,null,null,null,null,null,null,null,null,null,null,null,null,null,"2033-12-23",{"$f":"WEEKDAY(S3391)","v":6},{"$f":"MONTH(S3391)","v":12},{"$f":"YEAR(S3391)","v":2033},{"$f":"T3391&U3391","v":"612"},{"$f":"IF(V3391&W3391=V3390&W3390,X3390+1,1)","v":4},{"$f":"V3391&U3391&T3391&X3391","v":"20331264"},{"$f":"S3391","v":"2033-12-23"}]
[null,null,null,null,null,null,null,null,null,null,null,null,null,null,null,null,null,null,"2033-12-30",{"$f":"WEEKDAY(S3392)","v":6},{"$f":"MONTH(S3392)","v":12},{"$f":"YEAR(S3392)","v":2033},{"$f":"T3392&U3392","v":"612"},{"$f":"IF(V3392&W3392=V3391&W3391,X3391+1,1)","v":5},{"$f":"V3392&U3392&T3392&X3392","v":"20331265"},{"$f":"S3392","v":"2033-12-30"}]
[null,null,null,null,null,null,null,null,null,null,null,null,null,null,null,null,null,null,"2033-12-03",{"$f":"WEEKDAY(S3393)","v":7},{"$f":"MONTH(S3393)","v":12},{"$f":"YEAR(S3393)","v":2033},{"$f":"T3393&U3393","v":"712"},{"$f":"IF(V3393&W3393=V3392&W3392,X3392+1,1)","v":1},{"$f":"V3393&U3393&T3393&X3393","v":"20331271"},{"$f":"S3393","v":"2033-12-03"}]
[null,null,null,null,null,null,null,null,null,null,null,null,null,null,null,null,null,null,"2033-12-10",{"$f":"WEEKDAY(S3394)","v":7},{"$f":"MONTH(S3394)","v":12},{"$f":"YEAR(S3394)","v":2033},{"$f":"T3394&U3394","v":"712"},{"$f":"IF(V3394&W3394=V3393&W3393,X3393+1,1)","v":2},{"$f":"V3394&U3394&T3394&X3394","v":"20331272"},{"$f":"S3394","v":"2033-12-10"}]
[null,null,null,null,null,null,null,null,null,null,null,null,null,null,null,null,null,null,"2033-12-17",{"$f":"WEEKDAY(S3395)","v":7},{"$f":"MONTH(S3395)","v":12},{"$f":"YEAR(S3395)","v":2033},{"$f":"T3395&U3395","v":"712"},{"$f":"IF(V3395&W3395=V3394&W3394,X3394+1,1)","v":3},{"$f":"V3395&U3395&T3395&X3395","v":"20331273"},{"$f":"S3395","v":"2033-12-17"}]
[null,null,null,null,null,null,null,null,null,null,null,null,null,null,null,null,null,null,"2033-12-24",{"$f":"WEEKDAY(S3396)","v":7},{"$f":"MONTH(S3396)","v":12},{"$f":"YEAR(S3396)","v":2033},{"$f":"T3396&U3396","v":"712"},{"$f":"IF(V3396&W3396=V3395&W3395,X3395+1,1)","v":4},{"$f":"V3396&U3396&T3396&X3396","v":"20331274"},{"$f":"S3396","v":"2033-12-24"}]
[null,null,null,null,null,null,null,null,null,null,null,null,null,null,null,null,null,null,"2033-12-31",{"$f":"WEEKDAY(S3397)","v":7},{"$f":"MONTH(S3397)","v":12},{"$f":"YEAR(S3397)","v":2033},{"$f":"T3397&U3397","v":"712"},{"$f":"IF(V3397&W3397=V3396&W3396,X3396+1,1)","v":5},{"$f":"V3397&U3397&T3397&X3397","v":"20331275"},{"$f":"S3397","v":"2033-12-31"}]
[null,null,null,null,null,null,null,null,null,null,null,null,null,null,null,null,null,null,"2033-01-04",{"$f":"WEEKDAY(S3398)","v":3},{"$f":"MONTH(S3398)","v":1},{"$f":"YEAR(S3398)","v":2033},{"$f":"T3398&U3398","v":"31"},{"$f":"IF(V3398&W3398=V3397&W3397,X3397+1,1)","v":1},{"$f":"V3398&U3398&T3398&X3398","v":"2033131"},{"$f":"S3398","v":"2033-01-04"}]
[null,null,null,null,null,null,null,null,null,null,null,null,null,null,null,null,null,null,"2033-01-11",{"$f":"WEEKDAY(S3399)","v":3},{"$f":"MONTH(S3399)","v":1},{"$f":"YEAR(S3399)","v":2033},{"$f":"T3399&U3399","v":"31"},{"$f":"IF(V3399&W3399=V3398&W3398,X3398+1,1)","v":2},{"$f":"V3399&U3399&T3399&X3399","v":"2033132"},{"$f":"S3399","v":"2033-01-11"}]
[null,null,null,null,null,null,null,null,null,null,null,null,null,null,null,null,null,null,"2033-01-18",{"$f":"WEEKDAY(S3400)","v":3},{"$f":"MONTH(S3400)","v":1},{"$f":"YEAR(S3400)","v":2033},{"$f":"T3400&U3400","v":"31"},{"$f":"IF(V3400&W3400=V3399&W3399,X3399+1,1)","v":3},{"$f":"V3400&U3400&T3400&X3400","v":"2033133"},{"$f":"S3400","v":"2033-01-18"}]
[null,null,null,null,null,null,null,null,null,null,null,null,null,null,null,null,null,null,"2033-01-25",{"$f":"WEEKDAY(S3401)","v":3},{"$f":"MONTH(S3401)","v":1},{"$f":"YEAR(S3401)","v":2033},{"$f":"T3401&U3401","v":"31"},{"$f":"IF(V3401&W3401=V3400&W3400,X3400+1,1)","v":4},{"$f":"V3401&U3401&T3401&X3401","v":"2033134"},{"$f":"S3401","v":"2033-01-25"}]
[null,null,null,null,null,null,null,null,null,null,null,null,null,null,null,null,null,null,"2033-01-05",{"$f":"WEEKDAY(S3402)","v":4},{"$f":"MONTH(S3402)","v":1},{"$f":"YEAR(S3402)","v":2033},{"$f":"T3402&U3402","v":"41"},{"$f":"IF(V3402&W3402=V3401&W3401,X3401+1,1)","v":1},{"$f":"V3402&U3402&T3402&X3402","v":"2033141"},{"$f":"S3402","v":"2033-01-05"}]
[null,null,null,null,null,null,null,null,null,null,null,null,null,null,null,null,null,null,"2033-01-12",{"$f":"WEEKDAY(S3403)","v":4},{"$f":"MONTH(S3403)","v":1},{"$f":"YEAR(S3403)","v":2033},{"$f":"T3403&U3403","v":"41"},{"$f":"IF(V3403&W3403=V3402&W3402,X3402+1,1)","v":2},{"$f":"V3403&U3403&T3403&X3403","v":"2033142"},{"$f":"S3403","v":"2033-01-12"}]
[null,null,null,null,null,null,null,null,null,null,null,null,null,null,null,null,null,null,"2033-01-19",{"$f":"WEEKDAY(S3404)","v":4},{"$f":"MONTH(S3404)","v":1},{"$f":"YEAR(S3404)","v":2033},{"$f":"T3404&U3404","v":"41"},{"$f":"IF(V3404&W3404=V3403&W3403,X3403+1,1)","v":3},{"$f":"V3404&U3404&T3404&X3404","v":"2033143"},{"$f":"S3404","v":"2033-01-19"}]
[null,null,null,null,null,null,null,null,null,null,null,null,null,null,null,null,null,null,"2033-01-26",{"$f":"WEEKDAY(S3405)","v":4},{"$f":"MONTH(S3405)","v":1},{"$f":"YEAR(S3405)","v":2033},{"$f":"T3405&U3405","v":"41"},{"$f":"IF(V3405&W3405=V3404&W3404,X3404+1,1)","v":4},{"$f":"V3405&U3405&T3405&X3405","v":"2033144"},{"$f":"S3405","v":"2033-01-26"}]
[null,null,null,null,null,null,null,null,null,null,null,null,null,null,null,null,null,null,"2033-01-06",{"$f":"WEEKDAY(S3406)","v":5},{"$f":"MONTH(S3406)","v":1},{"$f":"YEAR(S3406)","v":2033},{"$f":"T3406&U3406","v":"51"},{"$f":"IF(V3406&W3406=V3405&W3405,X3405+1,1)","v":1},{"$f":"V3406&U3406&T3406&X3406","v":"2033151"},{"$f":"S3406","v":"2033-01-06"}]
[null,null,null,null,null,null,null,null,null,null,null,null,null,null,null,null,null,null,"2033-01-13",{"$f":"WEEKDAY(S3407)","v":5},{"$f":"MONTH(S3407)","v":1},{"$f":"YEAR(S3407)","v":2033},{"$f":"T3407&U3407","v":"51"},{"$f":"IF(V3407&W3407=V3406&W3406,X3406+1,1)","v":2},{"$f":"V3407&U3407&T3407&X3407","v":"2033152"},{"$f":"S3407","v":"2033-01-13"}]
[null,null,null,null,null,null,null,null,null,null,null,null,null,null,null,null,null,null,"2033-01-20",{"$f":"WEEKDAY(S3408)","v":5},{"$f":"MONTH(S3408)","v":1},{"$f":"YEAR(S3408)","v":2033},{"$f":"T3408&U3408","v":"51"},{"$f":"IF(V3408&W3408=V3407&W3407,X3407+1,1)","v":3},{"$f":"V3408&U3408&T3408&X3408","v":"2033153"},{"$f":"S3408","v":"2033-01-20"}]
[null,null,null,null,null,null,null,null,null,null,null,null,null,null,null,null,null,null,"2033-01-27",{"$f":"WEEKDAY(S3409)","v":5},{"$f":"MONTH(S3409)","v":1},{"$f":"YEAR(S3409)","v":2033},{"$f":"T3409&U3409","v":"51"},{"$f":"IF(V3409&W3409=V3408&W3408,X3408+1,1)","v":4},{"$f":"V3409&U3409&T3409&X3409","v":"2033154"},{"$f":"S3409","v":"2033-01-27"}]
[null,null,null,null,null,null,null,null,null,null,null,null,null,null,null,null,null,null,"2033-01-07",{"$f":"WEEKDAY(S3410)","v":6},{"$f":"MONTH(S3410)","v":1},{"$f":"YEAR(S3410)","v":2033},{"$f":"T3410&U3410","v":"61"},{"$f":"IF(V3410&W3410=V3409&W3409,X3409+1,1)","v":1},{"$f":"V3410&U3410&T3410&X3410","v":"2033161"},{"$f":"S3410","v":"2033-01-07"}]
[null,null,null,null,null,null,null,null,null,null,null,null,null,null,null,null,null,null,"2033-01-14",{"$f":"WEEKDAY(S3411)","v":6},{"$f":"MONTH(S3411)","v":1},{"$f":"YEAR(S3411)","v":2033},{"$f":"T3411&U3411","v":"61"},{"$f":"IF(V3411&W3411=V3410&W3410,X3410+1,1)","v":2},{"$f":"V3411&U3411&T3411&X3411","v":"2033162"},{"$f":"S3411","v":"2033-01-14"}]
[null,null,null,null,null,null,null,null,null,null,null,null,null,null,null,null,null,null,"2033-01-21",{"$f":"WEEKDAY(S3412)","v":6},{"$f":"MONTH(S3412)","v":1},{"$f":"YEAR(S3412)","v":2033},{"$f":"T3412&U3412","v":"61"},{"$f":"IF(V3412&W3412=V3411&W3411,X3411+1,1)","v":3},{"$f":"V3412&U3412&T3412&X3412","v":"2033163"},{"$f":"S3412","v":"2033-01-21"}]
[null,null,null,null,null,null,null,null,null,null,null,null,null,null,null,null,null,null,"2033-01-28",{"$f":"WEEKDAY(S3413)","v":6},{"$f":"MONTH(S3413)","v":1},{"$f":"YEAR(S3413)","v":2033},{"$f":"T3413&U3413","v":"61"},{"$f":"IF(V3413&W3413=V3412&W3412,X3412+1,1)","v":4},{"$f":"V3413&U3413&T3413&X3413","v":"2033164"},{"$f":"S3413","v":"2033-01-28"}]
[null,null,null,null,null,null,null,null,null,null,null,null,null,null,null,null,null,null,"2033-01-01",{"$f":"WEEKDAY(S3414)","v":7},{"$f":"MONTH(S3414)","v":1},{"$f":"YEAR(S3414)","v":2033},{"$f":"T3414&U3414","v":"71"},{"$f":"IF(V3414&W3414=V3413&W3413,X3413+1,1)","v":1},{"$f":"V3414&U3414&T3414&X3414","v":"2033171"},{"$f":"S3414","v":"2033-01-01"}]
[null,null,null,null,null,null,null,null,null,null,null,null,null,null,null,null,null,null,"2033-01-08",{"$f":"WEEKDAY(S3415)","v":7},{"$f":"MONTH(S3415)","v":1},{"$f":"YEAR(S3415)","v":2033},{"$f":"T3415&U3415","v":"71"},{"$f":"IF(V3415&W3415=V3414&W3414,X3414+1,1)","v":2},{"$f":"V3415&U3415&T3415&X3415","v":"2033172"},{"$f":"S3415","v":"2033-01-08"}]
[null,null,null,null,null,null,null,null,null,null,null,null,null,null,null,null,null,null,"2033-01-15",{"$f":"WEEKDAY(S3416)","v":7},{"$f":"MONTH(S3416)","v":1},{"$f":"YEAR(S3416)","v":2033},{"$f":"T3416&U3416","v":"71"},{"$f":"IF(V3416&W3416=V3415&W3415,X3415+1,1)","v":3},{"$f":"V3416&U3416&T3416&X3416","v":"2033173"},{"$f":"S3416","v":"2033-01-15"}]
[null,null,null,null,null,null,null,null,null,null,null,null,null,null,null,null,null,null,"2033-01-22",{"$f":"WEEKDAY(S3417)","v":7},{"$f":"MONTH(S3417)","v":1},{"$f":"YEAR(S3417)","v":2033},{"$f":"T3417&U3417","v":"71"},{"$f":"IF(V3417&W3417=V3416&W3416,X3416+1,1)","v":4},{"$f":"V3417&U3417&T3417&X3417","v":"2033174"},{"$f":"S3417","v":"2033-01-22"}]
[null,null,null,null,null,null,null,null,null,null,null,null,null,null,null,null,null,null,"2033-01-29",{"$f":"WEEKDAY(S3418)","v":7},{"$f":"MONTH(S3418)","v":1},{"$f":"YEAR(S3418)","v":2033},{"$f":"T3418&U3418","v":"71"},{"$f":"IF(V3418&W3418=V3417&W3417,X3417+1,1)","v":5},{"$f":"V3418&U3418&T3418&X3418","v":"2033175"},{"$f":"S3418","v":"2033-01-29"}]
[null,null,null,null,null,null,null,null,null,null,null,null,null,null,null,null,null,null,"2033-02-06",{"$f":"WEEKDAY(S3419)","v":1},{"$f":"MONTH(S3419)","v":2},{"$f":"YEAR(S3419)","v":2033},{"$f":"T3419&U3419","v":"12"},{"$f":"IF(V3419&W3419=V3418&W3418,X3418+1,1)","v":1},{"$f":"V3419&U3419&T3419&X3419","v":"2033211"},{"$f":"S3419","v":"2033-02-06"}]
[null,null,null,null,null,null,null,null,null,null,null,null,null,null,null,null,null,null,"2033-02-13",{"$f":"WEEKDAY(S3420)","v":1},{"$f":"MONTH(S3420)","v":2},{"$f":"YEAR(S3420)","v":2033},{"$f":"T3420&U3420","v":"12"},{"$f":"IF(V3420&W3420=V3419&W3419,X3419+1,1)","v":2},{"$f":"V3420&U3420&T3420&X3420","v":"2033212"},{"$f":"S3420","v":"2033-02-13"}]
[null,null,null,null,null,null,null,null,null,null,null,null,null,null,null,null,null,null,"2033-02-20",{"$f":"WEEKDAY(S3421)","v":1},{"$f":"MONTH(S3421)","v":2},{"$f":"YEAR(S3421)","v":2033},{"$f":"T3421&U3421","v":"12"},{"$f":"IF(V3421&W3421=V3420&W3420,X3420+1,1)","v":3},{"$f":"V3421&U3421&T3421&X3421","v":"2033213"},{"$f":"S3421","v":"2033-02-20"}]
[null,null,null,null,null,null,null,null,null,null,null,null,null,null,null,null,null,null,"2033-02-27",{"$f":"WEEKDAY(S3422)","v":1},{"$f":"MONTH(S3422)","v":2},{"$f":"YEAR(S3422)","v":2033},{"$f":"T3422&U3422","v":"12"},{"$f":"IF(V3422&W3422=V3421&W3421,X3421+1,1)","v":4},{"$f":"V3422&U3422&T3422&X3422","v":"2033214"},{"$f":"S3422","v":"2033-02-27"}]
[null,null,null,null,null,null,null,null,null,null,null,null,null,null,null,null,null,null,"2033-02-07",{"$f":"WEEKDAY(S3423)","v":2},{"$f":"MONTH(S3423)","v":2},{"$f":"YEAR(S3423)","v":2033},{"$f":"T3423&U3423","v":"22"},{"$f":"IF(V3423&W3423=V3422&W3422,X3422+1,1)","v":1},{"$f":"V3423&U3423&T3423&X3423","v":"2033221"},{"$f":"S3423","v":"2033-02-07"}]
[null,null,null,null,null,null,null,null,null,null,null,null,null,null,null,null,null,null,"2033-02-14",{"$f":"WEEKDAY(S3424)","v":2},{"$f":"MONTH(S3424)","v":2},{"$f":"YEAR(S3424)","v":2033},{"$f":"T3424&U3424","v":"22"},{"$f":"IF(V3424&W3424=V3423&W3423,X3423+1,1)","v":2},{"$f":"V3424&U3424&T3424&X3424","v":"2033222"},{"$f":"S3424","v":"2033-02-14"}]
[null,null,null,null,null,null,null,null,null,null,null,null,null,null,null,null,null,null,"2033-02-21",{"$f":"WEEKDAY(S3425)","v":2},{"$f":"MONTH(S3425)","v":2},{"$f":"YEAR(S3425)","v":2033},{"$f":"T3425&U3425","v":"22"},{"$f":"IF(V3425&W3425=V3424&W3424,X3424+1,1)","v":3},{"$f":"V3425&U3425&T3425&X3425","v":"2033223"},{"$f":"S3425","v":"2033-02-21"}]
[null,null,null,null,null,null,null,null,null,null,null,null,null,null,null,null,null,null,"2033-02-28",{"$f":"WEEKDAY(S3426)","v":2},{"$f":"MONTH(S3426)","v":2},{"$f":"YEAR(S3426)","v":2033},{"$f":"T3426&U3426","v":"22"},{"$f":"IF(V3426&W3426=V3425&W3425,X3425+1,1)","v":4},{"$f":"V3426&U3426&T3426&X3426","v":"2033224"},{"$f":"S3426","v":"2033-02-28"}]
[null,null,null,null,null,null,null,null,null,null,null,null,null,null,null,null,null,null,"2033-02-01",{"$f":"WEEKDAY(S3427)","v":3},{"$f":"MONTH(S3427)","v":2},{"$f":"YEAR(S3427)","v":2033},{"$f":"T3427&U3427","v":"32"},{"$f":"IF(V3427&W3427=V3426&W3426,X3426+1,1)","v":1},{"$f":"V3427&U3427&T3427&X3427","v":"2033231"},{"$f":"S3427","v":"2033-02-01"}]
[null,null,null,null,null,null,null,null,null,null,null,null,null,null,null,null,null,null,"2033-02-08",{"$f":"WEEKDAY(S3428)","v":3},{"$f":"MONTH(S3428)","v":2},{"$f":"YEAR(S3428)","v":2033},{"$f":"T3428&U3428","v":"32"},{"$f":"IF(V3428&W3428=V3427&W3427,X3427+1,1)","v":2},{"$f":"V3428&U3428&T3428&X3428","v":"2033232"},{"$f":"S3428","v":"2033-02-08"}]
[null,null,null,null,null,null,null,null,null,null,null,null,null,null,null,null,null,null,"2033-02-15",{"$f":"WEEKDAY(S3429)","v":3},{"$f":"MONTH(S3429)","v":2},{"$f":"YEAR(S3429)","v":2033},{"$f":"T3429&U3429","v":"32"},{"$f":"IF(V3429&W3429=V3428&W3428,X3428+1,1)","v":3},{"$f":"V3429&U3429&T3429&X3429","v":"2033233"},{"$f":"S3429","v":"2033-02-15"}]
[null,null,null,null,null,null,null,null,null,null,null,null,null,null,null,null,null,null,"2033-02-22",{"$f":"WEEKDAY(S3430)","v":3},{"$f":"MONTH(S3430)","v":2},{"$f":"YEAR(S3430)","v":2033},{"$f":"T3430&U3430","v":"32"},{"$f":"IF(V3430&W3430=V3429&W3429,X3429+1,1)","v":4},{"$f":"V3430&U3430&T3430&X3430","v":"2033234"},{"$f":"S3430","v":"2033-02-22"}]
[null,null,null,null,null,null,null,null,null,null,null,null,null,null,null,null,null,null,"2033-02-02",{"$f":"WEEKDAY(S3431)","v":4},{"$f":"MONTH(S3431)","v":2},{"$f":"YEAR(S3431)","v":2033},{"$f":"T3431&U3431","v":"42"},{"$f":"IF(V3431&W3431=V3430&W3430,X3430+1,1)","v":1},{"$f":"V3431&U3431&T3431&X3431","v":"2033241"},{"$f":"S3431","v":"2033-02-02"}]
[null,null,null,null,null,null,null,null,null,null,null,null,null,null,null,null,null,null,"2033-02-09",{"$f":"WEEKDAY(S3432)","v":4},{"$f":"MONTH(S3432)","v":2},{"$f":"YEAR(S3432)","v":2033},{"$f":"T3432&U3432","v":"42"},{"$f":"IF(V3432&W3432=V3431&W3431,X3431+1,1)","v":2},{"$f":"V3432&U3432&T3432&X3432","v":"2033242"},{"$f":"S3432","v":"2033-02-09"}]
[null,null,null,null,null,null,null,null,null,null,null,null,null,null,null,null,null,null,"2033-02-16",{"$f":"WEEKDAY(S3433)","v":4},{"$f":"MONTH(S3433)","v":2},{"$f":"YEAR(S3433)","v":2033},{"$f":"T3433&U3433","v":"42"},{"$f":"IF(V3433&W3433=V3432&W3432,X3432+1,1)","v":3},{"$f":"V3433&U3433&T3433&X3433","v":"2033243"},{"$f":"S3433","v":"2033-02-16"}]
[null,null,null,null,null,null,null,null,null,null,null,null,null,null,null,null,null,null,"2033-02-23",{"$f":"WEEKDAY(S3434)","v":4},{"$f":"MONTH(S3434)","v":2},{"$f":"YEAR(S3434)","v":2033},{"$f":"T3434&U3434","v":"42"},{"$f":"IF(V3434&W3434=V3433&W3433,X3433+1,1)","v":4},{"$f":"V3434&U3434&T3434&X3434","v":"2033244"},{"$f":"S3434","v":"2033-02-23"}]
[null,null,null,null,null,null,null,null,null,null,null,null,null,null,null,null,null,null,"2033-02-03",{"$f":"WEEKDAY(S3435)","v":5},{"$f":"MONTH(S3435)","v":2},{"$f":"YEAR(S3435)","v":2033},{"$f":"T3435&U3435","v":"52"},{"$f":"IF(V3435&W3435=V3434&W3434,X3434+1,1)","v":1},{"$f":"V3435&U3435&T3435&X3435","v":"2033251"},{"$f":"S3435","v":"2033-02-03"}]
[null,null,null,null,null,null,null,null,null,null,null,null,null,null,null,null,null,null,"2033-02-10",{"$f":"WEEKDAY(S3436)","v":5},{"$f":"MONTH(S3436)","v":2},{"$f":"YEAR(S3436)","v":2033},{"$f":"T3436&U3436","v":"52"},{"$f":"IF(V3436&W3436=V3435&W3435,X3435+1,1)","v":2},{"$f":"V3436&U3436&T3436&X3436","v":"2033252"},{"$f":"S3436","v":"2033-02-10"}]
[null,null,null,null,null,null,null,null,null,null,null,null,null,null,null,null,null,null,"2033-02-17",{"$f":"WEEKDAY(S3437)","v":5},{"$f":"MONTH(S3437)","v":2},{"$f":"YEAR(S3437)","v":2033},{"$f":"T3437&U3437","v":"52"},{"$f":"IF(V3437&W3437=V3436&W3436,X3436+1,1)","v":3},{"$f":"V3437&U3437&T3437&X3437","v":"2033253"},{"$f":"S3437","v":"2033-02-17"}]
[null,null,null,null,null,null,null,null,null,null,null,null,null,null,null,null,null,null,"2033-02-24",{"$f":"WEEKDAY(S3438)","v":5},{"$f":"MONTH(S3438)","v":2},{"$f":"YEAR(S3438)","v":2033},{"$f":"T3438&U3438","v":"52"},{"$f":"IF(V3438&W3438=V3437&W3437,X3437+1,1)","v":4},{"$f":"V3438&U3438&T3438&X3438","v":"2033254"},{"$f":"S3438","v":"2033-02-24"}]
[null,null,null,null,null,null,null,null,null,null,null,null,null,null,null,null,null,null,"2033-02-04",{"$f":"WEEKDAY(S3439)","v":6},{"$f":"MONTH(S3439)","v":2},{"$f":"YEAR(S3439)","v":2033},{"$f":"T3439&U3439","v":"62"},{"$f":"IF(V3439&W3439=V3438&W3438,X3438+1,1)","v":1},{"$f":"V3439&U3439&T3439&X3439","v":"2033261"},{"$f":"S3439","v":"2033-02-04"}]
[null,null,null,null,null,null,null,null,null,null,null,null,null,null,null,null,null,null,"2033-02-11",{"$f":"WEEKDAY(S3440)","v":6},{"$f":"MONTH(S3440)","v":2},{"$f":"YEAR(S3440)","v":2033},{"$f":"T3440&U3440","v":"62"},{"$f":"IF(V3440&W3440=V3439&W3439,X3439+1,1)","v":2},{"$f":"V3440&U3440&T3440&X3440","v":"2033262"},{"$f":"S3440","v":"2033-02-11"}]
[null,null,null,null,null,null,null,null,null,null,null,null,null,null,null,null,null,null,"2033-02-18",{"$f":"WEEKDAY(S3441)","v":6},{"$f":"MONTH(S3441)","v":2},{"$f":"YEAR(S3441)","v":2033},{"$f":"T3441&U3441","v":"62"},{"$f":"IF(V3441&W3441=V3440&W3440,X3440+1,1)","v":3},{"$f":"V3441&U3441&T3441&X3441","v":"2033263"},{"$f":"S3441","v":"2033-02-18"}]
[null,null,null,null,null,null,null,null,null,null,null,null,null,null,null,null,null,null,"2033-02-25",{"$f":"WEEKDAY(S3442)","v":6},{"$f":"MONTH(S3442)","v":2},{"$f":"YEAR(S3442)","v":2033},{"$f":"T3442&U3442","v":"62"},{"$f":"IF(V3442&W3442=V3441&W3441,X3441+1,1)","v":4},{"$f":"V3442&U3442&T3442&X3442","v":"2033264"},{"$f":"S3442","v":"2033-02-25"}]
[null,null,null,null,null,null,null,null,null,null,null,null,null,null,null,null,null,null,"2033-02-05",{"$f":"WEEKDAY(S3443)","v":7},{"$f":"MONTH(S3443)","v":2},{"$f":"YEAR(S3443)","v":2033},{"$f":"T3443&U3443","v":"72"},{"$f":"IF(V3443&W3443=V3442&W3442,X3442+1,1)","v":1},{"$f":"V3443&U3443&T3443&X3443","v":"2033271"},{"$f":"S3443","v":"2033-02-05"}]
[null,null,null,null,null,null,null,null,null,null,null,null,null,null,null,null,null,null,"2033-02-12",{"$f":"WEEKDAY(S3444)","v":7},{"$f":"MONTH(S3444)","v":2},{"$f":"YEAR(S3444)","v":2033},{"$f":"T3444&U3444","v":"72"},{"$f":"IF(V3444&W3444=V3443&W3443,X3443+1,1)","v":2},{"$f":"V3444&U3444&T3444&X3444","v":"2033272"},{"$f":"S3444","v":"2033-02-12"}]
[null,null,null,null,null,null,null,null,null,null,null,null,null,null,null,null,null,null,"2033-02-19",{"$f":"WEEKDAY(S3445)","v":7},{"$f":"MONTH(S3445)","v":2},{"$f":"YEAR(S3445)","v":2033},{"$f":"T3445&U3445","v":"72"},{"$f":"IF(V3445&W3445=V3444&W3444,X3444+1,1)","v":3},{"$f":"V3445&U3445&T3445&X3445","v":"2033273"},{"$f":"S3445","v":"2033-02-19"}]
[null,null,null,null,null,null,null,null,null,null,null,null,null,null,null,null,null,null,"2033-02-26",{"$f":"WEEKDAY(S3446)","v":7},{"$f":"MONTH(S3446)","v":2},{"$f":"YEAR(S3446)","v":2033},{"$f":"T3446&U3446","v":"72"},{"$f":"IF(V3446&W3446=V3445&W3445,X3445+1,1)","v":4},{"$f":"V3446&U3446&T3446&X3446","v":"2033274"},{"$f":"S3446","v":"2033-02-26"}]
[null,null,null,null,null,null,null,null,null,null,null,null,null,null,null,null,null,null,"2033-03-06",{"$f":"WEEKDAY(S3447)","v":1},{"$f":"MONTH(S3447)","v":3},{"$f":"YEAR(S3447)","v":2033},{"$f":"T3447&U3447","v":"13"},{"$f":"IF(V3447&W3447=V3446&W3446,X3446+1,1)","v":1},{"$f":"V3447&U3447&T3447&X3447","v":"2033311"},{"$f":"S3447","v":"2033-03-06"}]
[null,null,null,null,null,null,null,null,null,null,null,null,null,null,null,null,null,null,"2033-03-13",{"$f":"WEEKDAY(S3448)","v":1},{"$f":"MONTH(S3448)","v":3},{"$f":"YEAR(S3448)","v":2033},{"$f":"T3448&U3448","v":"13"},{"$f":"IF(V3448&W3448=V3447&W3447,X3447+1,1)","v":2},{"$f":"V3448&U3448&T3448&X3448","v":"2033312"},{"$f":"S3448","v":"2033-03-13"}]
[null,null,null,null,null,null,null,null,null,null,null,null,null,null,null,null,null,null,"2033-03-20",{"$f":"WEEKDAY(S3449)","v":1},{"$f":"MONTH(S3449)","v":3},{"$f":"YEAR(S3449)","v":2033},{"$f":"T3449&U3449","v":"13"},{"$f":"IF(V3449&W3449=V3448&W3448,X3448+1,1)","v":3},{"$f":"V3449&U3449&T3449&X3449","v":"2033313"},{"$f":"S3449","v":"2033-03-20"}]
[null,null,null,null,null,null,null,null,null,null,null,null,null,null,null,null,null,null,"2033-03-27",{"$f":"WEEKDAY(S3450)","v":1},{"$f":"MONTH(S3450)","v":3},{"$f":"YEAR(S3450)","v":2033},{"$f":"T3450&U3450","v":"13"},{"$f":"IF(V3450&W3450=V3449&W3449,X3449+1,1)","v":4},{"$f":"V3450&U3450&T3450&X3450","v":"2033314"},{"$f":"S3450","v":"2033-03-27"}]
[null,null,null,null,null,null,null,null,null,null,null,null,null,null,null,null,null,null,"2033-03-07",{"$f":"WEEKDAY(S3451)","v":2},{"$f":"MONTH(S3451)","v":3},{"$f":"YEAR(S3451)","v":2033},{"$f":"T3451&U3451","v":"23"},{"$f":"IF(V3451&W3451=V3450&W3450,X3450+1,1)","v":1},{"$f":"V3451&U3451&T3451&X3451","v":"2033321"},{"$f":"S3451","v":"2033-03-07"}]
[null,null,null,null,null,null,null,null,null,null,null,null,null,null,null,null,null,null,"2033-03-14",{"$f":"WEEKDAY(S3452)","v":2},{"$f":"MONTH(S3452)","v":3},{"$f":"YEAR(S3452)","v":2033},{"$f":"T3452&U3452","v":"23"},{"$f":"IF(V3452&W3452=V3451&W3451,X3451+1,1)","v":2},{"$f":"V3452&U3452&T3452&X3452","v":"2033322"},{"$f":"S3452","v":"2033-03-14"}]
[null,null,null,null,null,null,null,null,null,null,null,null,null,null,null,null,null,null,"2033-03-21",{"$f":"WEEKDAY(S3453)","v":2},{"$f":"MONTH(S3453)","v":3},{"$f":"YEAR(S3453)","v":2033},{"$f":"T3453&U3453","v":"23"},{"$f":"IF(V3453&W3453=V3452&W3452,X3452+1,1)","v":3},{"$f":"V3453&U3453&T3453&X3453","v":"2033323"},{"$f":"S3453","v":"2033-03-21"}]
[null,null,null,null,null,null,null,null,null,null,null,null,null,null,null,null,null,null,"2033-03-28",{"$f":"WEEKDAY(S3454)","v":2},{"$f":"MONTH(S3454)","v":3},{"$f":"YEAR(S3454)","v":2033},{"$f":"T3454&U3454","v":"23"},{"$f":"IF(V3454&W3454=V3453&W3453,X3453+1,1)","v":4},{"$f":"V3454&U3454&T3454&X3454","v":"2033324"},{"$f":"S3454","v":"2033-03-28"}]
[null,null,null,null,null,null,null,null,null,null,null,null,null,null,null,null,null,null,"2033-03-01",{"$f":"WEEKDAY(S3455)","v":3},{"$f":"MONTH(S3455)","v":3},{"$f":"YEAR(S3455)","v":2033},{"$f":"T3455&U3455","v":"33"},{"$f":"IF(V3455&W3455=V3454&W3454,X3454+1,1)","v":1},{"$f":"V3455&U3455&T3455&X3455","v":"2033331"},{"$f":"S3455","v":"2033-03-01"}]
[null,null,null,null,null,null,null,null,null,null,null,null,null,null,null,null,null,null,"2033-03-08",{"$f":"WEEKDAY(S3456)","v":3},{"$f":"MONTH(S3456)","v":3},{"$f":"YEAR(S3456)","v":2033},{"$f":"T3456&U3456","v":"33"},{"$f":"IF(V3456&W3456=V3455&W3455,X3455+1,1)","v":2},{"$f":"V3456&U3456&T3456&X3456","v":"2033332"},{"$f":"S3456","v":"2033-03-08"}]
[null,null,null,null,null,null,null,null,null,null,null,null,null,null,null,null,null,null,"2033-03-15",{"$f":"WEEKDAY(S3457)","v":3},{"$f":"MONTH(S3457)","v":3},{"$f":"YEAR(S3457)","v":2033},{"$f":"T3457&U3457","v":"33"},{"$f":"IF(V3457&W3457=V3456&W3456,X3456+1,1)","v":3},{"$f":"V3457&U3457&T3457&X3457","v":"2033333"},{"$f":"S3457","v":"2033-03-15"}]
[null,null,null,null,null,null,null,null,null,null,null,null,null,null,null,null,null,null,"2033-03-22",{"$f":"WEEKDAY(S3458)","v":3},{"$f":"MONTH(S3458)","v":3},{"$f":"YEAR(S3458)","v":2033},{"$f":"T3458&U3458","v":"33"},{"$f":"IF(V3458&W3458=V3457&W3457,X3457+1,1)","v":4},{"$f":"V3458&U3458&T3458&X3458","v":"2033334"},{"$f":"S3458","v":"2033-03-22"}]
[null,null,null,null,null,null,null,null,null,null,null,null,null,null,null,null,null,null,"2033-03-29",{"$f":"WEEKDAY(S3459)","v":3},{"$f":"MONTH(S3459)","v":3},{"$f":"YEAR(S3459)","v":2033},{"$f":"T3459&U3459","v":"33"},{"$f":"IF(V3459&W3459=V3458&W3458,X3458+1,1)","v":5},{"$f":"V3459&U3459&T3459&X3459","v":"2033335"},{"$f":"S3459","v":"2033-03-29"}]
[null,null,null,null,null,null,null,null,null,null,null,null,null,null,null,null,null,null,"2033-03-02",{"$f":"WEEKDAY(S3460)","v":4},{"$f":"MONTH(S3460)","v":3},{"$f":"YEAR(S3460)","v":2033},{"$f":"T3460&U3460","v":"43"},{"$f":"IF(V3460&W3460=V3459&W3459,X3459+1,1)","v":1},{"$f":"V3460&U3460&T3460&X3460","v":"2033341"},{"$f":"S3460","v":"2033-03-02"}]
[null,null,null,null,null,null,null,null,null,null,null,null,null,null,null,null,null,null,"2033-03-09",{"$f":"WEEKDAY(S3461)","v":4},{"$f":"MONTH(S3461)","v":3},{"$f":"YEAR(S3461)","v":2033},{"$f":"T3461&U3461","v":"43"},{"$f":"IF(V3461&W3461=V3460&W3460,X3460+1,1)","v":2},{"$f":"V3461&U3461&T3461&X3461","v":"2033342"},{"$f":"S3461","v":"2033-03-09"}]
[null,null,null,null,null,null,null,null,null,null,null,null,null,null,null,null,null,null,"2033-03-16",{"$f":"WEEKDAY(S3462)","v":4},{"$f":"MONTH(S3462)","v":3},{"$f":"YEAR(S3462)","v":2033},{"$f":"T3462&U3462","v":"43"},{"$f":"IF(V3462&W3462=V3461&W3461,X3461+1,1)","v":3},{"$f":"V3462&U3462&T3462&X3462","v":"2033343"},{"$f":"S3462","v":"2033-03-16"}]
[null,null,null,null,null,null,null,null,null,null,null,null,null,null,null,null,null,null,"2033-03-23",{"$f":"WEEKDAY(S3463)","v":4},{"$f":"MONTH(S3463)","v":3},{"$f":"YEAR(S3463)","v":2033},{"$f":"T3463&U3463","v":"43"},{"$f":"IF(V3463&W3463=V3462&W3462,X3462+1,1)","v":4},{"$f":"V3463&U3463&T3463&X3463","v":"2033344"},{"$f":"S3463","v":"2033-03-23"}]
[null,null,null,null,null,null,null,null,null,null,null,null,null,null,null,null,null,null,"2033-03-30",{"$f":"WEEKDAY(S3464)","v":4},{"$f":"MONTH(S3464)","v":3},{"$f":"YEAR(S3464)","v":2033},{"$f":"T3464&U3464","v":"43"},{"$f":"IF(V3464&W3464=V3463&W3463,X3463+1,1)","v":5},{"$f":"V3464&U3464&T3464&X3464","v":"2033345"},{"$f":"S3464","v":"2033-03-30"}]
[null,null,null,null,null,null,null,null,null,null,null,null,null,null,null,null,null,null,"2033-03-03",{"$f":"WEEKDAY(S3465)","v":5},{"$f":"MONTH(S3465)","v":3},{"$f":"YEAR(S3465)","v":2033},{"$f":"T3465&U3465","v":"53"},{"$f":"IF(V3465&W3465=V3464&W3464,X3464+1,1)","v":1},{"$f":"V3465&U3465&T3465&X3465","v":"2033351"},{"$f":"S3465","v":"2033-03-03"}]
[null,null,null,null,null,null,null,null,null,null,null,null,null,null,null,null,null,null,"2033-03-10",{"$f":"WEEKDAY(S3466)","v":5},{"$f":"MONTH(S3466)","v":3},{"$f":"YEAR(S3466)","v":2033},{"$f":"T3466&U3466","v":"53"},{"$f":"IF(V3466&W3466=V3465&W3465,X3465+1,1)","v":2},{"$f":"V3466&U3466&T3466&X3466","v":"2033352"},{"$f":"S3466","v":"2033-03-10"}]
[null,null,null,null,null,null,null,null,null,null,null,null,null,null,null,null,null,null,"2033-03-17",{"$f":"WEEKDAY(S3467)","v":5},{"$f":"MONTH(S3467)","v":3},{"$f":"YEAR(S3467)","v":2033},{"$f":"T3467&U3467","v":"53"},{"$f":"IF(V3467&W3467=V3466&W3466,X3466+1,1)","v":3},{"$f":"V3467&U3467&T3467&X3467","v":"2033353"},{"$f":"S3467","v":"2033-03-17"}]
[null,null,null,null,null,null,null,null,null,null,null,null,null,null,null,null,null,null,"2033-03-24",{"$f":"WEEKDAY(S3468)","v":5},{"$f":"MONTH(S3468)","v":3},{"$f":"YEAR(S3468)","v":2033},{"$f":"T3468&U3468","v":"53"},{"$f":"IF(V3468&W3468=V3467&W3467,X3467+1,1)","v":4},{"$f":"V3468&U3468&T3468&X3468","v":"2033354"},{"$f":"S3468","v":"2033-03-24"}]
[null,null,null,null,null,null,null,null,null,null,null,null,null,null,null,null,null,null,"2033-03-31",{"$f":"WEEKDAY(S3469)","v":5},{"$f":"MONTH(S3469)","v":3},{"$f":"YEAR(S3469)","v":2033},{"$f":"T3469&U3469","v":"53"},{"$f":"IF(V3469&W3469=V3468&W3468,X3468+1,1)","v":5},{"$f":"V3469&U3469&T3469&X3469","v":"2033355"},{"$f":"S3469","v":"2033-03-31"}]
[null,null,null,null,null,null,null,null,null,null,null,null,null,null,null,null,null,null,"2033-03-04",{"$f":"WEEKDAY(S3470)","v":6},{"$f":"MONTH(S3470)","v":3},{"$f":"YEAR(S3470)","v":2033},{"$f":"T3470&U3470","v":"63"},{"$f":"IF(V3470&W3470=V3469&W3469,X3469+1,1)","v":1},{"$f":"V3470&U3470&T3470&X3470","v":"2033361"},{"$f":"S3470","v":"2033-03-04"}]
[null,null,null,null,null,null,null,null,null,null,null,null,null,null,null,null,null,null,"2033-03-11",{"$f":"WEEKDAY(S3471)","v":6},{"$f":"MONTH(S3471)","v":3},{"$f":"YEAR(S3471)","v":2033},{"$f":"T3471&U3471","v":"63"},{"$f":"IF(V3471&W3471=V3470&W3470,X3470+1,1)","v":2},{"$f":"V3471&U3471&T3471&X3471","v":"2033362"},{"$f":"S3471","v":"2033-03-11"}]
[null,null,null,null,null,null,null,null,null,null,null,null,null,null,null,null,null,null,"2033-03-18",{"$f":"WEEKDAY(S3472)","v":6},{"$f":"MONTH(S3472)","v":3},{"$f":"YEAR(S3472)","v":2033},{"$f":"T3472&U3472","v":"63"},{"$f":"IF(V3472&W3472=V3471&W3471,X3471+1,1)","v":3},{"$f":"V3472&U3472&T3472&X3472","v":"2033363"},{"$f":"S3472","v":"2033-03-18"}]
[null,null,null,null,null,null,null,null,null,null,null,null,null,null,null,null,null,null,"2033-03-25",{"$f":"WEEKDAY(S3473)","v":6},{"$f":"MONTH(S3473)","v":3},{"$f":"YEAR(S3473)","v":2033},{"$f":"T3473&U3473","v":"63"},{"$f":"IF(V3473&W3473=V3472&W3472,X3472+1,1)","v":4},{"$f":"V3473&U3473&T3473&X3473","v":"2033364"},{"$f":"S3473","v":"2033-03-25"}]
[null,null,null,null,null,null,null,null,null,null,null,null,null,null,null,null,null,null,"2033-03-05",{"$f":"WEEKDAY(S3474)","v":7},{"$f":"MONTH(S3474)","v":3},{"$f":"YEAR(S3474)","v":2033},{"$f":"T3474&U3474","v":"73"},{"$f":"IF(V3474&W3474=V3473&W3473,X3473+1,1)","v":1},{"$f":"V3474&U3474&T3474&X3474","v":"2033371"},{"$f":"S3474","v":"2033-03-05"}]
[null,null,null,null,null,null,null,null,null,null,null,null,null,null,null,null,null,null,"2033-03-12",{"$f":"WEEKDAY(S3475)","v":7},{"$f":"MONTH(S3475)","v":3},{"$f":"YEAR(S3475)","v":2033},{"$f":"T3475&U3475","v":"73"},{"$f":"IF(V3475&W3475=V3474&W3474,X3474+1,1)","v":2},{"$f":"V3475&U3475&T3475&X3475","v":"2033372"},{"$f":"S3475","v":"2033-03-12"}]
[null,null,null,null,null,null,null,null,null,null,null,null,null,null,null,null,null,null,"2033-03-19",{"$f":"WEEKDAY(S3476)","v":7},{"$f":"MONTH(S3476)","v":3},{"$f":"YEAR(S3476)","v":2033},{"$f":"T3476&U3476","v":"73"},{"$f":"IF(V3476&W3476=V3475&W3475,X3475+1,1)","v":3},{"$f":"V3476&U3476&T3476&X3476","v":"2033373"},{"$f":"S3476","v":"2033-03-19"}]
[null,null,null,null,null,null,null,null,null,null,null,null,null,null,null,null,null,null,"2033-03-26",{"$f":"WEEKDAY(S3477)","v":7},{"$f":"MONTH(S3477)","v":3},{"$f":"YEAR(S3477)","v":2033},{"$f":"T3477&U3477","v":"73"},{"$f":"IF(V3477&W3477=V3476&W3476,X3476+1,1)","v":4},{"$f":"V3477&U3477&T3477&X3477","v":"2033374"},{"$f":"S3477","v":"2033-03-26"}]
[null,null,null,null,null,null,null,null,null,null,null,null,null,null,null,null,null,null,"2033-04-03",{"$f":"WEEKDAY(S3478)","v":1},{"$f":"MONTH(S3478)","v":4},{"$f":"YEAR(S3478)","v":2033},{"$f":"T3478&U3478","v":"14"},{"$f":"IF(V3478&W3478=V3477&W3477,X3477+1,1)","v":1},{"$f":"V3478&U3478&T3478&X3478","v":"2033411"},{"$f":"S3478","v":"2033-04-03"}]
[null,null,null,null,null,null,null,null,null,null,null,null,null,null,null,null,null,null,"2033-04-10",{"$f":"WEEKDAY(S3479)","v":1},{"$f":"MONTH(S3479)","v":4},{"$f":"YEAR(S3479)","v":2033},{"$f":"T3479&U3479","v":"14"},{"$f":"IF(V3479&W3479=V3478&W3478,X3478+1,1)","v":2},{"$f":"V3479&U3479&T3479&X3479","v":"2033412"},{"$f":"S3479","v":"2033-04-10"}]
[null,null,null,null,null,null,null,null,null,null,null,null,null,null,null,null,null,null,"2033-04-17",{"$f":"WEEKDAY(S3480)","v":1},{"$f":"MONTH(S3480)","v":4},{"$f":"YEAR(S3480)","v":2033},{"$f":"T3480&U3480","v":"14"},{"$f":"IF(V3480&W3480=V3479&W3479,X3479+1,1)","v":3},{"$f":"V3480&U3480&T3480&X3480","v":"2033413"},{"$f":"S3480","v":"2033-04-17"}]
[null,null,null,null,null,null,null,null,null,null,null,null,null,null,null,null,null,null,"2033-04-24",{"$f":"WEEKDAY(S3481)","v":1},{"$f":"MONTH(S3481)","v":4},{"$f":"YEAR(S3481)","v":2033},{"$f":"T3481&U3481","v":"14"},{"$f":"IF(V3481&W3481=V3480&W3480,X3480+1,1)","v":4},{"$f":"V3481&U3481&T3481&X3481","v":"2033414"},{"$f":"S3481","v":"2033-04-24"}]
[null,null,null,null,null,null,null,null,null,null,null,null,null,null,null,null,null,null,"2033-04-04",{"$f":"WEEKDAY(S3482)","v":2},{"$f":"MONTH(S3482)","v":4},{"$f":"YEAR(S3482)","v":2033},{"$f":"T3482&U3482","v":"24"},{"$f":"IF(V3482&W3482=V3481&W3481,X3481+1,1)","v":1},{"$f":"V3482&U3482&T3482&X3482","v":"2033421"},{"$f":"S3482","v":"2033-04-04"}]
[null,null,null,null,null,null,null,null,null,null,null,null,null,null,null,null,null,null,"2033-04-11",{"$f":"WEEKDAY(S3483)","v":2},{"$f":"MONTH(S3483)","v":4},{"$f":"YEAR(S3483)","v":2033},{"$f":"T3483&U3483","v":"24"},{"$f":"IF(V3483&W3483=V3482&W3482,X3482+1,1)","v":2},{"$f":"V3483&U3483&T3483&X3483","v":"2033422"},{"$f":"S3483","v":"2033-04-11"}]
[null,null,null,null,null,null,null,null,null,null,null,null,null,null,null,null,null,null,"2033-04-18",{"$f":"WEEKDAY(S3484)","v":2},{"$f":"MONTH(S3484)","v":4},{"$f":"YEAR(S3484)","v":2033},{"$f":"T3484&U3484","v":"24"},{"$f":"IF(V3484&W3484=V3483&W3483,X3483+1,1)","v":3},{"$f":"V3484&U3484&T3484&X3484","v":"2033423"},{"$f":"S3484","v":"2033-04-18"}]
[null,null,null,null,null,null,null,null,null,null,null,null,null,null,null,null,null,null,"2033-04-25",{"$f":"WEEKDAY(S3485)","v":2},{"$f":"MONTH(S3485)","v":4},{"$f":"YEAR(S3485)","v":2033},{"$f":"T3485&U3485","v":"24"},{"$f":"IF(V3485&W3485=V3484&W3484,X3484+1,1)","v":4},{"$f":"V3485&U3485&T3485&X3485","v":"2033424"},{"$f":"S3485","v":"2033-04-25"}]
[null,null,null,null,null,null,null,null,null,null,null,null,null,null,null,null,null,null,"2033-04-05",{"$f":"WEEKDAY(S3486)","v":3},{"$f":"MONTH(S3486)","v":4},{"$f":"YEAR(S3486)","v":2033},{"$f":"T3486&U3486","v":"34"},{"$f":"IF(V3486&W3486=V3485&W3485,X3485+1,1)","v":1},{"$f":"V3486&U3486&T3486&X3486","v":"2033431"},{"$f":"S3486","v":"2033-04-05"}]
[null,null,null,null,null,null,null,null,null,null,null,null,null,null,null,null,null,null,"2033-04-12",{"$f":"WEEKDAY(S3487)","v":3},{"$f":"MONTH(S3487)","v":4},{"$f":"YEAR(S3487)","v":2033},{"$f":"T3487&U3487","v":"34"},{"$f":"IF(V3487&W3487=V3486&W3486,X3486+1,1)","v":2},{"$f":"V3487&U3487&T3487&X3487","v":"2033432"},{"$f":"S3487","v":"2033-04-12"}]
[null,null,null,null,null,null,null,null,null,null,null,null,null,null,null,null,null,null,"2033-04-19",{"$f":"WEEKDAY(S3488)","v":3},{"$f":"MONTH(S3488)","v":4},{"$f":"YEAR(S3488)","v":2033},{"$f":"T3488&U3488","v":"34"},{"$f":"IF(V3488&W3488=V3487&W3487,X3487+1,1)","v":3},{"$f":"V3488&U3488&T3488&X3488","v":"2033433"},{"$f":"S3488","v":"2033-04-19"}]
[null,null,null,null,null,null,null,null,null,null,null,null,null,null,null,null,null,null,"2033-04-26",{"$f":"WEEKDAY(S3489)","v":3},{"$f":"MONTH(S3489)","v":4},{"$f":"YEAR(S3489)","v":2033},{"$f":"T3489&U3489","v":"34"},{"$f":"IF(V3489&W3489=V3488&W3488,X3488+1,1)","v":4},{"$f":"V3489&U3489&T3489&X3489","v":"2033434"},{"$f":"S3489","v":"2033-04-26"}]
[null,null,null,null,null,null,null,null,null,null,null,null,null,null,null,null,null,null,"2033-04-06",{"$f":"WEEKDAY(S3490)","v":4},{"$f":"MONTH(S3490)","v":4},{"$f":"YEAR(S3490)","v":2033},{"$f":"T3490&U3490","v":"44"},{"$f":"IF(V3490&W3490=V3489&W3489,X3489+1,1)","v":1},{"$f":"V3490&U3490&T3490&X3490","v":"2033441"},{"$f":"S3490","v":"2033-04-06"}]
[null,null,null,null,null,null,null,null,null,null,null,null,null,null,null,null,null,null,"2033-04-13",{"$f":"WEEKDAY(S3491)","v":4},{"$f":"MONTH(S3491)","v":4},{"$f":"YEAR(S3491)","v":2033},{"$f":"T3491&U3491","v":"44"},{"$f":"IF(V3491&W3491=V3490&W3490,X3490+1,1)","v":2},{"$f":"V3491&U3491&T3491&X3491","v":"2033442"},{"$f":"S3491","v":"2033-04-13"}]
[null,null,null,null,null,null,null,null,null,null,null,null,null,null,null,null,null,null,"2033-04-20",{"$f":"WEEKDAY(S3492)","v":4},{"$f":"MONTH(S3492)","v":4},{"$f":"YEAR(S3492)","v":2033},{"$f":"T3492&U3492","v":"44"},{"$f":"IF(V3492&W3492=V3491&W3491,X3491+1,1)","v":3},{"$f":"V3492&U3492&T3492&X3492","v":"2033443"},{"$f":"S3492","v":"2033-04-20"}]
[null,null,null,null,null,null,null,null,null,null,null,null,null,null,null,null,null,null,"2033-04-27",{"$f":"WEEKDAY(S3493)","v":4},{"$f":"MONTH(S3493)","v":4},{"$f":"YEAR(S3493)","v":2033},{"$f":"T3493&U3493","v":"44"},{"$f":"IF(V3493&W3493=V3492&W3492,X3492+1,1)","v":4},{"$f":"V3493&U3493&T3493&X3493","v":"2033444"},{"$f":"S3493","v":"2033-04-27"}]
[null,null,null,null,null,null,null,null,null,null,null,null,null,null,null,null,null,null,"2033-04-07",{"$f":"WEEKDAY(S3494)","v":5},{"$f":"MONTH(S3494)","v":4},{"$f":"YEAR(S3494)","v":2033},{"$f":"T3494&U3494","v":"54"},{"$f":"IF(V3494&W3494=V3493&W3493,X3493+1,1)","v":1},{"$f":"V3494&U3494&T3494&X3494","v":"2033451"},{"$f":"S3494","v":"2033-04-07"}]
[null,null,null,null,null,null,null,null,null,null,null,null,null,null,null,null,null,null,"2033-04-14",{"$f":"WEEKDAY(S3495)","v":5},{"$f":"MONTH(S3495)","v":4},{"$f":"YEAR(S3495)","v":2033},{"$f":"T3495&U3495","v":"54"},{"$f":"IF(V3495&W3495=V3494&W3494,X3494+1,1)","v":2},{"$f":"V3495&U3495&T3495&X3495","v":"2033452"},{"$f":"S3495","v":"2033-04-14"}]
[null,null,null,null,null,null,null,null,null,null,null,null,null,null,null,null,null,null,"2033-04-21",{"$f":"WEEKDAY(S3496)","v":5},{"$f":"MONTH(S3496)","v":4},{"$f":"YEAR(S3496)","v":2033},{"$f":"T3496&U3496","v":"54"},{"$f":"IF(V3496&W3496=V3495&W3495,X3495+1,1)","v":3},{"$f":"V3496&U3496&T3496&X3496","v":"2033453"},{"$f":"S3496","v":"2033-04-21"}]
[null,null,null,null,null,null,null,null,null,null,null,null,null,null,null,null,null,null,"2033-04-28",{"$f":"WEEKDAY(S3497)","v":5},{"$f":"MONTH(S3497)","v":4},{"$f":"YEAR(S3497)","v":2033},{"$f":"T3497&U3497","v":"54"},{"$f":"IF(V3497&W3497=V3496&W3496,X3496+1,1)","v":4},{"$f":"V3497&U3497&T3497&X3497","v":"2033454"},{"$f":"S3497","v":"2033-04-28"}]
[null,null,null,null,null,null,null,null,null,null,null,null,null,null,null,null,null,null,"2033-04-01",{"$f":"WEEKDAY(S3498)","v":6},{"$f":"MONTH(S3498)","v":4},{"$f":"YEAR(S3498)","v":2033},{"$f":"T3498&U3498","v":"64"},{"$f":"IF(V3498&W3498=V3497&W3497,X3497+1,1)","v":1},{"$f":"V3498&U3498&T3498&X3498","v":"2033461"},{"$f":"S3498","v":"2033-04-01"}]
[null,null,null,null,null,null,null,null,null,null,null,null,null,null,null,null,null,null,"2033-04-08",{"$f":"WEEKDAY(S3499)","v":6},{"$f":"MONTH(S3499)","v":4},{"$f":"YEAR(S3499)","v":2033},{"$f":"T3499&U3499","v":"64"},{"$f":"IF(V3499&W3499=V3498&W3498,X3498+1,1)","v":2},{"$f":"V3499&U3499&T3499&X3499","v":"2033462"},{"$f":"S3499","v":"2033-04-08"}]
[null,null,null,null,null,null,null,null,null,null,null,null,null,null,null,null,null,null,"2033-04-15",{"$f":"WEEKDAY(S3500)","v":6},{"$f":"MONTH(S3500)","v":4},{"$f":"YEAR(S3500)","v":2033},{"$f":"T3500&U3500","v":"64"},{"$f":"IF(V3500&W3500=V3499&W3499,X3499+1,1)","v":3},{"$f":"V3500&U3500&T3500&X3500","v":"2033463"},{"$f":"S3500","v":"2033-04-15"}]
[null,null,null,null,null,null,null,null,null,null,null,null,null,null,null,null,null,null,"2033-04-22",{"$f":"WEEKDAY(S3501)","v":6},{"$f":"MONTH(S3501)","v":4},{"$f":"YEAR(S3501)","v":2033},{"$f":"T3501&U3501","v":"64"},{"$f":"IF(V3501&W3501=V3500&W3500,X3500+1,1)","v":4},{"$f":"V3501&U3501&T3501&X3501","v":"2033464"},{"$f":"S3501","v":"2033-04-22"}]
[null,null,null,null,null,null,null,null,null,null,null,null,null,null,null,null,null,null,"2033-04-29",{"$f":"WEEKDAY(S3502)","v":6},{"$f":"MONTH(S3502)","v":4},{"$f":"YEAR(S3502)","v":2033},{"$f":"T3502&U3502","v":"64"},{"$f":"IF(V3502&W3502=V3501&W3501,X3501+1,1)","v":5},{"$f":"V3502&U3502&T3502&X3502","v":"2033465"},{"$f":"S3502","v":"2033-04-29"}]
[null,null,null,null,null,null,null,null,null,null,null,null,null,null,null,null,null,null,"2033-04-02",{"$f":"WEEKDAY(S3503)","v":7},{"$f":"MONTH(S3503)","v":4},{"$f":"YEAR(S3503)","v":2033},{"$f":"T3503&U3503","v":"74"},{"$f":"IF(V3503&W3503=V3502&W3502,X3502+1,1)","v":1},{"$f":"V3503&U3503&T3503&X3503","v":"2033471"},{"$f":"S3503","v":"2033-04-02"}]
[null,null,null,null,null,null,null,null,null,null,null,null,null,null,null,null,null,null,"2033-04-09",{"$f":"WEEKDAY(S3504)","v":7},{"$f":"MONTH(S3504)","v":4},{"$f":"YEAR(S3504)","v":2033},{"$f":"T3504&U3504","v":"74"},{"$f":"IF(V3504&W3504=V3503&W3503,X3503+1,1)","v":2},{"$f":"V3504&U3504&T3504&X3504","v":"2033472"},{"$f":"S3504","v":"2033-04-09"}]
[null,null,null,null,null,null,null,null,null,null,null,null,null,null,null,null,null,null,"2033-04-16",{"$f":"WEEKDAY(S3505)","v":7},{"$f":"MONTH(S3505)","v":4},{"$f":"YEAR(S3505)","v":2033},{"$f":"T3505&U3505","v":"74"},{"$f":"IF(V3505&W3505=V3504&W3504,X3504+1,1)","v":3},{"$f":"V3505&U3505&T3505&X3505","v":"2033473"},{"$f":"S3505","v":"2033-04-16"}]
[null,null,null,null,null,null,null,null,null,null,null,null,null,null,null,null,null,null,"2033-04-23",{"$f":"WEEKDAY(S3506)","v":7},{"$f":"MONTH(S3506)","v":4},{"$f":"YEAR(S3506)","v":2033},{"$f":"T3506&U3506","v":"74"},{"$f":"IF(V3506&W3506=V3505&W3505,X3505+1,1)","v":4},{"$f":"V3506&U3506&T3506&X3506","v":"2033474"},{"$f":"S3506","v":"2033-04-23"}]
[null,null,null,null,null,null,null,null,null,null,null,null,null,null,null,null,null,null,"2033-04-30",{"$f":"WEEKDAY(S3507)","v":7},{"$f":"MONTH(S3507)","v":4},{"$f":"YEAR(S3507)","v":2033},{"$f":"T3507&U3507","v":"74"},{"$f":"IF(V3507&W3507=V3506&W3506,X3506+1,1)","v":5},{"$f":"V3507&U3507&T3507&X3507","v":"2033475"},{"$f":"S3507","v":"2033-04-30"}]
[null,null,null,null,null,null,null,null,null,null,null,null,null,null,null,null,null,null,"2033-05-01",{"$f":"WEEKDAY(S3508)","v":1},{"$f":"MONTH(S3508)","v":5},{"$f":"YEAR(S3508)","v":2033},{"$f":"T3508&U3508","v":"15"},{"$f":"IF(V3508&W3508=V3507&W3507,X3507+1,1)","v":1},{"$f":"V3508&U3508&T3508&X3508","v":"2033511"},{"$f":"S3508","v":"2033-05-01"}]
[null,null,null,null,null,null,null,null,null,null,null,null,null,null,null,null,null,null,"2033-05-08",{"$f":"WEEKDAY(S3509)","v":1},{"$f":"MONTH(S3509)","v":5},{"$f":"YEAR(S3509)","v":2033},{"$f":"T3509&U3509","v":"15"},{"$f":"IF(V3509&W3509=V3508&W3508,X3508+1,1)","v":2},{"$f":"V3509&U3509&T3509&X3509","v":"2033512"},{"$f":"S3509","v":"2033-05-08"}]
[null,null,null,null,null,null,null,null,null,null,null,null,null,null,null,null,null,null,"2033-05-15",{"$f":"WEEKDAY(S3510)","v":1},{"$f":"MONTH(S3510)","v":5},{"$f":"YEAR(S3510)","v":2033},{"$f":"T3510&U3510","v":"15"},{"$f":"IF(V3510&W3510=V3509&W3509,X3509+1,1)","v":3},{"$f":"V3510&U3510&T3510&X3510","v":"2033513"},{"$f":"S3510","v":"2033-05-15"}]
[null,null,null,null,null,null,null,null,null,null,null,null,null,null,null,null,null,null,"2033-05-22",{"$f":"WEEKDAY(S3511)","v":1},{"$f":"MONTH(S3511)","v":5},{"$f":"YEAR(S3511)","v":2033},{"$f":"T3511&U3511","v":"15"},{"$f":"IF(V3511&W3511=V3510&W3510,X3510+1,1)","v":4},{"$f":"V3511&U3511&T3511&X3511","v":"2033514"},{"$f":"S3511","v":"2033-05-22"}]
[null,null,null,null,null,null,null,null,null,null,null,null,null,null,null,null,null,null,"2033-05-29",{"$f":"WEEKDAY(S3512)","v":1},{"$f":"MONTH(S3512)","v":5},{"$f":"YEAR(S3512)","v":2033},{"$f":"T3512&U3512","v":"15"},{"$f":"IF(V3512&W3512=V3511&W3511,X3511+1,1)","v":5},{"$f":"V3512&U3512&T3512&X3512","v":"2033515"},{"$f":"S3512","v":"2033-05-29"}]
[null,null,null,null,null,null,null,null,null,null,null,null,null,null,null,null,null,null,"2033-05-02",{"$f":"WEEKDAY(S3513)","v":2},{"$f":"MONTH(S3513)","v":5},{"$f":"YEAR(S3513)","v":2033},{"$f":"T3513&U3513","v":"25"},{"$f":"IF(V3513&W3513=V3512&W3512,X3512+1,1)","v":1},{"$f":"V3513&U3513&T3513&X3513","v":"2033521"},{"$f":"S3513","v":"2033-05-02"}]
[null,null,null,null,null,null,null,null,null,null,null,null,null,null,null,null,null,null,"2033-05-09",{"$f":"WEEKDAY(S3514)","v":2},{"$f":"MONTH(S3514)","v":5},{"$f":"YEAR(S3514)","v":2033},{"$f":"T3514&U3514","v":"25"},{"$f":"IF(V3514&W3514=V3513&W3513,X3513+1,1)","v":2},{"$f":"V3514&U3514&T3514&X3514","v":"2033522"},{"$f":"S3514","v":"2033-05-09"}]
[null,null,null,null,null,null,null,null,null,null,null,null,null,null,null,null,null,null,"2033-05-16",{"$f":"WEEKDAY(S3515)","v":2},{"$f":"MONTH(S3515)","v":5},{"$f":"YEAR(S3515)","v":2033},{"$f":"T3515&U3515","v":"25"},{"$f":"IF(V3515&W3515=V3514&W3514,X3514+1,1)","v":3},{"$f":"V3515&U3515&T3515&X3515","v":"2033523"},{"$f":"S3515","v":"2033-05-16"}]
[null,null,null,null,null,null,null,null,null,null,null,null,null,null,null,null,null,null,"2033-05-23",{"$f":"WEEKDAY(S3516)","v":2},{"$f":"MONTH(S3516)","v":5},{"$f":"YEAR(S3516)","v":2033},{"$f":"T3516&U3516","v":"25"},{"$f":"IF(V3516&W3516=V3515&W3515,X3515+1,1)","v":4},{"$f":"V3516&U3516&T3516&X3516","v":"2033524"},{"$f":"S3516","v":"2033-05-23"}]
[null,null,null,null,null,null,null,null,null,null,null,null,null,null,null,null,null,null,"2033-05-30",{"$f":"WEEKDAY(S3517)","v":2},{"$f":"MONTH(S3517)","v":5},{"$f":"YEAR(S3517)","v":2033},{"$f":"T3517&U3517","v":"25"},{"$f":"IF(V3517&W3517=V3516&W3516,X3516+1,1)","v":5},{"$f":"V3517&U3517&T3517&X3517","v":"2033525"},{"$f":"S3517","v":"2033-05-30"}]
[null,null,null,null,null,null,null,null,null,null,null,null,null,null,null,null,null,null,"2033-05-03",{"$f":"WEEKDAY(S3518)","v":3},{"$f":"MONTH(S3518)","v":5},{"$f":"YEAR(S3518)","v":2033},{"$f":"T3518&U3518","v":"35"},{"$f":"IF(V3518&W3518=V3517&W3517,X3517+1,1)","v":1},{"$f":"V3518&U3518&T3518&X3518","v":"2033531"},{"$f":"S3518","v":"2033-05-03"}]
[null,null,null,null,null,null,null,null,null,null,null,null,null,null,null,null,null,null,"2033-05-10",{"$f":"WEEKDAY(S3519)","v":3},{"$f":"MONTH(S3519)","v":5},{"$f":"YEAR(S3519)","v":2033},{"$f":"T3519&U3519","v":"35"},{"$f":"IF(V3519&W3519=V3518&W3518,X3518+1,1)","v":2},{"$f":"V3519&U3519&T3519&X3519","v":"2033532"},{"$f":"S3519","v":"2033-05-10"}]
[null,null,null,null,null,null,null,null,null,null,null,null,null,null,null,null,null,null,"2033-05-17",{"$f":"WEEKDAY(S3520)","v":3},{"$f":"MONTH(S3520)","v":5},{"$f":"YEAR(S3520)","v":2033},{"$f":"T3520&U3520","v":"35"},{"$f":"IF(V3520&W3520=V3519&W3519,X3519+1,1)","v":3},{"$f":"V3520&U3520&T3520&X3520","v":"2033533"},{"$f":"S3520","v":"2033-05-17"}]
[null,null,null,null,null,null,null,null,null,null,null,null,null,null,null,null,null,null,"2033-05-24",{"$f":"WEEKDAY(S3521)","v":3},{"$f":"MONTH(S3521)","v":5},{"$f":"YEAR(S3521)","v":2033},{"$f":"T3521&U3521","v":"35"},{"$f":"IF(V3521&W3521=V3520&W3520,X3520+1,1)","v":4},{"$f":"V3521&U3521&T3521&X3521","v":"2033534"},{"$f":"S3521","v":"2033-05-24"}]
[null,null,null,null,null,null,null,null,null,null,null,null,null,null,null,null,null,null,"2033-05-31",{"$f":"WEEKDAY(S3522)","v":3},{"$f":"MONTH(S3522)","v":5},{"$f":"YEAR(S3522)","v":2033},{"$f":"T3522&U3522","v":"35"},{"$f":"IF(V3522&W3522=V3521&W3521,X3521+1,1)","v":5},{"$f":"V3522&U3522&T3522&X3522","v":"2033535"},{"$f":"S3522","v":"2033-05-31"}]
[null,null,null,null,null,null,null,null,null,null,null,null,null,null,null,null,null,null,"2033-05-04",{"$f":"WEEKDAY(S3523)","v":4},{"$f":"MONTH(S3523)","v":5},{"$f":"YEAR(S3523)","v":2033},{"$f":"T3523&U3523","v":"45"},{"$f":"IF(V3523&W3523=V3522&W3522,X3522+1,1)","v":1},{"$f":"V3523&U3523&T3523&X3523","v":"2033541"},{"$f":"S3523","v":"2033-05-04"}]
[null,null,null,null,null,null,null,null,null,null,null,null,null,null,null,null,null,null,"2033-05-11",{"$f":"WEEKDAY(S3524)","v":4},{"$f":"MONTH(S3524)","v":5},{"$f":"YEAR(S3524)","v":2033},{"$f":"T3524&U3524","v":"45"},{"$f":"IF(V3524&W3524=V3523&W3523,X3523+1,1)","v":2},{"$f":"V3524&U3524&T3524&X3524","v":"2033542"},{"$f":"S3524","v":"2033-05-11"}]
[null,null,null,null,null,null,null,null,null,null,null,null,null,null,null,null,null,null,"2033-05-18",{"$f":"WEEKDAY(S3525)","v":4},{"$f":"MONTH(S3525)","v":5},{"$f":"YEAR(S3525)","v":2033},{"$f":"T3525&U3525","v":"45"},{"$f":"IF(V3525&W3525=V3524&W3524,X3524+1,1)","v":3},{"$f":"V3525&U3525&T3525&X3525","v":"2033543"},{"$f":"S3525","v":"2033-05-18"}]
[null,null,null,null,null,null,null,null,null,null,null,null,null,null,null,null,null,null,"2033-05-25",{"$f":"WEEKDAY(S3526)","v":4},{"$f":"MONTH(S3526)","v":5},{"$f":"YEAR(S3526)","v":2033},{"$f":"T3526&U3526","v":"45"},{"$f":"IF(V3526&W3526=V3525&W3525,X3525+1,1)","v":4},{"$f":"V3526&U3526&T3526&X3526","v":"2033544"},{"$f":"S3526","v":"2033-05-25"}]
[null,null,null,null,null,null,null,null,null,null,null,null,null,null,null,null,null,null,"2033-05-05",{"$f":"WEEKDAY(S3527)","v":5},{"$f":"MONTH(S3527)","v":5},{"$f":"YEAR(S3527)","v":2033},{"$f":"T3527&U3527","v":"55"},{"$f":"IF(V3527&W3527=V3526&W3526,X3526+1,1)","v":1},{"$f":"V3527&U3527&T3527&X3527","v":"2033551"},{"$f":"S3527","v":"2033-05-05"}]
[null,null,null,null,null,null,null,null,null,null,null,null,null,null,null,null,null,null,"2033-05-12",{"$f":"WEEKDAY(S3528)","v":5},{"$f":"MONTH(S3528)","v":5},{"$f":"YEAR(S3528)","v":2033},{"$f":"T3528&U3528","v":"55"},{"$f":"IF(V3528&W3528=V3527&W3527,X3527+1,1)","v":2},{"$f":"V3528&U3528&T3528&X3528","v":"2033552"},{"$f":"S3528","v":"2033-05-12"}]
[null,null,null,null,null,null,null,null,null,null,null,null,null,null,null,null,null,null,"2033-05-19",{"$f":"WEEKDAY(S3529)","v":5},{"$f":"MONTH(S3529)","v":5},{"$f":"YEAR(S3529)","v":2033},{"$f":"T3529&U3529","v":"55"},{"$f":"IF(V3529&W3529=V3528&W3528,X3528+1,1)","v":3},{"$f":"V3529&U3529&T3529&X3529","v":"2033553"},{"$f":"S3529","v":"2033-05-19"}]
[null,null,null,null,null,null,null,null,null,null,null,null,null,null,null,null,null,null,"2033-05-26",{"$f":"WEEKDAY(S3530)","v":5},{"$f":"MONTH(S3530)","v":5},{"$f":"YEAR(S3530)","v":2033},{"$f":"T3530&U3530","v":"55"},{"$f":"IF(V3530&W3530=V3529&W3529,X3529+1,1)","v":4},{"$f":"V3530&U3530&T3530&X3530","v":"2033554"},{"$f":"S3530","v":"2033-05-26"}]
[null,null,null,null,null,null,null,null,null,null,null,null,null,null,null,null,null,null,"2033-05-06",{"$f":"WEEKDAY(S3531)","v":6},{"$f":"MONTH(S3531)","v":5},{"$f":"YEAR(S3531)","v":2033},{"$f":"T3531&U3531","v":"65"},{"$f":"IF(V3531&W3531=V3530&W3530,X3530+1,1)","v":1},{"$f":"V3531&U3531&T3531&X3531","v":"2033561"},{"$f":"S3531","v":"2033-05-06"}]
[null,null,null,null,null,null,null,null,null,null,null,null,null,null,null,null,null,null,"2033-05-13",{"$f":"WEEKDAY(S3532)","v":6},{"$f":"MONTH(S3532)","v":5},{"$f":"YEAR(S3532)","v":2033},{"$f":"T3532&U3532","v":"65"},{"$f":"IF(V3532&W3532=V3531&W3531,X3531+1,1)","v":2},{"$f":"V3532&U3532&T3532&X3532","v":"2033562"},{"$f":"S3532","v":"2033-05-13"}]
[null,null,null,null,null,null,null,null,null,null,null,null,null,null,null,null,null,null,"2033-05-20",{"$f":"WEEKDAY(S3533)","v":6},{"$f":"MONTH(S3533)","v":5},{"$f":"YEAR(S3533)","v":2033},{"$f":"T3533&U3533","v":"65"},{"$f":"IF(V3533&W3533=V3532&W3532,X3532+1,1)","v":3},{"$f":"V3533&U3533&T3533&X3533","v":"2033563"},{"$f":"S3533","v":"2033-05-20"}]
[null,null,null,null,null,null,null,null,null,null,null,null,null,null,null,null,null,null,"2033-05-27",{"$f":"WEEKDAY(S3534)","v":6},{"$f":"MONTH(S3534)","v":5},{"$f":"YEAR(S3534)","v":2033},{"$f":"T3534&U3534","v":"65"},{"$f":"IF(V3534&W3534=V3533&W3533,X3533+1,1)","v":4},{"$f":"V3534&U3534&T3534&X3534","v":"2033564"},{"$f":"S3534","v":"2033-05-27"}]
[null,null,null,null,null,null,null,null,null,null,null,null,null,null,null,null,null,null,"2033-05-07",{"$f":"WEEKDAY(S3535)","v":7},{"$f":"MONTH(S3535)","v":5},{"$f":"YEAR(S3535)","v":2033},{"$f":"T3535&U3535","v":"75"},{"$f":"IF(V3535&W3535=V3534&W3534,X3534+1,1)","v":1},{"$f":"V3535&U3535&T3535&X3535","v":"2033571"},{"$f":"S3535","v":"2033-05-07"}]
[null,null,null,null,null,null,null,null,null,null,null,null,null,null,null,null,null,null,"2033-05-14",{"$f":"WEEKDAY(S3536)","v":7},{"$f":"MONTH(S3536)","v":5},{"$f":"YEAR(S3536)","v":2033},{"$f":"T3536&U3536","v":"75"},{"$f":"IF(V3536&W3536=V3535&W3535,X3535+1,1)","v":2},{"$f":"V3536&U3536&T3536&X3536","v":"2033572"},{"$f":"S3536","v":"2033-05-14"}]
[null,null,null,null,null,null,null,null,null,null,null,null,null,null,null,null,null,null,"2033-05-21",{"$f":"WEEKDAY(S3537)","v":7},{"$f":"MONTH(S3537)","v":5},{"$f":"YEAR(S3537)","v":2033},{"$f":"T3537&U3537","v":"75"},{"$f":"IF(V3537&W3537=V3536&W3536,X3536+1,1)","v":3},{"$f":"V3537&U3537&T3537&X3537","v":"2033573"},{"$f":"S3537","v":"2033-05-21"}]
[null,null,null,null,null,null,null,null,null,null,null,null,null,null,null,null,null,null,"2033-05-28",{"$f":"WEEKDAY(S3538)","v":7},{"$f":"MONTH(S3538)","v":5},{"$f":"YEAR(S3538)","v":2033},{"$f":"T3538&U3538","v":"75"},{"$f":"IF(V3538&W3538=V3537&W3537,X3537+1,1)","v":4},{"$f":"V3538&U3538&T3538&X3538","v":"2033574"},{"$f":"S3538","v":"2033-05-28"}]
[null,null,null,null,null,null,null,null,null,null,null,null,null,null,null,null,null,null,"2033-06-05",{"$f":"WEEKDAY(S3539)","v":1},{"$f":"MONTH(S3539)","v":6},{"$f":"YEAR(S3539)","v":2033},{"$f":"T3539&U3539","v":"16"},{"$f":"IF(V3539&W3539=V3538&W3538,X3538+1,1)","v":1},{"$f":"V3539&U3539&T3539&X3539","v":"2033611"},{"$f":"S3539","v":"2033-06-05"}]
[null,null,null,null,null,null,null,null,null,null,null,null,null,null,null,null,null,null,"2033-06-12",{"$f":"WEEKDAY(S3540)","v":1},{"$f":"MONTH(S3540)","v":6},{"$f":"YEAR(S3540)","v":2033},{"$f":"T3540&U3540","v":"16"},{"$f":"IF(V3540&W3540=V3539&W3539,X3539+1,1)","v":2},{"$f":"V3540&U3540&T3540&X3540","v":"2033612"},{"$f":"S3540","v":"2033-06-12"}]
[null,null,null,null,null,null,null,null,null,null,null,null,null,null,null,null,null,null,"2033-06-19",{"$f":"WEEKDAY(S3541)","v":1},{"$f":"MONTH(S3541)","v":6},{"$f":"YEAR(S3541)","v":2033},{"$f":"T3541&U3541","v":"16"},{"$f":"IF(V3541&W3541=V3540&W3540,X3540+1,1)","v":3},{"$f":"V3541&U3541&T3541&X3541","v":"2033613"},{"$f":"S3541","v":"2033-06-19"}]
[null,null,null,null,null,null,null,null,null,null,null,null,null,null,null,null,null,null,"2033-06-26",{"$f":"WEEKDAY(S3542)","v":1},{"$f":"MONTH(S3542)","v":6},{"$f":"YEAR(S3542)","v":2033},{"$f":"T3542&U3542","v":"16"},{"$f":"IF(V3542&W3542=V3541&W3541,X3541+1,1)","v":4},{"$f":"V3542&U3542&T3542&X3542","v":"2033614"},{"$f":"S3542","v":"2033-06-26"}]
[null,null,null,null,null,null,null,null,null,null,null,null,null,null,null,null,null,null,"2033-06-06",{"$f":"WEEKDAY(S3543)","v":2},{"$f":"MONTH(S3543)","v":6},{"$f":"YEAR(S3543)","v":2033},{"$f":"T3543&U3543","v":"26"},{"$f":"IF(V3543&W3543=V3542&W3542,X3542+1,1)","v":1},{"$f":"V3543&U3543&T3543&X3543","v":"2033621"},{"$f":"S3543","v":"2033-06-06"}]
[null,null,null,null,null,null,null,null,null,null,null,null,null,null,null,null,null,null,"2033-06-13",{"$f":"WEEKDAY(S3544)","v":2},{"$f":"MONTH(S3544)","v":6},{"$f":"YEAR(S3544)","v":2033},{"$f":"T3544&U3544","v":"26"},{"$f":"IF(V3544&W3544=V3543&W3543,X3543+1,1)","v":2},{"$f":"V3544&U3544&T3544&X3544","v":"2033622"},{"$f":"S3544","v":"2033-06-13"}]
[null,null,null,null,null,null,null,null,null,null,null,null,null,null,null,null,null,null,"2033-06-20",{"$f":"WEEKDAY(S3545)","v":2},{"$f":"MONTH(S3545)","v":6},{"$f":"YEAR(S3545)","v":2033},{"$f":"T3545&U3545","v":"26"},{"$f":"IF(V3545&W3545=V3544&W3544,X3544+1,1)","v":3},{"$f":"V3545&U3545&T3545&X3545","v":"2033623"},{"$f":"S3545","v":"2033-06-20"}]
[null,null,null,null,null,null,null,null,null,null,null,null,null,null,null,null,null,null,"2033-06-27",{"$f":"WEEKDAY(S3546)","v":2},{"$f":"MONTH(S3546)","v":6},{"$f":"YEAR(S3546)","v":2033},{"$f":"T3546&U3546","v":"26"},{"$f":"IF(V3546&W3546=V3545&W3545,X3545+1,1)","v":4},{"$f":"V3546&U3546&T3546&X3546","v":"2033624"},{"$f":"S3546","v":"2033-06-27"}]
[null,null,null,null,null,null,null,null,null,null,null,null,null,null,null,null,null,null,"2033-06-07",{"$f":"WEEKDAY(S3547)","v":3},{"$f":"MONTH(S3547)","v":6},{"$f":"YEAR(S3547)","v":2033},{"$f":"T3547&U3547","v":"36"},{"$f":"IF(V3547&W3547=V3546&W3546,X3546+1,1)","v":1},{"$f":"V3547&U3547&T3547&X3547","v":"2033631"},{"$f":"S3547","v":"2033-06-07"}]
[null,null,null,null,null,null,null,null,null,null,null,null,null,null,null,null,null,null,"2033-06-14",{"$f":"WEEKDAY(S3548)","v":3},{"$f":"MONTH(S3548)","v":6},{"$f":"YEAR(S3548)","v":2033},{"$f":"T3548&U3548","v":"36"},{"$f":"IF(V3548&W3548=V3547&W3547,X3547+1,1)","v":2},{"$f":"V3548&U3548&T3548&X3548","v":"2033632"},{"$f":"S3548","v":"2033-06-14"}]
[null,null,null,null,null,null,null,null,null,null,null,null,null,null,null,null,null,null,"2033-06-21",{"$f":"WEEKDAY(S3549)","v":3},{"$f":"MONTH(S3549)","v":6},{"$f":"YEAR(S3549)","v":2033},{"$f":"T3549&U3549","v":"36"},{"$f":"IF(V3549&W3549=V3548&W3548,X3548+1,1)","v":3},{"$f":"V3549&U3549&T3549&X3549","v":"2033633"},{"$f":"S3549","v":"2033-06-21"}]
[null,null,null,null,null,null,null,null,null,null,null,null,null,null,null,null,null,null,"2033-06-28",{"$f":"WEEKDAY(S3550)","v":3},{"$f":"MONTH(S3550)","v":6},{"$f":"YEAR(S3550)","v":2033},{"$f":"T3550&U3550","v":"36"},{"$f":"IF(V3550&W3550=V3549&W3549,X3549+1,1)","v":4},{"$f":"V3550&U3550&T3550&X3550","v":"2033634"},{"$f":"S3550","v":"2033-06-28"}]
[null,null,null,null,null,null,null,null,null,null,null,null,null,null,null,null,null,null,"2033-06-01",{"$f":"WEEKDAY(S3551)","v":4},{"$f":"MONTH(S3551)","v":6},{"$f":"YEAR(S3551)","v":2033},{"$f":"T3551&U3551","v":"46"},{"$f":"IF(V3551&W3551=V3550&W3550,X3550+1,1)","v":1},{"$f":"V3551&U3551&T3551&X3551","v":"2033641"},{"$f":"S3551","v":"2033-06-01"}]
[null,null,null,null,null,null,null,null,null,null,null,null,null,null,null,null,null,null,"2033-06-08",{"$f":"WEEKDAY(S3552)","v":4},{"$f":"MONTH(S3552)","v":6},{"$f":"YEAR(S3552)","v":2033},{"$f":"T3552&U3552","v":"46"},{"$f":"IF(V3552&W3552=V3551&W3551,X3551+1,1)","v":2},{"$f":"V3552&U3552&T3552&X3552","v":"2033642"},{"$f":"S3552","v":"2033-06-08"}]
[null,null,null,null,null,null,null,null,null,null,null,null,null,null,null,null,null,null,"2033-06-15",{"$f":"WEEKDAY(S3553)","v":4},{"$f":"MONTH(S3553)","v":6},{"$f":"YEAR(S3553)","v":2033},{"$f":"T3553&U3553","v":"46"},{"$f":"IF(V3553&W3553=V3552&W3552,X3552+1,1)","v":3},{"$f":"V3553&U3553&T3553&X3553","v":"2033643"},{"$f":"S3553","v":"2033-06-15"}]
[null,null,null,null,null,null,null,null,null,null,null,null,null,null,null,null,null,null,"2033-06-22",{"$f":"WEEKDAY(S3554)","v":4},{"$f":"MONTH(S3554)","v":6},{"$f":"YEAR(S3554)","v":2033},{"$f":"T3554&U3554","v":"46"},{"$f":"IF(V3554&W3554=V3553&W3553,X3553+1,1)","v":4},{"$f":"V3554&U3554&T3554&X3554","v":"2033644"},{"$f":"S3554","v":"2033-06-22"}]
[null,null,null,null,null,null,null,null,null,null,null,null,null,null,null,null,null,null,"2033-06-29",{"$f":"WEEKDAY(S3555)","v":4},{"$f":"MONTH(S3555)","v":6},{"$f":"YEAR(S3555)","v":2033},{"$f":"T3555&U3555","v":"46"},{"$f":"IF(V3555&W3555=V3554&W3554,X3554+1,1)","v":5},{"$f":"V3555&U3555&T3555&X3555","v":"2033645"},{"$f":"S3555","v":"2033-06-29"}]
[null,null,null,null,null,null,null,null,null,null,null,null,null,null,null,null,null,null,"2033-06-02",{"$f":"WEEKDAY(S3556)","v":5},{"$f":"MONTH(S3556)","v":6},{"$f":"YEAR(S3556)","v":2033},{"$f":"T3556&U3556","v":"56"},{"$f":"IF(V3556&W3556=V3555&W3555,X3555+1,1)","v":1},{"$f":"V3556&U3556&T3556&X3556","v":"2033651"},{"$f":"S3556","v":"2033-06-02"}]
[null,null,null,null,null,null,null,null,null,null,null,null,null,null,null,null,null,null,"2033-06-09",{"$f":"WEEKDAY(S3557)","v":5},{"$f":"MONTH(S3557)","v":6},{"$f":"YEAR(S3557)","v":2033},{"$f":"T3557&U3557","v":"56"},{"$f":"IF(V3557&W3557=V3556&W3556,X3556+1,1)","v":2},{"$f":"V3557&U3557&T3557&X3557","v":"2033652"},{"$f":"S3557","v":"2033-06-09"}]
[null,null,null,null,null,null,null,null,null,null,null,null,null,null,null,null,null,null,"2033-06-16",{"$f":"WEEKDAY(S3558)","v":5},{"$f":"MONTH(S3558)","v":6},{"$f":"YEAR(S3558)","v":2033},{"$f":"T3558&U3558","v":"56"},{"$f":"IF(V3558&W3558=V3557&W3557,X3557+1,1)","v":3},{"$f":"V3558&U3558&T3558&X3558","v":"2033653"},{"$f":"S3558","v":"2033-06-16"}]
[null,null,null,null,null,null,null,null,null,null,null,null,null,null,null,null,null,null,"2033-06-23",{"$f":"WEEKDAY(S3559)","v":5},{"$f":"MONTH(S3559)","v":6},{"$f":"YEAR(S3559)","v":2033},{"$f":"T3559&U3559","v":"56"},{"$f":"IF(V3559&W3559=V3558&W3558,X3558+1,1)","v":4},{"$f":"V3559&U3559&T3559&X3559","v":"2033654"},{"$f":"S3559","v":"2033-06-23"}]
[null,null,null,null,null,null,null,null,null,null,null,null,null,null,null,null,null,null,"2033-06-30",{"$f":"WEEKDAY(S3560)","v":5},{"$f":"MONTH(S3560)","v":6},{"$f":"YEAR(S3560)","v":2033},{"$f":"T3560&U3560","v":"56"},{"$f":"IF(V3560&W3560=V3559&W3559,X3559+1,1)","v":5},{"$f":"V3560&U3560&T3560&X3560","v":"2033655"},{"$f":"S3560","v":"2033-06-30"}]
[null,null,null,null,null,null,null,null,null,null,null,null,null,null,null,null,null,null,"2033-06-03",{"$f":"WEEKDAY(S3561)","v":6},{"$f":"MONTH(S3561)","v":6},{"$f":"YEAR(S3561)","v":2033},{"$f":"T3561&U3561","v":"66"},{"$f":"IF(V3561&W3561=V3560&W3560,X3560+1,1)","v":1},{"$f":"V3561&U3561&T3561&X3561","v":"2033661"},{"$f":"S3561","v":"2033-06-03"}]
[null,null,null,null,null,null,null,null,null,null,null,null,null,null,null,null,null,null,"2033-06-10",{"$f":"WEEKDAY(S3562)","v":6},{"$f":"MONTH(S3562)","v":6},{"$f":"YEAR(S3562)","v":2033},{"$f":"T3562&U3562","v":"66"},{"$f":"IF(V3562&W3562=V3561&W3561,X3561+1,1)","v":2},{"$f":"V3562&U3562&T3562&X3562","v":"2033662"},{"$f":"S3562","v":"2033-06-10"}]
[null,null,null,null,null,null,null,null,null,null,null,null,null,null,null,null,null,null,"2033-06-17",{"$f":"WEEKDAY(S3563)","v":6},{"$f":"MONTH(S3563)","v":6},{"$f":"YEAR(S3563)","v":2033},{"$f":"T3563&U3563","v":"66"},{"$f":"IF(V3563&W3563=V3562&W3562,X3562+1,1)","v":3},{"$f":"V3563&U3563&T3563&X3563","v":"2033663"},{"$f":"S3563","v":"2033-06-17"}]
[null,null,null,null,null,null,null,null,null,null,null,null,null,null,null,null,null,null,"2033-06-24",{"$f":"WEEKDAY(S3564)","v":6},{"$f":"MONTH(S3564)","v":6},{"$f":"YEAR(S3564)","v":2033},{"$f":"T3564&U3564","v":"66"},{"$f":"IF(V3564&W3564=V3563&W3563,X3563+1,1)","v":4},{"$f":"V3564&U3564&T3564&X3564","v":"2033664"},{"$f":"S3564","v":"2033-06-24"}]
[null,null,null,null,null,null,null,null,null,null,null,null,null,null,null,null,null,null,"2033-06-04",{"$f":"WEEKDAY(S3565)","v":7},{"$f":"MONTH(S3565)","v":6},{"$f":"YEAR(S3565)","v":2033},{"$f":"T3565&U3565","v":"76"},{"$f":"IF(V3565&W3565=V3564&W3564,X3564+1,1)","v":1},{"$f":"V3565&U3565&T3565&X3565","v":"2033671"},{"$f":"S3565","v":"2033-06-04"}]
[null,null,null,null,null,null,null,null,null,null,null,null,null,null,null,null,null,null,"2033-06-11",{"$f":"WEEKDAY(S3566)","v":7},{"$f":"MONTH(S3566)","v":6},{"$f":"YEAR(S3566)","v":2033},{"$f":"T3566&U3566","v":"76"},{"$f":"IF(V3566&W3566=V3565&W3565,X3565+1,1)","v":2},{"$f":"V3566&U3566&T3566&X3566","v":"2033672"},{"$f":"S3566","v":"2033-06-11"}]
[null,null,null,null,null,null,null,null,null,null,null,null,null,null,null,null,null,null,"2033-06-18",{"$f":"WEEKDAY(S3567)","v":7},{"$f":"MONTH(S3567)","v":6},{"$f":"YEAR(S3567)","v":2033},{"$f":"T3567&U3567","v":"76"},{"$f":"IF(V3567&W3567=V3566&W3566,X3566+1,1)","v":3},{"$f":"V3567&U3567&T3567&X3567","v":"2033673"},{"$f":"S3567","v":"2033-06-18"}]
[null,null,null,null,null,null,null,null,null,null,null,null,null,null,null,null,null,null,"2033-06-25",{"$f":"WEEKDAY(S3568)","v":7},{"$f":"MONTH(S3568)","v":6},{"$f":"YEAR(S3568)","v":2033},{"$f":"T3568&U3568","v":"76"},{"$f":"IF(V3568&W3568=V3567&W3567,X3567+1,1)","v":4},{"$f":"V3568&U3568&T3568&X3568","v":"2033674"},{"$f":"S3568","v":"2033-06-25"}]
[null,null,null,null,null,null,null,null,null,null,null,null,null,null,null,null,null,null,"2033-07-03",{"$f":"WEEKDAY(S3569)","v":1},{"$f":"MONTH(S3569)","v":7},{"$f":"YEAR(S3569)","v":2033},{"$f":"T3569&U3569","v":"17"},{"$f":"IF(V3569&W3569=V3568&W3568,X3568+1,1)","v":1},{"$f":"V3569&U3569&T3569&X3569","v":"2033711"},{"$f":"S3569","v":"2033-07-03"}]
[null,null,null,null,null,null,null,null,null,null,null,null,null,null,null,null,null,null,"2033-07-10",{"$f":"WEEKDAY(S3570)","v":1},{"$f":"MONTH(S3570)","v":7},{"$f":"YEAR(S3570)","v":2033},{"$f":"T3570&U3570","v":"17"},{"$f":"IF(V3570&W3570=V3569&W3569,X3569+1,1)","v":2},{"$f":"V3570&U3570&T3570&X3570","v":"2033712"},{"$f":"S3570","v":"2033-07-10"}]
[null,null,null,null,null,null,null,null,null,null,null,null,null,null,null,null,null,null,"2033-07-17",{"$f":"WEEKDAY(S3571)","v":1},{"$f":"MONTH(S3571)","v":7},{"$f":"YEAR(S3571)","v":2033},{"$f":"T3571&U3571","v":"17"},{"$f":"IF(V3571&W3571=V3570&W3570,X3570+1,1)","v":3},{"$f":"V3571&U3571&T3571&X3571","v":"2033713"},{"$f":"S3571","v":"2033-07-17"}]
[null,null,null,null,null,null,null,null,null,null,null,null,null,null,null,null,null,null,"2033-07-24",{"$f":"WEEKDAY(S3572)","v":1},{"$f":"MONTH(S3572)","v":7},{"$f":"YEAR(S3572)","v":2033},{"$f":"T3572&U3572","v":"17"},{"$f":"IF(V3572&W3572=V3571&W3571,X3571+1,1)","v":4},{"$f":"V3572&U3572&T3572&X3572","v":"2033714"},{"$f":"S3572","v":"2033-07-24"}]
[null,null,null,null,null,null,null,null,null,null,null,null,null,null,null,null,null,null,"2033-07-31",{"$f":"WEEKDAY(S3573)","v":1},{"$f":"MONTH(S3573)","v":7},{"$f":"YEAR(S3573)","v":2033},{"$f":"T3573&U3573","v":"17"},{"$f":"IF(V3573&W3573=V3572&W3572,X3572+1,1)","v":5},{"$f":"V3573&U3573&T3573&X3573","v":"2033715"},{"$f":"S3573","v":"2033-07-31"}]
[null,null,null,null,null,null,null,null,null,null,null,null,null,null,null,null,null,null,"2033-07-04",{"$f":"WEEKDAY(S3574)","v":2},{"$f":"MONTH(S3574)","v":7},{"$f":"YEAR(S3574)","v":2033},{"$f":"T3574&U3574","v":"27"},{"$f":"IF(V3574&W3574=V3573&W3573,X3573+1,1)","v":1},{"$f":"V3574&U3574&T3574&X3574","v":"2033721"},{"$f":"S3574","v":"2033-07-04"}]
[null,null,null,null,null,null,null,null,null,null,null,null,null,null,null,null,null,null,"2033-07-11",{"$f":"WEEKDAY(S3575)","v":2},{"$f":"MONTH(S3575)","v":7},{"$f":"YEAR(S3575)","v":2033},{"$f":"T3575&U3575","v":"27"},{"$f":"IF(V3575&W3575=V3574&W3574,X3574+1,1)","v":2},{"$f":"V3575&U3575&T3575&X3575","v":"2033722"},{"$f":"S3575","v":"2033-07-11"}]
[null,null,null,null,null,null,null,null,null,null,null,null,null,null,null,null,null,null,"2033-07-18",{"$f":"WEEKDAY(S3576)","v":2},{"$f":"MONTH(S3576)","v":7},{"$f":"YEAR(S3576)","v":2033},{"$f":"T3576&U3576","v":"27"},{"$f":"IF(V3576&W3576=V3575&W3575,X3575+1,1)","v":3},{"$f":"V3576&U3576&T3576&X3576","v":"2033723"},{"$f":"S3576","v":"2033-07-18"}]
[null,null,null,null,null,null,null,null,null,null,null,null,null,null,null,null,null,null,"2033-07-25",{"$f":"WEEKDAY(S3577)","v":2},{"$f":"MONTH(S3577)","v":7},{"$f":"YEAR(S3577)","v":2033},{"$f":"T3577&U3577","v":"27"},{"$f":"IF(V3577&W3577=V3576&W3576,X3576+1,1)","v":4},{"$f":"V3577&U3577&T3577&X3577","v":"2033724"},{"$f":"S3577","v":"2033-07-25"}]
[null,null,null,null,null,null,null,null,null,null,null,null,null,null,null,null,null,null,"2033-07-05",{"$f":"WEEKDAY(S3578)","v":3},{"$f":"MONTH(S3578)","v":7},{"$f":"YEAR(S3578)","v":2033},{"$f":"T3578&U3578","v":"37"},{"$f":"IF(V3578&W3578=V3577&W3577,X3577+1,1)","v":1},{"$f":"V3578&U3578&T3578&X3578","v":"2033731"},{"$f":"S3578","v":"2033-07-05"}]
[null,null,null,null,null,null,null,null,null,null,null,null,null,null,null,null,null,null,"2033-07-12",{"$f":"WEEKDAY(S3579)","v":3},{"$f":"MONTH(S3579)","v":7},{"$f":"YEAR(S3579)","v":2033},{"$f":"T3579&U3579","v":"37"},{"$f":"IF(V3579&W3579=V3578&W3578,X3578+1,1)","v":2},{"$f":"V3579&U3579&T3579&X3579","v":"2033732"},{"$f":"S3579","v":"2033-07-12"}]
[null,null,null,null,null,null,null,null,null,null,null,null,null,null,null,null,null,null,"2033-07-19",{"$f":"WEEKDAY(S3580)","v":3},{"$f":"MONTH(S3580)","v":7},{"$f":"YEAR(S3580)","v":2033},{"$f":"T3580&U3580","v":"37"},{"$f":"IF(V3580&W3580=V3579&W3579,X3579+1,1)","v":3},{"$f":"V3580&U3580&T3580&X3580","v":"2033733"},{"$f":"S3580","v":"2033-07-19"}]
[null,null,null,null,null,null,null,null,null,null,null,null,null,null,null,null,null,null,"2033-07-26",{"$f":"WEEKDAY(S3581)","v":3},{"$f":"MONTH(S3581)","v":7},{"$f":"YEAR(S3581)","v":2033},{"$f":"T3581&U3581","v":"37"},{"$f":"IF(V3581&W3581=V3580&W3580,X3580+1,1)","v":4},{"$f":"V3581&U3581&T3581&X3581","v":"2033734"},{"$f":"S3581","v":"2033-07-26"}]
[null,null,null,null,null,null,null,null,null,null,null,null,null,null,null,null,null,null,"2033-07-06",{"$f":"WEEKDAY(S3582)","v":4},{"$f":"MONTH(S3582)","v":7},{"$f":"YEAR(S3582)","v":2033},{"$f":"T3582&U3582","v":"47"},{"$f":"IF(V3582&W3582=V3581&W3581,X3581+1,1)","v":1},{"$f":"V3582&U3582&T3582&X3582","v":"2033741"},{"$f":"S3582","v":"2033-07-06"}]
[null,null,null,null,null,null,null,null,null,null,null,null,null,null,null,null,null,null,"2033-07-13",{"$f":"WEEKDAY(S3583)","v":4},{"$f":"MONTH(S3583)","v":7},{"$f":"YEAR(S3583)","v":2033},{"$f":"T3583&U3583","v":"47"},{"$f":"IF(V3583&W3583=V3582&W3582,X3582+1,1)","v":2},{"$f":"V3583&U3583&T3583&X3583","v":"2033742"},{"$f":"S3583","v":"2033-07-13"}]
[null,null,null,null,null,null,null,null,null,null,null,null,null,null,null,null,null,null,"2033-07-20",{"$f":"WEEKDAY(S3584)","v":4},{"$f":"MONTH(S3584)","v":7},{"$f":"YEAR(S3584)","v":2033},{"$f":"T3584&U3584","v":"47"},{"$f":"IF(V3584&W3584=V3583&W3583,X3583+1,1)","v":3},{"$f":"V3584&U3584&T3584&X3584","v":"2033743"},{"$f":"S3584","v":"2033-07-20"}]
[null,null,null,null,null,null,null,null,null,null,null,null,null,null,null,null,null,null,"2033-07-27",{"$f":"WEEKDAY(S3585)","v":4},{"$f":"MONTH(S3585)","v":7},{"$f":"YEAR(S3585)","v":2033},{"$f":"T3585&U3585","v":"47"},{"$f":"IF(V3585&W3585=V3584&W3584,X3584+1,1)","v":4},{"$f":"V3585&U3585&T3585&X3585","v":"2033744"},{"$f":"S3585","v":"2033-07-27"}]
[null,null,null,null,null,null,null,null,null,null,null,null,null,null,null,null,null,null,"2033-07-07",{"$f":"WEEKDAY(S3586)","v":5},{"$f":"MONTH(S3586)","v":7},{"$f":"YEAR(S3586)","v":2033},{"$f":"T3586&U3586","v":"57"},{"$f":"IF(V3586&W3586=V3585&W3585,X3585+1,1)","v":1},{"$f":"V3586&U3586&T3586&X3586","v":"2033751"},{"$f":"S3586","v":"2033-07-07"}]
[null,null,null,null,null,null,null,null,null,null,null,null,null,null,null,null,null,null,"2033-07-14",{"$f":"WEEKDAY(S3587)","v":5},{"$f":"MONTH(S3587)","v":7},{"$f":"YEAR(S3587)","v":2033},{"$f":"T3587&U3587","v":"57"},{"$f":"IF(V3587&W3587=V3586&W3586,X3586+1,1)","v":2},{"$f":"V3587&U3587&T3587&X3587","v":"2033752"},{"$f":"S3587","v":"2033-07-14"}]
[null,null,null,null,null,null,null,null,null,null,null,null,null,null,null,null,null,null,"2033-07-21",{"$f":"WEEKDAY(S3588)","v":5},{"$f":"MONTH(S3588)","v":7},{"$f":"YEAR(S3588)","v":2033},{"$f":"T3588&U3588","v":"57"},{"$f":"IF(V3588&W3588=V3587&W3587,X3587+1,1)","v":3},{"$f":"V3588&U3588&T3588&X3588","v":"2033753"},{"$f":"S3588","v":"2033-07-21"}]
[null,null,null,null,null,null,null,null,null,null,null,null,null,null,null,null,null,null,"2033-07-28",{"$f":"WEEKDAY(S3589)","v":5},{"$f":"MONTH(S3589)","v":7},{"$f":"YEAR(S3589)","v":2033},{"$f":"T3589&U3589","v":"57"},{"$f":"IF(V3589&W3589=V3588&W3588,X3588+1,1)","v":4},{"$f":"V3589&U3589&T3589&X3589","v":"2033754"},{"$f":"S3589","v":"2033-07-28"}]
[null,null,null,null,null,null,null,null,null,null,null,null,null,null,null,null,null,null,"2033-07-01",{"$f":"WEEKDAY(S3590)","v":6},{"$f":"MONTH(S3590)","v":7},{"$f":"YEAR(S3590)","v":2033},{"$f":"T3590&U3590","v":"67"},{"$f":"IF(V3590&W3590=V3589&W3589,X3589+1,1)","v":1},{"$f":"V3590&U3590&T3590&X3590","v":"2033761"},{"$f":"S3590","v":"2033-07-01"}]
[null,null,null,null,null,null,null,null,null,null,null,null,null,null,null,null,null,null,"2033-07-08",{"$f":"WEEKDAY(S3591)","v":6},{"$f":"MONTH(S3591)","v":7},{"$f":"YEAR(S3591)","v":2033},{"$f":"T3591&U3591","v":"67"},{"$f":"IF(V3591&W3591=V3590&W3590,X3590+1,1)","v":2},{"$f":"V3591&U3591&T3591&X3591","v":"2033762"},{"$f":"S3591","v":"2033-07-08"}]
[null,null,null,null,null,null,null,null,null,null,null,null,null,null,null,null,null,null,"2033-07-15",{"$f":"WEEKDAY(S3592)","v":6},{"$f":"MONTH(S3592)","v":7},{"$f":"YEAR(S3592)","v":2033},{"$f":"T3592&U3592","v":"67"},{"$f":"IF(V3592&W3592=V3591&W3591,X3591+1,1)","v":3},{"$f":"V3592&U3592&T3592&X3592","v":"2033763"},{"$f":"S3592","v":"2033-07-15"}]
[null,null,null,null,null,null,null,null,null,null,null,null,null,null,null,null,null,null,"2033-07-22",{"$f":"WEEKDAY(S3593)","v":6},{"$f":"MONTH(S3593)","v":7},{"$f":"YEAR(S3593)","v":2033},{"$f":"T3593&U3593","v":"67"},{"$f":"IF(V3593&W3593=V3592&W3592,X3592+1,1)","v":4},{"$f":"V3593&U3593&T3593&X3593","v":"2033764"},{"$f":"S3593","v":"2033-07-22"}]
[null,null,null,null,null,null,null,null,null,null,null,null,null,null,null,null,null,null,"2033-07-29",{"$f":"WEEKDAY(S3594)","v":6},{"$f":"MONTH(S3594)","v":7},{"$f":"YEAR(S3594)","v":2033},{"$f":"T3594&U3594","v":"67"},{"$f":"IF(V3594&W3594=V3593&W3593,X3593+1,1)","v":5},{"$f":"V3594&U3594&T3594&X3594","v":"2033765"},{"$f":"S3594","v":"2033-07-29"}]
[null,null,null,null,null,null,null,null,null,null,null,null,null,null,null,null,null,null,"2033-07-02",{"$f":"WEEKDAY(S3595)","v":7},{"$f":"MONTH(S3595)","v":7},{"$f":"YEAR(S3595)","v":2033},{"$f":"T3595&U3595","v":"77"},{"$f":"IF(V3595&W3595=V3594&W3594,X3594+1,1)","v":1},{"$f":"V3595&U3595&T3595&X3595","v":"2033771"},{"$f":"S3595","v":"2033-07-02"}]
[null,null,null,null,null,null,null,null,null,null,null,null,null,null,null,null,null,null,"2033-07-09",{"$f":"WEEKDAY(S3596)","v":7},{"$f":"MONTH(S3596)","v":7},{"$f":"YEAR(S3596)","v":2033},{"$f":"T3596&U3596","v":"77"},{"$f":"IF(V3596&W3596=V3595&W3595,X3595+1,1)","v":2},{"$f":"V3596&U3596&T3596&X3596","v":"2033772"},{"$f":"S3596","v":"2033-07-09"}]
[null,null,null,null,null,null,null,null,null,null,null,null,null,null,null,null,null,null,"2033-07-16",{"$f":"WEEKDAY(S3597)","v":7},{"$f":"MONTH(S3597)","v":7},{"$f":"YEAR(S3597)","v":2033},{"$f":"T3597&U3597","v":"77"},{"$f":"IF(V3597&W3597=V3596&W3596,X3596+1,1)","v":3},{"$f":"V3597&U3597&T3597&X3597","v":"2033773"},{"$f":"S3597","v":"2033-07-16"}]
[null,null,null,null,null,null,null,null,null,null,null,null,null,null,null,null,null,null,"2033-07-23",{"$f":"WEEKDAY(S3598)","v":7},{"$f":"MONTH(S3598)","v":7},{"$f":"YEAR(S3598)","v":2033},{"$f":"T3598&U3598","v":"77"},{"$f":"IF(V3598&W3598=V3597&W3597,X3597+1,1)","v":4},{"$f":"V3598&U3598&T3598&X3598","v":"2033774"},{"$f":"S3598","v":"2033-07-23"}]
[null,null,null,null,null,null,null,null,null,null,null,null,null,null,null,null,null,null,"2033-07-30",{"$f":"WEEKDAY(S3599)","v":7},{"$f":"MONTH(S3599)","v":7},{"$f":"YEAR(S3599)","v":2033},{"$f":"T3599&U3599","v":"77"},{"$f":"IF(V3599&W3599=V3598&W3598,X3598+1,1)","v":5},{"$f":"V3599&U3599&T3599&X3599","v":"2033775"},{"$f":"S3599","v":"2033-07-30"}]
[null,null,null,null,null,null,null,null,null,null,null,null,null,null,null,null,null,null,"2033-08-07",{"$f":"WEEKDAY(S3600)","v":1},{"$f":"MONTH(S3600)","v":8},{"$f":"YEAR(S3600)","v":2033},{"$f":"T3600&U3600","v":"18"},{"$f":"IF(V3600&W3600=V3599&W3599,X3599+1,1)","v":1},{"$f":"V3600&U3600&T3600&X3600","v":"2033811"},{"$f":"S3600","v":"2033-08-07"}]
[null,null,null,null,null,null,null,null,null,null,null,null,null,null,null,null,null,null,"2033-08-14",{"$f":"WEEKDAY(S3601)","v":1},{"$f":"MONTH(S3601)","v":8},{"$f":"YEAR(S3601)","v":2033},{"$f":"T3601&U3601","v":"18"},{"$f":"IF(V3601&W3601=V3600&W3600,X3600+1,1)","v":2},{"$f":"V3601&U3601&T3601&X3601","v":"2033812"},{"$f":"S3601","v":"2033-08-14"}]
[null,null,null,null,null,null,null,null,null,null,null,null,null,null,null,null,null,null,"2033-08-21",{"$f":"WEEKDAY(S3602)","v":1},{"$f":"MONTH(S3602)","v":8},{"$f":"YEAR(S3602)","v":2033},{"$f":"T3602&U3602","v":"18"},{"$f":"IF(V3602&W3602=V3601&W3601,X3601+1,1)","v":3},{"$f":"V3602&U3602&T3602&X3602","v":"2033813"},{"$f":"S3602","v":"2033-08-21"}]
[null,null,null,null,null,null,null,null,null,null,null,null,null,null,null,null,null,null,"2033-08-28",{"$f":"WEEKDAY(S3603)","v":1},{"$f":"MONTH(S3603)","v":8},{"$f":"YEAR(S3603)","v":2033},{"$f":"T3603&U3603","v":"18"},{"$f":"IF(V3603&W3603=V3602&W3602,X3602+1,1)","v":4},{"$f":"V3603&U3603&T3603&X3603","v":"2033814"},{"$f":"S3603","v":"2033-08-28"}]
[null,null,null,null,null,null,null,null,null,null,null,null,null,null,null,null,null,null,"2033-08-01",{"$f":"WEEKDAY(S3604)","v":2},{"$f":"MONTH(S3604)","v":8},{"$f":"YEAR(S3604)","v":2033},{"$f":"T3604&U3604","v":"28"},{"$f":"IF(V3604&W3604=V3603&W3603,X3603+1,1)","v":1},{"$f":"V3604&U3604&T3604&X3604","v":"2033821"},{"$f":"S3604","v":"2033-08-01"}]
[null,null,null,null,null,null,null,null,null,null,null,null,null,null,null,null,null,null,"2033-08-08",{"$f":"WEEKDAY(S3605)","v":2},{"$f":"MONTH(S3605)","v":8},{"$f":"YEAR(S3605)","v":2033},{"$f":"T3605&U3605","v":"28"},{"$f":"IF(V3605&W3605=V3604&W3604,X3604+1,1)","v":2},{"$f":"V3605&U3605&T3605&X3605","v":"2033822"},{"$f":"S3605","v":"2033-08-08"}]
[null,null,null,null,null,null,null,null,null,null,null,null,null,null,null,null,null,null,"2033-08-15",{"$f":"WEEKDAY(S3606)","v":2},{"$f":"MONTH(S3606)","v":8},{"$f":"YEAR(S3606)","v":2033},{"$f":"T3606&U3606","v":"28"},{"$f":"IF(V3606&W3606=V3605&W3605,X3605+1,1)","v":3},{"$f":"V3606&U3606&T3606&X3606","v":"2033823"},{"$f":"S3606","v":"2033-08-15"}]
[null,null,null,null,null,null,null,null,null,null,null,null,null,null,null,null,null,null,"2033-08-22",{"$f":"WEEKDAY(S3607)","v":2},{"$f":"MONTH(S3607)","v":8},{"$f":"YEAR(S3607)","v":2033},{"$f":"T3607&U3607","v":"28"},{"$f":"IF(V3607&W3607=V3606&W3606,X3606+1,1)","v":4},{"$f":"V3607&U3607&T3607&X3607","v":"2033824"},{"$f":"S3607","v":"2033-08-22"}]
[null,null,null,null,null,null,null,null,null,null,null,null,null,null,null,null,null,null,"2033-08-29",{"$f":"WEEKDAY(S3608)","v":2},{"$f":"MONTH(S3608)","v":8},{"$f":"YEAR(S3608)","v":2033},{"$f":"T3608&U3608","v":"28"},{"$f":"IF(V3608&W3608=V3607&W3607,X3607+1,1)","v":5},{"$f":"V3608&U3608&T3608&X3608","v":"2033825"},{"$f":"S3608","v":"2033-08-29"}]
[null,null,null,null,null,null,null,null,null,null,null,null,null,null,null,null,null,null,"2033-08-02",{"$f":"WEEKDAY(S3609)","v":3},{"$f":"MONTH(S3609)","v":8},{"$f":"YEAR(S3609)","v":2033},{"$f":"T3609&U3609","v":"38"},{"$f":"IF(V3609&W3609=V3608&W3608,X3608+1,1)","v":1},{"$f":"V3609&U3609&T3609&X3609","v":"2033831"},{"$f":"S3609","v":"2033-08-02"}]
[null,null,null,null,null,null,null,null,null,null,null,null,null,null,null,null,null,null,"2033-08-09",{"$f":"WEEKDAY(S3610)","v":3},{"$f":"MONTH(S3610)","v":8},{"$f":"YEAR(S3610)","v":2033},{"$f":"T3610&U3610","v":"38"},{"$f":"IF(V3610&W3610=V3609&W3609,X3609+1,1)","v":2},{"$f":"V3610&U3610&T3610&X3610","v":"2033832"},{"$f":"S3610","v":"2033-08-09"}]
[null,null,null,null,null,null,null,null,null,null,null,null,null,null,null,null,null,null,"2033-08-16",{"$f":"WEEKDAY(S3611)","v":3},{"$f":"MONTH(S3611)","v":8},{"$f":"YEAR(S3611)","v":2033},{"$f":"T3611&U3611","v":"38"},{"$f":"IF(V3611&W3611=V3610&W3610,X3610+1,1)","v":3},{"$f":"V3611&U3611&T3611&X3611","v":"2033833"},{"$f":"S3611","v":"2033-08-16"}]
[null,null,null,null,null,null,null,null,null,null,null,null,null,null,null,null,null,null,"2033-08-23",{"$f":"WEEKDAY(S3612)","v":3},{"$f":"MONTH(S3612)","v":8},{"$f":"YEAR(S3612)","v":2033},{"$f":"T3612&U3612","v":"38"},{"$f":"IF(V3612&W3612=V3611&W3611,X3611+1,1)","v":4},{"$f":"V3612&U3612&T3612&X3612","v":"2033834"},{"$f":"S3612","v":"2033-08-23"}]
[null,null,null,null,null,null,null,null,null,null,null,null,null,null,null,null,null,null,"2033-08-30",{"$f":"WEEKDAY(S3613)","v":3},{"$f":"MONTH(S3613)","v":8},{"$f":"YEAR(S3613)","v":2033},{"$f":"T3613&U3613","v":"38"},{"$f":"IF(V3613&W3613=V3612&W3612,X3612+1,1)","v":5},{"$f":"V3613&U3613&T3613&X3613","v":"2033835"},{"$f":"S3613","v":"2033-08-30"}]
[null,null,null,null,null,null,null,null,null,null,null,null,null,null,null,null,null,null,"2033-08-03",{"$f":"WEEKDAY(S3614)","v":4},{"$f":"MONTH(S3614)","v":8},{"$f":"YEAR(S3614)","v":2033},{"$f":"T3614&U3614","v":"48"},{"$f":"IF(V3614&W3614=V3613&W3613,X3613+1,1)","v":1},{"$f":"V3614&U3614&T3614&X3614","v":"2033841"},{"$f":"S3614","v":"2033-08-03"}]
[null,null,null,null,null,null,null,null,null,null,null,null,null,null,null,null,null,null,"2033-08-10",{"$f":"WEEKDAY(S3615)","v":4},{"$f":"MONTH(S3615)","v":8},{"$f":"YEAR(S3615)","v":2033},{"$f":"T3615&U3615","v":"48"},{"$f":"IF(V3615&W3615=V3614&W3614,X3614+1,1)","v":2},{"$f":"V3615&U3615&T3615&X3615","v":"2033842"},{"$f":"S3615","v":"2033-08-10"}]
[null,null,null,null,null,null,null,null,null,null,null,null,null,null,null,null,null,null,"2033-08-17",{"$f":"WEEKDAY(S3616)","v":4},{"$f":"MONTH(S3616)","v":8},{"$f":"YEAR(S3616)","v":2033},{"$f":"T3616&U3616","v":"48"},{"$f":"IF(V3616&W3616=V3615&W3615,X3615+1,1)","v":3},{"$f":"V3616&U3616&T3616&X3616","v":"2033843"},{"$f":"S3616","v":"2033-08-17"}]
[null,null,null,null,null,null,null,null,null,null,null,null,null,null,null,null,null,null,"2033-08-24",{"$f":"WEEKDAY(S3617)","v":4},{"$f":"MONTH(S3617)","v":8},{"$f":"YEAR(S3617)","v":2033},{"$f":"T3617&U3617","v":"48"},{"$f":"IF(V3617&W3617=V3616&W3616,X3616+1,1)","v":4},{"$f":"V3617&U3617&T3617&X3617","v":"2033844"},{"$f":"S3617","v":"2033-08-24"}]
[null,null,null,null,null,null,null,null,null,null,null,null,null,null,null,null,null,null,"2033-08-31",{"$f":"WEEKDAY(S3618)","v":4},{"$f":"MONTH(S3618)","v":8},{"$f":"YEAR(S3618)","v":2033},{"$f":"T3618&U3618","v":"48"},{"$f":"IF(V3618&W3618=V3617&W3617,X3617+1,1)","v":5},{"$f":"V3618&U3618&T3618&X3618","v":"2033845"},{"$f":"S3618","v":"2033-08-31"}]
[null,null,null,null,null,null,null,null,null,null,null,null,null,null,null,null,null,null,"2033-08-04",{"$f":"WEEKDAY(S3619)","v":5},{"$f":"MONTH(S3619)","v":8},{"$f":"YEAR(S3619)","v":2033},{"$f":"T3619&U3619","v":"58"},{"$f":"IF(V3619&W3619=V3618&W3618,X3618+1,1)","v":1},{"$f":"V3619&U3619&T3619&X3619","v":"2033851"},{"$f":"S3619","v":"2033-08-04"}]
[null,null,null,null,null,null,null,null,null,null,null,null,null,null,null,null,null,null,"2033-08-11",{"$f":"WEEKDAY(S3620)","v":5},{"$f":"MONTH(S3620)","v":8},{"$f":"YEAR(S3620)","v":2033},{"$f":"T3620&U3620","v":"58"},{"$f":"IF(V3620&W3620=V3619&W3619,X3619+1,1)","v":2},{"$f":"V3620&U3620&T3620&X3620","v":"2033852"},{"$f":"S3620","v":"2033-08-11"}]
[null,null,null,null,null,null,null,null,null,null,null,null,null,null,null,null,null,null,"2033-08-18",{"$f":"WEEKDAY(S3621)","v":5},{"$f":"MONTH(S3621)","v":8},{"$f":"YEAR(S3621)","v":2033},{"$f":"T3621&U3621","v":"58"},{"$f":"IF(V3621&W3621=V3620&W3620,X3620+1,1)","v":3},{"$f":"V3621&U3621&T3621&X3621","v":"2033853"},{"$f":"S3621","v":"2033-08-18"}]
[null,null,null,null,null,null,null,null,null,null,null,null,null,null,null,null,null,null,"2033-08-25",{"$f":"WEEKDAY(S3622)","v":5},{"$f":"MONTH(S3622)","v":8},{"$f":"YEAR(S3622)","v":2033},{"$f":"T3622&U3622","v":"58"},{"$f":"IF(V3622&W3622=V3621&W3621,X3621+1,1)","v":4},{"$f":"V3622&U3622&T3622&X3622","v":"2033854"},{"$f":"S3622","v":"2033-08-25"}]
[null,null,null,null,null,null,null,null,null,null,null,null,null,null,null,null,null,null,"2033-08-05",{"$f":"WEEKDAY(S3623)","v":6},{"$f":"MONTH(S3623)","v":8},{"$f":"YEAR(S3623)","v":2033},{"$f":"T3623&U3623","v":"68"},{"$f":"IF(V3623&W3623=V3622&W3622,X3622+1,1)","v":1},{"$f":"V3623&U3623&T3623&X3623","v":"2033861"},{"$f":"S3623","v":"2033-08-05"}]
[null,null,null,null,null,null,null,null,null,null,null,null,null,null,null,null,null,null,"2033-08-12",{"$f":"WEEKDAY(S3624)","v":6},{"$f":"MONTH(S3624)","v":8},{"$f":"YEAR(S3624)","v":2033},{"$f":"T3624&U3624","v":"68"},{"$f":"IF(V3624&W3624=V3623&W3623,X3623+1,1)","v":2},{"$f":"V3624&U3624&T3624&X3624","v":"2033862"},{"$f":"S3624","v":"2033-08-12"}]
[null,null,null,null,null,null,null,null,null,null,null,null,null,null,null,null,null,null,"2033-08-19",{"$f":"WEEKDAY(S3625)","v":6},{"$f":"MONTH(S3625)","v":8},{"$f":"YEAR(S3625)","v":2033},{"$f":"T3625&U3625","v":"68"},{"$f":"IF(V3625&W3625=V3624&W3624,X3624+1,1)","v":3},{"$f":"V3625&U3625&T3625&X3625","v":"2033863"},{"$f":"S3625","v":"2033-08-19"}]
[null,null,null,null,null,null,null,null,null,null,null,null,null,null,null,null,null,null,"2033-08-26",{"$f":"WEEKDAY(S3626)","v":6},{"$f":"MONTH(S3626)","v":8},{"$f":"YEAR(S3626)","v":2033},{"$f":"T3626&U3626","v":"68"},{"$f":"IF(V3626&W3626=V3625&W3625,X3625+1,1)","v":4},{"$f":"V3626&U3626&T3626&X3626","v":"2033864"},{"$f":"S3626","v":"2033-08-26"}]
[null,null,null,null,null,null,null,null,null,null,null,null,null,null,null,null,null,null,"2033-08-06",{"$f":"WEEKDAY(S3627)","v":7},{"$f":"MONTH(S3627)","v":8},{"$f":"YEAR(S3627)","v":2033},{"$f":"T3627&U3627","v":"78"},{"$f":"IF(V3627&W3627=V3626&W3626,X3626+1,1)","v":1},{"$f":"V3627&U3627&T3627&X3627","v":"2033871"},{"$f":"S3627","v":"2033-08-06"}]
[null,null,null,null,null,null,null,null,null,null,null,null,null,null,null,null,null,null,"2033-08-13",{"$f":"WEEKDAY(S3628)","v":7},{"$f":"MONTH(S3628)","v":8},{"$f":"YEAR(S3628)","v":2033},{"$f":"T3628&U3628","v":"78"},{"$f":"IF(V3628&W3628=V3627&W3627,X3627+1,1)","v":2},{"$f":"V3628&U3628&T3628&X3628","v":"2033872"},{"$f":"S3628","v":"2033-08-13"}]
[null,null,null,null,null,null,null,null,null,null,null,null,null,null,null,null,null,null,"2033-08-20",{"$f":"WEEKDAY(S3629)","v":7},{"$f":"MONTH(S3629)","v":8},{"$f":"YEAR(S3629)","v":2033},{"$f":"T3629&U3629","v":"78"},{"$f":"IF(V3629&W3629=V3628&W3628,X3628+1,1)","v":3},{"$f":"V3629&U3629&T3629&X3629","v":"2033873"},{"$f":"S3629","v":"2033-08-20"}]
[null,null,null,null,null,null,null,null,null,null,null,null,null,null,null,null,null,null,"2033-08-27",{"$f":"WEEKDAY(S3630)","v":7},{"$f":"MONTH(S3630)","v":8},{"$f":"YEAR(S3630)","v":2033},{"$f":"T3630&U3630","v":"78"},{"$f":"IF(V3630&W3630=V3629&W3629,X3629+1,1)","v":4},{"$f":"V3630&U3630&T3630&X3630","v":"2033874"},{"$f":"S3630","v":"2033-08-27"}]
[null,null,null,null,null,null,null,null,null,null,null,null,null,null,null,null,null,null,"2033-09-04",{"$f":"WEEKDAY(S3631)","v":1},{"$f":"MONTH(S3631)","v":9},{"$f":"YEAR(S3631)","v":2033},{"$f":"T3631&U3631","v":"19"},{"$f":"IF(V3631&W3631=V3630&W3630,X3630+1,1)","v":1},{"$f":"V3631&U3631&T3631&X3631","v":"2033911"},{"$f":"S3631","v":"2033-09-04"}]
[null,null,null,null,null,null,null,null,null,null,null,null,null,null,null,null,null,null,"2033-09-11",{"$f":"WEEKDAY(S3632)","v":1},{"$f":"MONTH(S3632)","v":9},{"$f":"YEAR(S3632)","v":2033},{"$f":"T3632&U3632","v":"19"},{"$f":"IF(V3632&W3632=V3631&W3631,X3631+1,1)","v":2},{"$f":"V3632&U3632&T3632&X3632","v":"2033912"},{"$f":"S3632","v":"2033-09-11"}]
[null,null,null,null,null,null,null,null,null,null,null,null,null,null,null,null,null,null,"2033-09-18",{"$f":"WEEKDAY(S3633)","v":1},{"$f":"MONTH(S3633)","v":9},{"$f":"YEAR(S3633)","v":2033},{"$f":"T3633&U3633","v":"19"},{"$f":"IF(V3633&W3633=V3632&W3632,X3632+1,1)","v":3},{"$f":"V3633&U3633&T3633&X3633","v":"2033913"},{"$f":"S3633","v":"2033-09-18"}]
[null,null,null,null,null,null,null,null,null,null,null,null,null,null,null,null,null,null,"2033-09-25",{"$f":"WEEKDAY(S3634)","v":1},{"$f":"MONTH(S3634)","v":9},{"$f":"YEAR(S3634)","v":2033},{"$f":"T3634&U3634","v":"19"},{"$f":"IF(V3634&W3634=V3633&W3633,X3633+1,1)","v":4},{"$f":"V3634&U3634&T3634&X3634","v":"2033914"},{"$f":"S3634","v":"2033-09-25"}]
[null,null,null,null,null,null,null,null,null,null,null,null,null,null,null,null,null,null,"2033-09-05",{"$f":"WEEKDAY(S3635)","v":2},{"$f":"MONTH(S3635)","v":9},{"$f":"YEAR(S3635)","v":2033},{"$f":"T3635&U3635","v":"29"},{"$f":"IF(V3635&W3635=V3634&W3634,X3634+1,1)","v":1},{"$f":"V3635&U3635&T3635&X3635","v":"2033921"},{"$f":"S3635","v":"2033-09-05"}]
[null,null,null,null,null,null,null,null,null,null,null,null,null,null,null,null,null,null,"2033-09-12",{"$f":"WEEKDAY(S3636)","v":2},{"$f":"MONTH(S3636)","v":9},{"$f":"YEAR(S3636)","v":2033},{"$f":"T3636&U3636","v":"29"},{"$f":"IF(V3636&W3636=V3635&W3635,X3635+1,1)","v":2},{"$f":"V3636&U3636&T3636&X3636","v":"2033922"},{"$f":"S3636","v":"2033-09-12"}]
[null,null,null,null,null,null,null,null,null,null,null,null,null,null,null,null,null,null,"2033-09-19",{"$f":"WEEKDAY(S3637)","v":2},{"$f":"MONTH(S3637)","v":9},{"$f":"YEAR(S3637)","v":2033},{"$f":"T3637&U3637","v":"29"},{"$f":"IF(V3637&W3637=V3636&W3636,X3636+1,1)","v":3},{"$f":"V3637&U3637&T3637&X3637","v":"2033923"},{"$f":"S3637","v":"2033-09-19"}]
[null,null,null,null,null,null,null,null,null,null,null,null,null,null,null,null,null,null,"2033-09-26",{"$f":"WEEKDAY(S3638)","v":2},{"$f":"MONTH(S3638)","v":9},{"$f":"YEAR(S3638)","v":2033},{"$f":"T3638&U3638","v":"29"},{"$f":"IF(V3638&W3638=V3637&W3637,X3637+1,1)","v":4},{"$f":"V3638&U3638&T3638&X3638","v":"2033924"},{"$f":"S3638","v":"2033-09-26"}]
[null,null,null,null,null,null,null,null,null,null,null,null,null,null,null,null,null,null,"2033-09-06",{"$f":"WEEKDAY(S3639)","v":3},{"$f":"MONTH(S3639)","v":9},{"$f":"YEAR(S3639)","v":2033},{"$f":"T3639&U3639","v":"39"},{"$f":"IF(V3639&W3639=V3638&W3638,X3638+1,1)","v":1},{"$f":"V3639&U3639&T3639&X3639","v":"2033931"},{"$f":"S3639","v":"2033-09-06"}]
[null,null,null,null,null,null,null,null,null,null,null,null,null,null,null,null,null,null,"2033-09-13",{"$f":"WEEKDAY(S3640)","v":3},{"$f":"MONTH(S3640)","v":9},{"$f":"YEAR(S3640)","v":2033},{"$f":"T3640&U3640","v":"39"},{"$f":"IF(V3640&W3640=V3639&W3639,X3639+1,1)","v":2},{"$f":"V3640&U3640&T3640&X3640","v":"2033932"},{"$f":"S3640","v":"2033-09-13"}]
[null,null,null,null,null,null,null,null,null,null,null,null,null,null,null,null,null,null,"2033-09-20",{"$f":"WEEKDAY(S3641)","v":3},{"$f":"MONTH(S3641)","v":9},{"$f":"YEAR(S3641)","v":2033},{"$f":"T3641&U3641","v":"39"},{"$f":"IF(V3641&W3641=V3640&W3640,X3640+1,1)","v":3},{"$f":"V3641&U3641&T3641&X3641","v":"2033933"},{"$f":"S3641","v":"2033-09-20"}]
[null,null,null,null,null,null,null,null,null,null,null,null,null,null,null,null,null,null,"2033-09-27",{"$f":"WEEKDAY(S3642)","v":3},{"$f":"MONTH(S3642)","v":9},{"$f":"YEAR(S3642)","v":2033},{"$f":"T3642&U3642","v":"39"},{"$f":"IF(V3642&W3642=V3641&W3641,X3641+1,1)","v":4},{"$f":"V3642&U3642&T3642&X3642","v":"2033934"},{"$f":"S3642","v":"2033-09-27"}]
[null,null,null,null,null,null,null,null,null,null,null,null,null,null,null,null,null,null,"2033-09-07",{"$f":"WEEKDAY(S3643)","v":4},{"$f":"MONTH(S3643)","v":9},{"$f":"YEAR(S3643)","v":2033},{"$f":"T3643&U3643","v":"49"},{"$f":"IF(V3643&W3643=V3642&W3642,X3642+1,1)","v":1},{"$f":"V3643&U3643&T3643&X3643","v":"2033941"},{"$f":"S3643","v":"2033-09-07"}]
[null,null,null,null,null,null,null,null,null,null,null,null,null,null,null,null,null,null,"2033-09-14",{"$f":"WEEKDAY(S3644)","v":4},{"$f":"MONTH(S3644)","v":9},{"$f":"YEAR(S3644)","v":2033},{"$f":"T3644&U3644","v":"49"},{"$f":"IF(V3644&W3644=V3643&W3643,X3643+1,1)","v":2},{"$f":"V3644&U3644&T3644&X3644","v":"2033942"},{"$f":"S3644","v":"2033-09-14"}]
[null,null,null,null,null,null,null,null,null,null,null,null,null,null,null,null,null,null,"2033-09-21",{"$f":"WEEKDAY(S3645)","v":4},{"$f":"MONTH(S3645)","v":9},{"$f":"YEAR(S3645)","v":2033},{"$f":"T3645&U3645","v":"49"},{"$f":"IF(V3645&W3645=V3644&W3644,X3644+1,1)","v":3},{"$f":"V3645&U3645&T3645&X3645","v":"2033943"},{"$f":"S3645","v":"2033-09-21"}]
[null,null,null,null,null,null,null,null,null,null,null,null,null,null,null,null,null,null,"2033-09-28",{"$f":"WEEKDAY(S3646)","v":4},{"$f":"MONTH(S3646)","v":9},{"$f":"YEAR(S3646)","v":2033},{"$f":"T3646&U3646","v":"49"},{"$f":"IF(V3646&W3646=V3645&W3645,X3645+1,1)","v":4},{"$f":"V3646&U3646&T3646&X3646","v":"2033944"},{"$f":"S3646","v":"2033-09-28"}]
[null,null,null,null,null,null,null,null,null,null,null,null,null,null,null,null,null,null,"2033-09-01",{"$f":"WEEKDAY(S3647)","v":5},{"$f":"MONTH(S3647)","v":9},{"$f":"YEAR(S3647)","v":2033},{"$f":"T3647&U3647","v":"59"},{"$f":"IF(V3647&W3647=V3646&W3646,X3646+1,1)","v":1},{"$f":"V3647&U3647&T3647&X3647","v":"2033951"},{"$f":"S3647","v":"2033-09-01"}]
[null,null,null,null,null,null,null,null,null,null,null,null,null,null,null,null,null,null,"2033-09-08",{"$f":"WEEKDAY(S3648)","v":5},{"$f":"MONTH(S3648)","v":9},{"$f":"YEAR(S3648)","v":2033},{"$f":"T3648&U3648","v":"59"},{"$f":"IF(V3648&W3648=V3647&W3647,X3647+1,1)","v":2},{"$f":"V3648&U3648&T3648&X3648","v":"2033952"},{"$f":"S3648","v":"2033-09-08"}]
[null,null,null,null,null,null,null,null,null,null,null,null,null,null,null,null,null,null,"2033-09-15",{"$f":"WEEKDAY(S3649)","v":5},{"$f":"MONTH(S3649)","v":9},{"$f":"YEAR(S3649)","v":2033},{"$f":"T3649&U3649","v":"59"},{"$f":"IF(V3649&W3649=V3648&W3648,X3648+1,1)","v":3},{"$f":"V3649&U3649&T3649&X3649","v":"2033953"},{"$f":"S3649","v":"2033-09-15"}]
[null,null,null,null,null,null,null,null,null,null,null,null,null,null,null,null,null,null,"2033-09-22",{"$f":"WEEKDAY(S3650)","v":5},{"$f":"MONTH(S3650)","v":9},{"$f":"YEAR(S3650)","v":2033},{"$f":"T3650&U3650","v":"59"},{"$f":"IF(V3650&W3650=V3649&W3649,X3649+1,1)","v":4},{"$f":"V3650&U3650&T3650&X3650","v":"2033954"},{"$f":"S3650","v":"2033-09-22"}]
[null,null,null,null,null,null,null,null,null,null,null,null,null,null,null,null,null,null,"2033-09-29",{"$f":"WEEKDAY(S3651)","v":5},{"$f":"MONTH(S3651)","v":9},{"$f":"YEAR(S3651)","v":2033},{"$f":"T3651&U3651","v":"59"},{"$f":"IF(V3651&W3651=V3650&W3650,X3650+1,1)","v":5},{"$f":"V3651&U3651&T3651&X3651","v":"2033955"},{"$f":"S3651","v":"2033-09-29"}]
[null,null,null,null,null,null,null,null,null,null,null,null,null,null,null,null,null,null,"2033-09-02",{"$f":"WEEKDAY(S3652)","v":6},{"$f":"MONTH(S3652)","v":9},{"$f":"YEAR(S3652)","v":2033},{"$f":"T3652&U3652","v":"69"},{"$f":"IF(V3652&W3652=V3651&W3651,X3651+1,1)","v":1},{"$f":"V3652&U3652&T3652&X3652","v":"2033961"},{"$f":"S3652","v":"2033-09-02"}]
[null,null,null,null,null,null,null,null,null,null,null,null,null,null,null,null,null,null,"2033-09-09",{"$f":"WEEKDAY(S3653)","v":6},{"$f":"MONTH(S3653)","v":9},{"$f":"YEAR(S3653)","v":2033},{"$f":"T3653&U3653","v":"69"},{"$f":"IF(V3653&W3653=V3652&W3652,X3652+1,1)","v":2},{"$f":"V3653&U3653&T3653&X3653","v":"2033962"},{"$f":"S3653","v":"2033-09-09"}]
[null,null,null,null,null,null,null,null,null,null,null,null,null,null,null,null,null,null,"2033-09-16",{"$f":"WEEKDAY(S3654)","v":6},{"$f":"MONTH(S3654)","v":9},{"$f":"YEAR(S3654)","v":2033},{"$f":"T3654&U3654","v":"69"},{"$f":"IF(V3654&W3654=V3653&W3653,X3653+1,1)","v":3},{"$f":"V3654&U3654&T3654&X3654","v":"2033963"},{"$f":"S3654","v":"2033-09-16"}]
[null,null,null,null,null,null,null,null,null,null,null,null,null,null,null,null,null,null,"2033-09-23",{"$f":"WEEKDAY(S3655)","v":6},{"$f":"MONTH(S3655)","v":9},{"$f":"YEAR(S3655)","v":2033},{"$f":"T3655&U3655","v":"69"},{"$f":"IF(V3655&W3655=V3654&W3654,X3654+1,1)","v":4},{"$f":"V3655&U3655&T3655&X3655","v":"2033964"},{"$f":"S3655","v":"2033-09-23"}]
[null,null,null,null,null,null,null,null,null,null,null,null,null,null,null,null,null,null,"2033-09-30",{"$f":"WEEKDAY(S3656)","v":6},{"$f":"MONTH(S3656)","v":9},{"$f":"YEAR(S3656)","v":2033},{"$f":"T3656&U3656","v":"69"},{"$f":"IF(V3656&W3656=V3655&W3655,X3655+1,1)","v":5},{"$f":"V3656&U3656&T3656&X3656","v":"2033965"},{"$f":"S3656","v":"2033-09-30"}]
[null,null,null,null,null,null,null,null,null,null,null,null,null,null,null,null,null,null,"2033-09-03",{"$f":"WEEKDAY(S3657)","v":7},{"$f":"MONTH(S3657)","v":9},{"$f":"YEAR(S3657)","v":2033},{"$f":"T3657&U3657","v":"79"},{"$f":"IF(V3657&W3657=V3656&W3656,X3656+1,1)","v":1},{"$f":"V3657&U3657&T3657&X3657","v":"2033971"},{"$f":"S3657","v":"2033-09-03"}]
[null,null,null,null,null,null,null,null,null,null,null,null,null,null,null,null,null,null,"2033-09-10",{"$f":"WEEKDAY(S3658)","v":7},{"$f":"MONTH(S3658)","v":9},{"$f":"YEAR(S3658)","v":2033},{"$f":"T3658&U3658","v":"79"},{"$f":"IF(V3658&W3658=V3657&W3657,X3657+1,1)","v":2},{"$f":"V3658&U3658&T3658&X3658","v":"2033972"},{"$f":"S3658","v":"2033-09-10"}]
[null,null,null,null,null,null,null,null,null,null,null,null,null,null,null,null,null,null,"2033-09-17",{"$f":"WEEKDAY(S3659)","v":7},{"$f":"MONTH(S3659)","v":9},{"$f":"YEAR(S3659)","v":2033},{"$f":"T3659&U3659","v":"79"},{"$f":"IF(V3659&W3659=V3658&W3658,X3658+1,1)","v":3},{"$f":"V3659&U3659&T3659&X3659","v":"2033973"},{"$f":"S3659","v":"2033-09-17"}]
[null,null,null,null,null,null,null,null,null,null,null,null,null,null,null,null,null,null,"2033-09-24",{"$f":"WEEKDAY(S3660)","v":7},{"$f":"MONTH(S3660)","v":9},{"$f":"YEAR(S3660)","v":2033},{"$f":"T3660&U3660","v":"79"},{"$f":"IF(V3660&W3660=V3659&W3659,X3659+1,1)","v":4},{"$f":"V3660&U3660&T3660&X3660","v":"2033974"},{"$f":"S3660","v":"2033-09-24"}]
[null,null,null,null,null,null,null,null,null,null,null,null,null,null,null,null,null,null,"2034-01-01",{"$f":"WEEKDAY(S3661)","v":1},{"$f":"MONTH(S3661)","v":1},{"$f":"YEAR(S3661)","v":2034},{"$f":"T3661&U3661","v":"11"},{"$f":"IF(V3661&W3661=V3660&W3660,X3660+1,1)","v":1},{"$f":"V3661&U3661&T3661&X3661","v":"2034111"},{"$f":"S3661","v":"2034-01-01"}]
[null,null,null,null,null,null,null,null,null,null,null,null,null,null,null,null,null,null,"2034-01-08",{"$f":"WEEKDAY(S3662)","v":1},{"$f":"MONTH(S3662)","v":1},{"$f":"YEAR(S3662)","v":2034},{"$f":"T3662&U3662","v":"11"},{"$f":"IF(V3662&W3662=V3661&W3661,X3661+1,1)","v":2},{"$f":"V3662&U3662&T3662&X3662","v":"2034112"},{"$f":"S3662","v":"2034-01-08"}]
[null,null,null,null,null,null,null,null,null,null,null,null,null,null,null,null,null,null,"2034-01-15",{"$f":"WEEKDAY(S3663)","v":1},{"$f":"MONTH(S3663)","v":1},{"$f":"YEAR(S3663)","v":2034},{"$f":"T3663&U3663","v":"11"},{"$f":"IF(V3663&W3663=V3662&W3662,X3662+1,1)","v":3},{"$f":"V3663&U3663&T3663&X3663","v":"2034113"},{"$f":"S3663","v":"2034-01-15"}]
[null,null,null,null,null,null,null,null,null,null,null,null,null,null,null,null,null,null,"2034-01-22",{"$f":"WEEKDAY(S3664)","v":1},{"$f":"MONTH(S3664)","v":1},{"$f":"YEAR(S3664)","v":2034},{"$f":"T3664&U3664","v":"11"},{"$f":"IF(V3664&W3664=V3663&W3663,X3663+1,1)","v":4},{"$f":"V3664&U3664&T3664&X3664","v":"2034114"},{"$f":"S3664","v":"2034-01-22"}]
[null,null,null,null,null,null,null,null,null,null,null,null,null,null,null,null,null,null,"2034-01-29",{"$f":"WEEKDAY(S3665)","v":1},{"$f":"MONTH(S3665)","v":1},{"$f":"YEAR(S3665)","v":2034},{"$f":"T3665&U3665","v":"11"},{"$f":"IF(V3665&W3665=V3664&W3664,X3664+1,1)","v":5},{"$f":"V3665&U3665&T3665&X3665","v":"2034115"},{"$f":"S3665","v":"2034-01-29"}]
[null,null,null,null,null,null,null,null,null,null,null,null,null,null,null,null,null,null,"2034-01-02",{"$f":"WEEKDAY(S3666)","v":2},{"$f":"MONTH(S3666)","v":1},{"$f":"YEAR(S3666)","v":2034},{"$f":"T3666&U3666","v":"21"},{"$f":"IF(V3666&W3666=V3665&W3665,X3665+1,1)","v":1},{"$f":"V3666&U3666&T3666&X3666","v":"2034121"},{"$f":"S3666","v":"2034-01-02"}]
[null,null,null,null,null,null,null,null,null,null,null,null,null,null,null,null,null,null,"2034-01-09",{"$f":"WEEKDAY(S3667)","v":2},{"$f":"MONTH(S3667)","v":1},{"$f":"YEAR(S3667)","v":2034},{"$f":"T3667&U3667","v":"21"},{"$f":"IF(V3667&W3667=V3666&W3666,X3666+1,1)","v":2},{"$f":"V3667&U3667&T3667&X3667","v":"2034122"},{"$f":"S3667","v":"2034-01-09"}]
[null,null,null,null,null,null,null,null,null,null,null,null,null,null,null,null,null,null,"2034-01-16",{"$f":"WEEKDAY(S3668)","v":2},{"$f":"MONTH(S3668)","v":1},{"$f":"YEAR(S3668)","v":2034},{"$f":"T3668&U3668","v":"21"},{"$f":"IF(V3668&W3668=V3667&W3667,X3667+1,1)","v":3},{"$f":"V3668&U3668&T3668&X3668","v":"2034123"},{"$f":"S3668","v":"2034-01-16"}]
[null,null,null,null,null,null,null,null,null,null,null,null,null,null,null,null,null,null,"2034-01-23",{"$f":"WEEKDAY(S3669)","v":2},{"$f":"MONTH(S3669)","v":1},{"$f":"YEAR(S3669)","v":2034},{"$f":"T3669&U3669","v":"21"},{"$f":"IF(V3669&W3669=V3668&W3668,X3668+1,1)","v":4},{"$f":"V3669&U3669&T3669&X3669","v":"2034124"},{"$f":"S3669","v":"2034-01-23"}]
[null,null,null,null,null,null,null,null,null,null,null,null,null,null,null,null,null,null,"2034-01-30",{"$f":"WEEKDAY(S3670)","v":2},{"$f":"MONTH(S3670)","v":1},{"$f":"YEAR(S3670)","v":2034},{"$f":"T3670&U3670","v":"21"},{"$f":"IF(V3670&W3670=V3669&W3669,X3669+1,1)","v":5},{"$f":"V3670&U3670&T3670&X3670","v":"2034125"},{"$f":"S3670","v":"2034-01-30"}]
[null,null,null,null,null,null,null,null,null,null,null,null,null,null,null,null,null,null,"2034-01-03",{"$f":"WEEKDAY(S3671)","v":3},{"$f":"MONTH(S3671)","v":1},{"$f":"YEAR(S3671)","v":2034},{"$f":"T3671&U3671","v":"31"},{"$f":"IF(V3671&W3671=V3670&W3670,X3670+1,1)","v":1},{"$f":"V3671&U3671&T3671&X3671","v":"2034131"},{"$f":"S3671","v":"2034-01-03"}]
[null,null,null,null,null,null,null,null,null,null,null,null,null,null,null,null,null,null,"2034-01-10",{"$f":"WEEKDAY(S3672)","v":3},{"$f":"MONTH(S3672)","v":1},{"$f":"YEAR(S3672)","v":2034},{"$f":"T3672&U3672","v":"31"},{"$f":"IF(V3672&W3672=V3671&W3671,X3671+1,1)","v":2},{"$f":"V3672&U3672&T3672&X3672","v":"2034132"},{"$f":"S3672","v":"2034-01-10"}]
[null,null,null,null,null,null,null,null,null,null,null,null,null,null,null,null,null,null,"2034-01-17",{"$f":"WEEKDAY(S3673)","v":3},{"$f":"MONTH(S3673)","v":1},{"$f":"YEAR(S3673)","v":2034},{"$f":"T3673&U3673","v":"31"},{"$f":"IF(V3673&W3673=V3672&W3672,X3672+1,1)","v":3},{"$f":"V3673&U3673&T3673&X3673","v":"2034133"},{"$f":"S3673","v":"2034-01-17"}]
[null,null,null,null,null,null,null,null,null,null,null,null,null,null,null,null,null,null,"2034-01-24",{"$f":"WEEKDAY(S3674)","v":3},{"$f":"MONTH(S3674)","v":1},{"$f":"YEAR(S3674)","v":2034},{"$f":"T3674&U3674","v":"31"},{"$f":"IF(V3674&W3674=V3673&W3673,X3673+1,1)","v":4},{"$f":"V3674&U3674&T3674&X3674","v":"2034134"},{"$f":"S3674","v":"2034-01-24"}]
[null,null,null,null,null,null,null,null,null,null,null,null,null,null,null,null,null,null,"2034-01-31",{"$f":"WEEKDAY(S3675)","v":3},{"$f":"MONTH(S3675)","v":1},{"$f":"YEAR(S3675)","v":2034},{"$f":"T3675&U3675","v":"31"},{"$f":"IF(V3675&W3675=V3674&W3674,X3674+1,1)","v":5},{"$f":"V3675&U3675&T3675&X3675","v":"2034135"},{"$f":"S3675","v":"2034-01-31"}]
[null,null,null,null,null,null,null,null,null,null,null,null,null,null,null,null,null,null,"2034-01-04",{"$f":"WEEKDAY(S3676)","v":4},{"$f":"MONTH(S3676)","v":1},{"$f":"YEAR(S3676)","v":2034},{"$f":"T3676&U3676","v":"41"},{"$f":"IF(V3676&W3676=V3675&W3675,X3675+1,1)","v":1},{"$f":"V3676&U3676&T3676&X3676","v":"2034141"},{"$f":"S3676","v":"2034-01-04"}]
[null,null,null,null,null,null,null,null,null,null,null,null,null,null,null,null,null,null,"2034-01-11",{"$f":"WEEKDAY(S3677)","v":4},{"$f":"MONTH(S3677)","v":1},{"$f":"YEAR(S3677)","v":2034},{"$f":"T3677&U3677","v":"41"},{"$f":"IF(V3677&W3677=V3676&W3676,X3676+1,1)","v":2},{"$f":"V3677&U3677&T3677&X3677","v":"2034142"},{"$f":"S3677","v":"2034-01-11"}]
[null,null,null,null,null,null,null,null,null,null,null,null,null,null,null,null,null,null,"2034-01-18",{"$f":"WEEKDAY(S3678)","v":4},{"$f":"MONTH(S3678)","v":1},{"$f":"YEAR(S3678)","v":2034},{"$f":"T3678&U3678","v":"41"},{"$f":"IF(V3678&W3678=V3677&W3677,X3677+1,1)","v":3},{"$f":"V3678&U3678&T3678&X3678","v":"2034143"},{"$f":"S3678","v":"2034-01-18"}]
[null,null,null,null,null,null,null,null,null,null,null,null,null,null,null,null,null,null,"2034-01-25",{"$f":"WEEKDAY(S3679)","v":4},{"$f":"MONTH(S3679)","v":1},{"$f":"YEAR(S3679)","v":2034},{"$f":"T3679&U3679","v":"41"},{"$f":"IF(V3679&W3679=V3678&W3678,X3678+1,1)","v":4},{"$f":"V3679&U3679&T3679&X3679","v":"2034144"},{"$f":"S3679","v":"2034-01-25"}]
[null,null,null,null,null,null,null,null,null,null,null,null,null,null,null,null,null,null,"2034-01-05",{"$f":"WEEKDAY(S3680)","v":5},{"$f":"MONTH(S3680)","v":1},{"$f":"YEAR(S3680)","v":2034},{"$f":"T3680&U3680","v":"51"},{"$f":"IF(V3680&W3680=V3679&W3679,X3679+1,1)","v":1},{"$f":"V3680&U3680&T3680&X3680","v":"2034151"},{"$f":"S3680","v":"2034-01-05"}]
[null,null,null,null,null,null,null,null,null,null,null,null,null,null,null,null,null,null,"2034-01-12",{"$f":"WEEKDAY(S3681)","v":5},{"$f":"MONTH(S3681)","v":1},{"$f":"YEAR(S3681)","v":2034},{"$f":"T3681&U3681","v":"51"},{"$f":"IF(V3681&W3681=V3680&W3680,X3680+1,1)","v":2},{"$f":"V3681&U3681&T3681&X3681","v":"2034152"},{"$f":"S3681","v":"2034-01-12"}]
[null,null,null,null,null,null,null,null,null,null,null,null,null,null,null,null,null,null,"2034-01-19",{"$f":"WEEKDAY(S3682)","v":5},{"$f":"MONTH(S3682)","v":1},{"$f":"YEAR(S3682)","v":2034},{"$f":"T3682&U3682","v":"51"},{"$f":"IF(V3682&W3682=V3681&W3681,X3681+1,1)","v":3},{"$f":"V3682&U3682&T3682&X3682","v":"2034153"},{"$f":"S3682","v":"2034-01-19"}]
[null,null,null,null,null,null,null,null,null,null,null,null,null,null,null,null,null,null,"2034-01-26",{"$f":"WEEKDAY(S3683)","v":5},{"$f":"MONTH(S3683)","v":1},{"$f":"YEAR(S3683)","v":2034},{"$f":"T3683&U3683","v":"51"},{"$f":"IF(V3683&W3683=V3682&W3682,X3682+1,1)","v":4},{"$f":"V3683&U3683&T3683&X3683","v":"2034154"},{"$f":"S3683","v":"2034-01-26"}]
[null,null,null,null,null,null,null,null,null,null,null,null,null,null,null,null,null,null,"2034-01-06",{"$f":"WEEKDAY(S3684)","v":6},{"$f":"MONTH(S3684)","v":1},{"$f":"YEAR(S3684)","v":2034},{"$f":"T3684&U3684","v":"61"},{"$f":"IF(V3684&W3684=V3683&W3683,X3683+1,1)","v":1},{"$f":"V3684&U3684&T3684&X3684","v":"2034161"},{"$f":"S3684","v":"2034-01-06"}]
[null,null,null,null,null,null,null,null,null,null,null,null,null,null,null,null,null,null,"2034-01-13",{"$f":"WEEKDAY(S3685)","v":6},{"$f":"MONTH(S3685)","v":1},{"$f":"YEAR(S3685)","v":2034},{"$f":"T3685&U3685","v":"61"},{"$f":"IF(V3685&W3685=V3684&W3684,X3684+1,1)","v":2},{"$f":"V3685&U3685&T3685&X3685","v":"2034162"},{"$f":"S3685","v":"2034-01-13"}]
[null,null,null,null,null,null,null,null,null,null,null,null,null,null,null,null,null,null,"2034-01-20",{"$f":"WEEKDAY(S3686)","v":6},{"$f":"MONTH(S3686)","v":1},{"$f":"YEAR(S3686)","v":2034},{"$f":"T3686&U3686","v":"61"},{"$f":"IF(V3686&W3686=V3685&W3685,X3685+1,1)","v":3},{"$f":"V3686&U3686&T3686&X3686","v":"2034163"},{"$f":"S3686","v":"2034-01-20"}]
[null,null,null,null,null,null,null,null,null,null,null,null,null,null,null,null,null,null,"2034-01-27",{"$f":"WEEKDAY(S3687)","v":6},{"$f":"MONTH(S3687)","v":1},{"$f":"YEAR(S3687)","v":2034},{"$f":"T3687&U3687","v":"61"},{"$f":"IF(V3687&W3687=V3686&W3686,X3686+1,1)","v":4},{"$f":"V3687&U3687&T3687&X3687","v":"2034164"},{"$f":"S3687","v":"2034-01-27"}]
[null,null,null,null,null,null,null,null,null,null,null,null,null,null,null,null,null,null,"2034-01-07",{"$f":"WEEKDAY(S3688)","v":7},{"$f":"MONTH(S3688)","v":1},{"$f":"YEAR(S3688)","v":2034},{"$f":"T3688&U3688","v":"71"},{"$f":"IF(V3688&W3688=V3687&W3687,X3687+1,1)","v":1},{"$f":"V3688&U3688&T3688&X3688","v":"2034171"},{"$f":"S3688","v":"2034-01-07"}]
[null,null,null,null,null,null,null,null,null,null,null,null,null,null,null,null,null,null,"2034-01-14",{"$f":"WEEKDAY(S3689)","v":7},{"$f":"MONTH(S3689)","v":1},{"$f":"YEAR(S3689)","v":2034},{"$f":"T3689&U3689","v":"71"},{"$f":"IF(V3689&W3689=V3688&W3688,X3688+1,1)","v":2},{"$f":"V3689&U3689&T3689&X3689","v":"2034172"},{"$f":"S3689","v":"2034-01-14"}]
[null,null,null,null,null,null,null,null,null,null,null,null,null,null,null,null,null,null,"2034-01-21",{"$f":"WEEKDAY(S3690)","v":7},{"$f":"MONTH(S3690)","v":1},{"$f":"YEAR(S3690)","v":2034},{"$f":"T3690&U3690","v":"71"},{"$f":"IF(V3690&W3690=V3689&W3689,X3689+1,1)","v":3},{"$f":"V3690&U3690&T3690&X3690","v":"2034173"},{"$f":"S3690","v":"2034-01-21"}]
[null,null,null,null,null,null,null,null,null,null,null,null,null,null,null,null,null,null,"2034-01-28",{"$f":"WEEKDAY(S3691)","v":7},{"$f":"MONTH(S3691)","v":1},{"$f":"YEAR(S3691)","v":2034},{"$f":"T3691&U3691","v":"71"},{"$f":"IF(V3691&W3691=V3690&W3690,X3690+1,1)","v":4},{"$f":"V3691&U3691&T3691&X3691","v":"2034174"},{"$f":"S3691","v":"2034-01-28"}]
[null,null,null,null,null,null,null,null,null,null,null,null,null,null,null,null,null,null,"2034-02-01",{"$f":"WEEKDAY(S3692)","v":4},{"$f":"MONTH(S3692)","v":2},{"$f":"YEAR(S3692)","v":2034},{"$f":"T3692&U3692","v":"42"},{"$f":"IF(V3692&W3692=V3691&W3691,X3691+1,1)","v":1},{"$f":"V3692&U3692&T3692&X3692","v":"2034241"},{"$f":"S3692","v":"2034-02-01"}]
[null,null,null,null,null,null,null,null,null,null,null,null,null,null,null,null,null,null,"2034-02-02",{"$f":"WEEKDAY(S3693)","v":5},{"$f":"MONTH(S3693)","v":2},{"$f":"YEAR(S3693)","v":2034},{"$f":"T3693&U3693","v":"52"},{"$f":"IF(V3693&W3693=V3692&W3692,X3692+1,1)","v":1},{"$f":"V3693&U3693&T3693&X3693","v":"2034251"},{"$f":"S3693","v":"2034-02-02"}]
[null,null,null,null,null,null,null,null,null,null,null,null,null,null,null,null,null,null,"2034-02-03",{"$f":"WEEKDAY(S3694)","v":6},{"$f":"MONTH(S3694)","v":2},{"$f":"YEAR(S3694)","v":2034},{"$f":"T3694&U3694","v":"62"},{"$f":"IF(V3694&W3694=V3693&W3693,X3693+1,1)","v":1},{"$f":"V3694&U3694&T3694&X3694","v":"2034261"},{"$f":"S3694","v":"2034-02-03"}]
[null,null,null,null,null,null,null,null,null,null,null,null,null,null,null,null,null,null,"2034-02-04",{"$f":"WEEKDAY(S3695)","v":7},{"$f":"MONTH(S3695)","v":2},{"$f":"YEAR(S3695)","v":2034},{"$f":"T3695&U3695","v":"72"},{"$f":"IF(V3695&W3695=V3694&W3694,X3694+1,1)","v":1},{"$f":"V3695&U3695&T3695&X3695","v":"2034271"},{"$f":"S3695","v":"2034-02-04"}]